{"text_format":"1","workbook":"xlsx","n_sheets":10,"sheets":["Олимпийские игры","ВС","МО","общий","Медали","база 2013","Медали ВС","Медали МО","Сводная Мероприятия","Справочник"],"not_rendered":{"charts":0,"images":0,"macros":0,"external_links":4,"defined_names":14,"comments":0,"pivot_tables":5},"unopened":[],"bounds":{"document_bytes":16777216,"sheet_cells":100000,"rows_first":2000,"rows_last":500,"rows_between":2000,"halvings":0,"cell_chars":16384,"cell_head_chars":4096},"cells_cut":0,"cells_raw":0,"read":"whole","date_system":"1900"}

{"sheet":"Олимпийские игры","index":0,"n_rows":4,"n_cols":11,"rows_kept":4,"cut":false,"hidden":false,"merged":[[1,0,1,16]]}
[]
["Олимпийские игры"]
[]
["Фамилия И.О.","Вид спорта","Ф.И.О. тренера","Мероприятие","Место","Место проведения","Программа","Спорт. Звание","Год рожд","Город","Ведомство"]

{"sheet":"ВС","index":1,"n_rows":5,"n_cols":4,"rows_kept":5,"cut":false,"hidden":false,"merged":[[1,0,1,6]]}
[]
["Медали кубанских спортсменов, завоеванные на международных и всероссийских соревнованиях в 2011 году "]
["Количество по полю Место",null,null,"Место"]
["Вид спорта","Мероприятие","Город","Общий итог"]
["Общий итог"]

{"sheet":"МО","index":2,"n_rows":5,"n_cols":4,"rows_kept":5,"cut":false,"hidden":false,"merged":[[1,0,1,6]]}
[]
["Медали кубанских спортсменов, завоеванные на международных и всероссийских соревнованиях в 2011 году "]
["Количество по полю Место",null,null,"Место"]
["Город","Вид спорта","Мероприятие","Общий итог"]
["Общий итог"]

{"sheet":"общий","index":3,"n_rows":4,"n_cols":13,"rows_kept":4,"cut":false,"hidden":false,"merged":[[0,0,0,11]]}
["Медали кубанских спортсменов, завоеванные на международных соревнованиях в 2012 году "]
[]
["Фамилия И.О.","Вид спорта","Спорт. Звание","Год рожд","Город","Ф.И.О. тренера","Мероприятие","Возрастная группа","Место проведения","Сроки нач.меропр","Сроки оканч.мероприятия","Программа","Место"]
["Общий итог"]

{"sheet":"Медали","index":4,"n_rows":33,"n_cols":13,"rows_kept":33,"cut":false,"hidden":false,"merged":[[1,4,1,8],[32,4,32,7],[33,4,33,7]]}
[]
[null,null,null,null,"Медали 2015 год (3 квартала)"]
[]
[null,null,null,null,null,"Золото","Серебро","Бронза","Всего",null,1,2,3]
[null,null,null,null,"Олимпийские игры",{"$f":"SUM(IF('база 2013'!$I$5:$I5098=Медали!E5,IF('база 2013'!$O$5:$O5098=1,1,0)))","v":0},{"$f":"SUM(IF('база 2013'!$I$5:$I5098=Медали!$E5,IF('база 2013'!$O$5:$O5098=2,1,0)))","v":1},{"$f":"SUM(IF('база 2013'!$I$5:$I5098=Медали!$E5,IF('база 2013'!$O$5:$O5098=3,1,0)))","v":0},{"$f":"SUM(F5:H5)","v":1}]
[null,null,null,null,"Кубок Европы",{"$f":"SUM(IF('база 2013'!$I$5:$I5099=Медали!E6,IF('база 2013'!$O$5:$O5099=1,1,0)))","v":0},{"$f":"SUM(IF('база 2013'!$I$5:$I5099=Медали!$E6,IF('база 2013'!$O$5:$O5099=2,1,0)))","v":0},{"$f":"SUM(IF('база 2013'!$I$5:$I5099=Медали!$E6,IF('база 2013'!$O$5:$O5099=3,1,0)))","v":0},{"$f":"SUM(F6:H6)","v":0}]
[null,null,null,null,"Кубок мира",{"$f":"SUM(IF('база 2013'!$I$5:$I5100=Медали!E7,IF('база 2013'!$O$5:$O5100=1,1,0)))","v":0},{"$f":"SUM(IF('база 2013'!$I$5:$I5100=Медали!$E7,IF('база 2013'!$O$5:$O5100=2,1,0)))","v":0},{"$f":"SUM(IF('база 2013'!$I$5:$I5100=Медали!$E7,IF('база 2013'!$O$5:$O5100=3,1,0)))","v":0},0]
[null,null,null,null,"Кубок России",{"$f":"SUM(IF('база 2013'!$I$5:$I5101=Медали!E8,IF('база 2013'!$O$5:$O5101=1,1,0)))","v":0},{"$f":"SUM(IF('база 2013'!$I$5:$I5101=Медали!$E8,IF('база 2013'!$O$5:$O5101=2,1,0)))","v":2},{"$f":"SUM(IF('база 2013'!$I$5:$I5101=Медали!$E8,IF('база 2013'!$O$5:$O5101=3,1,0)))","v":0},2]
[null,null,null,null,"Международные соревнования",{"$f":"SUM(IF('база 2013'!$I$5:$I5102=Медали!E9,IF('база 2013'!$O$5:$O5102=1,1,0)))","v":1},{"$f":"SUM(IF('база 2013'!$I$5:$I5102=Медали!$E9,IF('база 2013'!$O$5:$O5102=2,1,0)))","v":2},{"$f":"SUM(IF('база 2013'!$I$5:$I5102=Медали!$E9,IF('база 2013'!$O$5:$O5102=3,1,0)))","v":5},8]
[null,null,null,null,"Первенство Европы",{"$f":"SUM(IF('база 2013'!$I$5:$I5103=Медали!E10,IF('база 2013'!$O$5:$O5103=1,1,0)))","v":0},{"$f":"SUM(IF('база 2013'!$I$5:$I5103=Медали!$E10,IF('база 2013'!$O$5:$O5103=2,1,0)))","v":0},{"$f":"SUM(IF('база 2013'!$I$5:$I5103=Медали!$E10,IF('база 2013'!$O$5:$O5103=3,1,0)))","v":1},1]
[null,null,null,null,"Первенство мира",{"$f":"SUM(IF('база 2013'!$I$5:$I5104=Медали!E11,IF('база 2013'!$O$5:$O5104=1,1,0)))","v":1},{"$f":"SUM(IF('база 2013'!$I$5:$I5104=Медали!$E11,IF('база 2013'!$O$5:$O5104=2,1,0)))","v":0},{"$f":"SUM(IF('база 2013'!$I$5:$I5104=Медали!$E11,IF('база 2013'!$O$5:$O5104=3,1,0)))","v":0},1]
[null,null,null,null,"Первенство России",{"$f":"SUM(IF('база 2013'!$I$5:$I5105=Медали!E12,IF('база 2013'!$O$5:$O5105=1,1,0)))","v":0},{"$f":"SUM(IF('база 2013'!$I$5:$I5105=Медали!$E12,IF('база 2013'!$O$5:$O5105=2,1,0)))","v":0},{"$f":"SUM(IF('база 2013'!$I$5:$I5105=Медали!$E12,IF('база 2013'!$O$5:$O5105=3,1,0)))","v":4},4]
[null,null,null,null,"Чемпионат Европы",{"$f":"SUM(IF('база 2013'!$I$5:$I5106=Медали!E13,IF('база 2013'!$O$5:$O5106=1,1,0)))","v":0},{"$f":"SUM(IF('база 2013'!$I$5:$I5106=Медали!$E13,IF('база 2013'!$O$5:$O5106=2,1,0)))","v":0},{"$f":"SUM(IF('база 2013'!$I$5:$I5106=Медали!$E13,IF('база 2013'!$O$5:$O5106=3,1,0)))","v":0},0]
[null,null,null,null,"Чемпионат мира",{"$f":"SUM(IF('база 2013'!$I$5:$I5107=Медали!E14,IF('база 2013'!$O$5:$O5107=1,1,0)))","v":0},{"$f":"SUM(IF('база 2013'!$I$5:$I5107=Медали!$E14,IF('база 2013'!$O$5:$O5107=2,1,0)))","v":0},{"$f":"SUM(IF('база 2013'!$I$5:$I5107=Медали!$E14,IF('база 2013'!$O$5:$O5107=3,1,0)))","v":0},0]
[null,null,null,null,"Чемпионат России",{"$f":"SUM(IF('база 2013'!$I$5:$I5108=Медали!E15,IF('база 2013'!$O$5:$O5108=1,1,0)))","v":1},{"$f":"SUM(IF('база 2013'!$I$5:$I5108=Медали!$E15,IF('база 2013'!$O$5:$O5108=2,1,0)))","v":0},{"$f":"SUM(IF('база 2013'!$I$5:$I5108=Медали!$E15,IF('база 2013'!$O$5:$O5108=3,1,0)))","v":3},4]
[null,null,null,null,"Этап Кубка мира",{"$f":"SUM(IF('база 2013'!$I$5:$I5108=Медали!E16,IF('база 2013'!$O$5:$O5108=1,1,0)))","v":0},{"$f":"SUM(IF('база 2013'!$I$5:$I5108=Медали!$E16,IF('база 2013'!$O$5:$O5108=2,1,0)))","v":0},{"$f":"SUM(IF('база 2013'!$I$5:$I5108=Медали!$E16,IF('база 2013'!$O$5:$O5108=3,1,0)))","v":0},{"$f":"SUM(F16:H16)","v":0}]
[null,null,null,null,"Спартакиада молодежи России",{"$f":"SUM(IF('база 2013'!$I$5:$I5108=Медали!E17,IF('база 2013'!$O$5:$O5108=1,1,0)))","v":0},{"$f":"SUM(IF('база 2013'!$I$5:$I5108=Медали!$E17,IF('база 2013'!$O$5:$O5108=2,1,0)))","v":0},{"$f":"SUM(IF('база 2013'!$I$5:$I5108=Медали!$E17,IF('база 2013'!$O$5:$O5108=3,1,0)))","v":0},0]
[null,null,null,null,"Всемирная летняя Универсиада",{"$f":"SUM(IF('база 2013'!$I$5:$I5109=Медали!E18,IF('база 2013'!$O$5:$O5109=1,1,0)))","v":0},{"$f":"SUM(IF('база 2013'!$I$5:$I5109=Медали!$E18,IF('база 2013'!$O$5:$O5109=2,1,0)))","v":0},{"$f":"SUM(IF('база 2013'!$I$5:$I5109=Медали!$E18,IF('база 2013'!$O$5:$O5109=3,1,0)))","v":0},0]
[null,null,null,null,null,{"$f":"COUNTIF(F5:F18,\">0\")","v":3},{"$f":"COUNTIF(G5:G18,\">0\")","v":3},{"$f":"COUNTIF(H5:H18,\">0\")","v":4},{"$f":"COUNTIF(I5:I18,\">0\")","v":7}]
[null,null,null,null,null,null,null,null,{"$f":"SUM(I5:I18)","v":21},{"$f":"SUM(J5:J19)","v":0}]
[]
[null,null,null,null,null,"З","С","Б","итого"]
[null,null,null,null,"Олимпийские игры",{"$f":"F5","v":0},{"$f":"G5","v":1},{"$f":"H5","v":0},{"$f":"F23+G23+H23","v":1}]
[null,null,null,null,"мир",{"$f":"F7+F11+F14+F16","v":1},{"$f":"G7+G11+G14+G16","v":0},{"$f":"H7+H11+H14+H16","v":0},{"$f":"F24+G24+H24","v":1}]
[null,null,null,null,"Европа",{"$f":"F6+F10+F13","v":0},{"$f":"G6+G10+G13","v":0},{"$f":"H6+H10+H13","v":1},1]
[null,null,null,null,"Ч и К России",{"$f":"F8+F15","v":1},{"$f":"G8+G15","v":2},{"$f":"H8+H15","v":3},6]
[null,null,null,null,"ПР",{"$f":"F12+F17","v":0},{"$f":"G12+G17","v":0},4,4]
[null,null,null,null,"МС",{"$f":"F9+F18","v":1},{"$f":"G9+G18","v":2},{"$f":"H9+H18","v":5},8,null,null,null,"-"]
[null,null,null,null,"Всего:",{"$f":"SUM(F23:F28)","v":3},{"$f":"SUM(G23:G28)","v":5},{"$f":"SUM(H23:H28)","v":13},{"$f":"SUM(I23:I28)","v":21}]
[]
[]
[]
[null,null,null,null,"Всего 2180"]

{"sheet":"база 2013","index":5,"n_rows":25,"n_cols":16,"rows_kept":25,"cut":false,"hidden":false,"merged":[[1,0,1,14]]}
[]
["Таблица результатов спортсменов за 2016 год"]
[]
["Фамилия И.О.","Вид спорта","Спорт. Звание","Год рожд","Город","ПарЗачет","Ведомство","Ф.И.О. тренера","Мероприятие","Возрастная группа","Место проведения","Сроки нач.меропр","Сроки оканч.мероприятия","Программа","Место","дисциплины о/н"]
["Овчарова Любовь","вольная борьба","МС МК",1995,"Белореченский район","_","ЦСП","Макарян С. С.","Международные соревнования","женщины 1998 г.р. и старше","Бразилия Рио-де-Жанейро","2016-01-30","2016-01-31","58 кг",3,"о/д"]
["Овчарова Любовь","вольная борьба","МС МК",1995,"Белореченский район","_","ЦСП","Макарян С. С.","Международные соревнования","женщины 1998 г.р. и старше","Клиппан Швеция","2016-02-20","2016-02-21","58 кг",2,"о/д"]
["Лексина Дарья","вольная борьба","МС  ",1992,"Гулькевичский район ","_","ЦСП по спортивной борьбе","Пайнов Р. Ю.","Международные соревнования","женщины 1998 г.р. и старше","Красноярск ","2016-01-29","2016-01-31",48,3,"о/д"]
["Полещук Екатерина","вольная борьба","МС",1994,"Гулькевичский район ","_","ЦСП по спортивной борьбе","Пайнов Р. Ю.","Международные соревнования","женщины 1998 г.р. и старше","София Болгария","2016-02-26","2016-02-28",53,1,"о/д"]
["Еремина Кристина","вольная борьба","МС",1994,"Гулькевичский район ","_","ЦСП по спортивной борьбе","Пайнов Р. Ю.","Международные соревнования","женщины 1998 г.р. и старше","Минск Белорусь","2016-02-18","19.02.206",63,3,"о/д"]
["Челдиев Давид","вольная борьба","КМС",2000,"Гулькевичский район ","_","ЦСП по спортивной борьбе","Несерхоев Р. Р.","Первенство России","юноши 1999-2000","Старый Оскол","12 мая 2016 г.","16 мая 2016 г.","63 кг",3,"н/д"]
["Лексина Дарья","вольная борьба","МС  ",1992,"Гулькевичский район ","_","ЦСП по спортивной борьбе","Пайнов Р. Ю.","Международные соревнования","женщины 1998 г.р. и старше","Дормаген Германия","13 мая 2016 г.","16 мая 2016 г.","48 кг",3,"о/д"]
["Сизенко Анастасия","вольная борьба","КМС",1999,"Гулькевичский район ","_","ЦСП по спортивной борьбе","Пайнов Р. Ю.","Международные соревнования","девушки 1999-2000","Дормаген Германия","13 мая 2016 г.","16 мая 2016 г.","56 кг",2,"н/д"]
["Овчарова Любовь","вольная борьба","МС МК",1995,"Белореченский район","_","ЦСП","Макарян С. С.","Международные соревнования","женщины 1998 г.р. и старше","Дормаген Германия","13 мая 2016 г.","16 мая 2016 г.","60 кг",3,"о/д"]
["Гедуев Аниуар","вольная борьба","МС МК",1987,"город Краснодар","_","ЦСП по спортивной борьбе","Казиев А. В.","Чемпионат России","мужчины 1998 г.р. и старше","Якутск","27 мая 2016 г.","29 мая 2016 г.","74 кг",1,"о/д"]
["Лексина Дарья","вольная борьба","МС  ",1992,"Гулькевичский район ","_","ЦСП по спортивной борьбе","Пайнов Р. Ю.","Чемпионат России","женщины 1998 г.р. и старше","Санкт-Петербург","2016-06-09","12 июня 2016 г.","48 кг",3,"о/д"]
["Полещук Екатерина","вольная борьба","МС",1994,"Гулькевичский район ","_","ЦСП по спортивной борьбе","Пайнов Р. Ю.","Чемпионат России","женщины 1998 г.р. и старше","Санкт-Петербург","2016-06-09","12 июня 2016 г.","53 кг",3,"о/д"]
["Овчарова Любовь","вольная борьба","МС МК",1995,"Белореченский район","_","ЦСП","Макарян С. С.","Чемпионат России","женщины 1998 г.р. и старше","Санкт-Петербург","2016-06-09","12 июня 2016 г.","58 кг",3,"о/д"]
["Аниуар Гедуев","вольная борьба","МС МК",1987,"город Краснодар","-","ЦСП по спортивной борьбе","Алексей Казиев","Олимпийские игры","среди взрослых","Рио-де-Жанейро","2016-08-17","21. августа 2016.",74,2,"о/д"]
["Незговорова Ксения","вольная борьба","МС ",1997,"Гулькевичский район ","-","ЦСП по спортивной борьбе","Пайнов Руслан Юрьевич","Первенство Мира","среди юниорок","Макон, Франция","30 августа 2016г.","4 сентября 2016г.",51,1,"о/н"]
["Гурова Ольга","вольная борьба","МС",1999,"Гулькевичский район ","-","ЦСП по спортивной борьбе","Пайнов Руслан Юрьевич","Первенство Европы","среди кадетов","Стокгольм, Швеция","19 июля 2016","24 июля 2016",49,3,"о/н"]
["Полещук Екатерина","вольная борьба","МС",1994,"Гулькевичский район ",null,"ЦСП по спортивной борьбе","Р.Ю. Пайнов","Кубок России","женщины 1998 годов и старше","Чебоксары","07 декабря 2016 г.","11 декабря 2016 г.","53 кг",2,"о/д"]
["Перевозкина Екатерина","вольная борьба","КМС",2001,"Гулькевичский район ","-","ЦСП по спортивной борьбе","В.А. Дыньков","Первенство России","девушки 2001-2002","Смоленск","19 октября 2016г.","22 октябя 2016г.","40 кг",3,"н/д"]
["Усова Анастасия","вольная борьба",1,2001,"Гулькевичский район ","-","ЦСП по спортивной борьбе","Ф.Р. Агабабян","Первенство России","девушки 2001-2002","Смоленск","19 октября 2016г.","22 октябя 2016г.","52 кг",3,"н/д"]
["Шелест Дарья ","вольная борьба",1,2001,"Гулькевичский район ","-","ЦСП по спортивной борьбе","В.А. Дзюбенко","Первенство России","девушки 2001-2002","Смоленск","19 октября 2016г.","22 октябя 2016г.","57 кг",3,"н/д"]
["Полещук Екатерина","вольная борьба","МС",1994,"Гулькевичский район ",null,"ЦСП по спортивной борьбе","Р.Ю. Пайнов","Кубок России","женщины 1998 годов и старше","Чебоксары","07 декабря 2016 г.","11 декабря 2016 г.","53 кг",2,"о/д"]

{"sheet":"Медали ВС","index":6,"n_rows":87,"n_cols":57,"rows_kept":87,"cut":false,"hidden":false,"merged":[[86,0,86,1],[87,53,87,55],[3,29,3,31],[3,32,3,34],[3,38,3,40],[3,41,3,43],[3,47,3,49],[3,50,3,52],[3,44,3,46],[3,2,3,4],[3,5,3,7],[3,8,3,10],[3,11,3,13],[3,14,3,16],[3,17,3,19],[3,20,3,22],[1,0,1,56],[3,23,3,25],[3,26,3,28],[3,53,3,55],[3,56,6,56],[3,35,3,37]]}
[]
["Медали кубанских спортсменов, завоеванные на международных и всероссийских соревнованиях в 2013 году (3 квартал)"]
[]
["№ п/п","Виды спорта","Олимпийские игры",null,null,"Чемпионат Мира",null,null,"Кубок Мира",null,null,"Первенство Мира",null,null,"Этап Кубка Мира",null,null,"всего",null,null,"Чемпионат Европы",null,null,"Кубок Европы",null,null,"Первенство Европы",null,null,"всего",null,null,"Международные соревнования",null,null,"Всемирная летняя Универсиада",null,null,"Чемпионат России",null,null,"Кубок России",null,null,"Первенство России",null,null,"Спартакиада молодежи России",null,null,"Всего",null,null,"Итого",null,null,"ВСЕГО"]
[null,null,"Олимпийские игры","Олимпийские игры","Олимпийские игры","Чемпионат Мира","Чемпионат Мира","Чемпионат Мира","Кубок Мира","Кубок Мира","Кубок Мира","Первенство Мира","Первенство Мира","Первенство Мира","Этап Кубка Мира","Этап Кубка Мира","Этап Кубка Мира","в","в","в","Чемпионат Европы","Чемпионат Европы","Чемпионат Европы","Кубок Европы","Кубок Европы","Кубок Европы","Первенство Европы","Первенство Европы","Первенство Европы","в","в","в","Международные соревнования","Международные соревнования","Международные соревнования","Всемирная летняя Универсиада","Всемирная летняя Универсиада","Всемирная летняя Универсиада","Чемпионат России","Чемпионат России","Чемпионат России","Кубок России","Кубок России","Кубок России","Первенство России","Первенство России","Первенство России","Спартакиада молодежи России","Спартакиада молодежи России","Спартакиада молодежи России","в","в","в","в","в","в"]
[null,null,"в","в","в",null,null,null,null,null,null,null,null,null,null,null,null,"в","в","в",null,null,null,null,null,null,null,null,null,"в","в","в","в","в","в","в","в","в",null,null,null,null,null,null,null,null,null,null,null,null,"в","в","в","в","в","в"]
["№пп","Муниципальное образование",1,2,3,1,2,3,1,2,3,1,2,3,1,2,3,1,2,3,1,2,3,1,2,3,1,2,3,1,2,3,1,2,3,1,2,3,1,2,3,1,2,3,1,2,3,1,2,3,1,2,3,1,2,3]
[1,"Спортивная акробатика",{"$f":"COUNTIFS('база 2013'!$B$4:$B$1191,$B8,'база 2013'!$I$4:$I$1191,C$5,'база 2013'!$O$4:$O$1191,C$7)","v":0},{"$f":"COUNTIFS('база 2013'!$B$4:$B$1191,$B8,'база 2013'!$I$4:$I$1191,D$5,'база 2013'!$O$4:$O$1191,D$7)","v":0},{"$f":"COUNTIFS('база 2013'!$B$4:$B$1191,$B8,'база 2013'!$I$4:$I$1191,E$5,'база 2013'!$O$4:$O$1191,E$7)","v":0},{"$f":"COUNTIFS('база 2013'!$B$4:$B$1191,$B8,'база 2013'!$I$4:$I$1191,F$5,'база 2013'!$O$4:$O$1191,F$7)","v":0},{"$f":"COUNTIFS('база 2013'!$B$4:$B$1191,$B8,'база 2013'!$I$4:$I$1191,G$5,'база 2013'!$O$4:$O$1191,G$7)","v":0},{"$f":"COUNTIFS('база 2013'!$B$4:$B$1191,$B8,'база 2013'!$I$4:$I$1191,H$5,'база 2013'!$O$4:$O$1191,H$7)","v":0},{"$f":"COUNTIFS('база 2013'!$B$4:$B$1191,$B8,'база 2013'!$I$4:$I$1191,I$5,'база 2013'!$O$4:$O$1191,I$7)","v":0},{"$f":"COUNTIFS('база 2013'!$B$4:$B$1191,$B8,'база 2013'!$I$4:$I$1191,J$5,'база 2013'!$O$4:$O$1191,J$7)","v":0},{"$f":"COUNTIFS('база 2013'!$B$4:$B$1191,$B8,'база 2013'!$I$4:$I$1191,K$5,'база 2013'!$O$4:$O$1191,K$7)","v":0},{"$f":"COUNTIFS('база 2013'!$B$4:$B$1191,$B8,'база 2013'!$I$4:$I$1191,L$5,'база 2013'!$O$4:$O$1191,L$7)","v":0},{"$f":"COUNTIFS('база 2013'!$B$4:$B$1191,$B8,'база 2013'!$I$4:$I$1191,M$5,'база 2013'!$O$4:$O$1191,M$7)","v":0},{"$f":"COUNTIFS('база 2013'!$B$4:$B$1191,$B8,'база 2013'!$I$4:$I$1191,N$5,'база 2013'!$O$4:$O$1191,N$7)","v":0},{"$f":"COUNTIFS('база 2013'!$B$4:$B$1191,$B8,'база 2013'!$I$4:$I$1191,O$5,'база 2013'!$O$4:$O$1191,O$7)","v":0},{"$f":"COUNTIFS('база 2013'!$B$4:$B$1191,$B8,'база 2013'!$I$4:$I$1191,P$5,'база 2013'!$O$4:$O$1191,P$7)","v":0},{"$f":"COUNTIFS('база 2013'!$B$4:$B$1191,$B8,'база 2013'!$I$4:$I$1191,Q$5,'база 2013'!$O$4:$O$1191,Q$7)","v":0},{"$f":"SUMIF($F$7:$Q$7,$R$7,F8:Q8)","v":0},{"$f":"SUMIF($F$7:$Q$7,$S$7,$F8:$Q8)","v":0},{"$f":"SUMIF($F$7:$Q$7,$T$7,$F8:$Q8)","v":0},{"$f":"COUNTIFS('база 2013'!$B$4:$B$1191,$B8,'база 2013'!$I$4:$I$1191,U$5,'база 2013'!$O$4:$O$1191,U$7)","v":0},{"$f":"COUNTIFS('база 2013'!$B$4:$B$1191,$B8,'база 2013'!$I$4:$I$1191,V$5,'база 2013'!$O$4:$O$1191,V$7)","v":0},{"$f":"COUNTIFS('база 2013'!$B$4:$B$1191,$B8,'база 2013'!$I$4:$I$1191,W$5,'база 2013'!$O$4:$O$1191,W$7)","v":0},{"$f":"COUNTIFS('база 2013'!$B$4:$B$1191,$B8,'база 2013'!$I$4:$I$1191,X$5,'база 2013'!$O$4:$O$1191,X$7)","v":0},{"$f":"COUNTIFS('база 2013'!$B$4:$B$1191,$B8,'база 2013'!$I$4:$I$1191,Y$5,'база 2013'!$O$4:$O$1191,Y$7)","v":0},{"$f":"COUNTIFS('база 2013'!$B$4:$B$1191,$B8,'база 2013'!$I$4:$I$1191,Z$5,'база 2013'!$O$4:$O$1191,Z$7)","v":0},{"$f":"COUNTIFS('база 2013'!$B$4:$B$1191,$B8,'база 2013'!$I$4:$I$1191,AA$5,'база 2013'!$O$4:$O$1191,AA$7)","v":0},{"$f":"COUNTIFS('база 2013'!$B$4:$B$1191,$B8,'база 2013'!$I$4:$I$1191,AB$5,'база 2013'!$O$4:$O$1191,AB$7)","v":0},{"$f":"COUNTIFS('база 2013'!$B$4:$B$1191,$B8,'база 2013'!$I$4:$I$1191,AC$5,'база 2013'!$O$4:$O$1191,AC$7)","v":0},{"$f":"SUMIF($U$7:$AC$7,$AD$7,$U8:$AC8)","v":0},{"$f":"SUMIF($U$7:$AC$7,$AE$7,$U8:$AC8)","v":0},{"$f":"SUMIF($U$7:$AC$7,$AF$7,$U8:$AC8)","v":0},{"$f":"COUNTIFS('база 2013'!$B$4:$B$1191,$B8,'база 2013'!$I$4:$I$1191,AG$5,'база 2013'!$O$4:$O$1191,AG$7)","v":0},{"$f":"COUNTIFS('база 2013'!$B$4:$B$1191,$B8,'база 2013'!$I$4:$I$1191,AH$5,'база 2013'!$O$4:$O$1191,AH$7)","v":0},{"$f":"COUNTIFS('база 2013'!$B$4:$B$1191,$B8,'база 2013'!$I$4:$I$1191,AI$5,'база 2013'!$O$4:$O$1191,AI$7)","v":0},{"$f":"COUNTIFS('база 2013'!$B$4:$B$1191,$B8,'база 2013'!$I$4:$I$1191,AJ$5,'база 2013'!$O$4:$O$1191,AJ$7)","v":0},{"$f":"COUNTIFS('база 2013'!$B$4:$B$1191,$B8,'база 2013'!$I$4:$I$1191,AK$5,'база 2013'!$O$4:$O$1191,AK$7)","v":0},{"$f":"COUNTIFS('база 2013'!$B$4:$B$1191,$B8,'база 2013'!$I$4:$I$1191,AL$5,'база 2013'!$O$4:$O$1191,AL$7)","v":0},{"$f":"COUNTIFS('база 2013'!$B$4:$B$1191,$B8,'база 2013'!$I$4:$I$1191,AM$5,'база 2013'!$O$4:$O$1191,AM$7)","v":0},{"$f":"COUNTIFS('база 2013'!$B$4:$B$1191,$B8,'база 2013'!$I$4:$I$1191,AN$5,'база 2013'!$O$4:$O$1191,AN$7)","v":0},{"$f":"COUNTIFS('база 2013'!$B$4:$B$1191,$B8,'база 2013'!$I$4:$I$1191,AO$5,'база 2013'!$O$4:$O$1191,AO$7)","v":0},{"$f":"COUNTIFS('база 2013'!$B$4:$B$1191,$B8,'база 2013'!$I$4:$I$1191,AP$5,'база 2013'!$O$4:$O$1191,AP$7)","v":0},{"$f":"COUNTIFS('база 2013'!$B$4:$B$1191,$B8,'база 2013'!$I$4:$I$1191,AQ$5,'база 2013'!$O$4:$O$1191,AQ$7)","v":0},{"$f":"COUNTIFS('база 2013'!$B$4:$B$1191,$B8,'база 2013'!$I$4:$I$1191,AR$5,'база 2013'!$O$4:$O$1191,AR$7)","v":0},{"$f":"COUNTIFS('база 2013'!$B$4:$B$1191,$B8,'база 2013'!$I$4:$I$1191,AS$5,'база 2013'!$O$4:$O$1191,AS$7)","v":0},{"$f":"COUNTIFS('база 2013'!$B$4:$B$1191,$B8,'база 2013'!$I$4:$I$1191,AT$5,'база 2013'!$O$4:$O$1191,AT$7)","v":0},{"$f":"COUNTIFS('база 2013'!$B$4:$B$1191,$B8,'база 2013'!$I$4:$I$1191,AU$5,'база 2013'!$O$4:$O$1191,AU$7)","v":0},{"$f":"COUNTIFS('база 2013'!$B$4:$B$1191,$B8,'база 2013'!$I$4:$I$1191,AV$5,'база 2013'!$O$4:$O$1191,AV$7)","v":0},{"$f":"COUNTIFS('база 2013'!$B$4:$B$1191,$B8,'база 2013'!$I$4:$I$1191,AW$5,'база 2013'!$O$4:$O$1191,AW$7)","v":0},{"$f":"COUNTIFS('база 2013'!$B$4:$B$1191,$B8,'база 2013'!$I$4:$I$1191,AX$5,'база 2013'!$O$4:$O$1191,AX$7)","v":0},{"$f":"SUMIF($AM$7:$AX$7,$AY$7,$AM8:$AX8)","v":0},{"$f":"SUMIF($AM$7:$AX$7,$AZ$7,$AM8:$AX8)","v":0},{"$f":"SUMIF($AM$7:$AX$7,$BA$7,$AM8:$AX8)","v":0},{"$f":"SUMIFS($C8:$BA8,$C$6:$BA$6,BB$6,$C$7:$BA$7,BB$7)","v":0},0,0,{"$f":"SUM(BB8:BD8)","v":0}]
[2,"Альпинизм",{"$f":"COUNTIFS('база 2013'!$B$4:$B$1191,$B9,'база 2013'!$I$4:$I$1191,C$5,'база 2013'!$O$4:$O$1191,C$7)","v":0},{"$f":"COUNTIFS('база 2013'!$B$4:$B$1191,$B9,'база 2013'!$I$4:$I$1191,D$5,'база 2013'!$O$4:$O$1191,D$7)","v":0},{"$f":"COUNTIFS('база 2013'!$B$4:$B$1191,$B9,'база 2013'!$I$4:$I$1191,E$5,'база 2013'!$O$4:$O$1191,E$7)","v":0},{"$f":"COUNTIFS('база 2013'!$B$4:$B$1191,$B9,'база 2013'!$I$4:$I$1191,F$5,'база 2013'!$O$4:$O$1191,F$7)","v":0},{"$f":"COUNTIFS('база 2013'!$B$4:$B$1191,$B9,'база 2013'!$I$4:$I$1191,G$5,'база 2013'!$O$4:$O$1191,G$7)","v":0},{"$f":"COUNTIFS('база 2013'!$B$4:$B$1191,$B9,'база 2013'!$I$4:$I$1191,H$5,'база 2013'!$O$4:$O$1191,H$7)","v":0},{"$f":"COUNTIFS('база 2013'!$B$4:$B$1191,$B9,'база 2013'!$I$4:$I$1191,I$5,'база 2013'!$O$4:$O$1191,I$7)","v":0},{"$f":"COUNTIFS('база 2013'!$B$4:$B$1191,$B9,'база 2013'!$I$4:$I$1191,J$5,'база 2013'!$O$4:$O$1191,J$7)","v":0},{"$f":"COUNTIFS('база 2013'!$B$4:$B$1191,$B9,'база 2013'!$I$4:$I$1191,K$5,'база 2013'!$O$4:$O$1191,K$7)","v":0},{"$f":"COUNTIFS('база 2013'!$B$4:$B$1191,$B9,'база 2013'!$I$4:$I$1191,L$5,'база 2013'!$O$4:$O$1191,L$7)","v":0},{"$f":"COUNTIFS('база 2013'!$B$4:$B$1191,$B9,'база 2013'!$I$4:$I$1191,M$5,'база 2013'!$O$4:$O$1191,M$7)","v":0},{"$f":"COUNTIFS('база 2013'!$B$4:$B$1191,$B9,'база 2013'!$I$4:$I$1191,N$5,'база 2013'!$O$4:$O$1191,N$7)","v":0},{"$f":"COUNTIFS('база 2013'!$B$4:$B$1191,$B9,'база 2013'!$I$4:$I$1191,O$5,'база 2013'!$O$4:$O$1191,O$7)","v":0},{"$f":"COUNTIFS('база 2013'!$B$4:$B$1191,$B9,'база 2013'!$I$4:$I$1191,P$5,'база 2013'!$O$4:$O$1191,P$7)","v":0},{"$f":"COUNTIFS('база 2013'!$B$4:$B$1191,$B9,'база 2013'!$I$4:$I$1191,Q$5,'база 2013'!$O$4:$O$1191,Q$7)","v":0},0,0,0,{"$f":"COUNTIFS('база 2013'!$B$4:$B$1191,$B9,'база 2013'!$I$4:$I$1191,U$5,'база 2013'!$O$4:$O$1191,U$7)","v":0},{"$f":"COUNTIFS('база 2013'!$B$4:$B$1191,$B9,'база 2013'!$I$4:$I$1191,V$5,'база 2013'!$O$4:$O$1191,V$7)","v":0},{"$f":"COUNTIFS('база 2013'!$B$4:$B$1191,$B9,'база 2013'!$I$4:$I$1191,W$5,'база 2013'!$O$4:$O$1191,W$7)","v":0},{"$f":"COUNTIFS('база 2013'!$B$4:$B$1191,$B9,'база 2013'!$I$4:$I$1191,X$5,'база 2013'!$O$4:$O$1191,X$7)","v":0},{"$f":"COUNTIFS('база 2013'!$B$4:$B$1191,$B9,'база 2013'!$I$4:$I$1191,Y$5,'база 2013'!$O$4:$O$1191,Y$7)","v":0},{"$f":"COUNTIFS('база 2013'!$B$4:$B$1191,$B9,'база 2013'!$I$4:$I$1191,Z$5,'база 2013'!$O$4:$O$1191,Z$7)","v":0},{"$f":"COUNTIFS('база 2013'!$B$4:$B$1191,$B9,'база 2013'!$I$4:$I$1191,AA$5,'база 2013'!$O$4:$O$1191,AA$7)","v":0},{"$f":"COUNTIFS('база 2013'!$B$4:$B$1191,$B9,'база 2013'!$I$4:$I$1191,AB$5,'база 2013'!$O$4:$O$1191,AB$7)","v":0},{"$f":"COUNTIFS('база 2013'!$B$4:$B$1191,$B9,'база 2013'!$I$4:$I$1191,AC$5,'база 2013'!$O$4:$O$1191,AC$7)","v":0},{"$f":"SUMIF($U$7:$AC$7,$AD$7,$U9:$AC9)","v":0},{"$f":"SUMIF($U$7:$AC$7,$AE$7,$U9:$AC9)","v":0},{"$f":"SUMIF($U$7:$AC$7,$AF$7,$U9:$AC9)","v":0},{"$f":"COUNTIFS('база 2013'!$B$4:$B$1191,$B9,'база 2013'!$I$4:$I$1191,AG$5,'база 2013'!$O$4:$O$1191,AG$7)","v":0},{"$f":"COUNTIFS('база 2013'!$B$4:$B$1191,$B9,'база 2013'!$I$4:$I$1191,AH$5,'база 2013'!$O$4:$O$1191,AH$7)","v":0},{"$f":"COUNTIFS('база 2013'!$B$4:$B$1191,$B9,'база 2013'!$I$4:$I$1191,AI$5,'база 2013'!$O$4:$O$1191,AI$7)","v":0},{"$f":"COUNTIFS('база 2013'!$B$4:$B$1191,$B9,'база 2013'!$I$4:$I$1191,AJ$5,'база 2013'!$O$4:$O$1191,AJ$7)","v":0},{"$f":"COUNTIFS('база 2013'!$B$4:$B$1191,$B9,'база 2013'!$I$4:$I$1191,AK$5,'база 2013'!$O$4:$O$1191,AK$7)","v":0},{"$f":"COUNTIFS('база 2013'!$B$4:$B$1191,$B9,'база 2013'!$I$4:$I$1191,AL$5,'база 2013'!$O$4:$O$1191,AL$7)","v":0},{"$f":"COUNTIFS('база 2013'!$B$4:$B$1191,$B9,'база 2013'!$I$4:$I$1191,AM$5,'база 2013'!$O$4:$O$1191,AM$7)","v":0},{"$f":"COUNTIFS('база 2013'!$B$4:$B$1191,$B9,'база 2013'!$I$4:$I$1191,AN$5,'база 2013'!$O$4:$O$1191,AN$7)","v":0},{"$f":"COUNTIFS('база 2013'!$B$4:$B$1191,$B9,'база 2013'!$I$4:$I$1191,AO$5,'база 2013'!$O$4:$O$1191,AO$7)","v":0},{"$f":"COUNTIFS('база 2013'!$B$4:$B$1191,$B9,'база 2013'!$I$4:$I$1191,AP$5,'база 2013'!$O$4:$O$1191,AP$7)","v":0},{"$f":"COUNTIFS('база 2013'!$B$4:$B$1191,$B9,'база 2013'!$I$4:$I$1191,AQ$5,'база 2013'!$O$4:$O$1191,AQ$7)","v":0},{"$f":"COUNTIFS('база 2013'!$B$4:$B$1191,$B9,'база 2013'!$I$4:$I$1191,AR$5,'база 2013'!$O$4:$O$1191,AR$7)","v":0},{"$f":"COUNTIFS('база 2013'!$B$4:$B$1191,$B9,'база 2013'!$I$4:$I$1191,AS$5,'база 2013'!$O$4:$O$1191,AS$7)","v":0},{"$f":"COUNTIFS('база 2013'!$B$4:$B$1191,$B9,'база 2013'!$I$4:$I$1191,AT$5,'база 2013'!$O$4:$O$1191,AT$7)","v":0},{"$f":"COUNTIFS('база 2013'!$B$4:$B$1191,$B9,'база 2013'!$I$4:$I$1191,AU$5,'база 2013'!$O$4:$O$1191,AU$7)","v":0},{"$f":"COUNTIFS('база 2013'!$B$4:$B$1191,$B9,'база 2013'!$I$4:$I$1191,AV$5,'база 2013'!$O$4:$O$1191,AV$7)","v":0},{"$f":"COUNTIFS('база 2013'!$B$4:$B$1191,$B9,'база 2013'!$I$4:$I$1191,AW$5,'база 2013'!$O$4:$O$1191,AW$7)","v":0},{"$f":"COUNTIFS('база 2013'!$B$4:$B$1191,$B9,'база 2013'!$I$4:$I$1191,AX$5,'база 2013'!$O$4:$O$1191,AX$7)","v":0},{"$f":"SUMIF($AM$7:$AX$7,$AY$7,$AM9:$AX9)","v":0},{"$f":"SUMIF($AM$7:$AX$7,$AZ$7,$AM9:$AX9)","v":0},{"$f":"SUMIF($AM$7:$AX$7,$BA$7,$AM9:$AX9)","v":0},0,0,0,{"$f":"SUM(BB9:BD9)","v":0}]
[3,"Армспорт",{"$f":"COUNTIFS('база 2013'!$B$4:$B$1191,$B10,'база 2013'!$I$4:$I$1191,C$5,'база 2013'!$O$4:$O$1191,C$7)","v":0},{"$f":"COUNTIFS('база 2013'!$B$4:$B$1191,$B10,'база 2013'!$I$4:$I$1191,D$5,'база 2013'!$O$4:$O$1191,D$7)","v":0},{"$f":"COUNTIFS('база 2013'!$B$4:$B$1191,$B10,'база 2013'!$I$4:$I$1191,E$5,'база 2013'!$O$4:$O$1191,E$7)","v":0},{"$f":"COUNTIFS('база 2013'!$B$4:$B$1191,$B10,'база 2013'!$I$4:$I$1191,F$5,'база 2013'!$O$4:$O$1191,F$7)","v":0},{"$f":"COUNTIFS('база 2013'!$B$4:$B$1191,$B10,'база 2013'!$I$4:$I$1191,G$5,'база 2013'!$O$4:$O$1191,G$7)","v":0},{"$f":"COUNTIFS('база 2013'!$B$4:$B$1191,$B10,'база 2013'!$I$4:$I$1191,H$5,'база 2013'!$O$4:$O$1191,H$7)","v":0},{"$f":"COUNTIFS('база 2013'!$B$4:$B$1191,$B10,'база 2013'!$I$4:$I$1191,I$5,'база 2013'!$O$4:$O$1191,I$7)","v":0},{"$f":"COUNTIFS('база 2013'!$B$4:$B$1191,$B10,'база 2013'!$I$4:$I$1191,J$5,'база 2013'!$O$4:$O$1191,J$7)","v":0},{"$f":"COUNTIFS('база 2013'!$B$4:$B$1191,$B10,'база 2013'!$I$4:$I$1191,K$5,'база 2013'!$O$4:$O$1191,K$7)","v":0},{"$f":"COUNTIFS('база 2013'!$B$4:$B$1191,$B10,'база 2013'!$I$4:$I$1191,L$5,'база 2013'!$O$4:$O$1191,L$7)","v":0},{"$f":"COUNTIFS('база 2013'!$B$4:$B$1191,$B10,'база 2013'!$I$4:$I$1191,M$5,'база 2013'!$O$4:$O$1191,M$7)","v":0},{"$f":"COUNTIFS('база 2013'!$B$4:$B$1191,$B10,'база 2013'!$I$4:$I$1191,N$5,'база 2013'!$O$4:$O$1191,N$7)","v":0},{"$f":"COUNTIFS('база 2013'!$B$4:$B$1191,$B10,'база 2013'!$I$4:$I$1191,O$5,'база 2013'!$O$4:$O$1191,O$7)","v":0},{"$f":"COUNTIFS('база 2013'!$B$4:$B$1191,$B10,'база 2013'!$I$4:$I$1191,P$5,'база 2013'!$O$4:$O$1191,P$7)","v":0},{"$f":"COUNTIFS('база 2013'!$B$4:$B$1191,$B10,'база 2013'!$I$4:$I$1191,Q$5,'база 2013'!$O$4:$O$1191,Q$7)","v":0},0,0,0,{"$f":"COUNTIFS('база 2013'!$B$4:$B$1191,$B10,'база 2013'!$I$4:$I$1191,U$5,'база 2013'!$O$4:$O$1191,U$7)","v":0},{"$f":"COUNTIFS('база 2013'!$B$4:$B$1191,$B10,'база 2013'!$I$4:$I$1191,V$5,'база 2013'!$O$4:$O$1191,V$7)","v":0},{"$f":"COUNTIFS('база 2013'!$B$4:$B$1191,$B10,'база 2013'!$I$4:$I$1191,W$5,'база 2013'!$O$4:$O$1191,W$7)","v":0},{"$f":"COUNTIFS('база 2013'!$B$4:$B$1191,$B10,'база 2013'!$I$4:$I$1191,X$5,'база 2013'!$O$4:$O$1191,X$7)","v":0},{"$f":"COUNTIFS('база 2013'!$B$4:$B$1191,$B10,'база 2013'!$I$4:$I$1191,Y$5,'база 2013'!$O$4:$O$1191,Y$7)","v":0},{"$f":"COUNTIFS('база 2013'!$B$4:$B$1191,$B10,'база 2013'!$I$4:$I$1191,Z$5,'база 2013'!$O$4:$O$1191,Z$7)","v":0},{"$f":"COUNTIFS('база 2013'!$B$4:$B$1191,$B10,'база 2013'!$I$4:$I$1191,AA$5,'база 2013'!$O$4:$O$1191,AA$7)","v":0},{"$f":"COUNTIFS('база 2013'!$B$4:$B$1191,$B10,'база 2013'!$I$4:$I$1191,AB$5,'база 2013'!$O$4:$O$1191,AB$7)","v":0},{"$f":"COUNTIFS('база 2013'!$B$4:$B$1191,$B10,'база 2013'!$I$4:$I$1191,AC$5,'база 2013'!$O$4:$O$1191,AC$7)","v":0},0,0,0,{"$f":"COUNTIFS('база 2013'!$B$4:$B$1191,$B10,'база 2013'!$I$4:$I$1191,AG$5,'база 2013'!$O$4:$O$1191,AG$7)","v":0},{"$f":"COUNTIFS('база 2013'!$B$4:$B$1191,$B10,'база 2013'!$I$4:$I$1191,AH$5,'база 2013'!$O$4:$O$1191,AH$7)","v":0},{"$f":"COUNTIFS('база 2013'!$B$4:$B$1191,$B10,'база 2013'!$I$4:$I$1191,AI$5,'база 2013'!$O$4:$O$1191,AI$7)","v":0},{"$f":"COUNTIFS('база 2013'!$B$4:$B$1191,$B10,'база 2013'!$I$4:$I$1191,AJ$5,'база 2013'!$O$4:$O$1191,AJ$7)","v":0},{"$f":"COUNTIFS('база 2013'!$B$4:$B$1191,$B10,'база 2013'!$I$4:$I$1191,AK$5,'база 2013'!$O$4:$O$1191,AK$7)","v":0},{"$f":"COUNTIFS('база 2013'!$B$4:$B$1191,$B10,'база 2013'!$I$4:$I$1191,AL$5,'база 2013'!$O$4:$O$1191,AL$7)","v":0},{"$f":"COUNTIFS('база 2013'!$B$4:$B$1191,$B10,'база 2013'!$I$4:$I$1191,AM$5,'база 2013'!$O$4:$O$1191,AM$7)","v":0},{"$f":"COUNTIFS('база 2013'!$B$4:$B$1191,$B10,'база 2013'!$I$4:$I$1191,AN$5,'база 2013'!$O$4:$O$1191,AN$7)","v":0},{"$f":"COUNTIFS('база 2013'!$B$4:$B$1191,$B10,'база 2013'!$I$4:$I$1191,AO$5,'база 2013'!$O$4:$O$1191,AO$7)","v":0},{"$f":"COUNTIFS('база 2013'!$B$4:$B$1191,$B10,'база 2013'!$I$4:$I$1191,AP$5,'база 2013'!$O$4:$O$1191,AP$7)","v":0},{"$f":"COUNTIFS('база 2013'!$B$4:$B$1191,$B10,'база 2013'!$I$4:$I$1191,AQ$5,'база 2013'!$O$4:$O$1191,AQ$7)","v":0},{"$f":"COUNTIFS('база 2013'!$B$4:$B$1191,$B10,'база 2013'!$I$4:$I$1191,AR$5,'база 2013'!$O$4:$O$1191,AR$7)","v":0},{"$f":"COUNTIFS('база 2013'!$B$4:$B$1191,$B10,'база 2013'!$I$4:$I$1191,AS$5,'база 2013'!$O$4:$O$1191,AS$7)","v":0},{"$f":"COUNTIFS('база 2013'!$B$4:$B$1191,$B10,'база 2013'!$I$4:$I$1191,AT$5,'база 2013'!$O$4:$O$1191,AT$7)","v":0},{"$f":"COUNTIFS('база 2013'!$B$4:$B$1191,$B10,'база 2013'!$I$4:$I$1191,AU$5,'база 2013'!$O$4:$O$1191,AU$7)","v":0},{"$f":"COUNTIFS('база 2013'!$B$4:$B$1191,$B10,'база 2013'!$I$4:$I$1191,AV$5,'база 2013'!$O$4:$O$1191,AV$7)","v":0},{"$f":"COUNTIFS('база 2013'!$B$4:$B$1191,$B10,'база 2013'!$I$4:$I$1191,AW$5,'база 2013'!$O$4:$O$1191,AW$7)","v":0},{"$f":"COUNTIFS('база 2013'!$B$4:$B$1191,$B10,'база 2013'!$I$4:$I$1191,AX$5,'база 2013'!$O$4:$O$1191,AX$7)","v":0},0,0,0,0,0,0,0]
[4,"Бадминтон",{"$f":"COUNTIFS('база 2013'!$B$4:$B$1191,$B11,'база 2013'!$I$4:$I$1191,C$5,'база 2013'!$O$4:$O$1191,C$7)","v":0},{"$f":"COUNTIFS('база 2013'!$B$4:$B$1191,$B11,'база 2013'!$I$4:$I$1191,D$5,'база 2013'!$O$4:$O$1191,D$7)","v":0},{"$f":"COUNTIFS('база 2013'!$B$4:$B$1191,$B11,'база 2013'!$I$4:$I$1191,E$5,'база 2013'!$O$4:$O$1191,E$7)","v":0},{"$f":"COUNTIFS('база 2013'!$B$4:$B$1191,$B11,'база 2013'!$I$4:$I$1191,F$5,'база 2013'!$O$4:$O$1191,F$7)","v":0},{"$f":"COUNTIFS('база 2013'!$B$4:$B$1191,$B11,'база 2013'!$I$4:$I$1191,G$5,'база 2013'!$O$4:$O$1191,G$7)","v":0},{"$f":"COUNTIFS('база 2013'!$B$4:$B$1191,$B11,'база 2013'!$I$4:$I$1191,H$5,'база 2013'!$O$4:$O$1191,H$7)","v":0},{"$f":"COUNTIFS('база 2013'!$B$4:$B$1191,$B11,'база 2013'!$I$4:$I$1191,I$5,'база 2013'!$O$4:$O$1191,I$7)","v":0},{"$f":"COUNTIFS('база 2013'!$B$4:$B$1191,$B11,'база 2013'!$I$4:$I$1191,J$5,'база 2013'!$O$4:$O$1191,J$7)","v":0},{"$f":"COUNTIFS('база 2013'!$B$4:$B$1191,$B11,'база 2013'!$I$4:$I$1191,K$5,'база 2013'!$O$4:$O$1191,K$7)","v":0},{"$f":"COUNTIFS('база 2013'!$B$4:$B$1191,$B11,'база 2013'!$I$4:$I$1191,L$5,'база 2013'!$O$4:$O$1191,L$7)","v":0},{"$f":"COUNTIFS('база 2013'!$B$4:$B$1191,$B11,'база 2013'!$I$4:$I$1191,M$5,'база 2013'!$O$4:$O$1191,M$7)","v":0},{"$f":"COUNTIFS('база 2013'!$B$4:$B$1191,$B11,'база 2013'!$I$4:$I$1191,N$5,'база 2013'!$O$4:$O$1191,N$7)","v":0},{"$f":"COUNTIFS('база 2013'!$B$4:$B$1191,$B11,'база 2013'!$I$4:$I$1191,O$5,'база 2013'!$O$4:$O$1191,O$7)","v":0},{"$f":"COUNTIFS('база 2013'!$B$4:$B$1191,$B11,'база 2013'!$I$4:$I$1191,P$5,'база 2013'!$O$4:$O$1191,P$7)","v":0},{"$f":"COUNTIFS('база 2013'!$B$4:$B$1191,$B11,'база 2013'!$I$4:$I$1191,Q$5,'база 2013'!$O$4:$O$1191,Q$7)","v":0},{"$f":"SUMIF($F$7:$Q$7,$R$7,F11:Q11)","v":0},0,0,{"$f":"COUNTIFS('база 2013'!$B$4:$B$1191,$B11,'база 2013'!$I$4:$I$1191,U$5,'база 2013'!$O$4:$O$1191,U$7)","v":0},{"$f":"COUNTIFS('база 2013'!$B$4:$B$1191,$B11,'база 2013'!$I$4:$I$1191,V$5,'база 2013'!$O$4:$O$1191,V$7)","v":0},{"$f":"COUNTIFS('база 2013'!$B$4:$B$1191,$B11,'база 2013'!$I$4:$I$1191,W$5,'база 2013'!$O$4:$O$1191,W$7)","v":0},{"$f":"COUNTIFS('база 2013'!$B$4:$B$1191,$B11,'база 2013'!$I$4:$I$1191,X$5,'база 2013'!$O$4:$O$1191,X$7)","v":0},{"$f":"COUNTIFS('база 2013'!$B$4:$B$1191,$B11,'база 2013'!$I$4:$I$1191,Y$5,'база 2013'!$O$4:$O$1191,Y$7)","v":0},{"$f":"COUNTIFS('база 2013'!$B$4:$B$1191,$B11,'база 2013'!$I$4:$I$1191,Z$5,'база 2013'!$O$4:$O$1191,Z$7)","v":0},{"$f":"COUNTIFS('база 2013'!$B$4:$B$1191,$B11,'база 2013'!$I$4:$I$1191,AA$5,'база 2013'!$O$4:$O$1191,AA$7)","v":0},{"$f":"COUNTIFS('база 2013'!$B$4:$B$1191,$B11,'база 2013'!$I$4:$I$1191,AB$5,'база 2013'!$O$4:$O$1191,AB$7)","v":0},{"$f":"COUNTIFS('база 2013'!$B$4:$B$1191,$B11,'база 2013'!$I$4:$I$1191,AC$5,'база 2013'!$O$4:$O$1191,AC$7)","v":0},0,0,0,{"$f":"COUNTIFS('база 2013'!$B$4:$B$1191,$B11,'база 2013'!$I$4:$I$1191,AG$5,'база 2013'!$O$4:$O$1191,AG$7)","v":0},{"$f":"COUNTIFS('база 2013'!$B$4:$B$1191,$B11,'база 2013'!$I$4:$I$1191,AH$5,'база 2013'!$O$4:$O$1191,AH$7)","v":0},{"$f":"COUNTIFS('база 2013'!$B$4:$B$1191,$B11,'база 2013'!$I$4:$I$1191,AI$5,'база 2013'!$O$4:$O$1191,AI$7)","v":0},{"$f":"COUNTIFS('база 2013'!$B$4:$B$1191,$B11,'база 2013'!$I$4:$I$1191,AJ$5,'база 2013'!$O$4:$O$1191,AJ$7)","v":0},{"$f":"COUNTIFS('база 2013'!$B$4:$B$1191,$B11,'база 2013'!$I$4:$I$1191,AK$5,'база 2013'!$O$4:$O$1191,AK$7)","v":0},{"$f":"COUNTIFS('база 2013'!$B$4:$B$1191,$B11,'база 2013'!$I$4:$I$1191,AL$5,'база 2013'!$O$4:$O$1191,AL$7)","v":0},{"$f":"COUNTIFS('база 2013'!$B$4:$B$1191,$B11,'база 2013'!$I$4:$I$1191,AM$5,'база 2013'!$O$4:$O$1191,AM$7)","v":0},{"$f":"COUNTIFS('база 2013'!$B$4:$B$1191,$B11,'база 2013'!$I$4:$I$1191,AN$5,'база 2013'!$O$4:$O$1191,AN$7)","v":0},{"$f":"COUNTIFS('база 2013'!$B$4:$B$1191,$B11,'база 2013'!$I$4:$I$1191,AO$5,'база 2013'!$O$4:$O$1191,AO$7)","v":0},{"$f":"COUNTIFS('база 2013'!$B$4:$B$1191,$B11,'база 2013'!$I$4:$I$1191,AP$5,'база 2013'!$O$4:$O$1191,AP$7)","v":0},{"$f":"COUNTIFS('база 2013'!$B$4:$B$1191,$B11,'база 2013'!$I$4:$I$1191,AQ$5,'база 2013'!$O$4:$O$1191,AQ$7)","v":0},{"$f":"COUNTIFS('база 2013'!$B$4:$B$1191,$B11,'база 2013'!$I$4:$I$1191,AR$5,'база 2013'!$O$4:$O$1191,AR$7)","v":0},{"$f":"COUNTIFS('база 2013'!$B$4:$B$1191,$B11,'база 2013'!$I$4:$I$1191,AS$5,'база 2013'!$O$4:$O$1191,AS$7)","v":0},{"$f":"COUNTIFS('база 2013'!$B$4:$B$1191,$B11,'база 2013'!$I$4:$I$1191,AT$5,'база 2013'!$O$4:$O$1191,AT$7)","v":0},{"$f":"COUNTIFS('база 2013'!$B$4:$B$1191,$B11,'база 2013'!$I$4:$I$1191,AU$5,'база 2013'!$O$4:$O$1191,AU$7)","v":0},{"$f":"COUNTIFS('база 2013'!$B$4:$B$1191,$B11,'база 2013'!$I$4:$I$1191,AV$5,'база 2013'!$O$4:$O$1191,AV$7)","v":0},{"$f":"COUNTIFS('база 2013'!$B$4:$B$1191,$B11,'база 2013'!$I$4:$I$1191,AW$5,'база 2013'!$O$4:$O$1191,AW$7)","v":0},{"$f":"COUNTIFS('база 2013'!$B$4:$B$1191,$B11,'база 2013'!$I$4:$I$1191,AX$5,'база 2013'!$O$4:$O$1191,AX$7)","v":0},0,0,0,0,0,0,{"$f":"SUM(BB11:BD11)","v":0}]
[5,"Бобслей",{"$f":"COUNTIFS('база 2013'!$B$4:$B$1191,$B12,'база 2013'!$I$4:$I$1191,C$5,'база 2013'!$O$4:$O$1191,C$7)","v":0},{"$f":"COUNTIFS('база 2013'!$B$4:$B$1191,$B12,'база 2013'!$I$4:$I$1191,D$5,'база 2013'!$O$4:$O$1191,D$7)","v":0},{"$f":"COUNTIFS('база 2013'!$B$4:$B$1191,$B12,'база 2013'!$I$4:$I$1191,E$5,'база 2013'!$O$4:$O$1191,E$7)","v":0},{"$f":"COUNTIFS('база 2013'!$B$4:$B$1191,$B12,'база 2013'!$I$4:$I$1191,F$5,'база 2013'!$O$4:$O$1191,F$7)","v":0},{"$f":"COUNTIFS('база 2013'!$B$4:$B$1191,$B12,'база 2013'!$I$4:$I$1191,G$5,'база 2013'!$O$4:$O$1191,G$7)","v":0},{"$f":"COUNTIFS('база 2013'!$B$4:$B$1191,$B12,'база 2013'!$I$4:$I$1191,H$5,'база 2013'!$O$4:$O$1191,H$7)","v":0},{"$f":"COUNTIFS('база 2013'!$B$4:$B$1191,$B12,'база 2013'!$I$4:$I$1191,I$5,'база 2013'!$O$4:$O$1191,I$7)","v":0},{"$f":"COUNTIFS('база 2013'!$B$4:$B$1191,$B12,'база 2013'!$I$4:$I$1191,J$5,'база 2013'!$O$4:$O$1191,J$7)","v":0},{"$f":"COUNTIFS('база 2013'!$B$4:$B$1191,$B12,'база 2013'!$I$4:$I$1191,K$5,'база 2013'!$O$4:$O$1191,K$7)","v":0},{"$f":"COUNTIFS('база 2013'!$B$4:$B$1191,$B12,'база 2013'!$I$4:$I$1191,L$5,'база 2013'!$O$4:$O$1191,L$7)","v":0},{"$f":"COUNTIFS('база 2013'!$B$4:$B$1191,$B12,'база 2013'!$I$4:$I$1191,M$5,'база 2013'!$O$4:$O$1191,M$7)","v":0},{"$f":"COUNTIFS('база 2013'!$B$4:$B$1191,$B12,'база 2013'!$I$4:$I$1191,N$5,'база 2013'!$O$4:$O$1191,N$7)","v":0},{"$f":"COUNTIFS('база 2013'!$B$4:$B$1191,$B12,'база 2013'!$I$4:$I$1191,O$5,'база 2013'!$O$4:$O$1191,O$7)","v":0},{"$f":"COUNTIFS('база 2013'!$B$4:$B$1191,$B12,'база 2013'!$I$4:$I$1191,P$5,'база 2013'!$O$4:$O$1191,P$7)","v":0},{"$f":"COUNTIFS('база 2013'!$B$4:$B$1191,$B12,'база 2013'!$I$4:$I$1191,Q$5,'база 2013'!$O$4:$O$1191,Q$7)","v":0},{"$f":"SUMIF($F$7:$Q$7,$R$7,F12:Q12)","v":0},0,0,{"$f":"COUNTIFS('база 2013'!$B$4:$B$1191,$B12,'база 2013'!$I$4:$I$1191,U$5,'база 2013'!$O$4:$O$1191,U$7)","v":0},{"$f":"COUNTIFS('база 2013'!$B$4:$B$1191,$B12,'база 2013'!$I$4:$I$1191,V$5,'база 2013'!$O$4:$O$1191,V$7)","v":0},{"$f":"COUNTIFS('база 2013'!$B$4:$B$1191,$B12,'база 2013'!$I$4:$I$1191,W$5,'база 2013'!$O$4:$O$1191,W$7)","v":0},{"$f":"COUNTIFS('база 2013'!$B$4:$B$1191,$B12,'база 2013'!$I$4:$I$1191,X$5,'база 2013'!$O$4:$O$1191,X$7)","v":0},{"$f":"COUNTIFS('база 2013'!$B$4:$B$1191,$B12,'база 2013'!$I$4:$I$1191,Y$5,'база 2013'!$O$4:$O$1191,Y$7)","v":0},{"$f":"COUNTIFS('база 2013'!$B$4:$B$1191,$B12,'база 2013'!$I$4:$I$1191,Z$5,'база 2013'!$O$4:$O$1191,Z$7)","v":0},{"$f":"COUNTIFS('база 2013'!$B$4:$B$1191,$B12,'база 2013'!$I$4:$I$1191,AA$5,'база 2013'!$O$4:$O$1191,AA$7)","v":0},{"$f":"COUNTIFS('база 2013'!$B$4:$B$1191,$B12,'база 2013'!$I$4:$I$1191,AB$5,'база 2013'!$O$4:$O$1191,AB$7)","v":0},{"$f":"COUNTIFS('база 2013'!$B$4:$B$1191,$B12,'база 2013'!$I$4:$I$1191,AC$5,'база 2013'!$O$4:$O$1191,AC$7)","v":0},0,0,0,{"$f":"COUNTIFS('база 2013'!$B$4:$B$1191,$B12,'база 2013'!$I$4:$I$1191,AG$5,'база 2013'!$O$4:$O$1191,AG$7)","v":0},{"$f":"COUNTIFS('база 2013'!$B$4:$B$1191,$B12,'база 2013'!$I$4:$I$1191,AH$5,'база 2013'!$O$4:$O$1191,AH$7)","v":0},{"$f":"COUNTIFS('база 2013'!$B$4:$B$1191,$B12,'база 2013'!$I$4:$I$1191,AI$5,'база 2013'!$O$4:$O$1191,AI$7)","v":0},{"$f":"COUNTIFS('база 2013'!$B$4:$B$1191,$B12,'база 2013'!$I$4:$I$1191,AJ$5,'база 2013'!$O$4:$O$1191,AJ$7)","v":0},{"$f":"COUNTIFS('база 2013'!$B$4:$B$1191,$B12,'база 2013'!$I$4:$I$1191,AK$5,'база 2013'!$O$4:$O$1191,AK$7)","v":0},{"$f":"COUNTIFS('база 2013'!$B$4:$B$1191,$B12,'база 2013'!$I$4:$I$1191,AL$5,'база 2013'!$O$4:$O$1191,AL$7)","v":0},{"$f":"COUNTIFS('база 2013'!$B$4:$B$1191,$B12,'база 2013'!$I$4:$I$1191,AM$5,'база 2013'!$O$4:$O$1191,AM$7)","v":0},{"$f":"COUNTIFS('база 2013'!$B$4:$B$1191,$B12,'база 2013'!$I$4:$I$1191,AN$5,'база 2013'!$O$4:$O$1191,AN$7)","v":0},{"$f":"COUNTIFS('база 2013'!$B$4:$B$1191,$B12,'база 2013'!$I$4:$I$1191,AO$5,'база 2013'!$O$4:$O$1191,AO$7)","v":0},{"$f":"COUNTIFS('база 2013'!$B$4:$B$1191,$B12,'база 2013'!$I$4:$I$1191,AP$5,'база 2013'!$O$4:$O$1191,AP$7)","v":0},{"$f":"COUNTIFS('база 2013'!$B$4:$B$1191,$B12,'база 2013'!$I$4:$I$1191,AQ$5,'база 2013'!$O$4:$O$1191,AQ$7)","v":0},{"$f":"COUNTIFS('база 2013'!$B$4:$B$1191,$B12,'база 2013'!$I$4:$I$1191,AR$5,'база 2013'!$O$4:$O$1191,AR$7)","v":0},{"$f":"COUNTIFS('база 2013'!$B$4:$B$1191,$B12,'база 2013'!$I$4:$I$1191,AS$5,'база 2013'!$O$4:$O$1191,AS$7)","v":0},{"$f":"COUNTIFS('база 2013'!$B$4:$B$1191,$B12,'база 2013'!$I$4:$I$1191,AT$5,'база 2013'!$O$4:$O$1191,AT$7)","v":0},{"$f":"COUNTIFS('база 2013'!$B$4:$B$1191,$B12,'база 2013'!$I$4:$I$1191,AU$5,'база 2013'!$O$4:$O$1191,AU$7)","v":0},{"$f":"COUNTIFS('база 2013'!$B$4:$B$1191,$B12,'база 2013'!$I$4:$I$1191,AV$5,'база 2013'!$O$4:$O$1191,AV$7)","v":0},{"$f":"COUNTIFS('база 2013'!$B$4:$B$1191,$B12,'база 2013'!$I$4:$I$1191,AW$5,'база 2013'!$O$4:$O$1191,AW$7)","v":0},{"$f":"COUNTIFS('база 2013'!$B$4:$B$1191,$B12,'база 2013'!$I$4:$I$1191,AX$5,'база 2013'!$O$4:$O$1191,AX$7)","v":0},0,0,0,0,0,0,{"$f":"SUM(BB12:BD12)","v":0}]
[6,"Биатлон",{"$f":"COUNTIFS('база 2013'!$B$4:$B$1191,$B13,'база 2013'!$I$4:$I$1191,C$5,'база 2013'!$O$4:$O$1191,C$7)","v":0},{"$f":"COUNTIFS('база 2013'!$B$4:$B$1191,$B13,'база 2013'!$I$4:$I$1191,D$5,'база 2013'!$O$4:$O$1191,D$7)","v":0},{"$f":"COUNTIFS('база 2013'!$B$4:$B$1191,$B13,'база 2013'!$I$4:$I$1191,E$5,'база 2013'!$O$4:$O$1191,E$7)","v":0},{"$f":"COUNTIFS('база 2013'!$B$4:$B$1191,$B13,'база 2013'!$I$4:$I$1191,F$5,'база 2013'!$O$4:$O$1191,F$7)","v":0},{"$f":"COUNTIFS('база 2013'!$B$4:$B$1191,$B13,'база 2013'!$I$4:$I$1191,G$5,'база 2013'!$O$4:$O$1191,G$7)","v":0},{"$f":"COUNTIFS('база 2013'!$B$4:$B$1191,$B13,'база 2013'!$I$4:$I$1191,H$5,'база 2013'!$O$4:$O$1191,H$7)","v":0},{"$f":"COUNTIFS('база 2013'!$B$4:$B$1191,$B13,'база 2013'!$I$4:$I$1191,I$5,'база 2013'!$O$4:$O$1191,I$7)","v":0},{"$f":"COUNTIFS('база 2013'!$B$4:$B$1191,$B13,'база 2013'!$I$4:$I$1191,J$5,'база 2013'!$O$4:$O$1191,J$7)","v":0},{"$f":"COUNTIFS('база 2013'!$B$4:$B$1191,$B13,'база 2013'!$I$4:$I$1191,K$5,'база 2013'!$O$4:$O$1191,K$7)","v":0},{"$f":"COUNTIFS('база 2013'!$B$4:$B$1191,$B13,'база 2013'!$I$4:$I$1191,L$5,'база 2013'!$O$4:$O$1191,L$7)","v":0},{"$f":"COUNTIFS('база 2013'!$B$4:$B$1191,$B13,'база 2013'!$I$4:$I$1191,M$5,'база 2013'!$O$4:$O$1191,M$7)","v":0},{"$f":"COUNTIFS('база 2013'!$B$4:$B$1191,$B13,'база 2013'!$I$4:$I$1191,N$5,'база 2013'!$O$4:$O$1191,N$7)","v":0},{"$f":"COUNTIFS('база 2013'!$B$4:$B$1191,$B13,'база 2013'!$I$4:$I$1191,O$5,'база 2013'!$O$4:$O$1191,O$7)","v":0},{"$f":"COUNTIFS('база 2013'!$B$4:$B$1191,$B13,'база 2013'!$I$4:$I$1191,P$5,'база 2013'!$O$4:$O$1191,P$7)","v":0},{"$f":"COUNTIFS('база 2013'!$B$4:$B$1191,$B13,'база 2013'!$I$4:$I$1191,Q$5,'база 2013'!$O$4:$O$1191,Q$7)","v":0},{"$f":"SUMIF($F$7:$Q$7,$R$7,F13:Q13)","v":0},0,0,{"$f":"COUNTIFS('база 2013'!$B$4:$B$1191,$B13,'база 2013'!$I$4:$I$1191,U$5,'база 2013'!$O$4:$O$1191,U$7)","v":0},{"$f":"COUNTIFS('база 2013'!$B$4:$B$1191,$B13,'база 2013'!$I$4:$I$1191,V$5,'база 2013'!$O$4:$O$1191,V$7)","v":0},{"$f":"COUNTIFS('база 2013'!$B$4:$B$1191,$B13,'база 2013'!$I$4:$I$1191,W$5,'база 2013'!$O$4:$O$1191,W$7)","v":0},{"$f":"COUNTIFS('база 2013'!$B$4:$B$1191,$B13,'база 2013'!$I$4:$I$1191,X$5,'база 2013'!$O$4:$O$1191,X$7)","v":0},{"$f":"COUNTIFS('база 2013'!$B$4:$B$1191,$B13,'база 2013'!$I$4:$I$1191,Y$5,'база 2013'!$O$4:$O$1191,Y$7)","v":0},{"$f":"COUNTIFS('база 2013'!$B$4:$B$1191,$B13,'база 2013'!$I$4:$I$1191,Z$5,'база 2013'!$O$4:$O$1191,Z$7)","v":0},{"$f":"COUNTIFS('база 2013'!$B$4:$B$1191,$B13,'база 2013'!$I$4:$I$1191,AA$5,'база 2013'!$O$4:$O$1191,AA$7)","v":0},{"$f":"COUNTIFS('база 2013'!$B$4:$B$1191,$B13,'база 2013'!$I$4:$I$1191,AB$5,'база 2013'!$O$4:$O$1191,AB$7)","v":0},{"$f":"COUNTIFS('база 2013'!$B$4:$B$1191,$B13,'база 2013'!$I$4:$I$1191,AC$5,'база 2013'!$O$4:$O$1191,AC$7)","v":0},0,0,0,{"$f":"COUNTIFS('база 2013'!$B$4:$B$1191,$B13,'база 2013'!$I$4:$I$1191,AG$5,'база 2013'!$O$4:$O$1191,AG$7)","v":0},{"$f":"COUNTIFS('база 2013'!$B$4:$B$1191,$B13,'база 2013'!$I$4:$I$1191,AH$5,'база 2013'!$O$4:$O$1191,AH$7)","v":0},{"$f":"COUNTIFS('база 2013'!$B$4:$B$1191,$B13,'база 2013'!$I$4:$I$1191,AI$5,'база 2013'!$O$4:$O$1191,AI$7)","v":0},{"$f":"COUNTIFS('база 2013'!$B$4:$B$1191,$B13,'база 2013'!$I$4:$I$1191,AJ$5,'база 2013'!$O$4:$O$1191,AJ$7)","v":0},{"$f":"COUNTIFS('база 2013'!$B$4:$B$1191,$B13,'база 2013'!$I$4:$I$1191,AK$5,'база 2013'!$O$4:$O$1191,AK$7)","v":0},{"$f":"COUNTIFS('база 2013'!$B$4:$B$1191,$B13,'база 2013'!$I$4:$I$1191,AL$5,'база 2013'!$O$4:$O$1191,AL$7)","v":0},{"$f":"COUNTIFS('база 2013'!$B$4:$B$1191,$B13,'база 2013'!$I$4:$I$1191,AM$5,'база 2013'!$O$4:$O$1191,AM$7)","v":0},{"$f":"COUNTIFS('база 2013'!$B$4:$B$1191,$B13,'база 2013'!$I$4:$I$1191,AN$5,'база 2013'!$O$4:$O$1191,AN$7)","v":0},{"$f":"COUNTIFS('база 2013'!$B$4:$B$1191,$B13,'база 2013'!$I$4:$I$1191,AO$5,'база 2013'!$O$4:$O$1191,AO$7)","v":0},{"$f":"COUNTIFS('база 2013'!$B$4:$B$1191,$B13,'база 2013'!$I$4:$I$1191,AP$5,'база 2013'!$O$4:$O$1191,AP$7)","v":0},{"$f":"COUNTIFS('база 2013'!$B$4:$B$1191,$B13,'база 2013'!$I$4:$I$1191,AQ$5,'база 2013'!$O$4:$O$1191,AQ$7)","v":0},{"$f":"COUNTIFS('база 2013'!$B$4:$B$1191,$B13,'база 2013'!$I$4:$I$1191,AR$5,'база 2013'!$O$4:$O$1191,AR$7)","v":0},{"$f":"COUNTIFS('база 2013'!$B$4:$B$1191,$B13,'база 2013'!$I$4:$I$1191,AS$5,'база 2013'!$O$4:$O$1191,AS$7)","v":0},{"$f":"COUNTIFS('база 2013'!$B$4:$B$1191,$B13,'база 2013'!$I$4:$I$1191,AT$5,'база 2013'!$O$4:$O$1191,AT$7)","v":0},{"$f":"COUNTIFS('база 2013'!$B$4:$B$1191,$B13,'база 2013'!$I$4:$I$1191,AU$5,'база 2013'!$O$4:$O$1191,AU$7)","v":0},{"$f":"COUNTIFS('база 2013'!$B$4:$B$1191,$B13,'база 2013'!$I$4:$I$1191,AV$5,'база 2013'!$O$4:$O$1191,AV$7)","v":0},{"$f":"COUNTIFS('база 2013'!$B$4:$B$1191,$B13,'база 2013'!$I$4:$I$1191,AW$5,'база 2013'!$O$4:$O$1191,AW$7)","v":0},{"$f":"COUNTIFS('база 2013'!$B$4:$B$1191,$B13,'база 2013'!$I$4:$I$1191,AX$5,'база 2013'!$O$4:$O$1191,AX$7)","v":0},0,0,0,0,0,0,{"$f":"SUM(BB13:BD13)","v":0}]
[7,"Баскетбол",{"$f":"COUNTIFS('база 2013'!$B$4:$B$1191,$B14,'база 2013'!$I$4:$I$1191,C$5,'база 2013'!$O$4:$O$1191,C$7)","v":0},{"$f":"COUNTIFS('база 2013'!$B$4:$B$1191,$B14,'база 2013'!$I$4:$I$1191,D$5,'база 2013'!$O$4:$O$1191,D$7)","v":0},{"$f":"COUNTIFS('база 2013'!$B$4:$B$1191,$B14,'база 2013'!$I$4:$I$1191,E$5,'база 2013'!$O$4:$O$1191,E$7)","v":0},{"$f":"COUNTIFS('база 2013'!$B$4:$B$1191,$B14,'база 2013'!$I$4:$I$1191,F$5,'база 2013'!$O$4:$O$1191,F$7)","v":0},{"$f":"COUNTIFS('база 2013'!$B$4:$B$1191,$B14,'база 2013'!$I$4:$I$1191,G$5,'база 2013'!$O$4:$O$1191,G$7)","v":0},{"$f":"COUNTIFS('база 2013'!$B$4:$B$1191,$B14,'база 2013'!$I$4:$I$1191,H$5,'база 2013'!$O$4:$O$1191,H$7)","v":0},{"$f":"COUNTIFS('база 2013'!$B$4:$B$1191,$B14,'база 2013'!$I$4:$I$1191,I$5,'база 2013'!$O$4:$O$1191,I$7)","v":0},{"$f":"COUNTIFS('база 2013'!$B$4:$B$1191,$B14,'база 2013'!$I$4:$I$1191,J$5,'база 2013'!$O$4:$O$1191,J$7)","v":0},{"$f":"COUNTIFS('база 2013'!$B$4:$B$1191,$B14,'база 2013'!$I$4:$I$1191,K$5,'база 2013'!$O$4:$O$1191,K$7)","v":0},{"$f":"COUNTIFS('база 2013'!$B$4:$B$1191,$B14,'база 2013'!$I$4:$I$1191,L$5,'база 2013'!$O$4:$O$1191,L$7)","v":0},{"$f":"COUNTIFS('база 2013'!$B$4:$B$1191,$B14,'база 2013'!$I$4:$I$1191,M$5,'база 2013'!$O$4:$O$1191,M$7)","v":0},{"$f":"COUNTIFS('база 2013'!$B$4:$B$1191,$B14,'база 2013'!$I$4:$I$1191,N$5,'база 2013'!$O$4:$O$1191,N$7)","v":0},{"$f":"COUNTIFS('база 2013'!$B$4:$B$1191,$B14,'база 2013'!$I$4:$I$1191,O$5,'база 2013'!$O$4:$O$1191,O$7)","v":0},{"$f":"COUNTIFS('база 2013'!$B$4:$B$1191,$B14,'база 2013'!$I$4:$I$1191,P$5,'база 2013'!$O$4:$O$1191,P$7)","v":0},{"$f":"COUNTIFS('база 2013'!$B$4:$B$1191,$B14,'база 2013'!$I$4:$I$1191,Q$5,'база 2013'!$O$4:$O$1191,Q$7)","v":0},0,0,0,{"$f":"COUNTIFS('база 2013'!$B$4:$B$1191,$B14,'база 2013'!$I$4:$I$1191,U$5,'база 2013'!$O$4:$O$1191,U$7)","v":0},{"$f":"COUNTIFS('база 2013'!$B$4:$B$1191,$B14,'база 2013'!$I$4:$I$1191,V$5,'база 2013'!$O$4:$O$1191,V$7)","v":0},{"$f":"COUNTIFS('база 2013'!$B$4:$B$1191,$B14,'база 2013'!$I$4:$I$1191,W$5,'база 2013'!$O$4:$O$1191,W$7)","v":0},{"$f":"COUNTIFS('база 2013'!$B$4:$B$1191,$B14,'база 2013'!$I$4:$I$1191,X$5,'база 2013'!$O$4:$O$1191,X$7)","v":0},{"$f":"COUNTIFS('база 2013'!$B$4:$B$1191,$B14,'база 2013'!$I$4:$I$1191,Y$5,'база 2013'!$O$4:$O$1191,Y$7)","v":0},{"$f":"COUNTIFS('база 2013'!$B$4:$B$1191,$B14,'база 2013'!$I$4:$I$1191,Z$5,'база 2013'!$O$4:$O$1191,Z$7)","v":0},{"$f":"COUNTIFS('база 2013'!$B$4:$B$1191,$B14,'база 2013'!$I$4:$I$1191,AA$5,'база 2013'!$O$4:$O$1191,AA$7)","v":0},{"$f":"COUNTIFS('база 2013'!$B$4:$B$1191,$B14,'база 2013'!$I$4:$I$1191,AB$5,'база 2013'!$O$4:$O$1191,AB$7)","v":0},{"$f":"COUNTIFS('база 2013'!$B$4:$B$1191,$B14,'база 2013'!$I$4:$I$1191,AC$5,'база 2013'!$O$4:$O$1191,AC$7)","v":0},0,0,0,{"$f":"COUNTIFS('база 2013'!$B$4:$B$1191,$B14,'база 2013'!$I$4:$I$1191,AG$5,'база 2013'!$O$4:$O$1191,AG$7)","v":0},{"$f":"COUNTIFS('база 2013'!$B$4:$B$1191,$B14,'база 2013'!$I$4:$I$1191,AH$5,'база 2013'!$O$4:$O$1191,AH$7)","v":0},{"$f":"COUNTIFS('база 2013'!$B$4:$B$1191,$B14,'база 2013'!$I$4:$I$1191,AI$5,'база 2013'!$O$4:$O$1191,AI$7)","v":0},{"$f":"COUNTIFS('база 2013'!$B$4:$B$1191,$B14,'база 2013'!$I$4:$I$1191,AJ$5,'база 2013'!$O$4:$O$1191,AJ$7)","v":0},{"$f":"COUNTIFS('база 2013'!$B$4:$B$1191,$B14,'база 2013'!$I$4:$I$1191,AK$5,'база 2013'!$O$4:$O$1191,AK$7)","v":0},{"$f":"COUNTIFS('база 2013'!$B$4:$B$1191,$B14,'база 2013'!$I$4:$I$1191,AL$5,'база 2013'!$O$4:$O$1191,AL$7)","v":0},{"$f":"COUNTIFS('база 2013'!$B$4:$B$1191,$B14,'база 2013'!$I$4:$I$1191,AM$5,'база 2013'!$O$4:$O$1191,AM$7)","v":0},{"$f":"COUNTIFS('база 2013'!$B$4:$B$1191,$B14,'база 2013'!$I$4:$I$1191,AN$5,'база 2013'!$O$4:$O$1191,AN$7)","v":0},{"$f":"COUNTIFS('база 2013'!$B$4:$B$1191,$B14,'база 2013'!$I$4:$I$1191,AO$5,'база 2013'!$O$4:$O$1191,AO$7)","v":0},{"$f":"COUNTIFS('база 2013'!$B$4:$B$1191,$B14,'база 2013'!$I$4:$I$1191,AP$5,'база 2013'!$O$4:$O$1191,AP$7)","v":0},{"$f":"COUNTIFS('база 2013'!$B$4:$B$1191,$B14,'база 2013'!$I$4:$I$1191,AQ$5,'база 2013'!$O$4:$O$1191,AQ$7)","v":0},{"$f":"COUNTIFS('база 2013'!$B$4:$B$1191,$B14,'база 2013'!$I$4:$I$1191,AR$5,'база 2013'!$O$4:$O$1191,AR$7)","v":0},{"$f":"COUNTIFS('база 2013'!$B$4:$B$1191,$B14,'база 2013'!$I$4:$I$1191,AS$5,'база 2013'!$O$4:$O$1191,AS$7)","v":0},{"$f":"COUNTIFS('база 2013'!$B$4:$B$1191,$B14,'база 2013'!$I$4:$I$1191,AT$5,'база 2013'!$O$4:$O$1191,AT$7)","v":0},{"$f":"COUNTIFS('база 2013'!$B$4:$B$1191,$B14,'база 2013'!$I$4:$I$1191,AU$5,'база 2013'!$O$4:$O$1191,AU$7)","v":0},{"$f":"COUNTIFS('база 2013'!$B$4:$B$1191,$B14,'база 2013'!$I$4:$I$1191,AV$5,'база 2013'!$O$4:$O$1191,AV$7)","v":0},{"$f":"COUNTIFS('база 2013'!$B$4:$B$1191,$B14,'база 2013'!$I$4:$I$1191,AW$5,'база 2013'!$O$4:$O$1191,AW$7)","v":0},{"$f":"COUNTIFS('база 2013'!$B$4:$B$1191,$B14,'база 2013'!$I$4:$I$1191,AX$5,'база 2013'!$O$4:$O$1191,AX$7)","v":0},0,0,0,0,0,0,0]
[8,"Бильярдный спорт",{"$f":"COUNTIFS('база 2013'!$B$4:$B$1191,$B15,'база 2013'!$I$4:$I$1191,C$5,'база 2013'!$O$4:$O$1191,C$7)","v":0},{"$f":"COUNTIFS('база 2013'!$B$4:$B$1191,$B15,'база 2013'!$I$4:$I$1191,D$5,'база 2013'!$O$4:$O$1191,D$7)","v":0},{"$f":"COUNTIFS('база 2013'!$B$4:$B$1191,$B15,'база 2013'!$I$4:$I$1191,E$5,'база 2013'!$O$4:$O$1191,E$7)","v":0},{"$f":"COUNTIFS('база 2013'!$B$4:$B$1191,$B15,'база 2013'!$I$4:$I$1191,F$5,'база 2013'!$O$4:$O$1191,F$7)","v":0},{"$f":"COUNTIFS('база 2013'!$B$4:$B$1191,$B15,'база 2013'!$I$4:$I$1191,G$5,'база 2013'!$O$4:$O$1191,G$7)","v":0},{"$f":"COUNTIFS('база 2013'!$B$4:$B$1191,$B15,'база 2013'!$I$4:$I$1191,H$5,'база 2013'!$O$4:$O$1191,H$7)","v":0},{"$f":"COUNTIFS('база 2013'!$B$4:$B$1191,$B15,'база 2013'!$I$4:$I$1191,I$5,'база 2013'!$O$4:$O$1191,I$7)","v":0},{"$f":"COUNTIFS('база 2013'!$B$4:$B$1191,$B15,'база 2013'!$I$4:$I$1191,J$5,'база 2013'!$O$4:$O$1191,J$7)","v":0},{"$f":"COUNTIFS('база 2013'!$B$4:$B$1191,$B15,'база 2013'!$I$4:$I$1191,K$5,'база 2013'!$O$4:$O$1191,K$7)","v":0},{"$f":"COUNTIFS('база 2013'!$B$4:$B$1191,$B15,'база 2013'!$I$4:$I$1191,L$5,'база 2013'!$O$4:$O$1191,L$7)","v":0},{"$f":"COUNTIFS('база 2013'!$B$4:$B$1191,$B15,'база 2013'!$I$4:$I$1191,M$5,'база 2013'!$O$4:$O$1191,M$7)","v":0},{"$f":"COUNTIFS('база 2013'!$B$4:$B$1191,$B15,'база 2013'!$I$4:$I$1191,N$5,'база 2013'!$O$4:$O$1191,N$7)","v":0},{"$f":"COUNTIFS('база 2013'!$B$4:$B$1191,$B15,'база 2013'!$I$4:$I$1191,O$5,'база 2013'!$O$4:$O$1191,O$7)","v":0},{"$f":"COUNTIFS('база 2013'!$B$4:$B$1191,$B15,'база 2013'!$I$4:$I$1191,P$5,'база 2013'!$O$4:$O$1191,P$7)","v":0},{"$f":"COUNTIFS('база 2013'!$B$4:$B$1191,$B15,'база 2013'!$I$4:$I$1191,Q$5,'база 2013'!$O$4:$O$1191,Q$7)","v":0},0,0,0,{"$f":"COUNTIFS('база 2013'!$B$4:$B$1191,$B15,'база 2013'!$I$4:$I$1191,U$5,'база 2013'!$O$4:$O$1191,U$7)","v":0},{"$f":"COUNTIFS('база 2013'!$B$4:$B$1191,$B15,'база 2013'!$I$4:$I$1191,V$5,'база 2013'!$O$4:$O$1191,V$7)","v":0},{"$f":"COUNTIFS('база 2013'!$B$4:$B$1191,$B15,'база 2013'!$I$4:$I$1191,W$5,'база 2013'!$O$4:$O$1191,W$7)","v":0},{"$f":"COUNTIFS('база 2013'!$B$4:$B$1191,$B15,'база 2013'!$I$4:$I$1191,X$5,'база 2013'!$O$4:$O$1191,X$7)","v":0},{"$f":"COUNTIFS('база 2013'!$B$4:$B$1191,$B15,'база 2013'!$I$4:$I$1191,Y$5,'база 2013'!$O$4:$O$1191,Y$7)","v":0},{"$f":"COUNTIFS('база 2013'!$B$4:$B$1191,$B15,'база 2013'!$I$4:$I$1191,Z$5,'база 2013'!$O$4:$O$1191,Z$7)","v":0},{"$f":"COUNTIFS('база 2013'!$B$4:$B$1191,$B15,'база 2013'!$I$4:$I$1191,AA$5,'база 2013'!$O$4:$O$1191,AA$7)","v":0},{"$f":"COUNTIFS('база 2013'!$B$4:$B$1191,$B15,'база 2013'!$I$4:$I$1191,AB$5,'база 2013'!$O$4:$O$1191,AB$7)","v":0},{"$f":"COUNTIFS('база 2013'!$B$4:$B$1191,$B15,'база 2013'!$I$4:$I$1191,AC$5,'база 2013'!$O$4:$O$1191,AC$7)","v":0},0,0,0,{"$f":"COUNTIFS('база 2013'!$B$4:$B$1191,$B15,'база 2013'!$I$4:$I$1191,AG$5,'база 2013'!$O$4:$O$1191,AG$7)","v":0},{"$f":"COUNTIFS('база 2013'!$B$4:$B$1191,$B15,'база 2013'!$I$4:$I$1191,AH$5,'база 2013'!$O$4:$O$1191,AH$7)","v":0},{"$f":"COUNTIFS('база 2013'!$B$4:$B$1191,$B15,'база 2013'!$I$4:$I$1191,AI$5,'база 2013'!$O$4:$O$1191,AI$7)","v":0},{"$f":"COUNTIFS('база 2013'!$B$4:$B$1191,$B15,'база 2013'!$I$4:$I$1191,AJ$5,'база 2013'!$O$4:$O$1191,AJ$7)","v":0},{"$f":"COUNTIFS('база 2013'!$B$4:$B$1191,$B15,'база 2013'!$I$4:$I$1191,AK$5,'база 2013'!$O$4:$O$1191,AK$7)","v":0},{"$f":"COUNTIFS('база 2013'!$B$4:$B$1191,$B15,'база 2013'!$I$4:$I$1191,AL$5,'база 2013'!$O$4:$O$1191,AL$7)","v":0},{"$f":"COUNTIFS('база 2013'!$B$4:$B$1191,$B15,'база 2013'!$I$4:$I$1191,AM$5,'база 2013'!$O$4:$O$1191,AM$7)","v":0},{"$f":"COUNTIFS('база 2013'!$B$4:$B$1191,$B15,'база 2013'!$I$4:$I$1191,AN$5,'база 2013'!$O$4:$O$1191,AN$7)","v":0},{"$f":"COUNTIFS('база 2013'!$B$4:$B$1191,$B15,'база 2013'!$I$4:$I$1191,AO$5,'база 2013'!$O$4:$O$1191,AO$7)","v":0},{"$f":"COUNTIFS('база 2013'!$B$4:$B$1191,$B15,'база 2013'!$I$4:$I$1191,AP$5,'база 2013'!$O$4:$O$1191,AP$7)","v":0},{"$f":"COUNTIFS('база 2013'!$B$4:$B$1191,$B15,'база 2013'!$I$4:$I$1191,AQ$5,'база 2013'!$O$4:$O$1191,AQ$7)","v":0},{"$f":"COUNTIFS('база 2013'!$B$4:$B$1191,$B15,'база 2013'!$I$4:$I$1191,AR$5,'база 2013'!$O$4:$O$1191,AR$7)","v":0},{"$f":"COUNTIFS('база 2013'!$B$4:$B$1191,$B15,'база 2013'!$I$4:$I$1191,AS$5,'база 2013'!$O$4:$O$1191,AS$7)","v":0},{"$f":"COUNTIFS('база 2013'!$B$4:$B$1191,$B15,'база 2013'!$I$4:$I$1191,AT$5,'база 2013'!$O$4:$O$1191,AT$7)","v":0},{"$f":"COUNTIFS('база 2013'!$B$4:$B$1191,$B15,'база 2013'!$I$4:$I$1191,AU$5,'база 2013'!$O$4:$O$1191,AU$7)","v":0},{"$f":"COUNTIFS('база 2013'!$B$4:$B$1191,$B15,'база 2013'!$I$4:$I$1191,AV$5,'база 2013'!$O$4:$O$1191,AV$7)","v":0},{"$f":"COUNTIFS('база 2013'!$B$4:$B$1191,$B15,'база 2013'!$I$4:$I$1191,AW$5,'база 2013'!$O$4:$O$1191,AW$7)","v":0},{"$f":"COUNTIFS('база 2013'!$B$4:$B$1191,$B15,'база 2013'!$I$4:$I$1191,AX$5,'база 2013'!$O$4:$O$1191,AX$7)","v":0},0,0,0,0,0,0,0]
[9,"Бодибилдинг",{"$f":"COUNTIFS('база 2013'!$B$4:$B$1191,$B16,'база 2013'!$I$4:$I$1191,C$5,'база 2013'!$O$4:$O$1191,C$7)","v":0},{"$f":"COUNTIFS('база 2013'!$B$4:$B$1191,$B16,'база 2013'!$I$4:$I$1191,D$5,'база 2013'!$O$4:$O$1191,D$7)","v":0},{"$f":"COUNTIFS('база 2013'!$B$4:$B$1191,$B16,'база 2013'!$I$4:$I$1191,E$5,'база 2013'!$O$4:$O$1191,E$7)","v":0},{"$f":"COUNTIFS('база 2013'!$B$4:$B$1191,$B16,'база 2013'!$I$4:$I$1191,F$5,'база 2013'!$O$4:$O$1191,F$7)","v":0},{"$f":"COUNTIFS('база 2013'!$B$4:$B$1191,$B16,'база 2013'!$I$4:$I$1191,G$5,'база 2013'!$O$4:$O$1191,G$7)","v":0},{"$f":"COUNTIFS('база 2013'!$B$4:$B$1191,$B16,'база 2013'!$I$4:$I$1191,H$5,'база 2013'!$O$4:$O$1191,H$7)","v":0},{"$f":"COUNTIFS('база 2013'!$B$4:$B$1191,$B16,'база 2013'!$I$4:$I$1191,I$5,'база 2013'!$O$4:$O$1191,I$7)","v":0},{"$f":"COUNTIFS('база 2013'!$B$4:$B$1191,$B16,'база 2013'!$I$4:$I$1191,J$5,'база 2013'!$O$4:$O$1191,J$7)","v":0},{"$f":"COUNTIFS('база 2013'!$B$4:$B$1191,$B16,'база 2013'!$I$4:$I$1191,K$5,'база 2013'!$O$4:$O$1191,K$7)","v":0},{"$f":"COUNTIFS('база 2013'!$B$4:$B$1191,$B16,'база 2013'!$I$4:$I$1191,L$5,'база 2013'!$O$4:$O$1191,L$7)","v":0},{"$f":"COUNTIFS('база 2013'!$B$4:$B$1191,$B16,'база 2013'!$I$4:$I$1191,M$5,'база 2013'!$O$4:$O$1191,M$7)","v":0},{"$f":"COUNTIFS('база 2013'!$B$4:$B$1191,$B16,'база 2013'!$I$4:$I$1191,N$5,'база 2013'!$O$4:$O$1191,N$7)","v":0},{"$f":"COUNTIFS('база 2013'!$B$4:$B$1191,$B16,'база 2013'!$I$4:$I$1191,O$5,'база 2013'!$O$4:$O$1191,O$7)","v":0},{"$f":"COUNTIFS('база 2013'!$B$4:$B$1191,$B16,'база 2013'!$I$4:$I$1191,P$5,'база 2013'!$O$4:$O$1191,P$7)","v":0},{"$f":"COUNTIFS('база 2013'!$B$4:$B$1191,$B16,'база 2013'!$I$4:$I$1191,Q$5,'база 2013'!$O$4:$O$1191,Q$7)","v":0},0,0,0,{"$f":"COUNTIFS('база 2013'!$B$4:$B$1191,$B16,'база 2013'!$I$4:$I$1191,U$5,'база 2013'!$O$4:$O$1191,U$7)","v":0},{"$f":"COUNTIFS('база 2013'!$B$4:$B$1191,$B16,'база 2013'!$I$4:$I$1191,V$5,'база 2013'!$O$4:$O$1191,V$7)","v":0},{"$f":"COUNTIFS('база 2013'!$B$4:$B$1191,$B16,'база 2013'!$I$4:$I$1191,W$5,'база 2013'!$O$4:$O$1191,W$7)","v":0},{"$f":"COUNTIFS('база 2013'!$B$4:$B$1191,$B16,'база 2013'!$I$4:$I$1191,X$5,'база 2013'!$O$4:$O$1191,X$7)","v":0},{"$f":"COUNTIFS('база 2013'!$B$4:$B$1191,$B16,'база 2013'!$I$4:$I$1191,Y$5,'база 2013'!$O$4:$O$1191,Y$7)","v":0},{"$f":"COUNTIFS('база 2013'!$B$4:$B$1191,$B16,'база 2013'!$I$4:$I$1191,Z$5,'база 2013'!$O$4:$O$1191,Z$7)","v":0},{"$f":"COUNTIFS('база 2013'!$B$4:$B$1191,$B16,'база 2013'!$I$4:$I$1191,AA$5,'база 2013'!$O$4:$O$1191,AA$7)","v":0},{"$f":"COUNTIFS('база 2013'!$B$4:$B$1191,$B16,'база 2013'!$I$4:$I$1191,AB$5,'база 2013'!$O$4:$O$1191,AB$7)","v":0},{"$f":"COUNTIFS('база 2013'!$B$4:$B$1191,$B16,'база 2013'!$I$4:$I$1191,AC$5,'база 2013'!$O$4:$O$1191,AC$7)","v":0},0,0,0,{"$f":"COUNTIFS('база 2013'!$B$4:$B$1191,$B16,'база 2013'!$I$4:$I$1191,AG$5,'база 2013'!$O$4:$O$1191,AG$7)","v":0},{"$f":"COUNTIFS('база 2013'!$B$4:$B$1191,$B16,'база 2013'!$I$4:$I$1191,AH$5,'база 2013'!$O$4:$O$1191,AH$7)","v":0},{"$f":"COUNTIFS('база 2013'!$B$4:$B$1191,$B16,'база 2013'!$I$4:$I$1191,AI$5,'база 2013'!$O$4:$O$1191,AI$7)","v":0},{"$f":"COUNTIFS('база 2013'!$B$4:$B$1191,$B16,'база 2013'!$I$4:$I$1191,AJ$5,'база 2013'!$O$4:$O$1191,AJ$7)","v":0},{"$f":"COUNTIFS('база 2013'!$B$4:$B$1191,$B16,'база 2013'!$I$4:$I$1191,AK$5,'база 2013'!$O$4:$O$1191,AK$7)","v":0},{"$f":"COUNTIFS('база 2013'!$B$4:$B$1191,$B16,'база 2013'!$I$4:$I$1191,AL$5,'база 2013'!$O$4:$O$1191,AL$7)","v":0},{"$f":"COUNTIFS('база 2013'!$B$4:$B$1191,$B16,'база 2013'!$I$4:$I$1191,AM$5,'база 2013'!$O$4:$O$1191,AM$7)","v":0},{"$f":"COUNTIFS('база 2013'!$B$4:$B$1191,$B16,'база 2013'!$I$4:$I$1191,AN$5,'база 2013'!$O$4:$O$1191,AN$7)","v":0},{"$f":"COUNTIFS('база 2013'!$B$4:$B$1191,$B16,'база 2013'!$I$4:$I$1191,AO$5,'база 2013'!$O$4:$O$1191,AO$7)","v":0},{"$f":"COUNTIFS('база 2013'!$B$4:$B$1191,$B16,'база 2013'!$I$4:$I$1191,AP$5,'база 2013'!$O$4:$O$1191,AP$7)","v":0},{"$f":"COUNTIFS('база 2013'!$B$4:$B$1191,$B16,'база 2013'!$I$4:$I$1191,AQ$5,'база 2013'!$O$4:$O$1191,AQ$7)","v":0},{"$f":"COUNTIFS('база 2013'!$B$4:$B$1191,$B16,'база 2013'!$I$4:$I$1191,AR$5,'база 2013'!$O$4:$O$1191,AR$7)","v":0},{"$f":"COUNTIFS('база 2013'!$B$4:$B$1191,$B16,'база 2013'!$I$4:$I$1191,AS$5,'база 2013'!$O$4:$O$1191,AS$7)","v":0},{"$f":"COUNTIFS('база 2013'!$B$4:$B$1191,$B16,'база 2013'!$I$4:$I$1191,AT$5,'база 2013'!$O$4:$O$1191,AT$7)","v":0},{"$f":"COUNTIFS('база 2013'!$B$4:$B$1191,$B16,'база 2013'!$I$4:$I$1191,AU$5,'база 2013'!$O$4:$O$1191,AU$7)","v":0},{"$f":"COUNTIFS('база 2013'!$B$4:$B$1191,$B16,'база 2013'!$I$4:$I$1191,AV$5,'база 2013'!$O$4:$O$1191,AV$7)","v":0},{"$f":"COUNTIFS('база 2013'!$B$4:$B$1191,$B16,'база 2013'!$I$4:$I$1191,AW$5,'база 2013'!$O$4:$O$1191,AW$7)","v":0},{"$f":"COUNTIFS('база 2013'!$B$4:$B$1191,$B16,'база 2013'!$I$4:$I$1191,AX$5,'база 2013'!$O$4:$O$1191,AX$7)","v":0},0,0,0,0,0,0,0]
[10,"Бокс",{"$f":"COUNTIFS('база 2013'!$B$4:$B$1191,$B17,'база 2013'!$I$4:$I$1191,C$5,'база 2013'!$O$4:$O$1191,C$7)","v":0},{"$f":"COUNTIFS('база 2013'!$B$4:$B$1191,$B17,'база 2013'!$I$4:$I$1191,D$5,'база 2013'!$O$4:$O$1191,D$7)","v":0},{"$f":"COUNTIFS('база 2013'!$B$4:$B$1191,$B17,'база 2013'!$I$4:$I$1191,E$5,'база 2013'!$O$4:$O$1191,E$7)","v":0},{"$f":"COUNTIFS('база 2013'!$B$4:$B$1191,$B17,'база 2013'!$I$4:$I$1191,F$5,'база 2013'!$O$4:$O$1191,F$7)","v":0},{"$f":"COUNTIFS('база 2013'!$B$4:$B$1191,$B17,'база 2013'!$I$4:$I$1191,G$5,'база 2013'!$O$4:$O$1191,G$7)","v":0},{"$f":"COUNTIFS('база 2013'!$B$4:$B$1191,$B17,'база 2013'!$I$4:$I$1191,H$5,'база 2013'!$O$4:$O$1191,H$7)","v":0},{"$f":"COUNTIFS('база 2013'!$B$4:$B$1191,$B17,'база 2013'!$I$4:$I$1191,I$5,'база 2013'!$O$4:$O$1191,I$7)","v":0},{"$f":"COUNTIFS('база 2013'!$B$4:$B$1191,$B17,'база 2013'!$I$4:$I$1191,J$5,'база 2013'!$O$4:$O$1191,J$7)","v":0},{"$f":"COUNTIFS('база 2013'!$B$4:$B$1191,$B17,'база 2013'!$I$4:$I$1191,K$5,'база 2013'!$O$4:$O$1191,K$7)","v":0},{"$f":"COUNTIFS('база 2013'!$B$4:$B$1191,$B17,'база 2013'!$I$4:$I$1191,L$5,'база 2013'!$O$4:$O$1191,L$7)","v":0},{"$f":"COUNTIFS('база 2013'!$B$4:$B$1191,$B17,'база 2013'!$I$4:$I$1191,M$5,'база 2013'!$O$4:$O$1191,M$7)","v":0},{"$f":"COUNTIFS('база 2013'!$B$4:$B$1191,$B17,'база 2013'!$I$4:$I$1191,N$5,'база 2013'!$O$4:$O$1191,N$7)","v":0},{"$f":"COUNTIFS('база 2013'!$B$4:$B$1191,$B17,'база 2013'!$I$4:$I$1191,O$5,'база 2013'!$O$4:$O$1191,O$7)","v":0},{"$f":"COUNTIFS('база 2013'!$B$4:$B$1191,$B17,'база 2013'!$I$4:$I$1191,P$5,'база 2013'!$O$4:$O$1191,P$7)","v":0},{"$f":"COUNTIFS('база 2013'!$B$4:$B$1191,$B17,'база 2013'!$I$4:$I$1191,Q$5,'база 2013'!$O$4:$O$1191,Q$7)","v":0},0,0,0,{"$f":"COUNTIFS('база 2013'!$B$4:$B$1191,$B17,'база 2013'!$I$4:$I$1191,U$5,'база 2013'!$O$4:$O$1191,U$7)","v":0},{"$f":"COUNTIFS('база 2013'!$B$4:$B$1191,$B17,'база 2013'!$I$4:$I$1191,V$5,'база 2013'!$O$4:$O$1191,V$7)","v":0},{"$f":"COUNTIFS('база 2013'!$B$4:$B$1191,$B17,'база 2013'!$I$4:$I$1191,W$5,'база 2013'!$O$4:$O$1191,W$7)","v":0},{"$f":"COUNTIFS('база 2013'!$B$4:$B$1191,$B17,'база 2013'!$I$4:$I$1191,X$5,'база 2013'!$O$4:$O$1191,X$7)","v":0},{"$f":"COUNTIFS('база 2013'!$B$4:$B$1191,$B17,'база 2013'!$I$4:$I$1191,Y$5,'база 2013'!$O$4:$O$1191,Y$7)","v":0},{"$f":"COUNTIFS('база 2013'!$B$4:$B$1191,$B17,'база 2013'!$I$4:$I$1191,Z$5,'база 2013'!$O$4:$O$1191,Z$7)","v":0},{"$f":"COUNTIFS('база 2013'!$B$4:$B$1191,$B17,'база 2013'!$I$4:$I$1191,AA$5,'база 2013'!$O$4:$O$1191,AA$7)","v":0},{"$f":"COUNTIFS('база 2013'!$B$4:$B$1191,$B17,'база 2013'!$I$4:$I$1191,AB$5,'база 2013'!$O$4:$O$1191,AB$7)","v":0},{"$f":"COUNTIFS('база 2013'!$B$4:$B$1191,$B17,'база 2013'!$I$4:$I$1191,AC$5,'база 2013'!$O$4:$O$1191,AC$7)","v":0},0,0,0,{"$f":"COUNTIFS('база 2013'!$B$4:$B$1191,$B17,'база 2013'!$I$4:$I$1191,AG$5,'база 2013'!$O$4:$O$1191,AG$7)","v":0},{"$f":"COUNTIFS('база 2013'!$B$4:$B$1191,$B17,'база 2013'!$I$4:$I$1191,AH$5,'база 2013'!$O$4:$O$1191,AH$7)","v":0},{"$f":"COUNTIFS('база 2013'!$B$4:$B$1191,$B17,'база 2013'!$I$4:$I$1191,AI$5,'база 2013'!$O$4:$O$1191,AI$7)","v":0},{"$f":"COUNTIFS('база 2013'!$B$4:$B$1191,$B17,'база 2013'!$I$4:$I$1191,AJ$5,'база 2013'!$O$4:$O$1191,AJ$7)","v":0},{"$f":"COUNTIFS('база 2013'!$B$4:$B$1191,$B17,'база 2013'!$I$4:$I$1191,AK$5,'база 2013'!$O$4:$O$1191,AK$7)","v":0},{"$f":"COUNTIFS('база 2013'!$B$4:$B$1191,$B17,'база 2013'!$I$4:$I$1191,AL$5,'база 2013'!$O$4:$O$1191,AL$7)","v":0},{"$f":"COUNTIFS('база 2013'!$B$4:$B$1191,$B17,'база 2013'!$I$4:$I$1191,AM$5,'база 2013'!$O$4:$O$1191,AM$7)","v":0},{"$f":"COUNTIFS('база 2013'!$B$4:$B$1191,$B17,'база 2013'!$I$4:$I$1191,AN$5,'база 2013'!$O$4:$O$1191,AN$7)","v":0},{"$f":"COUNTIFS('база 2013'!$B$4:$B$1191,$B17,'база 2013'!$I$4:$I$1191,AO$5,'база 2013'!$O$4:$O$1191,AO$7)","v":0},{"$f":"COUNTIFS('база 2013'!$B$4:$B$1191,$B17,'база 2013'!$I$4:$I$1191,AP$5,'база 2013'!$O$4:$O$1191,AP$7)","v":0},{"$f":"COUNTIFS('база 2013'!$B$4:$B$1191,$B17,'база 2013'!$I$4:$I$1191,AQ$5,'база 2013'!$O$4:$O$1191,AQ$7)","v":0},{"$f":"COUNTIFS('база 2013'!$B$4:$B$1191,$B17,'база 2013'!$I$4:$I$1191,AR$5,'база 2013'!$O$4:$O$1191,AR$7)","v":0},{"$f":"COUNTIFS('база 2013'!$B$4:$B$1191,$B17,'база 2013'!$I$4:$I$1191,AS$5,'база 2013'!$O$4:$O$1191,AS$7)","v":0},{"$f":"COUNTIFS('база 2013'!$B$4:$B$1191,$B17,'база 2013'!$I$4:$I$1191,AT$5,'база 2013'!$O$4:$O$1191,AT$7)","v":0},{"$f":"COUNTIFS('база 2013'!$B$4:$B$1191,$B17,'база 2013'!$I$4:$I$1191,AU$5,'база 2013'!$O$4:$O$1191,AU$7)","v":0},{"$f":"COUNTIFS('база 2013'!$B$4:$B$1191,$B17,'база 2013'!$I$4:$I$1191,AV$5,'база 2013'!$O$4:$O$1191,AV$7)","v":0},{"$f":"COUNTIFS('база 2013'!$B$4:$B$1191,$B17,'база 2013'!$I$4:$I$1191,AW$5,'база 2013'!$O$4:$O$1191,AW$7)","v":0},{"$f":"COUNTIFS('база 2013'!$B$4:$B$1191,$B17,'база 2013'!$I$4:$I$1191,AX$5,'база 2013'!$O$4:$O$1191,AX$7)","v":0},0,0,0,0,0,0,0]
[11,"Вольная борьба",{"$f":"COUNTIFS('база 2013'!$B$4:$B$1191,$B18,'база 2013'!$I$4:$I$1191,C$5,'база 2013'!$O$4:$O$1191,C$7)","v":0},{"$f":"COUNTIFS('база 2013'!$B$4:$B$1191,$B18,'база 2013'!$I$4:$I$1191,D$5,'база 2013'!$O$4:$O$1191,D$7)","v":1},{"$f":"COUNTIFS('база 2013'!$B$4:$B$1191,$B18,'база 2013'!$I$4:$I$1191,E$5,'база 2013'!$O$4:$O$1191,E$7)","v":0},{"$f":"COUNTIFS('база 2013'!$B$4:$B$1191,$B18,'база 2013'!$I$4:$I$1191,F$5,'база 2013'!$O$4:$O$1191,F$7)","v":0},{"$f":"COUNTIFS('база 2013'!$B$4:$B$1191,$B18,'база 2013'!$I$4:$I$1191,G$5,'база 2013'!$O$4:$O$1191,G$7)","v":0},{"$f":"COUNTIFS('база 2013'!$B$4:$B$1191,$B18,'база 2013'!$I$4:$I$1191,H$5,'база 2013'!$O$4:$O$1191,H$7)","v":0},{"$f":"COUNTIFS('база 2013'!$B$4:$B$1191,$B18,'база 2013'!$I$4:$I$1191,I$5,'база 2013'!$O$4:$O$1191,I$7)","v":0},{"$f":"COUNTIFS('база 2013'!$B$4:$B$1191,$B18,'база 2013'!$I$4:$I$1191,J$5,'база 2013'!$O$4:$O$1191,J$7)","v":0},{"$f":"COUNTIFS('база 2013'!$B$4:$B$1191,$B18,'база 2013'!$I$4:$I$1191,K$5,'база 2013'!$O$4:$O$1191,K$7)","v":0},{"$f":"COUNTIFS('база 2013'!$B$4:$B$1191,$B18,'база 2013'!$I$4:$I$1191,L$5,'база 2013'!$O$4:$O$1191,L$7)","v":1},{"$f":"COUNTIFS('база 2013'!$B$4:$B$1191,$B18,'база 2013'!$I$4:$I$1191,M$5,'база 2013'!$O$4:$O$1191,M$7)","v":0},{"$f":"COUNTIFS('база 2013'!$B$4:$B$1191,$B18,'база 2013'!$I$4:$I$1191,N$5,'база 2013'!$O$4:$O$1191,N$7)","v":0},{"$f":"COUNTIFS('база 2013'!$B$4:$B$1191,$B18,'база 2013'!$I$4:$I$1191,O$5,'база 2013'!$O$4:$O$1191,O$7)","v":0},{"$f":"COUNTIFS('база 2013'!$B$4:$B$1191,$B18,'база 2013'!$I$4:$I$1191,P$5,'база 2013'!$O$4:$O$1191,P$7)","v":0},{"$f":"COUNTIFS('база 2013'!$B$4:$B$1191,$B18,'база 2013'!$I$4:$I$1191,Q$5,'база 2013'!$O$4:$O$1191,Q$7)","v":0},1,0,0,{"$f":"COUNTIFS('база 2013'!$B$4:$B$1191,$B18,'база 2013'!$I$4:$I$1191,U$5,'база 2013'!$O$4:$O$1191,U$7)","v":0},{"$f":"COUNTIFS('база 2013'!$B$4:$B$1191,$B18,'база 2013'!$I$4:$I$1191,V$5,'база 2013'!$O$4:$O$1191,V$7)","v":0},{"$f":"COUNTIFS('база 2013'!$B$4:$B$1191,$B18,'база 2013'!$I$4:$I$1191,W$5,'база 2013'!$O$4:$O$1191,W$7)","v":0},{"$f":"COUNTIFS('база 2013'!$B$4:$B$1191,$B18,'база 2013'!$I$4:$I$1191,X$5,'база 2013'!$O$4:$O$1191,X$7)","v":0},{"$f":"COUNTIFS('база 2013'!$B$4:$B$1191,$B18,'база 2013'!$I$4:$I$1191,Y$5,'база 2013'!$O$4:$O$1191,Y$7)","v":0},{"$f":"COUNTIFS('база 2013'!$B$4:$B$1191,$B18,'база 2013'!$I$4:$I$1191,Z$5,'база 2013'!$O$4:$O$1191,Z$7)","v":0},{"$f":"COUNTIFS('база 2013'!$B$4:$B$1191,$B18,'база 2013'!$I$4:$I$1191,AA$5,'база 2013'!$O$4:$O$1191,AA$7)","v":0},{"$f":"COUNTIFS('база 2013'!$B$4:$B$1191,$B18,'база 2013'!$I$4:$I$1191,AB$5,'база 2013'!$O$4:$O$1191,AB$7)","v":0},{"$f":"COUNTIFS('база 2013'!$B$4:$B$1191,$B18,'база 2013'!$I$4:$I$1191,AC$5,'база 2013'!$O$4:$O$1191,AC$7)","v":1},0,0,1,{"$f":"COUNTIFS('база 2013'!$B$4:$B$1191,$B18,'база 2013'!$I$4:$I$1191,AG$5,'база 2013'!$O$4:$O$1191,AG$7)","v":1},{"$f":"COUNTIFS('база 2013'!$B$4:$B$1191,$B18,'база 2013'!$I$4:$I$1191,AH$5,'база 2013'!$O$4:$O$1191,AH$7)","v":2},{"$f":"COUNTIFS('база 2013'!$B$4:$B$1191,$B18,'база 2013'!$I$4:$I$1191,AI$5,'база 2013'!$O$4:$O$1191,AI$7)","v":5},{"$f":"COUNTIFS('база 2013'!$B$4:$B$1191,$B18,'база 2013'!$I$4:$I$1191,AJ$5,'база 2013'!$O$4:$O$1191,AJ$7)","v":0},{"$f":"COUNTIFS('база 2013'!$B$4:$B$1191,$B18,'база 2013'!$I$4:$I$1191,AK$5,'база 2013'!$O$4:$O$1191,AK$7)","v":0},{"$f":"COUNTIFS('база 2013'!$B$4:$B$1191,$B18,'база 2013'!$I$4:$I$1191,AL$5,'база 2013'!$O$4:$O$1191,AL$7)","v":0},{"$f":"COUNTIFS('база 2013'!$B$4:$B$1191,$B18,'база 2013'!$I$4:$I$1191,AM$5,'база 2013'!$O$4:$O$1191,AM$7)","v":1},{"$f":"COUNTIFS('база 2013'!$B$4:$B$1191,$B18,'база 2013'!$I$4:$I$1191,AN$5,'база 2013'!$O$4:$O$1191,AN$7)","v":0},{"$f":"COUNTIFS('база 2013'!$B$4:$B$1191,$B18,'база 2013'!$I$4:$I$1191,AO$5,'база 2013'!$O$4:$O$1191,AO$7)","v":3},{"$f":"COUNTIFS('база 2013'!$B$4:$B$1191,$B18,'база 2013'!$I$4:$I$1191,AP$5,'база 2013'!$O$4:$O$1191,AP$7)","v":0},{"$f":"COUNTIFS('база 2013'!$B$4:$B$1191,$B18,'база 2013'!$I$4:$I$1191,AQ$5,'база 2013'!$O$4:$O$1191,AQ$7)","v":2},{"$f":"COUNTIFS('база 2013'!$B$4:$B$1191,$B18,'база 2013'!$I$4:$I$1191,AR$5,'база 2013'!$O$4:$O$1191,AR$7)","v":0},{"$f":"COUNTIFS('база 2013'!$B$4:$B$1191,$B18,'база 2013'!$I$4:$I$1191,AS$5,'база 2013'!$O$4:$O$1191,AS$7)","v":0},{"$f":"COUNTIFS('база 2013'!$B$4:$B$1191,$B18,'база 2013'!$I$4:$I$1191,AT$5,'база 2013'!$O$4:$O$1191,AT$7)","v":0},{"$f":"COUNTIFS('база 2013'!$B$4:$B$1191,$B18,'база 2013'!$I$4:$I$1191,AU$5,'база 2013'!$O$4:$O$1191,AU$7)","v":4},{"$f":"COUNTIFS('база 2013'!$B$4:$B$1191,$B18,'база 2013'!$I$4:$I$1191,AV$5,'база 2013'!$O$4:$O$1191,AV$7)","v":0},{"$f":"COUNTIFS('база 2013'!$B$4:$B$1191,$B18,'база 2013'!$I$4:$I$1191,AW$5,'база 2013'!$O$4:$O$1191,AW$7)","v":0},{"$f":"COUNTIFS('база 2013'!$B$4:$B$1191,$B18,'база 2013'!$I$4:$I$1191,AX$5,'база 2013'!$O$4:$O$1191,AX$7)","v":0},1,2,7,3,5,13,21]
[12,"Греко-римская борьба",{"$f":"COUNTIFS('база 2013'!$B$4:$B$1191,$B19,'база 2013'!$I$4:$I$1191,C$5,'база 2013'!$O$4:$O$1191,C$7)","v":0},{"$f":"COUNTIFS('база 2013'!$B$4:$B$1191,$B19,'база 2013'!$I$4:$I$1191,D$5,'база 2013'!$O$4:$O$1191,D$7)","v":0},{"$f":"COUNTIFS('база 2013'!$B$4:$B$1191,$B19,'база 2013'!$I$4:$I$1191,E$5,'база 2013'!$O$4:$O$1191,E$7)","v":0},{"$f":"COUNTIFS('база 2013'!$B$4:$B$1191,$B19,'база 2013'!$I$4:$I$1191,F$5,'база 2013'!$O$4:$O$1191,F$7)","v":0},{"$f":"COUNTIFS('база 2013'!$B$4:$B$1191,$B19,'база 2013'!$I$4:$I$1191,G$5,'база 2013'!$O$4:$O$1191,G$7)","v":0},{"$f":"COUNTIFS('база 2013'!$B$4:$B$1191,$B19,'база 2013'!$I$4:$I$1191,H$5,'база 2013'!$O$4:$O$1191,H$7)","v":0},{"$f":"COUNTIFS('база 2013'!$B$4:$B$1191,$B19,'база 2013'!$I$4:$I$1191,I$5,'база 2013'!$O$4:$O$1191,I$7)","v":0},{"$f":"COUNTIFS('база 2013'!$B$4:$B$1191,$B19,'база 2013'!$I$4:$I$1191,J$5,'база 2013'!$O$4:$O$1191,J$7)","v":0},{"$f":"COUNTIFS('база 2013'!$B$4:$B$1191,$B19,'база 2013'!$I$4:$I$1191,K$5,'база 2013'!$O$4:$O$1191,K$7)","v":0},{"$f":"COUNTIFS('база 2013'!$B$4:$B$1191,$B19,'база 2013'!$I$4:$I$1191,L$5,'база 2013'!$O$4:$O$1191,L$7)","v":0},{"$f":"COUNTIFS('база 2013'!$B$4:$B$1191,$B19,'база 2013'!$I$4:$I$1191,M$5,'база 2013'!$O$4:$O$1191,M$7)","v":0},{"$f":"COUNTIFS('база 2013'!$B$4:$B$1191,$B19,'база 2013'!$I$4:$I$1191,N$5,'база 2013'!$O$4:$O$1191,N$7)","v":0},{"$f":"COUNTIFS('база 2013'!$B$4:$B$1191,$B19,'база 2013'!$I$4:$I$1191,O$5,'база 2013'!$O$4:$O$1191,O$7)","v":0},{"$f":"COUNTIFS('база 2013'!$B$4:$B$1191,$B19,'база 2013'!$I$4:$I$1191,P$5,'база 2013'!$O$4:$O$1191,P$7)","v":0},{"$f":"COUNTIFS('база 2013'!$B$4:$B$1191,$B19,'база 2013'!$I$4:$I$1191,Q$5,'база 2013'!$O$4:$O$1191,Q$7)","v":0},0,0,0,{"$f":"COUNTIFS('база 2013'!$B$4:$B$1191,$B19,'база 2013'!$I$4:$I$1191,U$5,'база 2013'!$O$4:$O$1191,U$7)","v":0},{"$f":"COUNTIFS('база 2013'!$B$4:$B$1191,$B19,'база 2013'!$I$4:$I$1191,V$5,'база 2013'!$O$4:$O$1191,V$7)","v":0},{"$f":"COUNTIFS('база 2013'!$B$4:$B$1191,$B19,'база 2013'!$I$4:$I$1191,W$5,'база 2013'!$O$4:$O$1191,W$7)","v":0},{"$f":"COUNTIFS('база 2013'!$B$4:$B$1191,$B19,'база 2013'!$I$4:$I$1191,X$5,'база 2013'!$O$4:$O$1191,X$7)","v":0},{"$f":"COUNTIFS('база 2013'!$B$4:$B$1191,$B19,'база 2013'!$I$4:$I$1191,Y$5,'база 2013'!$O$4:$O$1191,Y$7)","v":0},{"$f":"COUNTIFS('база 2013'!$B$4:$B$1191,$B19,'база 2013'!$I$4:$I$1191,Z$5,'база 2013'!$O$4:$O$1191,Z$7)","v":0},{"$f":"COUNTIFS('база 2013'!$B$4:$B$1191,$B19,'база 2013'!$I$4:$I$1191,AA$5,'база 2013'!$O$4:$O$1191,AA$7)","v":0},{"$f":"COUNTIFS('база 2013'!$B$4:$B$1191,$B19,'база 2013'!$I$4:$I$1191,AB$5,'база 2013'!$O$4:$O$1191,AB$7)","v":0},{"$f":"COUNTIFS('база 2013'!$B$4:$B$1191,$B19,'база 2013'!$I$4:$I$1191,AC$5,'база 2013'!$O$4:$O$1191,AC$7)","v":0},0,0,0,{"$f":"COUNTIFS('база 2013'!$B$4:$B$1191,$B19,'база 2013'!$I$4:$I$1191,AG$5,'база 2013'!$O$4:$O$1191,AG$7)","v":0},{"$f":"COUNTIFS('база 2013'!$B$4:$B$1191,$B19,'база 2013'!$I$4:$I$1191,AH$5,'база 2013'!$O$4:$O$1191,AH$7)","v":0},{"$f":"COUNTIFS('база 2013'!$B$4:$B$1191,$B19,'база 2013'!$I$4:$I$1191,AI$5,'база 2013'!$O$4:$O$1191,AI$7)","v":0},{"$f":"COUNTIFS('база 2013'!$B$4:$B$1191,$B19,'база 2013'!$I$4:$I$1191,AJ$5,'база 2013'!$O$4:$O$1191,AJ$7)","v":0},{"$f":"COUNTIFS('база 2013'!$B$4:$B$1191,$B19,'база 2013'!$I$4:$I$1191,AK$5,'база 2013'!$O$4:$O$1191,AK$7)","v":0},{"$f":"COUNTIFS('база 2013'!$B$4:$B$1191,$B19,'база 2013'!$I$4:$I$1191,AL$5,'база 2013'!$O$4:$O$1191,AL$7)","v":0},{"$f":"COUNTIFS('база 2013'!$B$4:$B$1191,$B19,'база 2013'!$I$4:$I$1191,AM$5,'база 2013'!$O$4:$O$1191,AM$7)","v":0},{"$f":"COUNTIFS('база 2013'!$B$4:$B$1191,$B19,'база 2013'!$I$4:$I$1191,AN$5,'база 2013'!$O$4:$O$1191,AN$7)","v":0},{"$f":"COUNTIFS('база 2013'!$B$4:$B$1191,$B19,'база 2013'!$I$4:$I$1191,AO$5,'база 2013'!$O$4:$O$1191,AO$7)","v":0},{"$f":"COUNTIFS('база 2013'!$B$4:$B$1191,$B19,'база 2013'!$I$4:$I$1191,AP$5,'база 2013'!$O$4:$O$1191,AP$7)","v":0},{"$f":"COUNTIFS('база 2013'!$B$4:$B$1191,$B19,'база 2013'!$I$4:$I$1191,AQ$5,'база 2013'!$O$4:$O$1191,AQ$7)","v":0},{"$f":"COUNTIFS('база 2013'!$B$4:$B$1191,$B19,'база 2013'!$I$4:$I$1191,AR$5,'база 2013'!$O$4:$O$1191,AR$7)","v":0},{"$f":"COUNTIFS('база 2013'!$B$4:$B$1191,$B19,'база 2013'!$I$4:$I$1191,AS$5,'база 2013'!$O$4:$O$1191,AS$7)","v":0},{"$f":"COUNTIFS('база 2013'!$B$4:$B$1191,$B19,'база 2013'!$I$4:$I$1191,AT$5,'база 2013'!$O$4:$O$1191,AT$7)","v":0},{"$f":"COUNTIFS('база 2013'!$B$4:$B$1191,$B19,'база 2013'!$I$4:$I$1191,AU$5,'база 2013'!$O$4:$O$1191,AU$7)","v":0},{"$f":"COUNTIFS('база 2013'!$B$4:$B$1191,$B19,'база 2013'!$I$4:$I$1191,AV$5,'база 2013'!$O$4:$O$1191,AV$7)","v":0},{"$f":"COUNTIFS('база 2013'!$B$4:$B$1191,$B19,'база 2013'!$I$4:$I$1191,AW$5,'база 2013'!$O$4:$O$1191,AW$7)","v":0},{"$f":"COUNTIFS('база 2013'!$B$4:$B$1191,$B19,'база 2013'!$I$4:$I$1191,AX$5,'база 2013'!$O$4:$O$1191,AX$7)","v":0},0,0,0,0,0,0,0]
[13,"Велоспорт-шоссе",{"$f":"COUNTIFS('база 2013'!$B$4:$B$1191,$B20,'база 2013'!$I$4:$I$1191,C$5,'база 2013'!$O$4:$O$1191,C$7)","v":0},{"$f":"COUNTIFS('база 2013'!$B$4:$B$1191,$B20,'база 2013'!$I$4:$I$1191,D$5,'база 2013'!$O$4:$O$1191,D$7)","v":0},{"$f":"COUNTIFS('база 2013'!$B$4:$B$1191,$B20,'база 2013'!$I$4:$I$1191,E$5,'база 2013'!$O$4:$O$1191,E$7)","v":0},{"$f":"COUNTIFS('база 2013'!$B$4:$B$1191,$B20,'база 2013'!$I$4:$I$1191,F$5,'база 2013'!$O$4:$O$1191,F$7)","v":0},{"$f":"COUNTIFS('база 2013'!$B$4:$B$1191,$B20,'база 2013'!$I$4:$I$1191,G$5,'база 2013'!$O$4:$O$1191,G$7)","v":0},{"$f":"COUNTIFS('база 2013'!$B$4:$B$1191,$B20,'база 2013'!$I$4:$I$1191,H$5,'база 2013'!$O$4:$O$1191,H$7)","v":0},{"$f":"COUNTIFS('база 2013'!$B$4:$B$1191,$B20,'база 2013'!$I$4:$I$1191,I$5,'база 2013'!$O$4:$O$1191,I$7)","v":0},{"$f":"COUNTIFS('база 2013'!$B$4:$B$1191,$B20,'база 2013'!$I$4:$I$1191,J$5,'база 2013'!$O$4:$O$1191,J$7)","v":0},{"$f":"COUNTIFS('база 2013'!$B$4:$B$1191,$B20,'база 2013'!$I$4:$I$1191,K$5,'база 2013'!$O$4:$O$1191,K$7)","v":0},{"$f":"COUNTIFS('база 2013'!$B$4:$B$1191,$B20,'база 2013'!$I$4:$I$1191,L$5,'база 2013'!$O$4:$O$1191,L$7)","v":0},{"$f":"COUNTIFS('база 2013'!$B$4:$B$1191,$B20,'база 2013'!$I$4:$I$1191,M$5,'база 2013'!$O$4:$O$1191,M$7)","v":0},{"$f":"COUNTIFS('база 2013'!$B$4:$B$1191,$B20,'база 2013'!$I$4:$I$1191,N$5,'база 2013'!$O$4:$O$1191,N$7)","v":0},{"$f":"COUNTIFS('база 2013'!$B$4:$B$1191,$B20,'база 2013'!$I$4:$I$1191,O$5,'база 2013'!$O$4:$O$1191,O$7)","v":0},{"$f":"COUNTIFS('база 2013'!$B$4:$B$1191,$B20,'база 2013'!$I$4:$I$1191,P$5,'база 2013'!$O$4:$O$1191,P$7)","v":0},{"$f":"COUNTIFS('база 2013'!$B$4:$B$1191,$B20,'база 2013'!$I$4:$I$1191,Q$5,'база 2013'!$O$4:$O$1191,Q$7)","v":0},0,0,0,{"$f":"COUNTIFS('база 2013'!$B$4:$B$1191,$B20,'база 2013'!$I$4:$I$1191,U$5,'база 2013'!$O$4:$O$1191,U$7)","v":0},{"$f":"COUNTIFS('база 2013'!$B$4:$B$1191,$B20,'база 2013'!$I$4:$I$1191,V$5,'база 2013'!$O$4:$O$1191,V$7)","v":0},{"$f":"COUNTIFS('база 2013'!$B$4:$B$1191,$B20,'база 2013'!$I$4:$I$1191,W$5,'база 2013'!$O$4:$O$1191,W$7)","v":0},{"$f":"COUNTIFS('база 2013'!$B$4:$B$1191,$B20,'база 2013'!$I$4:$I$1191,X$5,'база 2013'!$O$4:$O$1191,X$7)","v":0},{"$f":"COUNTIFS('база 2013'!$B$4:$B$1191,$B20,'база 2013'!$I$4:$I$1191,Y$5,'база 2013'!$O$4:$O$1191,Y$7)","v":0},{"$f":"COUNTIFS('база 2013'!$B$4:$B$1191,$B20,'база 2013'!$I$4:$I$1191,Z$5,'база 2013'!$O$4:$O$1191,Z$7)","v":0},{"$f":"COUNTIFS('база 2013'!$B$4:$B$1191,$B20,'база 2013'!$I$4:$I$1191,AA$5,'база 2013'!$O$4:$O$1191,AA$7)","v":0},{"$f":"COUNTIFS('база 2013'!$B$4:$B$1191,$B20,'база 2013'!$I$4:$I$1191,AB$5,'база 2013'!$O$4:$O$1191,AB$7)","v":0},{"$f":"COUNTIFS('база 2013'!$B$4:$B$1191,$B20,'база 2013'!$I$4:$I$1191,AC$5,'база 2013'!$O$4:$O$1191,AC$7)","v":0},0,0,0,{"$f":"COUNTIFS('база 2013'!$B$4:$B$1191,$B20,'база 2013'!$I$4:$I$1191,AG$5,'база 2013'!$O$4:$O$1191,AG$7)","v":0},{"$f":"COUNTIFS('база 2013'!$B$4:$B$1191,$B20,'база 2013'!$I$4:$I$1191,AH$5,'база 2013'!$O$4:$O$1191,AH$7)","v":0},{"$f":"COUNTIFS('база 2013'!$B$4:$B$1191,$B20,'база 2013'!$I$4:$I$1191,AI$5,'база 2013'!$O$4:$O$1191,AI$7)","v":0},{"$f":"COUNTIFS('база 2013'!$B$4:$B$1191,$B20,'база 2013'!$I$4:$I$1191,AJ$5,'база 2013'!$O$4:$O$1191,AJ$7)","v":0},{"$f":"COUNTIFS('база 2013'!$B$4:$B$1191,$B20,'база 2013'!$I$4:$I$1191,AK$5,'база 2013'!$O$4:$O$1191,AK$7)","v":0},{"$f":"COUNTIFS('база 2013'!$B$4:$B$1191,$B20,'база 2013'!$I$4:$I$1191,AL$5,'база 2013'!$O$4:$O$1191,AL$7)","v":0},{"$f":"COUNTIFS('база 2013'!$B$4:$B$1191,$B20,'база 2013'!$I$4:$I$1191,AM$5,'база 2013'!$O$4:$O$1191,AM$7)","v":0},{"$f":"COUNTIFS('база 2013'!$B$4:$B$1191,$B20,'база 2013'!$I$4:$I$1191,AN$5,'база 2013'!$O$4:$O$1191,AN$7)","v":0},{"$f":"COUNTIFS('база 2013'!$B$4:$B$1191,$B20,'база 2013'!$I$4:$I$1191,AO$5,'база 2013'!$O$4:$O$1191,AO$7)","v":0},{"$f":"COUNTIFS('база 2013'!$B$4:$B$1191,$B20,'база 2013'!$I$4:$I$1191,AP$5,'база 2013'!$O$4:$O$1191,AP$7)","v":0},{"$f":"COUNTIFS('база 2013'!$B$4:$B$1191,$B20,'база 2013'!$I$4:$I$1191,AQ$5,'база 2013'!$O$4:$O$1191,AQ$7)","v":0},{"$f":"COUNTIFS('база 2013'!$B$4:$B$1191,$B20,'база 2013'!$I$4:$I$1191,AR$5,'база 2013'!$O$4:$O$1191,AR$7)","v":0},{"$f":"COUNTIFS('база 2013'!$B$4:$B$1191,$B20,'база 2013'!$I$4:$I$1191,AS$5,'база 2013'!$O$4:$O$1191,AS$7)","v":0},{"$f":"COUNTIFS('база 2013'!$B$4:$B$1191,$B20,'база 2013'!$I$4:$I$1191,AT$5,'база 2013'!$O$4:$O$1191,AT$7)","v":0},{"$f":"COUNTIFS('база 2013'!$B$4:$B$1191,$B20,'база 2013'!$I$4:$I$1191,AU$5,'база 2013'!$O$4:$O$1191,AU$7)","v":0},{"$f":"COUNTIFS('база 2013'!$B$4:$B$1191,$B20,'база 2013'!$I$4:$I$1191,AV$5,'база 2013'!$O$4:$O$1191,AV$7)","v":0},{"$f":"COUNTIFS('база 2013'!$B$4:$B$1191,$B20,'база 2013'!$I$4:$I$1191,AW$5,'база 2013'!$O$4:$O$1191,AW$7)","v":0},{"$f":"COUNTIFS('база 2013'!$B$4:$B$1191,$B20,'база 2013'!$I$4:$I$1191,AX$5,'база 2013'!$O$4:$O$1191,AX$7)","v":0},0,0,0,0,0,0,0]
[14,"Велоспорт ВМХ",{"$f":"COUNTIFS('база 2013'!$B$4:$B$1191,$B21,'база 2013'!$I$4:$I$1191,C$5,'база 2013'!$O$4:$O$1191,C$7)","v":0},{"$f":"COUNTIFS('база 2013'!$B$4:$B$1191,$B21,'база 2013'!$I$4:$I$1191,D$5,'база 2013'!$O$4:$O$1191,D$7)","v":0},{"$f":"COUNTIFS('база 2013'!$B$4:$B$1191,$B21,'база 2013'!$I$4:$I$1191,E$5,'база 2013'!$O$4:$O$1191,E$7)","v":0},{"$f":"COUNTIFS('база 2013'!$B$4:$B$1191,$B21,'база 2013'!$I$4:$I$1191,F$5,'база 2013'!$O$4:$O$1191,F$7)","v":0},{"$f":"COUNTIFS('база 2013'!$B$4:$B$1191,$B21,'база 2013'!$I$4:$I$1191,G$5,'база 2013'!$O$4:$O$1191,G$7)","v":0},{"$f":"COUNTIFS('база 2013'!$B$4:$B$1191,$B21,'база 2013'!$I$4:$I$1191,H$5,'база 2013'!$O$4:$O$1191,H$7)","v":0},{"$f":"COUNTIFS('база 2013'!$B$4:$B$1191,$B21,'база 2013'!$I$4:$I$1191,I$5,'база 2013'!$O$4:$O$1191,I$7)","v":0},{"$f":"COUNTIFS('база 2013'!$B$4:$B$1191,$B21,'база 2013'!$I$4:$I$1191,J$5,'база 2013'!$O$4:$O$1191,J$7)","v":0},{"$f":"COUNTIFS('база 2013'!$B$4:$B$1191,$B21,'база 2013'!$I$4:$I$1191,K$5,'база 2013'!$O$4:$O$1191,K$7)","v":0},{"$f":"COUNTIFS('база 2013'!$B$4:$B$1191,$B21,'база 2013'!$I$4:$I$1191,L$5,'база 2013'!$O$4:$O$1191,L$7)","v":0},{"$f":"COUNTIFS('база 2013'!$B$4:$B$1191,$B21,'база 2013'!$I$4:$I$1191,M$5,'база 2013'!$O$4:$O$1191,M$7)","v":0},{"$f":"COUNTIFS('база 2013'!$B$4:$B$1191,$B21,'база 2013'!$I$4:$I$1191,N$5,'база 2013'!$O$4:$O$1191,N$7)","v":0},{"$f":"COUNTIFS('база 2013'!$B$4:$B$1191,$B21,'база 2013'!$I$4:$I$1191,O$5,'база 2013'!$O$4:$O$1191,O$7)","v":0},{"$f":"COUNTIFS('база 2013'!$B$4:$B$1191,$B21,'база 2013'!$I$4:$I$1191,P$5,'база 2013'!$O$4:$O$1191,P$7)","v":0},{"$f":"COUNTIFS('база 2013'!$B$4:$B$1191,$B21,'база 2013'!$I$4:$I$1191,Q$5,'база 2013'!$O$4:$O$1191,Q$7)","v":0},0,0,0,{"$f":"COUNTIFS('база 2013'!$B$4:$B$1191,$B21,'база 2013'!$I$4:$I$1191,U$5,'база 2013'!$O$4:$O$1191,U$7)","v":0},{"$f":"COUNTIFS('база 2013'!$B$4:$B$1191,$B21,'база 2013'!$I$4:$I$1191,V$5,'база 2013'!$O$4:$O$1191,V$7)","v":0},{"$f":"COUNTIFS('база 2013'!$B$4:$B$1191,$B21,'база 2013'!$I$4:$I$1191,W$5,'база 2013'!$O$4:$O$1191,W$7)","v":0},{"$f":"COUNTIFS('база 2013'!$B$4:$B$1191,$B21,'база 2013'!$I$4:$I$1191,X$5,'база 2013'!$O$4:$O$1191,X$7)","v":0},{"$f":"COUNTIFS('база 2013'!$B$4:$B$1191,$B21,'база 2013'!$I$4:$I$1191,Y$5,'база 2013'!$O$4:$O$1191,Y$7)","v":0},{"$f":"COUNTIFS('база 2013'!$B$4:$B$1191,$B21,'база 2013'!$I$4:$I$1191,Z$5,'база 2013'!$O$4:$O$1191,Z$7)","v":0},{"$f":"COUNTIFS('база 2013'!$B$4:$B$1191,$B21,'база 2013'!$I$4:$I$1191,AA$5,'база 2013'!$O$4:$O$1191,AA$7)","v":0},{"$f":"COUNTIFS('база 2013'!$B$4:$B$1191,$B21,'база 2013'!$I$4:$I$1191,AB$5,'база 2013'!$O$4:$O$1191,AB$7)","v":0},{"$f":"COUNTIFS('база 2013'!$B$4:$B$1191,$B21,'база 2013'!$I$4:$I$1191,AC$5,'база 2013'!$O$4:$O$1191,AC$7)","v":0},0,0,0,{"$f":"COUNTIFS('база 2013'!$B$4:$B$1191,$B21,'база 2013'!$I$4:$I$1191,AG$5,'база 2013'!$O$4:$O$1191,AG$7)","v":0},{"$f":"COUNTIFS('база 2013'!$B$4:$B$1191,$B21,'база 2013'!$I$4:$I$1191,AH$5,'база 2013'!$O$4:$O$1191,AH$7)","v":0},{"$f":"COUNTIFS('база 2013'!$B$4:$B$1191,$B21,'база 2013'!$I$4:$I$1191,AI$5,'база 2013'!$O$4:$O$1191,AI$7)","v":0},{"$f":"COUNTIFS('база 2013'!$B$4:$B$1191,$B21,'база 2013'!$I$4:$I$1191,AJ$5,'база 2013'!$O$4:$O$1191,AJ$7)","v":0},{"$f":"COUNTIFS('база 2013'!$B$4:$B$1191,$B21,'база 2013'!$I$4:$I$1191,AK$5,'база 2013'!$O$4:$O$1191,AK$7)","v":0},{"$f":"COUNTIFS('база 2013'!$B$4:$B$1191,$B21,'база 2013'!$I$4:$I$1191,AL$5,'база 2013'!$O$4:$O$1191,AL$7)","v":0},{"$f":"COUNTIFS('база 2013'!$B$4:$B$1191,$B21,'база 2013'!$I$4:$I$1191,AM$5,'база 2013'!$O$4:$O$1191,AM$7)","v":0},{"$f":"COUNTIFS('база 2013'!$B$4:$B$1191,$B21,'база 2013'!$I$4:$I$1191,AN$5,'база 2013'!$O$4:$O$1191,AN$7)","v":0},{"$f":"COUNTIFS('база 2013'!$B$4:$B$1191,$B21,'база 2013'!$I$4:$I$1191,AO$5,'база 2013'!$O$4:$O$1191,AO$7)","v":0},{"$f":"COUNTIFS('база 2013'!$B$4:$B$1191,$B21,'база 2013'!$I$4:$I$1191,AP$5,'база 2013'!$O$4:$O$1191,AP$7)","v":0},{"$f":"COUNTIFS('база 2013'!$B$4:$B$1191,$B21,'база 2013'!$I$4:$I$1191,AQ$5,'база 2013'!$O$4:$O$1191,AQ$7)","v":0},{"$f":"COUNTIFS('база 2013'!$B$4:$B$1191,$B21,'база 2013'!$I$4:$I$1191,AR$5,'база 2013'!$O$4:$O$1191,AR$7)","v":0},{"$f":"COUNTIFS('база 2013'!$B$4:$B$1191,$B21,'база 2013'!$I$4:$I$1191,AS$5,'база 2013'!$O$4:$O$1191,AS$7)","v":0},{"$f":"COUNTIFS('база 2013'!$B$4:$B$1191,$B21,'база 2013'!$I$4:$I$1191,AT$5,'база 2013'!$O$4:$O$1191,AT$7)","v":0},{"$f":"COUNTIFS('база 2013'!$B$4:$B$1191,$B21,'база 2013'!$I$4:$I$1191,AU$5,'база 2013'!$O$4:$O$1191,AU$7)","v":0},{"$f":"COUNTIFS('база 2013'!$B$4:$B$1191,$B21,'база 2013'!$I$4:$I$1191,AV$5,'база 2013'!$O$4:$O$1191,AV$7)","v":0},{"$f":"COUNTIFS('база 2013'!$B$4:$B$1191,$B21,'база 2013'!$I$4:$I$1191,AW$5,'база 2013'!$O$4:$O$1191,AW$7)","v":0},{"$f":"COUNTIFS('база 2013'!$B$4:$B$1191,$B21,'база 2013'!$I$4:$I$1191,AX$5,'база 2013'!$O$4:$O$1191,AX$7)","v":0},0,0,0,0,0,0,0]
[15,"Велоспорт-маунтинбайк",{"$f":"COUNTIFS('база 2013'!$B$4:$B$1191,$B22,'база 2013'!$I$4:$I$1191,C$5,'база 2013'!$O$4:$O$1191,C$7)","v":0},{"$f":"COUNTIFS('база 2013'!$B$4:$B$1191,$B22,'база 2013'!$I$4:$I$1191,D$5,'база 2013'!$O$4:$O$1191,D$7)","v":0},{"$f":"COUNTIFS('база 2013'!$B$4:$B$1191,$B22,'база 2013'!$I$4:$I$1191,E$5,'база 2013'!$O$4:$O$1191,E$7)","v":0},{"$f":"COUNTIFS('база 2013'!$B$4:$B$1191,$B22,'база 2013'!$I$4:$I$1191,F$5,'база 2013'!$O$4:$O$1191,F$7)","v":0},{"$f":"COUNTIFS('база 2013'!$B$4:$B$1191,$B22,'база 2013'!$I$4:$I$1191,G$5,'база 2013'!$O$4:$O$1191,G$7)","v":0},{"$f":"COUNTIFS('база 2013'!$B$4:$B$1191,$B22,'база 2013'!$I$4:$I$1191,H$5,'база 2013'!$O$4:$O$1191,H$7)","v":0},{"$f":"COUNTIFS('база 2013'!$B$4:$B$1191,$B22,'база 2013'!$I$4:$I$1191,I$5,'база 2013'!$O$4:$O$1191,I$7)","v":0},{"$f":"COUNTIFS('база 2013'!$B$4:$B$1191,$B22,'база 2013'!$I$4:$I$1191,J$5,'база 2013'!$O$4:$O$1191,J$7)","v":0},{"$f":"COUNTIFS('база 2013'!$B$4:$B$1191,$B22,'база 2013'!$I$4:$I$1191,K$5,'база 2013'!$O$4:$O$1191,K$7)","v":0},{"$f":"COUNTIFS('база 2013'!$B$4:$B$1191,$B22,'база 2013'!$I$4:$I$1191,L$5,'база 2013'!$O$4:$O$1191,L$7)","v":0},{"$f":"COUNTIFS('база 2013'!$B$4:$B$1191,$B22,'база 2013'!$I$4:$I$1191,M$5,'база 2013'!$O$4:$O$1191,M$7)","v":0},{"$f":"COUNTIFS('база 2013'!$B$4:$B$1191,$B22,'база 2013'!$I$4:$I$1191,N$5,'база 2013'!$O$4:$O$1191,N$7)","v":0},{"$f":"COUNTIFS('база 2013'!$B$4:$B$1191,$B22,'база 2013'!$I$4:$I$1191,O$5,'база 2013'!$O$4:$O$1191,O$7)","v":0},{"$f":"COUNTIFS('база 2013'!$B$4:$B$1191,$B22,'база 2013'!$I$4:$I$1191,P$5,'база 2013'!$O$4:$O$1191,P$7)","v":0},{"$f":"COUNTIFS('база 2013'!$B$4:$B$1191,$B22,'база 2013'!$I$4:$I$1191,Q$5,'база 2013'!$O$4:$O$1191,Q$7)","v":0},{"$f":"SUMIF($F$7:$Q$7,$R$7,F22:Q22)","v":0},0,0,{"$f":"COUNTIFS('база 2013'!$B$4:$B$1191,$B22,'база 2013'!$I$4:$I$1191,U$5,'база 2013'!$O$4:$O$1191,U$7)","v":0},{"$f":"COUNTIFS('база 2013'!$B$4:$B$1191,$B22,'база 2013'!$I$4:$I$1191,V$5,'база 2013'!$O$4:$O$1191,V$7)","v":0},{"$f":"COUNTIFS('база 2013'!$B$4:$B$1191,$B22,'база 2013'!$I$4:$I$1191,W$5,'база 2013'!$O$4:$O$1191,W$7)","v":0},{"$f":"COUNTIFS('база 2013'!$B$4:$B$1191,$B22,'база 2013'!$I$4:$I$1191,X$5,'база 2013'!$O$4:$O$1191,X$7)","v":0},{"$f":"COUNTIFS('база 2013'!$B$4:$B$1191,$B22,'база 2013'!$I$4:$I$1191,Y$5,'база 2013'!$O$4:$O$1191,Y$7)","v":0},{"$f":"COUNTIFS('база 2013'!$B$4:$B$1191,$B22,'база 2013'!$I$4:$I$1191,Z$5,'база 2013'!$O$4:$O$1191,Z$7)","v":0},{"$f":"COUNTIFS('база 2013'!$B$4:$B$1191,$B22,'база 2013'!$I$4:$I$1191,AA$5,'база 2013'!$O$4:$O$1191,AA$7)","v":0},{"$f":"COUNTIFS('база 2013'!$B$4:$B$1191,$B22,'база 2013'!$I$4:$I$1191,AB$5,'база 2013'!$O$4:$O$1191,AB$7)","v":0},{"$f":"COUNTIFS('база 2013'!$B$4:$B$1191,$B22,'база 2013'!$I$4:$I$1191,AC$5,'база 2013'!$O$4:$O$1191,AC$7)","v":0},0,0,0,{"$f":"COUNTIFS('база 2013'!$B$4:$B$1191,$B22,'база 2013'!$I$4:$I$1191,AG$5,'база 2013'!$O$4:$O$1191,AG$7)","v":0},{"$f":"COUNTIFS('база 2013'!$B$4:$B$1191,$B22,'база 2013'!$I$4:$I$1191,AH$5,'база 2013'!$O$4:$O$1191,AH$7)","v":0},{"$f":"COUNTIFS('база 2013'!$B$4:$B$1191,$B22,'база 2013'!$I$4:$I$1191,AI$5,'база 2013'!$O$4:$O$1191,AI$7)","v":0},{"$f":"COUNTIFS('база 2013'!$B$4:$B$1191,$B22,'база 2013'!$I$4:$I$1191,AJ$5,'база 2013'!$O$4:$O$1191,AJ$7)","v":0},{"$f":"COUNTIFS('база 2013'!$B$4:$B$1191,$B22,'база 2013'!$I$4:$I$1191,AK$5,'база 2013'!$O$4:$O$1191,AK$7)","v":0},{"$f":"COUNTIFS('база 2013'!$B$4:$B$1191,$B22,'база 2013'!$I$4:$I$1191,AL$5,'база 2013'!$O$4:$O$1191,AL$7)","v":0},{"$f":"COUNTIFS('база 2013'!$B$4:$B$1191,$B22,'база 2013'!$I$4:$I$1191,AM$5,'база 2013'!$O$4:$O$1191,AM$7)","v":0},{"$f":"COUNTIFS('база 2013'!$B$4:$B$1191,$B22,'база 2013'!$I$4:$I$1191,AN$5,'база 2013'!$O$4:$O$1191,AN$7)","v":0},{"$f":"COUNTIFS('база 2013'!$B$4:$B$1191,$B22,'база 2013'!$I$4:$I$1191,AO$5,'база 2013'!$O$4:$O$1191,AO$7)","v":0},{"$f":"COUNTIFS('база 2013'!$B$4:$B$1191,$B22,'база 2013'!$I$4:$I$1191,AP$5,'база 2013'!$O$4:$O$1191,AP$7)","v":0},{"$f":"COUNTIFS('база 2013'!$B$4:$B$1191,$B22,'база 2013'!$I$4:$I$1191,AQ$5,'база 2013'!$O$4:$O$1191,AQ$7)","v":0},{"$f":"COUNTIFS('база 2013'!$B$4:$B$1191,$B22,'база 2013'!$I$4:$I$1191,AR$5,'база 2013'!$O$4:$O$1191,AR$7)","v":0},{"$f":"COUNTIFS('база 2013'!$B$4:$B$1191,$B22,'база 2013'!$I$4:$I$1191,AS$5,'база 2013'!$O$4:$O$1191,AS$7)","v":0},{"$f":"COUNTIFS('база 2013'!$B$4:$B$1191,$B22,'база 2013'!$I$4:$I$1191,AT$5,'база 2013'!$O$4:$O$1191,AT$7)","v":0},{"$f":"COUNTIFS('база 2013'!$B$4:$B$1191,$B22,'база 2013'!$I$4:$I$1191,AU$5,'база 2013'!$O$4:$O$1191,AU$7)","v":0},{"$f":"COUNTIFS('база 2013'!$B$4:$B$1191,$B22,'база 2013'!$I$4:$I$1191,AV$5,'база 2013'!$O$4:$O$1191,AV$7)","v":0},{"$f":"COUNTIFS('база 2013'!$B$4:$B$1191,$B22,'база 2013'!$I$4:$I$1191,AW$5,'база 2013'!$O$4:$O$1191,AW$7)","v":0},{"$f":"COUNTIFS('база 2013'!$B$4:$B$1191,$B22,'база 2013'!$I$4:$I$1191,AX$5,'база 2013'!$O$4:$O$1191,AX$7)","v":0},0,0,0,0,0,0,{"$f":"SUM(BB22:BD22)","v":0}]
[16,"Велоспорт-трек",{"$f":"COUNTIFS('база 2013'!$B$4:$B$1191,$B23,'база 2013'!$I$4:$I$1191,C$5,'база 2013'!$O$4:$O$1191,C$7)","v":0},{"$f":"COUNTIFS('база 2013'!$B$4:$B$1191,$B23,'база 2013'!$I$4:$I$1191,D$5,'база 2013'!$O$4:$O$1191,D$7)","v":0},{"$f":"COUNTIFS('база 2013'!$B$4:$B$1191,$B23,'база 2013'!$I$4:$I$1191,E$5,'база 2013'!$O$4:$O$1191,E$7)","v":0},{"$f":"COUNTIFS('база 2013'!$B$4:$B$1191,$B23,'база 2013'!$I$4:$I$1191,F$5,'база 2013'!$O$4:$O$1191,F$7)","v":0},{"$f":"COUNTIFS('база 2013'!$B$4:$B$1191,$B23,'база 2013'!$I$4:$I$1191,G$5,'база 2013'!$O$4:$O$1191,G$7)","v":0},{"$f":"COUNTIFS('база 2013'!$B$4:$B$1191,$B23,'база 2013'!$I$4:$I$1191,H$5,'база 2013'!$O$4:$O$1191,H$7)","v":0},{"$f":"COUNTIFS('база 2013'!$B$4:$B$1191,$B23,'база 2013'!$I$4:$I$1191,I$5,'база 2013'!$O$4:$O$1191,I$7)","v":0},{"$f":"COUNTIFS('база 2013'!$B$4:$B$1191,$B23,'база 2013'!$I$4:$I$1191,J$5,'база 2013'!$O$4:$O$1191,J$7)","v":0},{"$f":"COUNTIFS('база 2013'!$B$4:$B$1191,$B23,'база 2013'!$I$4:$I$1191,K$5,'база 2013'!$O$4:$O$1191,K$7)","v":0},{"$f":"COUNTIFS('база 2013'!$B$4:$B$1191,$B23,'база 2013'!$I$4:$I$1191,L$5,'база 2013'!$O$4:$O$1191,L$7)","v":0},{"$f":"COUNTIFS('база 2013'!$B$4:$B$1191,$B23,'база 2013'!$I$4:$I$1191,M$5,'база 2013'!$O$4:$O$1191,M$7)","v":0},{"$f":"COUNTIFS('база 2013'!$B$4:$B$1191,$B23,'база 2013'!$I$4:$I$1191,N$5,'база 2013'!$O$4:$O$1191,N$7)","v":0},{"$f":"COUNTIFS('база 2013'!$B$4:$B$1191,$B23,'база 2013'!$I$4:$I$1191,O$5,'база 2013'!$O$4:$O$1191,O$7)","v":0},{"$f":"COUNTIFS('база 2013'!$B$4:$B$1191,$B23,'база 2013'!$I$4:$I$1191,P$5,'база 2013'!$O$4:$O$1191,P$7)","v":0},{"$f":"COUNTIFS('база 2013'!$B$4:$B$1191,$B23,'база 2013'!$I$4:$I$1191,Q$5,'база 2013'!$O$4:$O$1191,Q$7)","v":0},0,0,0,{"$f":"COUNTIFS('база 2013'!$B$4:$B$1191,$B23,'база 2013'!$I$4:$I$1191,U$5,'база 2013'!$O$4:$O$1191,U$7)","v":0},{"$f":"COUNTIFS('база 2013'!$B$4:$B$1191,$B23,'база 2013'!$I$4:$I$1191,V$5,'база 2013'!$O$4:$O$1191,V$7)","v":0},{"$f":"COUNTIFS('база 2013'!$B$4:$B$1191,$B23,'база 2013'!$I$4:$I$1191,W$5,'база 2013'!$O$4:$O$1191,W$7)","v":0},{"$f":"COUNTIFS('база 2013'!$B$4:$B$1191,$B23,'база 2013'!$I$4:$I$1191,X$5,'база 2013'!$O$4:$O$1191,X$7)","v":0},{"$f":"COUNTIFS('база 2013'!$B$4:$B$1191,$B23,'база 2013'!$I$4:$I$1191,Y$5,'база 2013'!$O$4:$O$1191,Y$7)","v":0},{"$f":"COUNTIFS('база 2013'!$B$4:$B$1191,$B23,'база 2013'!$I$4:$I$1191,Z$5,'база 2013'!$O$4:$O$1191,Z$7)","v":0},{"$f":"COUNTIFS('база 2013'!$B$4:$B$1191,$B23,'база 2013'!$I$4:$I$1191,AA$5,'база 2013'!$O$4:$O$1191,AA$7)","v":0},{"$f":"COUNTIFS('база 2013'!$B$4:$B$1191,$B23,'база 2013'!$I$4:$I$1191,AB$5,'база 2013'!$O$4:$O$1191,AB$7)","v":0},{"$f":"COUNTIFS('база 2013'!$B$4:$B$1191,$B23,'база 2013'!$I$4:$I$1191,AC$5,'база 2013'!$O$4:$O$1191,AC$7)","v":0},0,0,0,{"$f":"COUNTIFS('база 2013'!$B$4:$B$1191,$B23,'база 2013'!$I$4:$I$1191,AG$5,'база 2013'!$O$4:$O$1191,AG$7)","v":0},{"$f":"COUNTIFS('база 2013'!$B$4:$B$1191,$B23,'база 2013'!$I$4:$I$1191,AH$5,'база 2013'!$O$4:$O$1191,AH$7)","v":0},{"$f":"COUNTIFS('база 2013'!$B$4:$B$1191,$B23,'база 2013'!$I$4:$I$1191,AI$5,'база 2013'!$O$4:$O$1191,AI$7)","v":0},{"$f":"COUNTIFS('база 2013'!$B$4:$B$1191,$B23,'база 2013'!$I$4:$I$1191,AJ$5,'база 2013'!$O$4:$O$1191,AJ$7)","v":0},{"$f":"COUNTIFS('база 2013'!$B$4:$B$1191,$B23,'база 2013'!$I$4:$I$1191,AK$5,'база 2013'!$O$4:$O$1191,AK$7)","v":0},{"$f":"COUNTIFS('база 2013'!$B$4:$B$1191,$B23,'база 2013'!$I$4:$I$1191,AL$5,'база 2013'!$O$4:$O$1191,AL$7)","v":0},{"$f":"COUNTIFS('база 2013'!$B$4:$B$1191,$B23,'база 2013'!$I$4:$I$1191,AM$5,'база 2013'!$O$4:$O$1191,AM$7)","v":0},{"$f":"COUNTIFS('база 2013'!$B$4:$B$1191,$B23,'база 2013'!$I$4:$I$1191,AN$5,'база 2013'!$O$4:$O$1191,AN$7)","v":0},{"$f":"COUNTIFS('база 2013'!$B$4:$B$1191,$B23,'база 2013'!$I$4:$I$1191,AO$5,'база 2013'!$O$4:$O$1191,AO$7)","v":0},{"$f":"COUNTIFS('база 2013'!$B$4:$B$1191,$B23,'база 2013'!$I$4:$I$1191,AP$5,'база 2013'!$O$4:$O$1191,AP$7)","v":0},{"$f":"COUNTIFS('база 2013'!$B$4:$B$1191,$B23,'база 2013'!$I$4:$I$1191,AQ$5,'база 2013'!$O$4:$O$1191,AQ$7)","v":0},{"$f":"COUNTIFS('база 2013'!$B$4:$B$1191,$B23,'база 2013'!$I$4:$I$1191,AR$5,'база 2013'!$O$4:$O$1191,AR$7)","v":0},{"$f":"COUNTIFS('база 2013'!$B$4:$B$1191,$B23,'база 2013'!$I$4:$I$1191,AS$5,'база 2013'!$O$4:$O$1191,AS$7)","v":0},{"$f":"COUNTIFS('база 2013'!$B$4:$B$1191,$B23,'база 2013'!$I$4:$I$1191,AT$5,'база 2013'!$O$4:$O$1191,AT$7)","v":0},{"$f":"COUNTIFS('база 2013'!$B$4:$B$1191,$B23,'база 2013'!$I$4:$I$1191,AU$5,'база 2013'!$O$4:$O$1191,AU$7)","v":0},{"$f":"COUNTIFS('база 2013'!$B$4:$B$1191,$B23,'база 2013'!$I$4:$I$1191,AV$5,'база 2013'!$O$4:$O$1191,AV$7)","v":0},{"$f":"COUNTIFS('база 2013'!$B$4:$B$1191,$B23,'база 2013'!$I$4:$I$1191,AW$5,'база 2013'!$O$4:$O$1191,AW$7)","v":0},{"$f":"COUNTIFS('база 2013'!$B$4:$B$1191,$B23,'база 2013'!$I$4:$I$1191,AX$5,'база 2013'!$O$4:$O$1191,AX$7)","v":0},0,0,0,0,0,0,{"$f":"SUM(BB23:BD23)","v":0}]
[17,"Водно-моторный спорт",{"$f":"COUNTIFS('база 2013'!$B$4:$B$1191,$B24,'база 2013'!$I$4:$I$1191,C$5,'база 2013'!$O$4:$O$1191,C$7)","v":0},{"$f":"COUNTIFS('база 2013'!$B$4:$B$1191,$B24,'база 2013'!$I$4:$I$1191,D$5,'база 2013'!$O$4:$O$1191,D$7)","v":0},{"$f":"COUNTIFS('база 2013'!$B$4:$B$1191,$B24,'база 2013'!$I$4:$I$1191,E$5,'база 2013'!$O$4:$O$1191,E$7)","v":0},{"$f":"COUNTIFS('база 2013'!$B$4:$B$1191,$B24,'база 2013'!$I$4:$I$1191,F$5,'база 2013'!$O$4:$O$1191,F$7)","v":0},{"$f":"COUNTIFS('база 2013'!$B$4:$B$1191,$B24,'база 2013'!$I$4:$I$1191,G$5,'база 2013'!$O$4:$O$1191,G$7)","v":0},{"$f":"COUNTIFS('база 2013'!$B$4:$B$1191,$B24,'база 2013'!$I$4:$I$1191,H$5,'база 2013'!$O$4:$O$1191,H$7)","v":0},{"$f":"COUNTIFS('база 2013'!$B$4:$B$1191,$B24,'база 2013'!$I$4:$I$1191,I$5,'база 2013'!$O$4:$O$1191,I$7)","v":0},{"$f":"COUNTIFS('база 2013'!$B$4:$B$1191,$B24,'база 2013'!$I$4:$I$1191,J$5,'база 2013'!$O$4:$O$1191,J$7)","v":0},{"$f":"COUNTIFS('база 2013'!$B$4:$B$1191,$B24,'база 2013'!$I$4:$I$1191,K$5,'база 2013'!$O$4:$O$1191,K$7)","v":0},{"$f":"COUNTIFS('база 2013'!$B$4:$B$1191,$B24,'база 2013'!$I$4:$I$1191,L$5,'база 2013'!$O$4:$O$1191,L$7)","v":0},{"$f":"COUNTIFS('база 2013'!$B$4:$B$1191,$B24,'база 2013'!$I$4:$I$1191,M$5,'база 2013'!$O$4:$O$1191,M$7)","v":0},{"$f":"COUNTIFS('база 2013'!$B$4:$B$1191,$B24,'база 2013'!$I$4:$I$1191,N$5,'база 2013'!$O$4:$O$1191,N$7)","v":0},{"$f":"COUNTIFS('база 2013'!$B$4:$B$1191,$B24,'база 2013'!$I$4:$I$1191,O$5,'база 2013'!$O$4:$O$1191,O$7)","v":0},{"$f":"COUNTIFS('база 2013'!$B$4:$B$1191,$B24,'база 2013'!$I$4:$I$1191,P$5,'база 2013'!$O$4:$O$1191,P$7)","v":0},{"$f":"COUNTIFS('база 2013'!$B$4:$B$1191,$B24,'база 2013'!$I$4:$I$1191,Q$5,'база 2013'!$O$4:$O$1191,Q$7)","v":0},0,0,0,{"$f":"COUNTIFS('база 2013'!$B$4:$B$1191,$B24,'база 2013'!$I$4:$I$1191,U$5,'база 2013'!$O$4:$O$1191,U$7)","v":0},{"$f":"COUNTIFS('база 2013'!$B$4:$B$1191,$B24,'база 2013'!$I$4:$I$1191,V$5,'база 2013'!$O$4:$O$1191,V$7)","v":0},{"$f":"COUNTIFS('база 2013'!$B$4:$B$1191,$B24,'база 2013'!$I$4:$I$1191,W$5,'база 2013'!$O$4:$O$1191,W$7)","v":0},{"$f":"COUNTIFS('база 2013'!$B$4:$B$1191,$B24,'база 2013'!$I$4:$I$1191,X$5,'база 2013'!$O$4:$O$1191,X$7)","v":0},{"$f":"COUNTIFS('база 2013'!$B$4:$B$1191,$B24,'база 2013'!$I$4:$I$1191,Y$5,'база 2013'!$O$4:$O$1191,Y$7)","v":0},{"$f":"COUNTIFS('база 2013'!$B$4:$B$1191,$B24,'база 2013'!$I$4:$I$1191,Z$5,'база 2013'!$O$4:$O$1191,Z$7)","v":0},{"$f":"COUNTIFS('база 2013'!$B$4:$B$1191,$B24,'база 2013'!$I$4:$I$1191,AA$5,'база 2013'!$O$4:$O$1191,AA$7)","v":0},{"$f":"COUNTIFS('база 2013'!$B$4:$B$1191,$B24,'база 2013'!$I$4:$I$1191,AB$5,'база 2013'!$O$4:$O$1191,AB$7)","v":0},{"$f":"COUNTIFS('база 2013'!$B$4:$B$1191,$B24,'база 2013'!$I$4:$I$1191,AC$5,'база 2013'!$O$4:$O$1191,AC$7)","v":0},0,0,0,{"$f":"COUNTIFS('база 2013'!$B$4:$B$1191,$B24,'база 2013'!$I$4:$I$1191,AG$5,'база 2013'!$O$4:$O$1191,AG$7)","v":0},{"$f":"COUNTIFS('база 2013'!$B$4:$B$1191,$B24,'база 2013'!$I$4:$I$1191,AH$5,'база 2013'!$O$4:$O$1191,AH$7)","v":0},{"$f":"COUNTIFS('база 2013'!$B$4:$B$1191,$B24,'база 2013'!$I$4:$I$1191,AI$5,'база 2013'!$O$4:$O$1191,AI$7)","v":0},{"$f":"COUNTIFS('база 2013'!$B$4:$B$1191,$B24,'база 2013'!$I$4:$I$1191,AJ$5,'база 2013'!$O$4:$O$1191,AJ$7)","v":0},{"$f":"COUNTIFS('база 2013'!$B$4:$B$1191,$B24,'база 2013'!$I$4:$I$1191,AK$5,'база 2013'!$O$4:$O$1191,AK$7)","v":0},{"$f":"COUNTIFS('база 2013'!$B$4:$B$1191,$B24,'база 2013'!$I$4:$I$1191,AL$5,'база 2013'!$O$4:$O$1191,AL$7)","v":0},{"$f":"COUNTIFS('база 2013'!$B$4:$B$1191,$B24,'база 2013'!$I$4:$I$1191,AM$5,'база 2013'!$O$4:$O$1191,AM$7)","v":0},{"$f":"COUNTIFS('база 2013'!$B$4:$B$1191,$B24,'база 2013'!$I$4:$I$1191,AN$5,'база 2013'!$O$4:$O$1191,AN$7)","v":0},{"$f":"COUNTIFS('база 2013'!$B$4:$B$1191,$B24,'база 2013'!$I$4:$I$1191,AO$5,'база 2013'!$O$4:$O$1191,AO$7)","v":0},{"$f":"COUNTIFS('база 2013'!$B$4:$B$1191,$B24,'база 2013'!$I$4:$I$1191,AP$5,'база 2013'!$O$4:$O$1191,AP$7)","v":0},{"$f":"COUNTIFS('база 2013'!$B$4:$B$1191,$B24,'база 2013'!$I$4:$I$1191,AQ$5,'база 2013'!$O$4:$O$1191,AQ$7)","v":0},{"$f":"COUNTIFS('база 2013'!$B$4:$B$1191,$B24,'база 2013'!$I$4:$I$1191,AR$5,'база 2013'!$O$4:$O$1191,AR$7)","v":0},{"$f":"COUNTIFS('база 2013'!$B$4:$B$1191,$B24,'база 2013'!$I$4:$I$1191,AS$5,'база 2013'!$O$4:$O$1191,AS$7)","v":0},{"$f":"COUNTIFS('база 2013'!$B$4:$B$1191,$B24,'база 2013'!$I$4:$I$1191,AT$5,'база 2013'!$O$4:$O$1191,AT$7)","v":0},{"$f":"COUNTIFS('база 2013'!$B$4:$B$1191,$B24,'база 2013'!$I$4:$I$1191,AU$5,'база 2013'!$O$4:$O$1191,AU$7)","v":0},{"$f":"COUNTIFS('база 2013'!$B$4:$B$1191,$B24,'база 2013'!$I$4:$I$1191,AV$5,'база 2013'!$O$4:$O$1191,AV$7)","v":0},{"$f":"COUNTIFS('база 2013'!$B$4:$B$1191,$B24,'база 2013'!$I$4:$I$1191,AW$5,'база 2013'!$O$4:$O$1191,AW$7)","v":0},{"$f":"COUNTIFS('база 2013'!$B$4:$B$1191,$B24,'база 2013'!$I$4:$I$1191,AX$5,'база 2013'!$O$4:$O$1191,AX$7)","v":0},0,0,0,0,0,0,0]
[18,"Водное поло",{"$f":"COUNTIFS('база 2013'!$B$4:$B$1191,$B25,'база 2013'!$I$4:$I$1191,C$5,'база 2013'!$O$4:$O$1191,C$7)","v":0},{"$f":"COUNTIFS('база 2013'!$B$4:$B$1191,$B25,'база 2013'!$I$4:$I$1191,D$5,'база 2013'!$O$4:$O$1191,D$7)","v":0},{"$f":"COUNTIFS('база 2013'!$B$4:$B$1191,$B25,'база 2013'!$I$4:$I$1191,E$5,'база 2013'!$O$4:$O$1191,E$7)","v":0},{"$f":"COUNTIFS('база 2013'!$B$4:$B$1191,$B25,'база 2013'!$I$4:$I$1191,F$5,'база 2013'!$O$4:$O$1191,F$7)","v":0},{"$f":"COUNTIFS('база 2013'!$B$4:$B$1191,$B25,'база 2013'!$I$4:$I$1191,G$5,'база 2013'!$O$4:$O$1191,G$7)","v":0},{"$f":"COUNTIFS('база 2013'!$B$4:$B$1191,$B25,'база 2013'!$I$4:$I$1191,H$5,'база 2013'!$O$4:$O$1191,H$7)","v":0},{"$f":"COUNTIFS('база 2013'!$B$4:$B$1191,$B25,'база 2013'!$I$4:$I$1191,I$5,'база 2013'!$O$4:$O$1191,I$7)","v":0},{"$f":"COUNTIFS('база 2013'!$B$4:$B$1191,$B25,'база 2013'!$I$4:$I$1191,J$5,'база 2013'!$O$4:$O$1191,J$7)","v":0},{"$f":"COUNTIFS('база 2013'!$B$4:$B$1191,$B25,'база 2013'!$I$4:$I$1191,K$5,'база 2013'!$O$4:$O$1191,K$7)","v":0},{"$f":"COUNTIFS('база 2013'!$B$4:$B$1191,$B25,'база 2013'!$I$4:$I$1191,L$5,'база 2013'!$O$4:$O$1191,L$7)","v":0},{"$f":"COUNTIFS('база 2013'!$B$4:$B$1191,$B25,'база 2013'!$I$4:$I$1191,M$5,'база 2013'!$O$4:$O$1191,M$7)","v":0},{"$f":"COUNTIFS('база 2013'!$B$4:$B$1191,$B25,'база 2013'!$I$4:$I$1191,N$5,'база 2013'!$O$4:$O$1191,N$7)","v":0},{"$f":"COUNTIFS('база 2013'!$B$4:$B$1191,$B25,'база 2013'!$I$4:$I$1191,O$5,'база 2013'!$O$4:$O$1191,O$7)","v":0},{"$f":"COUNTIFS('база 2013'!$B$4:$B$1191,$B25,'база 2013'!$I$4:$I$1191,P$5,'база 2013'!$O$4:$O$1191,P$7)","v":0},{"$f":"COUNTIFS('база 2013'!$B$4:$B$1191,$B25,'база 2013'!$I$4:$I$1191,Q$5,'база 2013'!$O$4:$O$1191,Q$7)","v":0},{"$f":"SUMIF($F$7:$Q$7,$R$7,F25:Q25)","v":0},0,0,{"$f":"COUNTIFS('база 2013'!$B$4:$B$1191,$B25,'база 2013'!$I$4:$I$1191,U$5,'база 2013'!$O$4:$O$1191,U$7)","v":0},{"$f":"COUNTIFS('база 2013'!$B$4:$B$1191,$B25,'база 2013'!$I$4:$I$1191,V$5,'база 2013'!$O$4:$O$1191,V$7)","v":0},{"$f":"COUNTIFS('база 2013'!$B$4:$B$1191,$B25,'база 2013'!$I$4:$I$1191,W$5,'база 2013'!$O$4:$O$1191,W$7)","v":0},{"$f":"COUNTIFS('база 2013'!$B$4:$B$1191,$B25,'база 2013'!$I$4:$I$1191,X$5,'база 2013'!$O$4:$O$1191,X$7)","v":0},{"$f":"COUNTIFS('база 2013'!$B$4:$B$1191,$B25,'база 2013'!$I$4:$I$1191,Y$5,'база 2013'!$O$4:$O$1191,Y$7)","v":0},{"$f":"COUNTIFS('база 2013'!$B$4:$B$1191,$B25,'база 2013'!$I$4:$I$1191,Z$5,'база 2013'!$O$4:$O$1191,Z$7)","v":0},{"$f":"COUNTIFS('база 2013'!$B$4:$B$1191,$B25,'база 2013'!$I$4:$I$1191,AA$5,'база 2013'!$O$4:$O$1191,AA$7)","v":0},{"$f":"COUNTIFS('база 2013'!$B$4:$B$1191,$B25,'база 2013'!$I$4:$I$1191,AB$5,'база 2013'!$O$4:$O$1191,AB$7)","v":0},{"$f":"COUNTIFS('база 2013'!$B$4:$B$1191,$B25,'база 2013'!$I$4:$I$1191,AC$5,'база 2013'!$O$4:$O$1191,AC$7)","v":0},0,0,0,{"$f":"COUNTIFS('база 2013'!$B$4:$B$1191,$B25,'база 2013'!$I$4:$I$1191,AG$5,'база 2013'!$O$4:$O$1191,AG$7)","v":0},{"$f":"COUNTIFS('база 2013'!$B$4:$B$1191,$B25,'база 2013'!$I$4:$I$1191,AH$5,'база 2013'!$O$4:$O$1191,AH$7)","v":0},{"$f":"COUNTIFS('база 2013'!$B$4:$B$1191,$B25,'база 2013'!$I$4:$I$1191,AI$5,'база 2013'!$O$4:$O$1191,AI$7)","v":0},{"$f":"COUNTIFS('база 2013'!$B$4:$B$1191,$B25,'база 2013'!$I$4:$I$1191,AJ$5,'база 2013'!$O$4:$O$1191,AJ$7)","v":0},{"$f":"COUNTIFS('база 2013'!$B$4:$B$1191,$B25,'база 2013'!$I$4:$I$1191,AK$5,'база 2013'!$O$4:$O$1191,AK$7)","v":0},{"$f":"COUNTIFS('база 2013'!$B$4:$B$1191,$B25,'база 2013'!$I$4:$I$1191,AL$5,'база 2013'!$O$4:$O$1191,AL$7)","v":0},{"$f":"COUNTIFS('база 2013'!$B$4:$B$1191,$B25,'база 2013'!$I$4:$I$1191,AM$5,'база 2013'!$O$4:$O$1191,AM$7)","v":0},{"$f":"COUNTIFS('база 2013'!$B$4:$B$1191,$B25,'база 2013'!$I$4:$I$1191,AN$5,'база 2013'!$O$4:$O$1191,AN$7)","v":0},{"$f":"COUNTIFS('база 2013'!$B$4:$B$1191,$B25,'база 2013'!$I$4:$I$1191,AO$5,'база 2013'!$O$4:$O$1191,AO$7)","v":0},{"$f":"COUNTIFS('база 2013'!$B$4:$B$1191,$B25,'база 2013'!$I$4:$I$1191,AP$5,'база 2013'!$O$4:$O$1191,AP$7)","v":0},{"$f":"COUNTIFS('база 2013'!$B$4:$B$1191,$B25,'база 2013'!$I$4:$I$1191,AQ$5,'база 2013'!$O$4:$O$1191,AQ$7)","v":0},{"$f":"COUNTIFS('база 2013'!$B$4:$B$1191,$B25,'база 2013'!$I$4:$I$1191,AR$5,'база 2013'!$O$4:$O$1191,AR$7)","v":0},{"$f":"COUNTIFS('база 2013'!$B$4:$B$1191,$B25,'база 2013'!$I$4:$I$1191,AS$5,'база 2013'!$O$4:$O$1191,AS$7)","v":0},{"$f":"COUNTIFS('база 2013'!$B$4:$B$1191,$B25,'база 2013'!$I$4:$I$1191,AT$5,'база 2013'!$O$4:$O$1191,AT$7)","v":0},{"$f":"COUNTIFS('база 2013'!$B$4:$B$1191,$B25,'база 2013'!$I$4:$I$1191,AU$5,'база 2013'!$O$4:$O$1191,AU$7)","v":0},{"$f":"COUNTIFS('база 2013'!$B$4:$B$1191,$B25,'база 2013'!$I$4:$I$1191,AV$5,'база 2013'!$O$4:$O$1191,AV$7)","v":0},{"$f":"COUNTIFS('база 2013'!$B$4:$B$1191,$B25,'база 2013'!$I$4:$I$1191,AW$5,'база 2013'!$O$4:$O$1191,AW$7)","v":0},{"$f":"COUNTIFS('база 2013'!$B$4:$B$1191,$B25,'база 2013'!$I$4:$I$1191,AX$5,'база 2013'!$O$4:$O$1191,AX$7)","v":0},0,0,0,0,0,0,{"$f":"SUM(BB25:BD25)","v":0}]
[19,"Волейбол",{"$f":"COUNTIFS('база 2013'!$B$4:$B$1191,$B26,'база 2013'!$I$4:$I$1191,C$5,'база 2013'!$O$4:$O$1191,C$7)","v":0},{"$f":"COUNTIFS('база 2013'!$B$4:$B$1191,$B26,'база 2013'!$I$4:$I$1191,D$5,'база 2013'!$O$4:$O$1191,D$7)","v":0},{"$f":"COUNTIFS('база 2013'!$B$4:$B$1191,$B26,'база 2013'!$I$4:$I$1191,E$5,'база 2013'!$O$4:$O$1191,E$7)","v":0},{"$f":"COUNTIFS('база 2013'!$B$4:$B$1191,$B26,'база 2013'!$I$4:$I$1191,F$5,'база 2013'!$O$4:$O$1191,F$7)","v":0},{"$f":"COUNTIFS('база 2013'!$B$4:$B$1191,$B26,'база 2013'!$I$4:$I$1191,G$5,'база 2013'!$O$4:$O$1191,G$7)","v":0},{"$f":"COUNTIFS('база 2013'!$B$4:$B$1191,$B26,'база 2013'!$I$4:$I$1191,H$5,'база 2013'!$O$4:$O$1191,H$7)","v":0},{"$f":"COUNTIFS('база 2013'!$B$4:$B$1191,$B26,'база 2013'!$I$4:$I$1191,I$5,'база 2013'!$O$4:$O$1191,I$7)","v":0},{"$f":"COUNTIFS('база 2013'!$B$4:$B$1191,$B26,'база 2013'!$I$4:$I$1191,J$5,'база 2013'!$O$4:$O$1191,J$7)","v":0},{"$f":"COUNTIFS('база 2013'!$B$4:$B$1191,$B26,'база 2013'!$I$4:$I$1191,K$5,'база 2013'!$O$4:$O$1191,K$7)","v":0},{"$f":"COUNTIFS('база 2013'!$B$4:$B$1191,$B26,'база 2013'!$I$4:$I$1191,L$5,'база 2013'!$O$4:$O$1191,L$7)","v":0},{"$f":"COUNTIFS('база 2013'!$B$4:$B$1191,$B26,'база 2013'!$I$4:$I$1191,M$5,'база 2013'!$O$4:$O$1191,M$7)","v":0},{"$f":"COUNTIFS('база 2013'!$B$4:$B$1191,$B26,'база 2013'!$I$4:$I$1191,N$5,'база 2013'!$O$4:$O$1191,N$7)","v":0},{"$f":"COUNTIFS('база 2013'!$B$4:$B$1191,$B26,'база 2013'!$I$4:$I$1191,O$5,'база 2013'!$O$4:$O$1191,O$7)","v":0},{"$f":"COUNTIFS('база 2013'!$B$4:$B$1191,$B26,'база 2013'!$I$4:$I$1191,P$5,'база 2013'!$O$4:$O$1191,P$7)","v":0},{"$f":"COUNTIFS('база 2013'!$B$4:$B$1191,$B26,'база 2013'!$I$4:$I$1191,Q$5,'база 2013'!$O$4:$O$1191,Q$7)","v":0},0,0,0,{"$f":"COUNTIFS('база 2013'!$B$4:$B$1191,$B26,'база 2013'!$I$4:$I$1191,U$5,'база 2013'!$O$4:$O$1191,U$7)","v":0},{"$f":"COUNTIFS('база 2013'!$B$4:$B$1191,$B26,'база 2013'!$I$4:$I$1191,V$5,'база 2013'!$O$4:$O$1191,V$7)","v":0},{"$f":"COUNTIFS('база 2013'!$B$4:$B$1191,$B26,'база 2013'!$I$4:$I$1191,W$5,'база 2013'!$O$4:$O$1191,W$7)","v":0},{"$f":"COUNTIFS('база 2013'!$B$4:$B$1191,$B26,'база 2013'!$I$4:$I$1191,X$5,'база 2013'!$O$4:$O$1191,X$7)","v":0},{"$f":"COUNTIFS('база 2013'!$B$4:$B$1191,$B26,'база 2013'!$I$4:$I$1191,Y$5,'база 2013'!$O$4:$O$1191,Y$7)","v":0},{"$f":"COUNTIFS('база 2013'!$B$4:$B$1191,$B26,'база 2013'!$I$4:$I$1191,Z$5,'база 2013'!$O$4:$O$1191,Z$7)","v":0},{"$f":"COUNTIFS('база 2013'!$B$4:$B$1191,$B26,'база 2013'!$I$4:$I$1191,AA$5,'база 2013'!$O$4:$O$1191,AA$7)","v":0},{"$f":"COUNTIFS('база 2013'!$B$4:$B$1191,$B26,'база 2013'!$I$4:$I$1191,AB$5,'база 2013'!$O$4:$O$1191,AB$7)","v":0},{"$f":"COUNTIFS('база 2013'!$B$4:$B$1191,$B26,'база 2013'!$I$4:$I$1191,AC$5,'база 2013'!$O$4:$O$1191,AC$7)","v":0},0,0,0,{"$f":"COUNTIFS('база 2013'!$B$4:$B$1191,$B26,'база 2013'!$I$4:$I$1191,AG$5,'база 2013'!$O$4:$O$1191,AG$7)","v":0},{"$f":"COUNTIFS('база 2013'!$B$4:$B$1191,$B26,'база 2013'!$I$4:$I$1191,AH$5,'база 2013'!$O$4:$O$1191,AH$7)","v":0},{"$f":"COUNTIFS('база 2013'!$B$4:$B$1191,$B26,'база 2013'!$I$4:$I$1191,AI$5,'база 2013'!$O$4:$O$1191,AI$7)","v":0},{"$f":"COUNTIFS('база 2013'!$B$4:$B$1191,$B26,'база 2013'!$I$4:$I$1191,AJ$5,'база 2013'!$O$4:$O$1191,AJ$7)","v":0},{"$f":"COUNTIFS('база 2013'!$B$4:$B$1191,$B26,'база 2013'!$I$4:$I$1191,AK$5,'база 2013'!$O$4:$O$1191,AK$7)","v":0},{"$f":"COUNTIFS('база 2013'!$B$4:$B$1191,$B26,'база 2013'!$I$4:$I$1191,AL$5,'база 2013'!$O$4:$O$1191,AL$7)","v":0},{"$f":"COUNTIFS('база 2013'!$B$4:$B$1191,$B26,'база 2013'!$I$4:$I$1191,AM$5,'база 2013'!$O$4:$O$1191,AM$7)","v":0},{"$f":"COUNTIFS('база 2013'!$B$4:$B$1191,$B26,'база 2013'!$I$4:$I$1191,AN$5,'база 2013'!$O$4:$O$1191,AN$7)","v":0},{"$f":"COUNTIFS('база 2013'!$B$4:$B$1191,$B26,'база 2013'!$I$4:$I$1191,AO$5,'база 2013'!$O$4:$O$1191,AO$7)","v":0},{"$f":"COUNTIFS('база 2013'!$B$4:$B$1191,$B26,'база 2013'!$I$4:$I$1191,AP$5,'база 2013'!$O$4:$O$1191,AP$7)","v":0},{"$f":"COUNTIFS('база 2013'!$B$4:$B$1191,$B26,'база 2013'!$I$4:$I$1191,AQ$5,'база 2013'!$O$4:$O$1191,AQ$7)","v":0},{"$f":"COUNTIFS('база 2013'!$B$4:$B$1191,$B26,'база 2013'!$I$4:$I$1191,AR$5,'база 2013'!$O$4:$O$1191,AR$7)","v":0},{"$f":"COUNTIFS('база 2013'!$B$4:$B$1191,$B26,'база 2013'!$I$4:$I$1191,AS$5,'база 2013'!$O$4:$O$1191,AS$7)","v":0},{"$f":"COUNTIFS('база 2013'!$B$4:$B$1191,$B26,'база 2013'!$I$4:$I$1191,AT$5,'база 2013'!$O$4:$O$1191,AT$7)","v":0},{"$f":"COUNTIFS('база 2013'!$B$4:$B$1191,$B26,'база 2013'!$I$4:$I$1191,AU$5,'база 2013'!$O$4:$O$1191,AU$7)","v":0},{"$f":"COUNTIFS('база 2013'!$B$4:$B$1191,$B26,'база 2013'!$I$4:$I$1191,AV$5,'база 2013'!$O$4:$O$1191,AV$7)","v":0},{"$f":"COUNTIFS('база 2013'!$B$4:$B$1191,$B26,'база 2013'!$I$4:$I$1191,AW$5,'база 2013'!$O$4:$O$1191,AW$7)","v":0},{"$f":"COUNTIFS('база 2013'!$B$4:$B$1191,$B26,'база 2013'!$I$4:$I$1191,AX$5,'база 2013'!$O$4:$O$1191,AX$7)","v":0},0,0,0,0,0,0,0]
[20,"Восточное боевое единоборство",{"$f":"COUNTIFS('база 2013'!$B$4:$B$1191,$B27,'база 2013'!$I$4:$I$1191,C$5,'база 2013'!$O$4:$O$1191,C$7)","v":0},{"$f":"COUNTIFS('база 2013'!$B$4:$B$1191,$B27,'база 2013'!$I$4:$I$1191,D$5,'база 2013'!$O$4:$O$1191,D$7)","v":0},{"$f":"COUNTIFS('база 2013'!$B$4:$B$1191,$B27,'база 2013'!$I$4:$I$1191,E$5,'база 2013'!$O$4:$O$1191,E$7)","v":0},{"$f":"COUNTIFS('база 2013'!$B$4:$B$1191,$B27,'база 2013'!$I$4:$I$1191,F$5,'база 2013'!$O$4:$O$1191,F$7)","v":0},{"$f":"COUNTIFS('база 2013'!$B$4:$B$1191,$B27,'база 2013'!$I$4:$I$1191,G$5,'база 2013'!$O$4:$O$1191,G$7)","v":0},{"$f":"COUNTIFS('база 2013'!$B$4:$B$1191,$B27,'база 2013'!$I$4:$I$1191,H$5,'база 2013'!$O$4:$O$1191,H$7)","v":0},{"$f":"COUNTIFS('база 2013'!$B$4:$B$1191,$B27,'база 2013'!$I$4:$I$1191,I$5,'база 2013'!$O$4:$O$1191,I$7)","v":0},{"$f":"COUNTIFS('база 2013'!$B$4:$B$1191,$B27,'база 2013'!$I$4:$I$1191,J$5,'база 2013'!$O$4:$O$1191,J$7)","v":0},{"$f":"COUNTIFS('база 2013'!$B$4:$B$1191,$B27,'база 2013'!$I$4:$I$1191,K$5,'база 2013'!$O$4:$O$1191,K$7)","v":0},{"$f":"COUNTIFS('база 2013'!$B$4:$B$1191,$B27,'база 2013'!$I$4:$I$1191,L$5,'база 2013'!$O$4:$O$1191,L$7)","v":0},{"$f":"COUNTIFS('база 2013'!$B$4:$B$1191,$B27,'база 2013'!$I$4:$I$1191,M$5,'база 2013'!$O$4:$O$1191,M$7)","v":0},{"$f":"COUNTIFS('база 2013'!$B$4:$B$1191,$B27,'база 2013'!$I$4:$I$1191,N$5,'база 2013'!$O$4:$O$1191,N$7)","v":0},{"$f":"COUNTIFS('база 2013'!$B$4:$B$1191,$B27,'база 2013'!$I$4:$I$1191,O$5,'база 2013'!$O$4:$O$1191,O$7)","v":0},{"$f":"COUNTIFS('база 2013'!$B$4:$B$1191,$B27,'база 2013'!$I$4:$I$1191,P$5,'база 2013'!$O$4:$O$1191,P$7)","v":0},{"$f":"COUNTIFS('база 2013'!$B$4:$B$1191,$B27,'база 2013'!$I$4:$I$1191,Q$5,'база 2013'!$O$4:$O$1191,Q$7)","v":0},0,0,0,{"$f":"COUNTIFS('база 2013'!$B$4:$B$1191,$B27,'база 2013'!$I$4:$I$1191,U$5,'база 2013'!$O$4:$O$1191,U$7)","v":0},{"$f":"COUNTIFS('база 2013'!$B$4:$B$1191,$B27,'база 2013'!$I$4:$I$1191,V$5,'база 2013'!$O$4:$O$1191,V$7)","v":0},{"$f":"COUNTIFS('база 2013'!$B$4:$B$1191,$B27,'база 2013'!$I$4:$I$1191,W$5,'база 2013'!$O$4:$O$1191,W$7)","v":0},{"$f":"COUNTIFS('база 2013'!$B$4:$B$1191,$B27,'база 2013'!$I$4:$I$1191,X$5,'база 2013'!$O$4:$O$1191,X$7)","v":0},{"$f":"COUNTIFS('база 2013'!$B$4:$B$1191,$B27,'база 2013'!$I$4:$I$1191,Y$5,'база 2013'!$O$4:$O$1191,Y$7)","v":0},{"$f":"COUNTIFS('база 2013'!$B$4:$B$1191,$B27,'база 2013'!$I$4:$I$1191,Z$5,'база 2013'!$O$4:$O$1191,Z$7)","v":0},{"$f":"COUNTIFS('база 2013'!$B$4:$B$1191,$B27,'база 2013'!$I$4:$I$1191,AA$5,'база 2013'!$O$4:$O$1191,AA$7)","v":0},{"$f":"COUNTIFS('база 2013'!$B$4:$B$1191,$B27,'база 2013'!$I$4:$I$1191,AB$5,'база 2013'!$O$4:$O$1191,AB$7)","v":0},{"$f":"COUNTIFS('база 2013'!$B$4:$B$1191,$B27,'база 2013'!$I$4:$I$1191,AC$5,'база 2013'!$O$4:$O$1191,AC$7)","v":0},0,0,0,{"$f":"COUNTIFS('база 2013'!$B$4:$B$1191,$B27,'база 2013'!$I$4:$I$1191,AG$5,'база 2013'!$O$4:$O$1191,AG$7)","v":0},{"$f":"COUNTIFS('база 2013'!$B$4:$B$1191,$B27,'база 2013'!$I$4:$I$1191,AH$5,'база 2013'!$O$4:$O$1191,AH$7)","v":0},{"$f":"COUNTIFS('база 2013'!$B$4:$B$1191,$B27,'база 2013'!$I$4:$I$1191,AI$5,'база 2013'!$O$4:$O$1191,AI$7)","v":0},{"$f":"COUNTIFS('база 2013'!$B$4:$B$1191,$B27,'база 2013'!$I$4:$I$1191,AJ$5,'база 2013'!$O$4:$O$1191,AJ$7)","v":0},{"$f":"COUNTIFS('база 2013'!$B$4:$B$1191,$B27,'база 2013'!$I$4:$I$1191,AK$5,'база 2013'!$O$4:$O$1191,AK$7)","v":0},{"$f":"COUNTIFS('база 2013'!$B$4:$B$1191,$B27,'база 2013'!$I$4:$I$1191,AL$5,'база 2013'!$O$4:$O$1191,AL$7)","v":0},{"$f":"COUNTIFS('база 2013'!$B$4:$B$1191,$B27,'база 2013'!$I$4:$I$1191,AM$5,'база 2013'!$O$4:$O$1191,AM$7)","v":0},{"$f":"COUNTIFS('база 2013'!$B$4:$B$1191,$B27,'база 2013'!$I$4:$I$1191,AN$5,'база 2013'!$O$4:$O$1191,AN$7)","v":0},{"$f":"COUNTIFS('база 2013'!$B$4:$B$1191,$B27,'база 2013'!$I$4:$I$1191,AO$5,'база 2013'!$O$4:$O$1191,AO$7)","v":0},{"$f":"COUNTIFS('база 2013'!$B$4:$B$1191,$B27,'база 2013'!$I$4:$I$1191,AP$5,'база 2013'!$O$4:$O$1191,AP$7)","v":0},{"$f":"COUNTIFS('база 2013'!$B$4:$B$1191,$B27,'база 2013'!$I$4:$I$1191,AQ$5,'база 2013'!$O$4:$O$1191,AQ$7)","v":0},{"$f":"COUNTIFS('база 2013'!$B$4:$B$1191,$B27,'база 2013'!$I$4:$I$1191,AR$5,'база 2013'!$O$4:$O$1191,AR$7)","v":0},{"$f":"COUNTIFS('база 2013'!$B$4:$B$1191,$B27,'база 2013'!$I$4:$I$1191,AS$5,'база 2013'!$O$4:$O$1191,AS$7)","v":0},{"$f":"COUNTIFS('база 2013'!$B$4:$B$1191,$B27,'база 2013'!$I$4:$I$1191,AT$5,'база 2013'!$O$4:$O$1191,AT$7)","v":0},{"$f":"COUNTIFS('база 2013'!$B$4:$B$1191,$B27,'база 2013'!$I$4:$I$1191,AU$5,'база 2013'!$O$4:$O$1191,AU$7)","v":0},{"$f":"COUNTIFS('база 2013'!$B$4:$B$1191,$B27,'база 2013'!$I$4:$I$1191,AV$5,'база 2013'!$O$4:$O$1191,AV$7)","v":0},{"$f":"COUNTIFS('база 2013'!$B$4:$B$1191,$B27,'база 2013'!$I$4:$I$1191,AW$5,'база 2013'!$O$4:$O$1191,AW$7)","v":0},{"$f":"COUNTIFS('база 2013'!$B$4:$B$1191,$B27,'база 2013'!$I$4:$I$1191,AX$5,'база 2013'!$O$4:$O$1191,AX$7)","v":0},0,0,0,0,0,0,{"$f":"SUM(BB27:BD27)","v":0}]
[21,"Пляжный волейбол",{"$f":"COUNTIFS('база 2013'!$B$4:$B$1191,$B28,'база 2013'!$I$4:$I$1191,C$5,'база 2013'!$O$4:$O$1191,C$7)","v":0},{"$f":"COUNTIFS('база 2013'!$B$4:$B$1191,$B28,'база 2013'!$I$4:$I$1191,D$5,'база 2013'!$O$4:$O$1191,D$7)","v":0},{"$f":"COUNTIFS('база 2013'!$B$4:$B$1191,$B28,'база 2013'!$I$4:$I$1191,E$5,'база 2013'!$O$4:$O$1191,E$7)","v":0},{"$f":"COUNTIFS('база 2013'!$B$4:$B$1191,$B28,'база 2013'!$I$4:$I$1191,F$5,'база 2013'!$O$4:$O$1191,F$7)","v":0},{"$f":"COUNTIFS('база 2013'!$B$4:$B$1191,$B28,'база 2013'!$I$4:$I$1191,G$5,'база 2013'!$O$4:$O$1191,G$7)","v":0},{"$f":"COUNTIFS('база 2013'!$B$4:$B$1191,$B28,'база 2013'!$I$4:$I$1191,H$5,'база 2013'!$O$4:$O$1191,H$7)","v":0},{"$f":"COUNTIFS('база 2013'!$B$4:$B$1191,$B28,'база 2013'!$I$4:$I$1191,I$5,'база 2013'!$O$4:$O$1191,I$7)","v":0},{"$f":"COUNTIFS('база 2013'!$B$4:$B$1191,$B28,'база 2013'!$I$4:$I$1191,J$5,'база 2013'!$O$4:$O$1191,J$7)","v":0},{"$f":"COUNTIFS('база 2013'!$B$4:$B$1191,$B28,'база 2013'!$I$4:$I$1191,K$5,'база 2013'!$O$4:$O$1191,K$7)","v":0},{"$f":"COUNTIFS('база 2013'!$B$4:$B$1191,$B28,'база 2013'!$I$4:$I$1191,L$5,'база 2013'!$O$4:$O$1191,L$7)","v":0},{"$f":"COUNTIFS('база 2013'!$B$4:$B$1191,$B28,'база 2013'!$I$4:$I$1191,M$5,'база 2013'!$O$4:$O$1191,M$7)","v":0},{"$f":"COUNTIFS('база 2013'!$B$4:$B$1191,$B28,'база 2013'!$I$4:$I$1191,N$5,'база 2013'!$O$4:$O$1191,N$7)","v":0},{"$f":"COUNTIFS('база 2013'!$B$4:$B$1191,$B28,'база 2013'!$I$4:$I$1191,O$5,'база 2013'!$O$4:$O$1191,O$7)","v":0},{"$f":"COUNTIFS('база 2013'!$B$4:$B$1191,$B28,'база 2013'!$I$4:$I$1191,P$5,'база 2013'!$O$4:$O$1191,P$7)","v":0},{"$f":"COUNTIFS('база 2013'!$B$4:$B$1191,$B28,'база 2013'!$I$4:$I$1191,Q$5,'база 2013'!$O$4:$O$1191,Q$7)","v":0},0,0,0,{"$f":"COUNTIFS('база 2013'!$B$4:$B$1191,$B28,'база 2013'!$I$4:$I$1191,U$5,'база 2013'!$O$4:$O$1191,U$7)","v":0},{"$f":"COUNTIFS('база 2013'!$B$4:$B$1191,$B28,'база 2013'!$I$4:$I$1191,V$5,'база 2013'!$O$4:$O$1191,V$7)","v":0},{"$f":"COUNTIFS('база 2013'!$B$4:$B$1191,$B28,'база 2013'!$I$4:$I$1191,W$5,'база 2013'!$O$4:$O$1191,W$7)","v":0},{"$f":"COUNTIFS('база 2013'!$B$4:$B$1191,$B28,'база 2013'!$I$4:$I$1191,X$5,'база 2013'!$O$4:$O$1191,X$7)","v":0},{"$f":"COUNTIFS('база 2013'!$B$4:$B$1191,$B28,'база 2013'!$I$4:$I$1191,Y$5,'база 2013'!$O$4:$O$1191,Y$7)","v":0},{"$f":"COUNTIFS('база 2013'!$B$4:$B$1191,$B28,'база 2013'!$I$4:$I$1191,Z$5,'база 2013'!$O$4:$O$1191,Z$7)","v":0},{"$f":"COUNTIFS('база 2013'!$B$4:$B$1191,$B28,'база 2013'!$I$4:$I$1191,AA$5,'база 2013'!$O$4:$O$1191,AA$7)","v":0},{"$f":"COUNTIFS('база 2013'!$B$4:$B$1191,$B28,'база 2013'!$I$4:$I$1191,AB$5,'база 2013'!$O$4:$O$1191,AB$7)","v":0},{"$f":"COUNTIFS('база 2013'!$B$4:$B$1191,$B28,'база 2013'!$I$4:$I$1191,AC$5,'база 2013'!$O$4:$O$1191,AC$7)","v":0},0,0,0,{"$f":"COUNTIFS('база 2013'!$B$4:$B$1191,$B28,'база 2013'!$I$4:$I$1191,AG$5,'база 2013'!$O$4:$O$1191,AG$7)","v":0},{"$f":"COUNTIFS('база 2013'!$B$4:$B$1191,$B28,'база 2013'!$I$4:$I$1191,AH$5,'база 2013'!$O$4:$O$1191,AH$7)","v":0},{"$f":"COUNTIFS('база 2013'!$B$4:$B$1191,$B28,'база 2013'!$I$4:$I$1191,AI$5,'база 2013'!$O$4:$O$1191,AI$7)","v":0},{"$f":"COUNTIFS('база 2013'!$B$4:$B$1191,$B28,'база 2013'!$I$4:$I$1191,AJ$5,'база 2013'!$O$4:$O$1191,AJ$7)","v":0},{"$f":"COUNTIFS('база 2013'!$B$4:$B$1191,$B28,'база 2013'!$I$4:$I$1191,AK$5,'база 2013'!$O$4:$O$1191,AK$7)","v":0},{"$f":"COUNTIFS('база 2013'!$B$4:$B$1191,$B28,'база 2013'!$I$4:$I$1191,AL$5,'база 2013'!$O$4:$O$1191,AL$7)","v":0},{"$f":"COUNTIFS('база 2013'!$B$4:$B$1191,$B28,'база 2013'!$I$4:$I$1191,AM$5,'база 2013'!$O$4:$O$1191,AM$7)","v":0},{"$f":"COUNTIFS('база 2013'!$B$4:$B$1191,$B28,'база 2013'!$I$4:$I$1191,AN$5,'база 2013'!$O$4:$O$1191,AN$7)","v":0},{"$f":"COUNTIFS('база 2013'!$B$4:$B$1191,$B28,'база 2013'!$I$4:$I$1191,AO$5,'база 2013'!$O$4:$O$1191,AO$7)","v":0},{"$f":"COUNTIFS('база 2013'!$B$4:$B$1191,$B28,'база 2013'!$I$4:$I$1191,AP$5,'база 2013'!$O$4:$O$1191,AP$7)","v":0},{"$f":"COUNTIFS('база 2013'!$B$4:$B$1191,$B28,'база 2013'!$I$4:$I$1191,AQ$5,'база 2013'!$O$4:$O$1191,AQ$7)","v":0},{"$f":"COUNTIFS('база 2013'!$B$4:$B$1191,$B28,'база 2013'!$I$4:$I$1191,AR$5,'база 2013'!$O$4:$O$1191,AR$7)","v":0},{"$f":"COUNTIFS('база 2013'!$B$4:$B$1191,$B28,'база 2013'!$I$4:$I$1191,AS$5,'база 2013'!$O$4:$O$1191,AS$7)","v":0},{"$f":"COUNTIFS('база 2013'!$B$4:$B$1191,$B28,'база 2013'!$I$4:$I$1191,AT$5,'база 2013'!$O$4:$O$1191,AT$7)","v":0},{"$f":"COUNTIFS('база 2013'!$B$4:$B$1191,$B28,'база 2013'!$I$4:$I$1191,AU$5,'база 2013'!$O$4:$O$1191,AU$7)","v":0},{"$f":"COUNTIFS('база 2013'!$B$4:$B$1191,$B28,'база 2013'!$I$4:$I$1191,AV$5,'база 2013'!$O$4:$O$1191,AV$7)","v":0},{"$f":"COUNTIFS('база 2013'!$B$4:$B$1191,$B28,'база 2013'!$I$4:$I$1191,AW$5,'база 2013'!$O$4:$O$1191,AW$7)","v":0},{"$f":"COUNTIFS('база 2013'!$B$4:$B$1191,$B28,'база 2013'!$I$4:$I$1191,AX$5,'база 2013'!$O$4:$O$1191,AX$7)","v":0},0,0,0,0,0,0,0]
[22,"Гандбол",{"$f":"COUNTIFS('база 2013'!$B$4:$B$1191,$B29,'база 2013'!$I$4:$I$1191,C$5,'база 2013'!$O$4:$O$1191,C$7)","v":0},{"$f":"COUNTIFS('база 2013'!$B$4:$B$1191,$B29,'база 2013'!$I$4:$I$1191,D$5,'база 2013'!$O$4:$O$1191,D$7)","v":0},{"$f":"COUNTIFS('база 2013'!$B$4:$B$1191,$B29,'база 2013'!$I$4:$I$1191,E$5,'база 2013'!$O$4:$O$1191,E$7)","v":0},{"$f":"COUNTIFS('база 2013'!$B$4:$B$1191,$B29,'база 2013'!$I$4:$I$1191,F$5,'база 2013'!$O$4:$O$1191,F$7)","v":0},{"$f":"COUNTIFS('база 2013'!$B$4:$B$1191,$B29,'база 2013'!$I$4:$I$1191,G$5,'база 2013'!$O$4:$O$1191,G$7)","v":0},{"$f":"COUNTIFS('база 2013'!$B$4:$B$1191,$B29,'база 2013'!$I$4:$I$1191,H$5,'база 2013'!$O$4:$O$1191,H$7)","v":0},{"$f":"COUNTIFS('база 2013'!$B$4:$B$1191,$B29,'база 2013'!$I$4:$I$1191,I$5,'база 2013'!$O$4:$O$1191,I$7)","v":0},{"$f":"COUNTIFS('база 2013'!$B$4:$B$1191,$B29,'база 2013'!$I$4:$I$1191,J$5,'база 2013'!$O$4:$O$1191,J$7)","v":0},{"$f":"COUNTIFS('база 2013'!$B$4:$B$1191,$B29,'база 2013'!$I$4:$I$1191,K$5,'база 2013'!$O$4:$O$1191,K$7)","v":0},{"$f":"COUNTIFS('база 2013'!$B$4:$B$1191,$B29,'база 2013'!$I$4:$I$1191,L$5,'база 2013'!$O$4:$O$1191,L$7)","v":0},{"$f":"COUNTIFS('база 2013'!$B$4:$B$1191,$B29,'база 2013'!$I$4:$I$1191,M$5,'база 2013'!$O$4:$O$1191,M$7)","v":0},{"$f":"COUNTIFS('база 2013'!$B$4:$B$1191,$B29,'база 2013'!$I$4:$I$1191,N$5,'база 2013'!$O$4:$O$1191,N$7)","v":0},{"$f":"COUNTIFS('база 2013'!$B$4:$B$1191,$B29,'база 2013'!$I$4:$I$1191,O$5,'база 2013'!$O$4:$O$1191,O$7)","v":0},{"$f":"COUNTIFS('база 2013'!$B$4:$B$1191,$B29,'база 2013'!$I$4:$I$1191,P$5,'база 2013'!$O$4:$O$1191,P$7)","v":0},{"$f":"COUNTIFS('база 2013'!$B$4:$B$1191,$B29,'база 2013'!$I$4:$I$1191,Q$5,'база 2013'!$O$4:$O$1191,Q$7)","v":0},0,0,0,{"$f":"COUNTIFS('база 2013'!$B$4:$B$1191,$B29,'база 2013'!$I$4:$I$1191,U$5,'база 2013'!$O$4:$O$1191,U$7)","v":0},{"$f":"COUNTIFS('база 2013'!$B$4:$B$1191,$B29,'база 2013'!$I$4:$I$1191,V$5,'база 2013'!$O$4:$O$1191,V$7)","v":0},{"$f":"COUNTIFS('база 2013'!$B$4:$B$1191,$B29,'база 2013'!$I$4:$I$1191,W$5,'база 2013'!$O$4:$O$1191,W$7)","v":0},{"$f":"COUNTIFS('база 2013'!$B$4:$B$1191,$B29,'база 2013'!$I$4:$I$1191,X$5,'база 2013'!$O$4:$O$1191,X$7)","v":0},{"$f":"COUNTIFS('база 2013'!$B$4:$B$1191,$B29,'база 2013'!$I$4:$I$1191,Y$5,'база 2013'!$O$4:$O$1191,Y$7)","v":0},{"$f":"COUNTIFS('база 2013'!$B$4:$B$1191,$B29,'база 2013'!$I$4:$I$1191,Z$5,'база 2013'!$O$4:$O$1191,Z$7)","v":0},{"$f":"COUNTIFS('база 2013'!$B$4:$B$1191,$B29,'база 2013'!$I$4:$I$1191,AA$5,'база 2013'!$O$4:$O$1191,AA$7)","v":0},{"$f":"COUNTIFS('база 2013'!$B$4:$B$1191,$B29,'база 2013'!$I$4:$I$1191,AB$5,'база 2013'!$O$4:$O$1191,AB$7)","v":0},{"$f":"COUNTIFS('база 2013'!$B$4:$B$1191,$B29,'база 2013'!$I$4:$I$1191,AC$5,'база 2013'!$O$4:$O$1191,AC$7)","v":0},0,0,0,{"$f":"COUNTIFS('база 2013'!$B$4:$B$1191,$B29,'база 2013'!$I$4:$I$1191,AG$5,'база 2013'!$O$4:$O$1191,AG$7)","v":0},{"$f":"COUNTIFS('база 2013'!$B$4:$B$1191,$B29,'база 2013'!$I$4:$I$1191,AH$5,'база 2013'!$O$4:$O$1191,AH$7)","v":0},{"$f":"COUNTIFS('база 2013'!$B$4:$B$1191,$B29,'база 2013'!$I$4:$I$1191,AI$5,'база 2013'!$O$4:$O$1191,AI$7)","v":0},{"$f":"COUNTIFS('база 2013'!$B$4:$B$1191,$B29,'база 2013'!$I$4:$I$1191,AJ$5,'база 2013'!$O$4:$O$1191,AJ$7)","v":0},{"$f":"COUNTIFS('база 2013'!$B$4:$B$1191,$B29,'база 2013'!$I$4:$I$1191,AK$5,'база 2013'!$O$4:$O$1191,AK$7)","v":0},{"$f":"COUNTIFS('база 2013'!$B$4:$B$1191,$B29,'база 2013'!$I$4:$I$1191,AL$5,'база 2013'!$O$4:$O$1191,AL$7)","v":0},{"$f":"COUNTIFS('база 2013'!$B$4:$B$1191,$B29,'база 2013'!$I$4:$I$1191,AM$5,'база 2013'!$O$4:$O$1191,AM$7)","v":0},{"$f":"COUNTIFS('база 2013'!$B$4:$B$1191,$B29,'база 2013'!$I$4:$I$1191,AN$5,'база 2013'!$O$4:$O$1191,AN$7)","v":0},{"$f":"COUNTIFS('база 2013'!$B$4:$B$1191,$B29,'база 2013'!$I$4:$I$1191,AO$5,'база 2013'!$O$4:$O$1191,AO$7)","v":0},{"$f":"COUNTIFS('база 2013'!$B$4:$B$1191,$B29,'база 2013'!$I$4:$I$1191,AP$5,'база 2013'!$O$4:$O$1191,AP$7)","v":0},{"$f":"COUNTIFS('база 2013'!$B$4:$B$1191,$B29,'база 2013'!$I$4:$I$1191,AQ$5,'база 2013'!$O$4:$O$1191,AQ$7)","v":0},{"$f":"COUNTIFS('база 2013'!$B$4:$B$1191,$B29,'база 2013'!$I$4:$I$1191,AR$5,'база 2013'!$O$4:$O$1191,AR$7)","v":0},{"$f":"COUNTIFS('база 2013'!$B$4:$B$1191,$B29,'база 2013'!$I$4:$I$1191,AS$5,'база 2013'!$O$4:$O$1191,AS$7)","v":0},{"$f":"COUNTIFS('база 2013'!$B$4:$B$1191,$B29,'база 2013'!$I$4:$I$1191,AT$5,'база 2013'!$O$4:$O$1191,AT$7)","v":0},{"$f":"COUNTIFS('база 2013'!$B$4:$B$1191,$B29,'база 2013'!$I$4:$I$1191,AU$5,'база 2013'!$O$4:$O$1191,AU$7)","v":0},{"$f":"COUNTIFS('база 2013'!$B$4:$B$1191,$B29,'база 2013'!$I$4:$I$1191,AV$5,'база 2013'!$O$4:$O$1191,AV$7)","v":0},{"$f":"COUNTIFS('база 2013'!$B$4:$B$1191,$B29,'база 2013'!$I$4:$I$1191,AW$5,'база 2013'!$O$4:$O$1191,AW$7)","v":0},{"$f":"COUNTIFS('база 2013'!$B$4:$B$1191,$B29,'база 2013'!$I$4:$I$1191,AX$5,'база 2013'!$O$4:$O$1191,AX$7)","v":0},0,0,0,0,0,0,0]
[23,"Пляжный гандбол",{"$f":"COUNTIFS('база 2013'!$B$4:$B$1191,$B30,'база 2013'!$I$4:$I$1191,C$5,'база 2013'!$O$4:$O$1191,C$7)","v":0},{"$f":"COUNTIFS('база 2013'!$B$4:$B$1191,$B30,'база 2013'!$I$4:$I$1191,D$5,'база 2013'!$O$4:$O$1191,D$7)","v":0},{"$f":"COUNTIFS('база 2013'!$B$4:$B$1191,$B30,'база 2013'!$I$4:$I$1191,E$5,'база 2013'!$O$4:$O$1191,E$7)","v":0},{"$f":"COUNTIFS('база 2013'!$B$4:$B$1191,$B30,'база 2013'!$I$4:$I$1191,F$5,'база 2013'!$O$4:$O$1191,F$7)","v":0},{"$f":"COUNTIFS('база 2013'!$B$4:$B$1191,$B30,'база 2013'!$I$4:$I$1191,G$5,'база 2013'!$O$4:$O$1191,G$7)","v":0},{"$f":"COUNTIFS('база 2013'!$B$4:$B$1191,$B30,'база 2013'!$I$4:$I$1191,H$5,'база 2013'!$O$4:$O$1191,H$7)","v":0},{"$f":"COUNTIFS('база 2013'!$B$4:$B$1191,$B30,'база 2013'!$I$4:$I$1191,I$5,'база 2013'!$O$4:$O$1191,I$7)","v":0},{"$f":"COUNTIFS('база 2013'!$B$4:$B$1191,$B30,'база 2013'!$I$4:$I$1191,J$5,'база 2013'!$O$4:$O$1191,J$7)","v":0},{"$f":"COUNTIFS('база 2013'!$B$4:$B$1191,$B30,'база 2013'!$I$4:$I$1191,K$5,'база 2013'!$O$4:$O$1191,K$7)","v":0},{"$f":"COUNTIFS('база 2013'!$B$4:$B$1191,$B30,'база 2013'!$I$4:$I$1191,L$5,'база 2013'!$O$4:$O$1191,L$7)","v":0},{"$f":"COUNTIFS('база 2013'!$B$4:$B$1191,$B30,'база 2013'!$I$4:$I$1191,M$5,'база 2013'!$O$4:$O$1191,M$7)","v":0},{"$f":"COUNTIFS('база 2013'!$B$4:$B$1191,$B30,'база 2013'!$I$4:$I$1191,N$5,'база 2013'!$O$4:$O$1191,N$7)","v":0},{"$f":"COUNTIFS('база 2013'!$B$4:$B$1191,$B30,'база 2013'!$I$4:$I$1191,O$5,'база 2013'!$O$4:$O$1191,O$7)","v":0},{"$f":"COUNTIFS('база 2013'!$B$4:$B$1191,$B30,'база 2013'!$I$4:$I$1191,P$5,'база 2013'!$O$4:$O$1191,P$7)","v":0},{"$f":"COUNTIFS('база 2013'!$B$4:$B$1191,$B30,'база 2013'!$I$4:$I$1191,Q$5,'база 2013'!$O$4:$O$1191,Q$7)","v":0},0,0,0,{"$f":"COUNTIFS('база 2013'!$B$4:$B$1191,$B30,'база 2013'!$I$4:$I$1191,U$5,'база 2013'!$O$4:$O$1191,U$7)","v":0},{"$f":"COUNTIFS('база 2013'!$B$4:$B$1191,$B30,'база 2013'!$I$4:$I$1191,V$5,'база 2013'!$O$4:$O$1191,V$7)","v":0},{"$f":"COUNTIFS('база 2013'!$B$4:$B$1191,$B30,'база 2013'!$I$4:$I$1191,W$5,'база 2013'!$O$4:$O$1191,W$7)","v":0},{"$f":"COUNTIFS('база 2013'!$B$4:$B$1191,$B30,'база 2013'!$I$4:$I$1191,X$5,'база 2013'!$O$4:$O$1191,X$7)","v":0},{"$f":"COUNTIFS('база 2013'!$B$4:$B$1191,$B30,'база 2013'!$I$4:$I$1191,Y$5,'база 2013'!$O$4:$O$1191,Y$7)","v":0},{"$f":"COUNTIFS('база 2013'!$B$4:$B$1191,$B30,'база 2013'!$I$4:$I$1191,Z$5,'база 2013'!$O$4:$O$1191,Z$7)","v":0},{"$f":"COUNTIFS('база 2013'!$B$4:$B$1191,$B30,'база 2013'!$I$4:$I$1191,AA$5,'база 2013'!$O$4:$O$1191,AA$7)","v":0},{"$f":"COUNTIFS('база 2013'!$B$4:$B$1191,$B30,'база 2013'!$I$4:$I$1191,AB$5,'база 2013'!$O$4:$O$1191,AB$7)","v":0},{"$f":"COUNTIFS('база 2013'!$B$4:$B$1191,$B30,'база 2013'!$I$4:$I$1191,AC$5,'база 2013'!$O$4:$O$1191,AC$7)","v":0},0,0,0,{"$f":"COUNTIFS('база 2013'!$B$4:$B$1191,$B30,'база 2013'!$I$4:$I$1191,AG$5,'база 2013'!$O$4:$O$1191,AG$7)","v":0},{"$f":"COUNTIFS('база 2013'!$B$4:$B$1191,$B30,'база 2013'!$I$4:$I$1191,AH$5,'база 2013'!$O$4:$O$1191,AH$7)","v":0},{"$f":"COUNTIFS('база 2013'!$B$4:$B$1191,$B30,'база 2013'!$I$4:$I$1191,AI$5,'база 2013'!$O$4:$O$1191,AI$7)","v":0},{"$f":"COUNTIFS('база 2013'!$B$4:$B$1191,$B30,'база 2013'!$I$4:$I$1191,AJ$5,'база 2013'!$O$4:$O$1191,AJ$7)","v":0},{"$f":"COUNTIFS('база 2013'!$B$4:$B$1191,$B30,'база 2013'!$I$4:$I$1191,AK$5,'база 2013'!$O$4:$O$1191,AK$7)","v":0},{"$f":"COUNTIFS('база 2013'!$B$4:$B$1191,$B30,'база 2013'!$I$4:$I$1191,AL$5,'база 2013'!$O$4:$O$1191,AL$7)","v":0},{"$f":"COUNTIFS('база 2013'!$B$4:$B$1191,$B30,'база 2013'!$I$4:$I$1191,AM$5,'база 2013'!$O$4:$O$1191,AM$7)","v":0},{"$f":"COUNTIFS('база 2013'!$B$4:$B$1191,$B30,'база 2013'!$I$4:$I$1191,AN$5,'база 2013'!$O$4:$O$1191,AN$7)","v":0},{"$f":"COUNTIFS('база 2013'!$B$4:$B$1191,$B30,'база 2013'!$I$4:$I$1191,AO$5,'база 2013'!$O$4:$O$1191,AO$7)","v":0},{"$f":"COUNTIFS('база 2013'!$B$4:$B$1191,$B30,'база 2013'!$I$4:$I$1191,AP$5,'база 2013'!$O$4:$O$1191,AP$7)","v":0},{"$f":"COUNTIFS('база 2013'!$B$4:$B$1191,$B30,'база 2013'!$I$4:$I$1191,AQ$5,'база 2013'!$O$4:$O$1191,AQ$7)","v":0},{"$f":"COUNTIFS('база 2013'!$B$4:$B$1191,$B30,'база 2013'!$I$4:$I$1191,AR$5,'база 2013'!$O$4:$O$1191,AR$7)","v":0},{"$f":"COUNTIFS('база 2013'!$B$4:$B$1191,$B30,'база 2013'!$I$4:$I$1191,AS$5,'база 2013'!$O$4:$O$1191,AS$7)","v":0},{"$f":"COUNTIFS('база 2013'!$B$4:$B$1191,$B30,'база 2013'!$I$4:$I$1191,AT$5,'база 2013'!$O$4:$O$1191,AT$7)","v":0},{"$f":"COUNTIFS('база 2013'!$B$4:$B$1191,$B30,'база 2013'!$I$4:$I$1191,AU$5,'база 2013'!$O$4:$O$1191,AU$7)","v":0},{"$f":"COUNTIFS('база 2013'!$B$4:$B$1191,$B30,'база 2013'!$I$4:$I$1191,AV$5,'база 2013'!$O$4:$O$1191,AV$7)","v":0},{"$f":"COUNTIFS('база 2013'!$B$4:$B$1191,$B30,'база 2013'!$I$4:$I$1191,AW$5,'база 2013'!$O$4:$O$1191,AW$7)","v":0},{"$f":"COUNTIFS('база 2013'!$B$4:$B$1191,$B30,'база 2013'!$I$4:$I$1191,AX$5,'база 2013'!$O$4:$O$1191,AX$7)","v":0},0,0,0,0,0,0,0]
[24,"Гиревой спорт",{"$f":"COUNTIFS('база 2013'!$B$4:$B$1191,$B31,'база 2013'!$I$4:$I$1191,C$5,'база 2013'!$O$4:$O$1191,C$7)","v":0},{"$f":"COUNTIFS('база 2013'!$B$4:$B$1191,$B31,'база 2013'!$I$4:$I$1191,D$5,'база 2013'!$O$4:$O$1191,D$7)","v":0},{"$f":"COUNTIFS('база 2013'!$B$4:$B$1191,$B31,'база 2013'!$I$4:$I$1191,E$5,'база 2013'!$O$4:$O$1191,E$7)","v":0},{"$f":"COUNTIFS('база 2013'!$B$4:$B$1191,$B31,'база 2013'!$I$4:$I$1191,F$5,'база 2013'!$O$4:$O$1191,F$7)","v":0},{"$f":"COUNTIFS('база 2013'!$B$4:$B$1191,$B31,'база 2013'!$I$4:$I$1191,G$5,'база 2013'!$O$4:$O$1191,G$7)","v":0},{"$f":"COUNTIFS('база 2013'!$B$4:$B$1191,$B31,'база 2013'!$I$4:$I$1191,H$5,'база 2013'!$O$4:$O$1191,H$7)","v":0},{"$f":"COUNTIFS('база 2013'!$B$4:$B$1191,$B31,'база 2013'!$I$4:$I$1191,I$5,'база 2013'!$O$4:$O$1191,I$7)","v":0},{"$f":"COUNTIFS('база 2013'!$B$4:$B$1191,$B31,'база 2013'!$I$4:$I$1191,J$5,'база 2013'!$O$4:$O$1191,J$7)","v":0},{"$f":"COUNTIFS('база 2013'!$B$4:$B$1191,$B31,'база 2013'!$I$4:$I$1191,K$5,'база 2013'!$O$4:$O$1191,K$7)","v":0},{"$f":"COUNTIFS('база 2013'!$B$4:$B$1191,$B31,'база 2013'!$I$4:$I$1191,L$5,'база 2013'!$O$4:$O$1191,L$7)","v":0},{"$f":"COUNTIFS('база 2013'!$B$4:$B$1191,$B31,'база 2013'!$I$4:$I$1191,M$5,'база 2013'!$O$4:$O$1191,M$7)","v":0},{"$f":"COUNTIFS('база 2013'!$B$4:$B$1191,$B31,'база 2013'!$I$4:$I$1191,N$5,'база 2013'!$O$4:$O$1191,N$7)","v":0},{"$f":"COUNTIFS('база 2013'!$B$4:$B$1191,$B31,'база 2013'!$I$4:$I$1191,O$5,'база 2013'!$O$4:$O$1191,O$7)","v":0},{"$f":"COUNTIFS('база 2013'!$B$4:$B$1191,$B31,'база 2013'!$I$4:$I$1191,P$5,'база 2013'!$O$4:$O$1191,P$7)","v":0},{"$f":"COUNTIFS('база 2013'!$B$4:$B$1191,$B31,'база 2013'!$I$4:$I$1191,Q$5,'база 2013'!$O$4:$O$1191,Q$7)","v":0},0,0,0,{"$f":"COUNTIFS('база 2013'!$B$4:$B$1191,$B31,'база 2013'!$I$4:$I$1191,U$5,'база 2013'!$O$4:$O$1191,U$7)","v":0},{"$f":"COUNTIFS('база 2013'!$B$4:$B$1191,$B31,'база 2013'!$I$4:$I$1191,V$5,'база 2013'!$O$4:$O$1191,V$7)","v":0},{"$f":"COUNTIFS('база 2013'!$B$4:$B$1191,$B31,'база 2013'!$I$4:$I$1191,W$5,'база 2013'!$O$4:$O$1191,W$7)","v":0},{"$f":"COUNTIFS('база 2013'!$B$4:$B$1191,$B31,'база 2013'!$I$4:$I$1191,X$5,'база 2013'!$O$4:$O$1191,X$7)","v":0},{"$f":"COUNTIFS('база 2013'!$B$4:$B$1191,$B31,'база 2013'!$I$4:$I$1191,Y$5,'база 2013'!$O$4:$O$1191,Y$7)","v":0},{"$f":"COUNTIFS('база 2013'!$B$4:$B$1191,$B31,'база 2013'!$I$4:$I$1191,Z$5,'база 2013'!$O$4:$O$1191,Z$7)","v":0},{"$f":"COUNTIFS('база 2013'!$B$4:$B$1191,$B31,'база 2013'!$I$4:$I$1191,AA$5,'база 2013'!$O$4:$O$1191,AA$7)","v":0},{"$f":"COUNTIFS('база 2013'!$B$4:$B$1191,$B31,'база 2013'!$I$4:$I$1191,AB$5,'база 2013'!$O$4:$O$1191,AB$7)","v":0},{"$f":"COUNTIFS('база 2013'!$B$4:$B$1191,$B31,'база 2013'!$I$4:$I$1191,AC$5,'база 2013'!$O$4:$O$1191,AC$7)","v":0},0,0,0,{"$f":"COUNTIFS('база 2013'!$B$4:$B$1191,$B31,'база 2013'!$I$4:$I$1191,AG$5,'база 2013'!$O$4:$O$1191,AG$7)","v":0},{"$f":"COUNTIFS('база 2013'!$B$4:$B$1191,$B31,'база 2013'!$I$4:$I$1191,AH$5,'база 2013'!$O$4:$O$1191,AH$7)","v":0},{"$f":"COUNTIFS('база 2013'!$B$4:$B$1191,$B31,'база 2013'!$I$4:$I$1191,AI$5,'база 2013'!$O$4:$O$1191,AI$7)","v":0},{"$f":"COUNTIFS('база 2013'!$B$4:$B$1191,$B31,'база 2013'!$I$4:$I$1191,AJ$5,'база 2013'!$O$4:$O$1191,AJ$7)","v":0},{"$f":"COUNTIFS('база 2013'!$B$4:$B$1191,$B31,'база 2013'!$I$4:$I$1191,AK$5,'база 2013'!$O$4:$O$1191,AK$7)","v":0},{"$f":"COUNTIFS('база 2013'!$B$4:$B$1191,$B31,'база 2013'!$I$4:$I$1191,AL$5,'база 2013'!$O$4:$O$1191,AL$7)","v":0},{"$f":"COUNTIFS('база 2013'!$B$4:$B$1191,$B31,'база 2013'!$I$4:$I$1191,AM$5,'база 2013'!$O$4:$O$1191,AM$7)","v":0},{"$f":"COUNTIFS('база 2013'!$B$4:$B$1191,$B31,'база 2013'!$I$4:$I$1191,AN$5,'база 2013'!$O$4:$O$1191,AN$7)","v":0},{"$f":"COUNTIFS('база 2013'!$B$4:$B$1191,$B31,'база 2013'!$I$4:$I$1191,AO$5,'база 2013'!$O$4:$O$1191,AO$7)","v":0},{"$f":"COUNTIFS('база 2013'!$B$4:$B$1191,$B31,'база 2013'!$I$4:$I$1191,AP$5,'база 2013'!$O$4:$O$1191,AP$7)","v":0},{"$f":"COUNTIFS('база 2013'!$B$4:$B$1191,$B31,'база 2013'!$I$4:$I$1191,AQ$5,'база 2013'!$O$4:$O$1191,AQ$7)","v":0},{"$f":"COUNTIFS('база 2013'!$B$4:$B$1191,$B31,'база 2013'!$I$4:$I$1191,AR$5,'база 2013'!$O$4:$O$1191,AR$7)","v":0},{"$f":"COUNTIFS('база 2013'!$B$4:$B$1191,$B31,'база 2013'!$I$4:$I$1191,AS$5,'база 2013'!$O$4:$O$1191,AS$7)","v":0},{"$f":"COUNTIFS('база 2013'!$B$4:$B$1191,$B31,'база 2013'!$I$4:$I$1191,AT$5,'база 2013'!$O$4:$O$1191,AT$7)","v":0},{"$f":"COUNTIFS('база 2013'!$B$4:$B$1191,$B31,'база 2013'!$I$4:$I$1191,AU$5,'база 2013'!$O$4:$O$1191,AU$7)","v":0},{"$f":"COUNTIFS('база 2013'!$B$4:$B$1191,$B31,'база 2013'!$I$4:$I$1191,AV$5,'база 2013'!$O$4:$O$1191,AV$7)","v":0},{"$f":"COUNTIFS('база 2013'!$B$4:$B$1191,$B31,'база 2013'!$I$4:$I$1191,AW$5,'база 2013'!$O$4:$O$1191,AW$7)","v":0},{"$f":"COUNTIFS('база 2013'!$B$4:$B$1191,$B31,'база 2013'!$I$4:$I$1191,AX$5,'база 2013'!$O$4:$O$1191,AX$7)","v":0},0,0,0,0,0,0,0]
[25,"Городошный спорт",{"$f":"COUNTIFS('база 2013'!$B$4:$B$1191,$B32,'база 2013'!$I$4:$I$1191,C$5,'база 2013'!$O$4:$O$1191,C$7)","v":0},{"$f":"COUNTIFS('база 2013'!$B$4:$B$1191,$B32,'база 2013'!$I$4:$I$1191,D$5,'база 2013'!$O$4:$O$1191,D$7)","v":0},{"$f":"COUNTIFS('база 2013'!$B$4:$B$1191,$B32,'база 2013'!$I$4:$I$1191,E$5,'база 2013'!$O$4:$O$1191,E$7)","v":0},{"$f":"COUNTIFS('база 2013'!$B$4:$B$1191,$B32,'база 2013'!$I$4:$I$1191,F$5,'база 2013'!$O$4:$O$1191,F$7)","v":0},{"$f":"COUNTIFS('база 2013'!$B$4:$B$1191,$B32,'база 2013'!$I$4:$I$1191,G$5,'база 2013'!$O$4:$O$1191,G$7)","v":0},{"$f":"COUNTIFS('база 2013'!$B$4:$B$1191,$B32,'база 2013'!$I$4:$I$1191,H$5,'база 2013'!$O$4:$O$1191,H$7)","v":0},{"$f":"COUNTIFS('база 2013'!$B$4:$B$1191,$B32,'база 2013'!$I$4:$I$1191,I$5,'база 2013'!$O$4:$O$1191,I$7)","v":0},{"$f":"COUNTIFS('база 2013'!$B$4:$B$1191,$B32,'база 2013'!$I$4:$I$1191,J$5,'база 2013'!$O$4:$O$1191,J$7)","v":0},{"$f":"COUNTIFS('база 2013'!$B$4:$B$1191,$B32,'база 2013'!$I$4:$I$1191,K$5,'база 2013'!$O$4:$O$1191,K$7)","v":0},{"$f":"COUNTIFS('база 2013'!$B$4:$B$1191,$B32,'база 2013'!$I$4:$I$1191,L$5,'база 2013'!$O$4:$O$1191,L$7)","v":0},{"$f":"COUNTIFS('база 2013'!$B$4:$B$1191,$B32,'база 2013'!$I$4:$I$1191,M$5,'база 2013'!$O$4:$O$1191,M$7)","v":0},{"$f":"COUNTIFS('база 2013'!$B$4:$B$1191,$B32,'база 2013'!$I$4:$I$1191,N$5,'база 2013'!$O$4:$O$1191,N$7)","v":0},{"$f":"COUNTIFS('база 2013'!$B$4:$B$1191,$B32,'база 2013'!$I$4:$I$1191,O$5,'база 2013'!$O$4:$O$1191,O$7)","v":0},{"$f":"COUNTIFS('база 2013'!$B$4:$B$1191,$B32,'база 2013'!$I$4:$I$1191,P$5,'база 2013'!$O$4:$O$1191,P$7)","v":0},{"$f":"COUNTIFS('база 2013'!$B$4:$B$1191,$B32,'база 2013'!$I$4:$I$1191,Q$5,'база 2013'!$O$4:$O$1191,Q$7)","v":0},0,0,0,{"$f":"COUNTIFS('база 2013'!$B$4:$B$1191,$B32,'база 2013'!$I$4:$I$1191,U$5,'база 2013'!$O$4:$O$1191,U$7)","v":0},{"$f":"COUNTIFS('база 2013'!$B$4:$B$1191,$B32,'база 2013'!$I$4:$I$1191,V$5,'база 2013'!$O$4:$O$1191,V$7)","v":0},{"$f":"COUNTIFS('база 2013'!$B$4:$B$1191,$B32,'база 2013'!$I$4:$I$1191,W$5,'база 2013'!$O$4:$O$1191,W$7)","v":0},{"$f":"COUNTIFS('база 2013'!$B$4:$B$1191,$B32,'база 2013'!$I$4:$I$1191,X$5,'база 2013'!$O$4:$O$1191,X$7)","v":0},{"$f":"COUNTIFS('база 2013'!$B$4:$B$1191,$B32,'база 2013'!$I$4:$I$1191,Y$5,'база 2013'!$O$4:$O$1191,Y$7)","v":0},{"$f":"COUNTIFS('база 2013'!$B$4:$B$1191,$B32,'база 2013'!$I$4:$I$1191,Z$5,'база 2013'!$O$4:$O$1191,Z$7)","v":0},{"$f":"COUNTIFS('база 2013'!$B$4:$B$1191,$B32,'база 2013'!$I$4:$I$1191,AA$5,'база 2013'!$O$4:$O$1191,AA$7)","v":0},{"$f":"COUNTIFS('база 2013'!$B$4:$B$1191,$B32,'база 2013'!$I$4:$I$1191,AB$5,'база 2013'!$O$4:$O$1191,AB$7)","v":0},{"$f":"COUNTIFS('база 2013'!$B$4:$B$1191,$B32,'база 2013'!$I$4:$I$1191,AC$5,'база 2013'!$O$4:$O$1191,AC$7)","v":0},0,0,0,{"$f":"COUNTIFS('база 2013'!$B$4:$B$1191,$B32,'база 2013'!$I$4:$I$1191,AG$5,'база 2013'!$O$4:$O$1191,AG$7)","v":0},{"$f":"COUNTIFS('база 2013'!$B$4:$B$1191,$B32,'база 2013'!$I$4:$I$1191,AH$5,'база 2013'!$O$4:$O$1191,AH$7)","v":0},{"$f":"COUNTIFS('база 2013'!$B$4:$B$1191,$B32,'база 2013'!$I$4:$I$1191,AI$5,'база 2013'!$O$4:$O$1191,AI$7)","v":0},{"$f":"COUNTIFS('база 2013'!$B$4:$B$1191,$B32,'база 2013'!$I$4:$I$1191,AJ$5,'база 2013'!$O$4:$O$1191,AJ$7)","v":0},{"$f":"COUNTIFS('база 2013'!$B$4:$B$1191,$B32,'база 2013'!$I$4:$I$1191,AK$5,'база 2013'!$O$4:$O$1191,AK$7)","v":0},{"$f":"COUNTIFS('база 2013'!$B$4:$B$1191,$B32,'база 2013'!$I$4:$I$1191,AL$5,'база 2013'!$O$4:$O$1191,AL$7)","v":0},{"$f":"COUNTIFS('база 2013'!$B$4:$B$1191,$B32,'база 2013'!$I$4:$I$1191,AM$5,'база 2013'!$O$4:$O$1191,AM$7)","v":0},{"$f":"COUNTIFS('база 2013'!$B$4:$B$1191,$B32,'база 2013'!$I$4:$I$1191,AN$5,'база 2013'!$O$4:$O$1191,AN$7)","v":0},{"$f":"COUNTIFS('база 2013'!$B$4:$B$1191,$B32,'база 2013'!$I$4:$I$1191,AO$5,'база 2013'!$O$4:$O$1191,AO$7)","v":0},{"$f":"COUNTIFS('база 2013'!$B$4:$B$1191,$B32,'база 2013'!$I$4:$I$1191,AP$5,'база 2013'!$O$4:$O$1191,AP$7)","v":0},{"$f":"COUNTIFS('база 2013'!$B$4:$B$1191,$B32,'база 2013'!$I$4:$I$1191,AQ$5,'база 2013'!$O$4:$O$1191,AQ$7)","v":0},{"$f":"COUNTIFS('база 2013'!$B$4:$B$1191,$B32,'база 2013'!$I$4:$I$1191,AR$5,'база 2013'!$O$4:$O$1191,AR$7)","v":0},{"$f":"COUNTIFS('база 2013'!$B$4:$B$1191,$B32,'база 2013'!$I$4:$I$1191,AS$5,'база 2013'!$O$4:$O$1191,AS$7)","v":0},{"$f":"COUNTIFS('база 2013'!$B$4:$B$1191,$B32,'база 2013'!$I$4:$I$1191,AT$5,'база 2013'!$O$4:$O$1191,AT$7)","v":0},{"$f":"COUNTIFS('база 2013'!$B$4:$B$1191,$B32,'база 2013'!$I$4:$I$1191,AU$5,'база 2013'!$O$4:$O$1191,AU$7)","v":0},{"$f":"COUNTIFS('база 2013'!$B$4:$B$1191,$B32,'база 2013'!$I$4:$I$1191,AV$5,'база 2013'!$O$4:$O$1191,AV$7)","v":0},{"$f":"COUNTIFS('база 2013'!$B$4:$B$1191,$B32,'база 2013'!$I$4:$I$1191,AW$5,'база 2013'!$O$4:$O$1191,AW$7)","v":0},{"$f":"COUNTIFS('база 2013'!$B$4:$B$1191,$B32,'база 2013'!$I$4:$I$1191,AX$5,'база 2013'!$O$4:$O$1191,AX$7)","v":0},0,0,0,{"$f":"SUMIFS($C32:$BA32,$C$6:$BA$6,BB$6,$C$7:$BA$7,BB$7)","v":0},0,0,0]
[26,"Грэпплинг",{"$f":"COUNTIFS('база 2013'!$B$4:$B$1191,$B33,'база 2013'!$I$4:$I$1191,C$5,'база 2013'!$O$4:$O$1191,C$7)","v":0},{"$f":"COUNTIFS('база 2013'!$B$4:$B$1191,$B33,'база 2013'!$I$4:$I$1191,D$5,'база 2013'!$O$4:$O$1191,D$7)","v":0},{"$f":"COUNTIFS('база 2013'!$B$4:$B$1191,$B33,'база 2013'!$I$4:$I$1191,E$5,'база 2013'!$O$4:$O$1191,E$7)","v":0},{"$f":"COUNTIFS('база 2013'!$B$4:$B$1191,$B33,'база 2013'!$I$4:$I$1191,F$5,'база 2013'!$O$4:$O$1191,F$7)","v":0},{"$f":"COUNTIFS('база 2013'!$B$4:$B$1191,$B33,'база 2013'!$I$4:$I$1191,G$5,'база 2013'!$O$4:$O$1191,G$7)","v":0},{"$f":"COUNTIFS('база 2013'!$B$4:$B$1191,$B33,'база 2013'!$I$4:$I$1191,H$5,'база 2013'!$O$4:$O$1191,H$7)","v":0},{"$f":"COUNTIFS('база 2013'!$B$4:$B$1191,$B33,'база 2013'!$I$4:$I$1191,I$5,'база 2013'!$O$4:$O$1191,I$7)","v":0},{"$f":"COUNTIFS('база 2013'!$B$4:$B$1191,$B33,'база 2013'!$I$4:$I$1191,J$5,'база 2013'!$O$4:$O$1191,J$7)","v":0},{"$f":"COUNTIFS('база 2013'!$B$4:$B$1191,$B33,'база 2013'!$I$4:$I$1191,K$5,'база 2013'!$O$4:$O$1191,K$7)","v":0},{"$f":"COUNTIFS('база 2013'!$B$4:$B$1191,$B33,'база 2013'!$I$4:$I$1191,L$5,'база 2013'!$O$4:$O$1191,L$7)","v":0},{"$f":"COUNTIFS('база 2013'!$B$4:$B$1191,$B33,'база 2013'!$I$4:$I$1191,M$5,'база 2013'!$O$4:$O$1191,M$7)","v":0},{"$f":"COUNTIFS('база 2013'!$B$4:$B$1191,$B33,'база 2013'!$I$4:$I$1191,N$5,'база 2013'!$O$4:$O$1191,N$7)","v":0},{"$f":"COUNTIFS('база 2013'!$B$4:$B$1191,$B33,'база 2013'!$I$4:$I$1191,O$5,'база 2013'!$O$4:$O$1191,O$7)","v":0},{"$f":"COUNTIFS('база 2013'!$B$4:$B$1191,$B33,'база 2013'!$I$4:$I$1191,P$5,'база 2013'!$O$4:$O$1191,P$7)","v":0},{"$f":"COUNTIFS('база 2013'!$B$4:$B$1191,$B33,'база 2013'!$I$4:$I$1191,Q$5,'база 2013'!$O$4:$O$1191,Q$7)","v":0},{"$f":"SUMIF($F$7:$Q$7,$R$7,F33:Q33)","v":0},0,0,{"$f":"COUNTIFS('база 2013'!$B$4:$B$1191,$B33,'база 2013'!$I$4:$I$1191,U$5,'база 2013'!$O$4:$O$1191,U$7)","v":0},{"$f":"COUNTIFS('база 2013'!$B$4:$B$1191,$B33,'база 2013'!$I$4:$I$1191,V$5,'база 2013'!$O$4:$O$1191,V$7)","v":0},{"$f":"COUNTIFS('база 2013'!$B$4:$B$1191,$B33,'база 2013'!$I$4:$I$1191,W$5,'база 2013'!$O$4:$O$1191,W$7)","v":0},{"$f":"COUNTIFS('база 2013'!$B$4:$B$1191,$B33,'база 2013'!$I$4:$I$1191,X$5,'база 2013'!$O$4:$O$1191,X$7)","v":0},{"$f":"COUNTIFS('база 2013'!$B$4:$B$1191,$B33,'база 2013'!$I$4:$I$1191,Y$5,'база 2013'!$O$4:$O$1191,Y$7)","v":0},{"$f":"COUNTIFS('база 2013'!$B$4:$B$1191,$B33,'база 2013'!$I$4:$I$1191,Z$5,'база 2013'!$O$4:$O$1191,Z$7)","v":0},{"$f":"COUNTIFS('база 2013'!$B$4:$B$1191,$B33,'база 2013'!$I$4:$I$1191,AA$5,'база 2013'!$O$4:$O$1191,AA$7)","v":0},{"$f":"COUNTIFS('база 2013'!$B$4:$B$1191,$B33,'база 2013'!$I$4:$I$1191,AB$5,'база 2013'!$O$4:$O$1191,AB$7)","v":0},{"$f":"COUNTIFS('база 2013'!$B$4:$B$1191,$B33,'база 2013'!$I$4:$I$1191,AC$5,'база 2013'!$O$4:$O$1191,AC$7)","v":0},0,0,0,{"$f":"COUNTIFS('база 2013'!$B$4:$B$1191,$B33,'база 2013'!$I$4:$I$1191,AG$5,'база 2013'!$O$4:$O$1191,AG$7)","v":0},{"$f":"COUNTIFS('база 2013'!$B$4:$B$1191,$B33,'база 2013'!$I$4:$I$1191,AH$5,'база 2013'!$O$4:$O$1191,AH$7)","v":0},{"$f":"COUNTIFS('база 2013'!$B$4:$B$1191,$B33,'база 2013'!$I$4:$I$1191,AI$5,'база 2013'!$O$4:$O$1191,AI$7)","v":0},{"$f":"COUNTIFS('база 2013'!$B$4:$B$1191,$B33,'база 2013'!$I$4:$I$1191,AJ$5,'база 2013'!$O$4:$O$1191,AJ$7)","v":0},{"$f":"COUNTIFS('база 2013'!$B$4:$B$1191,$B33,'база 2013'!$I$4:$I$1191,AK$5,'база 2013'!$O$4:$O$1191,AK$7)","v":0},{"$f":"COUNTIFS('база 2013'!$B$4:$B$1191,$B33,'база 2013'!$I$4:$I$1191,AL$5,'база 2013'!$O$4:$O$1191,AL$7)","v":0},{"$f":"COUNTIFS('база 2013'!$B$4:$B$1191,$B33,'база 2013'!$I$4:$I$1191,AM$5,'база 2013'!$O$4:$O$1191,AM$7)","v":0},{"$f":"COUNTIFS('база 2013'!$B$4:$B$1191,$B33,'база 2013'!$I$4:$I$1191,AN$5,'база 2013'!$O$4:$O$1191,AN$7)","v":0},{"$f":"COUNTIFS('база 2013'!$B$4:$B$1191,$B33,'база 2013'!$I$4:$I$1191,AO$5,'база 2013'!$O$4:$O$1191,AO$7)","v":0},{"$f":"COUNTIFS('база 2013'!$B$4:$B$1191,$B33,'база 2013'!$I$4:$I$1191,AP$5,'база 2013'!$O$4:$O$1191,AP$7)","v":0},{"$f":"COUNTIFS('база 2013'!$B$4:$B$1191,$B33,'база 2013'!$I$4:$I$1191,AQ$5,'база 2013'!$O$4:$O$1191,AQ$7)","v":0},{"$f":"COUNTIFS('база 2013'!$B$4:$B$1191,$B33,'база 2013'!$I$4:$I$1191,AR$5,'база 2013'!$O$4:$O$1191,AR$7)","v":0},{"$f":"COUNTIFS('база 2013'!$B$4:$B$1191,$B33,'база 2013'!$I$4:$I$1191,AS$5,'база 2013'!$O$4:$O$1191,AS$7)","v":0},{"$f":"COUNTIFS('база 2013'!$B$4:$B$1191,$B33,'база 2013'!$I$4:$I$1191,AT$5,'база 2013'!$O$4:$O$1191,AT$7)","v":0},{"$f":"COUNTIFS('база 2013'!$B$4:$B$1191,$B33,'база 2013'!$I$4:$I$1191,AU$5,'база 2013'!$O$4:$O$1191,AU$7)","v":0},{"$f":"COUNTIFS('база 2013'!$B$4:$B$1191,$B33,'база 2013'!$I$4:$I$1191,AV$5,'база 2013'!$O$4:$O$1191,AV$7)","v":0},{"$f":"COUNTIFS('база 2013'!$B$4:$B$1191,$B33,'база 2013'!$I$4:$I$1191,AW$5,'база 2013'!$O$4:$O$1191,AW$7)","v":0},{"$f":"COUNTIFS('база 2013'!$B$4:$B$1191,$B33,'база 2013'!$I$4:$I$1191,AX$5,'база 2013'!$O$4:$O$1191,AX$7)","v":0},0,0,0,0,0,0,{"$f":"SUM(BB33:BD33)","v":0}]
[27,"Гольф",{"$f":"COUNTIFS('база 2013'!$B$4:$B$1191,$B34,'база 2013'!$I$4:$I$1191,C$5,'база 2013'!$O$4:$O$1191,C$7)","v":0},{"$f":"COUNTIFS('база 2013'!$B$4:$B$1191,$B34,'база 2013'!$I$4:$I$1191,D$5,'база 2013'!$O$4:$O$1191,D$7)","v":0},{"$f":"COUNTIFS('база 2013'!$B$4:$B$1191,$B34,'база 2013'!$I$4:$I$1191,E$5,'база 2013'!$O$4:$O$1191,E$7)","v":0},{"$f":"COUNTIFS('база 2013'!$B$4:$B$1191,$B34,'база 2013'!$I$4:$I$1191,F$5,'база 2013'!$O$4:$O$1191,F$7)","v":0},{"$f":"COUNTIFS('база 2013'!$B$4:$B$1191,$B34,'база 2013'!$I$4:$I$1191,G$5,'база 2013'!$O$4:$O$1191,G$7)","v":0},{"$f":"COUNTIFS('база 2013'!$B$4:$B$1191,$B34,'база 2013'!$I$4:$I$1191,H$5,'база 2013'!$O$4:$O$1191,H$7)","v":0},{"$f":"COUNTIFS('база 2013'!$B$4:$B$1191,$B34,'база 2013'!$I$4:$I$1191,I$5,'база 2013'!$O$4:$O$1191,I$7)","v":0},{"$f":"COUNTIFS('база 2013'!$B$4:$B$1191,$B34,'база 2013'!$I$4:$I$1191,J$5,'база 2013'!$O$4:$O$1191,J$7)","v":0},{"$f":"COUNTIFS('база 2013'!$B$4:$B$1191,$B34,'база 2013'!$I$4:$I$1191,K$5,'база 2013'!$O$4:$O$1191,K$7)","v":0},{"$f":"COUNTIFS('база 2013'!$B$4:$B$1191,$B34,'база 2013'!$I$4:$I$1191,L$5,'база 2013'!$O$4:$O$1191,L$7)","v":0},{"$f":"COUNTIFS('база 2013'!$B$4:$B$1191,$B34,'база 2013'!$I$4:$I$1191,M$5,'база 2013'!$O$4:$O$1191,M$7)","v":0},{"$f":"COUNTIFS('база 2013'!$B$4:$B$1191,$B34,'база 2013'!$I$4:$I$1191,N$5,'база 2013'!$O$4:$O$1191,N$7)","v":0},{"$f":"COUNTIFS('база 2013'!$B$4:$B$1191,$B34,'база 2013'!$I$4:$I$1191,O$5,'база 2013'!$O$4:$O$1191,O$7)","v":0},{"$f":"COUNTIFS('база 2013'!$B$4:$B$1191,$B34,'база 2013'!$I$4:$I$1191,P$5,'база 2013'!$O$4:$O$1191,P$7)","v":0},{"$f":"COUNTIFS('база 2013'!$B$4:$B$1191,$B34,'база 2013'!$I$4:$I$1191,Q$5,'база 2013'!$O$4:$O$1191,Q$7)","v":0},{"$f":"SUMIF($F$7:$Q$7,$R$7,F34:Q34)","v":0},0,0,{"$f":"COUNTIFS('база 2013'!$B$4:$B$1191,$B34,'база 2013'!$I$4:$I$1191,U$5,'база 2013'!$O$4:$O$1191,U$7)","v":0},{"$f":"COUNTIFS('база 2013'!$B$4:$B$1191,$B34,'база 2013'!$I$4:$I$1191,V$5,'база 2013'!$O$4:$O$1191,V$7)","v":0},{"$f":"COUNTIFS('база 2013'!$B$4:$B$1191,$B34,'база 2013'!$I$4:$I$1191,W$5,'база 2013'!$O$4:$O$1191,W$7)","v":0},{"$f":"COUNTIFS('база 2013'!$B$4:$B$1191,$B34,'база 2013'!$I$4:$I$1191,X$5,'база 2013'!$O$4:$O$1191,X$7)","v":0},{"$f":"COUNTIFS('база 2013'!$B$4:$B$1191,$B34,'база 2013'!$I$4:$I$1191,Y$5,'база 2013'!$O$4:$O$1191,Y$7)","v":0},{"$f":"COUNTIFS('база 2013'!$B$4:$B$1191,$B34,'база 2013'!$I$4:$I$1191,Z$5,'база 2013'!$O$4:$O$1191,Z$7)","v":0},{"$f":"COUNTIFS('база 2013'!$B$4:$B$1191,$B34,'база 2013'!$I$4:$I$1191,AA$5,'база 2013'!$O$4:$O$1191,AA$7)","v":0},{"$f":"COUNTIFS('база 2013'!$B$4:$B$1191,$B34,'база 2013'!$I$4:$I$1191,AB$5,'база 2013'!$O$4:$O$1191,AB$7)","v":0},{"$f":"COUNTIFS('база 2013'!$B$4:$B$1191,$B34,'база 2013'!$I$4:$I$1191,AC$5,'база 2013'!$O$4:$O$1191,AC$7)","v":0},0,0,0,{"$f":"COUNTIFS('база 2013'!$B$4:$B$1191,$B34,'база 2013'!$I$4:$I$1191,AG$5,'база 2013'!$O$4:$O$1191,AG$7)","v":0},{"$f":"COUNTIFS('база 2013'!$B$4:$B$1191,$B34,'база 2013'!$I$4:$I$1191,AH$5,'база 2013'!$O$4:$O$1191,AH$7)","v":0},{"$f":"COUNTIFS('база 2013'!$B$4:$B$1191,$B34,'база 2013'!$I$4:$I$1191,AI$5,'база 2013'!$O$4:$O$1191,AI$7)","v":0},{"$f":"COUNTIFS('база 2013'!$B$4:$B$1191,$B34,'база 2013'!$I$4:$I$1191,AJ$5,'база 2013'!$O$4:$O$1191,AJ$7)","v":0},{"$f":"COUNTIFS('база 2013'!$B$4:$B$1191,$B34,'база 2013'!$I$4:$I$1191,AK$5,'база 2013'!$O$4:$O$1191,AK$7)","v":0},{"$f":"COUNTIFS('база 2013'!$B$4:$B$1191,$B34,'база 2013'!$I$4:$I$1191,AL$5,'база 2013'!$O$4:$O$1191,AL$7)","v":0},{"$f":"COUNTIFS('база 2013'!$B$4:$B$1191,$B34,'база 2013'!$I$4:$I$1191,AM$5,'база 2013'!$O$4:$O$1191,AM$7)","v":0},{"$f":"COUNTIFS('база 2013'!$B$4:$B$1191,$B34,'база 2013'!$I$4:$I$1191,AN$5,'база 2013'!$O$4:$O$1191,AN$7)","v":0},{"$f":"COUNTIFS('база 2013'!$B$4:$B$1191,$B34,'база 2013'!$I$4:$I$1191,AO$5,'база 2013'!$O$4:$O$1191,AO$7)","v":0},{"$f":"COUNTIFS('база 2013'!$B$4:$B$1191,$B34,'база 2013'!$I$4:$I$1191,AP$5,'база 2013'!$O$4:$O$1191,AP$7)","v":0},{"$f":"COUNTIFS('база 2013'!$B$4:$B$1191,$B34,'база 2013'!$I$4:$I$1191,AQ$5,'база 2013'!$O$4:$O$1191,AQ$7)","v":0},{"$f":"COUNTIFS('база 2013'!$B$4:$B$1191,$B34,'база 2013'!$I$4:$I$1191,AR$5,'база 2013'!$O$4:$O$1191,AR$7)","v":0},{"$f":"COUNTIFS('база 2013'!$B$4:$B$1191,$B34,'база 2013'!$I$4:$I$1191,AS$5,'база 2013'!$O$4:$O$1191,AS$7)","v":0},{"$f":"COUNTIFS('база 2013'!$B$4:$B$1191,$B34,'база 2013'!$I$4:$I$1191,AT$5,'база 2013'!$O$4:$O$1191,AT$7)","v":0},{"$f":"COUNTIFS('база 2013'!$B$4:$B$1191,$B34,'база 2013'!$I$4:$I$1191,AU$5,'база 2013'!$O$4:$O$1191,AU$7)","v":0},{"$f":"COUNTIFS('база 2013'!$B$4:$B$1191,$B34,'база 2013'!$I$4:$I$1191,AV$5,'база 2013'!$O$4:$O$1191,AV$7)","v":0},{"$f":"COUNTIFS('база 2013'!$B$4:$B$1191,$B34,'база 2013'!$I$4:$I$1191,AW$5,'база 2013'!$O$4:$O$1191,AW$7)","v":0},{"$f":"COUNTIFS('база 2013'!$B$4:$B$1191,$B34,'база 2013'!$I$4:$I$1191,AX$5,'база 2013'!$O$4:$O$1191,AX$7)","v":0},0,0,0,0,0,0,{"$f":"SUM(BB34:BD34)","v":0}]
[28,"Гребной спорт",{"$f":"COUNTIFS('база 2013'!$B$4:$B$1191,$B35,'база 2013'!$I$4:$I$1191,C$5,'база 2013'!$O$4:$O$1191,C$7)","v":0},{"$f":"COUNTIFS('база 2013'!$B$4:$B$1191,$B35,'база 2013'!$I$4:$I$1191,D$5,'база 2013'!$O$4:$O$1191,D$7)","v":0},{"$f":"COUNTIFS('база 2013'!$B$4:$B$1191,$B35,'база 2013'!$I$4:$I$1191,E$5,'база 2013'!$O$4:$O$1191,E$7)","v":0},{"$f":"COUNTIFS('база 2013'!$B$4:$B$1191,$B35,'база 2013'!$I$4:$I$1191,F$5,'база 2013'!$O$4:$O$1191,F$7)","v":0},{"$f":"COUNTIFS('база 2013'!$B$4:$B$1191,$B35,'база 2013'!$I$4:$I$1191,G$5,'база 2013'!$O$4:$O$1191,G$7)","v":0},{"$f":"COUNTIFS('база 2013'!$B$4:$B$1191,$B35,'база 2013'!$I$4:$I$1191,H$5,'база 2013'!$O$4:$O$1191,H$7)","v":0},{"$f":"COUNTIFS('база 2013'!$B$4:$B$1191,$B35,'база 2013'!$I$4:$I$1191,I$5,'база 2013'!$O$4:$O$1191,I$7)","v":0},{"$f":"COUNTIFS('база 2013'!$B$4:$B$1191,$B35,'база 2013'!$I$4:$I$1191,J$5,'база 2013'!$O$4:$O$1191,J$7)","v":0},{"$f":"COUNTIFS('база 2013'!$B$4:$B$1191,$B35,'база 2013'!$I$4:$I$1191,K$5,'база 2013'!$O$4:$O$1191,K$7)","v":0},{"$f":"COUNTIFS('база 2013'!$B$4:$B$1191,$B35,'база 2013'!$I$4:$I$1191,L$5,'база 2013'!$O$4:$O$1191,L$7)","v":0},{"$f":"COUNTIFS('база 2013'!$B$4:$B$1191,$B35,'база 2013'!$I$4:$I$1191,M$5,'база 2013'!$O$4:$O$1191,M$7)","v":0},{"$f":"COUNTIFS('база 2013'!$B$4:$B$1191,$B35,'база 2013'!$I$4:$I$1191,N$5,'база 2013'!$O$4:$O$1191,N$7)","v":0},{"$f":"COUNTIFS('база 2013'!$B$4:$B$1191,$B35,'база 2013'!$I$4:$I$1191,O$5,'база 2013'!$O$4:$O$1191,O$7)","v":0},{"$f":"COUNTIFS('база 2013'!$B$4:$B$1191,$B35,'база 2013'!$I$4:$I$1191,P$5,'база 2013'!$O$4:$O$1191,P$7)","v":0},{"$f":"COUNTIFS('база 2013'!$B$4:$B$1191,$B35,'база 2013'!$I$4:$I$1191,Q$5,'база 2013'!$O$4:$O$1191,Q$7)","v":0},0,0,0,{"$f":"COUNTIFS('база 2013'!$B$4:$B$1191,$B35,'база 2013'!$I$4:$I$1191,U$5,'база 2013'!$O$4:$O$1191,U$7)","v":0},{"$f":"COUNTIFS('база 2013'!$B$4:$B$1191,$B35,'база 2013'!$I$4:$I$1191,V$5,'база 2013'!$O$4:$O$1191,V$7)","v":0},{"$f":"COUNTIFS('база 2013'!$B$4:$B$1191,$B35,'база 2013'!$I$4:$I$1191,W$5,'база 2013'!$O$4:$O$1191,W$7)","v":0},{"$f":"COUNTIFS('база 2013'!$B$4:$B$1191,$B35,'база 2013'!$I$4:$I$1191,X$5,'база 2013'!$O$4:$O$1191,X$7)","v":0},{"$f":"COUNTIFS('база 2013'!$B$4:$B$1191,$B35,'база 2013'!$I$4:$I$1191,Y$5,'база 2013'!$O$4:$O$1191,Y$7)","v":0},{"$f":"COUNTIFS('база 2013'!$B$4:$B$1191,$B35,'база 2013'!$I$4:$I$1191,Z$5,'база 2013'!$O$4:$O$1191,Z$7)","v":0},{"$f":"COUNTIFS('база 2013'!$B$4:$B$1191,$B35,'база 2013'!$I$4:$I$1191,AA$5,'база 2013'!$O$4:$O$1191,AA$7)","v":0},{"$f":"COUNTIFS('база 2013'!$B$4:$B$1191,$B35,'база 2013'!$I$4:$I$1191,AB$5,'база 2013'!$O$4:$O$1191,AB$7)","v":0},{"$f":"COUNTIFS('база 2013'!$B$4:$B$1191,$B35,'база 2013'!$I$4:$I$1191,AC$5,'база 2013'!$O$4:$O$1191,AC$7)","v":0},0,0,0,{"$f":"COUNTIFS('база 2013'!$B$4:$B$1191,$B35,'база 2013'!$I$4:$I$1191,AG$5,'база 2013'!$O$4:$O$1191,AG$7)","v":0},{"$f":"COUNTIFS('база 2013'!$B$4:$B$1191,$B35,'база 2013'!$I$4:$I$1191,AH$5,'база 2013'!$O$4:$O$1191,AH$7)","v":0},{"$f":"COUNTIFS('база 2013'!$B$4:$B$1191,$B35,'база 2013'!$I$4:$I$1191,AI$5,'база 2013'!$O$4:$O$1191,AI$7)","v":0},{"$f":"COUNTIFS('база 2013'!$B$4:$B$1191,$B35,'база 2013'!$I$4:$I$1191,AJ$5,'база 2013'!$O$4:$O$1191,AJ$7)","v":0},{"$f":"COUNTIFS('база 2013'!$B$4:$B$1191,$B35,'база 2013'!$I$4:$I$1191,AK$5,'база 2013'!$O$4:$O$1191,AK$7)","v":0},{"$f":"COUNTIFS('база 2013'!$B$4:$B$1191,$B35,'база 2013'!$I$4:$I$1191,AL$5,'база 2013'!$O$4:$O$1191,AL$7)","v":0},{"$f":"COUNTIFS('база 2013'!$B$4:$B$1191,$B35,'база 2013'!$I$4:$I$1191,AM$5,'база 2013'!$O$4:$O$1191,AM$7)","v":0},{"$f":"COUNTIFS('база 2013'!$B$4:$B$1191,$B35,'база 2013'!$I$4:$I$1191,AN$5,'база 2013'!$O$4:$O$1191,AN$7)","v":0},{"$f":"COUNTIFS('база 2013'!$B$4:$B$1191,$B35,'база 2013'!$I$4:$I$1191,AO$5,'база 2013'!$O$4:$O$1191,AO$7)","v":0},{"$f":"COUNTIFS('база 2013'!$B$4:$B$1191,$B35,'база 2013'!$I$4:$I$1191,AP$5,'база 2013'!$O$4:$O$1191,AP$7)","v":0},{"$f":"COUNTIFS('база 2013'!$B$4:$B$1191,$B35,'база 2013'!$I$4:$I$1191,AQ$5,'база 2013'!$O$4:$O$1191,AQ$7)","v":0},{"$f":"COUNTIFS('база 2013'!$B$4:$B$1191,$B35,'база 2013'!$I$4:$I$1191,AR$5,'база 2013'!$O$4:$O$1191,AR$7)","v":0},{"$f":"COUNTIFS('база 2013'!$B$4:$B$1191,$B35,'база 2013'!$I$4:$I$1191,AS$5,'база 2013'!$O$4:$O$1191,AS$7)","v":0},{"$f":"COUNTIFS('база 2013'!$B$4:$B$1191,$B35,'база 2013'!$I$4:$I$1191,AT$5,'база 2013'!$O$4:$O$1191,AT$7)","v":0},{"$f":"COUNTIFS('база 2013'!$B$4:$B$1191,$B35,'база 2013'!$I$4:$I$1191,AU$5,'база 2013'!$O$4:$O$1191,AU$7)","v":0},{"$f":"COUNTIFS('база 2013'!$B$4:$B$1191,$B35,'база 2013'!$I$4:$I$1191,AV$5,'база 2013'!$O$4:$O$1191,AV$7)","v":0},{"$f":"COUNTIFS('база 2013'!$B$4:$B$1191,$B35,'база 2013'!$I$4:$I$1191,AW$5,'база 2013'!$O$4:$O$1191,AW$7)","v":0},{"$f":"COUNTIFS('база 2013'!$B$4:$B$1191,$B35,'база 2013'!$I$4:$I$1191,AX$5,'база 2013'!$O$4:$O$1191,AX$7)","v":0},0,0,0,0,0,0,0]
[29,"Гребля на байдарках и каноэ",{"$f":"COUNTIFS('база 2013'!$B$4:$B$1191,$B36,'база 2013'!$I$4:$I$1191,C$5,'база 2013'!$O$4:$O$1191,C$7)","v":0},{"$f":"COUNTIFS('база 2013'!$B$4:$B$1191,$B36,'база 2013'!$I$4:$I$1191,D$5,'база 2013'!$O$4:$O$1191,D$7)","v":0},{"$f":"COUNTIFS('база 2013'!$B$4:$B$1191,$B36,'база 2013'!$I$4:$I$1191,E$5,'база 2013'!$O$4:$O$1191,E$7)","v":0},{"$f":"COUNTIFS('база 2013'!$B$4:$B$1191,$B36,'база 2013'!$I$4:$I$1191,F$5,'база 2013'!$O$4:$O$1191,F$7)","v":0},{"$f":"COUNTIFS('база 2013'!$B$4:$B$1191,$B36,'база 2013'!$I$4:$I$1191,G$5,'база 2013'!$O$4:$O$1191,G$7)","v":0},{"$f":"COUNTIFS('база 2013'!$B$4:$B$1191,$B36,'база 2013'!$I$4:$I$1191,H$5,'база 2013'!$O$4:$O$1191,H$7)","v":0},{"$f":"COUNTIFS('база 2013'!$B$4:$B$1191,$B36,'база 2013'!$I$4:$I$1191,I$5,'база 2013'!$O$4:$O$1191,I$7)","v":0},{"$f":"COUNTIFS('база 2013'!$B$4:$B$1191,$B36,'база 2013'!$I$4:$I$1191,J$5,'база 2013'!$O$4:$O$1191,J$7)","v":0},{"$f":"COUNTIFS('база 2013'!$B$4:$B$1191,$B36,'база 2013'!$I$4:$I$1191,K$5,'база 2013'!$O$4:$O$1191,K$7)","v":0},{"$f":"COUNTIFS('база 2013'!$B$4:$B$1191,$B36,'база 2013'!$I$4:$I$1191,L$5,'база 2013'!$O$4:$O$1191,L$7)","v":0},{"$f":"COUNTIFS('база 2013'!$B$4:$B$1191,$B36,'база 2013'!$I$4:$I$1191,M$5,'база 2013'!$O$4:$O$1191,M$7)","v":0},{"$f":"COUNTIFS('база 2013'!$B$4:$B$1191,$B36,'база 2013'!$I$4:$I$1191,N$5,'база 2013'!$O$4:$O$1191,N$7)","v":0},{"$f":"COUNTIFS('база 2013'!$B$4:$B$1191,$B36,'база 2013'!$I$4:$I$1191,O$5,'база 2013'!$O$4:$O$1191,O$7)","v":0},{"$f":"COUNTIFS('база 2013'!$B$4:$B$1191,$B36,'база 2013'!$I$4:$I$1191,P$5,'база 2013'!$O$4:$O$1191,P$7)","v":0},{"$f":"COUNTIFS('база 2013'!$B$4:$B$1191,$B36,'база 2013'!$I$4:$I$1191,Q$5,'база 2013'!$O$4:$O$1191,Q$7)","v":0},0,0,0,{"$f":"COUNTIFS('база 2013'!$B$4:$B$1191,$B36,'база 2013'!$I$4:$I$1191,U$5,'база 2013'!$O$4:$O$1191,U$7)","v":0},{"$f":"COUNTIFS('база 2013'!$B$4:$B$1191,$B36,'база 2013'!$I$4:$I$1191,V$5,'база 2013'!$O$4:$O$1191,V$7)","v":0},{"$f":"COUNTIFS('база 2013'!$B$4:$B$1191,$B36,'база 2013'!$I$4:$I$1191,W$5,'база 2013'!$O$4:$O$1191,W$7)","v":0},{"$f":"COUNTIFS('база 2013'!$B$4:$B$1191,$B36,'база 2013'!$I$4:$I$1191,X$5,'база 2013'!$O$4:$O$1191,X$7)","v":0},{"$f":"COUNTIFS('база 2013'!$B$4:$B$1191,$B36,'база 2013'!$I$4:$I$1191,Y$5,'база 2013'!$O$4:$O$1191,Y$7)","v":0},{"$f":"COUNTIFS('база 2013'!$B$4:$B$1191,$B36,'база 2013'!$I$4:$I$1191,Z$5,'база 2013'!$O$4:$O$1191,Z$7)","v":0},{"$f":"COUNTIFS('база 2013'!$B$4:$B$1191,$B36,'база 2013'!$I$4:$I$1191,AA$5,'база 2013'!$O$4:$O$1191,AA$7)","v":0},{"$f":"COUNTIFS('база 2013'!$B$4:$B$1191,$B36,'база 2013'!$I$4:$I$1191,AB$5,'база 2013'!$O$4:$O$1191,AB$7)","v":0},{"$f":"COUNTIFS('база 2013'!$B$4:$B$1191,$B36,'база 2013'!$I$4:$I$1191,AC$5,'база 2013'!$O$4:$O$1191,AC$7)","v":0},0,0,0,{"$f":"COUNTIFS('база 2013'!$B$4:$B$1191,$B36,'база 2013'!$I$4:$I$1191,AG$5,'база 2013'!$O$4:$O$1191,AG$7)","v":0},{"$f":"COUNTIFS('база 2013'!$B$4:$B$1191,$B36,'база 2013'!$I$4:$I$1191,AH$5,'база 2013'!$O$4:$O$1191,AH$7)","v":0},{"$f":"COUNTIFS('база 2013'!$B$4:$B$1191,$B36,'база 2013'!$I$4:$I$1191,AI$5,'база 2013'!$O$4:$O$1191,AI$7)","v":0},{"$f":"COUNTIFS('база 2013'!$B$4:$B$1191,$B36,'база 2013'!$I$4:$I$1191,AJ$5,'база 2013'!$O$4:$O$1191,AJ$7)","v":0},{"$f":"COUNTIFS('база 2013'!$B$4:$B$1191,$B36,'база 2013'!$I$4:$I$1191,AK$5,'база 2013'!$O$4:$O$1191,AK$7)","v":0},{"$f":"COUNTIFS('база 2013'!$B$4:$B$1191,$B36,'база 2013'!$I$4:$I$1191,AL$5,'база 2013'!$O$4:$O$1191,AL$7)","v":0},{"$f":"COUNTIFS('база 2013'!$B$4:$B$1191,$B36,'база 2013'!$I$4:$I$1191,AM$5,'база 2013'!$O$4:$O$1191,AM$7)","v":0},{"$f":"COUNTIFS('база 2013'!$B$4:$B$1191,$B36,'база 2013'!$I$4:$I$1191,AN$5,'база 2013'!$O$4:$O$1191,AN$7)","v":0},{"$f":"COUNTIFS('база 2013'!$B$4:$B$1191,$B36,'база 2013'!$I$4:$I$1191,AO$5,'база 2013'!$O$4:$O$1191,AO$7)","v":0},{"$f":"COUNTIFS('база 2013'!$B$4:$B$1191,$B36,'база 2013'!$I$4:$I$1191,AP$5,'база 2013'!$O$4:$O$1191,AP$7)","v":0},{"$f":"COUNTIFS('база 2013'!$B$4:$B$1191,$B36,'база 2013'!$I$4:$I$1191,AQ$5,'база 2013'!$O$4:$O$1191,AQ$7)","v":0},{"$f":"COUNTIFS('база 2013'!$B$4:$B$1191,$B36,'база 2013'!$I$4:$I$1191,AR$5,'база 2013'!$O$4:$O$1191,AR$7)","v":0},{"$f":"COUNTIFS('база 2013'!$B$4:$B$1191,$B36,'база 2013'!$I$4:$I$1191,AS$5,'база 2013'!$O$4:$O$1191,AS$7)","v":0},{"$f":"COUNTIFS('база 2013'!$B$4:$B$1191,$B36,'база 2013'!$I$4:$I$1191,AT$5,'база 2013'!$O$4:$O$1191,AT$7)","v":0},{"$f":"COUNTIFS('база 2013'!$B$4:$B$1191,$B36,'база 2013'!$I$4:$I$1191,AU$5,'база 2013'!$O$4:$O$1191,AU$7)","v":0},{"$f":"COUNTIFS('база 2013'!$B$4:$B$1191,$B36,'база 2013'!$I$4:$I$1191,AV$5,'база 2013'!$O$4:$O$1191,AV$7)","v":0},{"$f":"COUNTIFS('база 2013'!$B$4:$B$1191,$B36,'база 2013'!$I$4:$I$1191,AW$5,'база 2013'!$O$4:$O$1191,AW$7)","v":0},{"$f":"COUNTIFS('база 2013'!$B$4:$B$1191,$B36,'база 2013'!$I$4:$I$1191,AX$5,'база 2013'!$O$4:$O$1191,AX$7)","v":0},0,0,0,0,0,0,0]
[30,"Дартс",{"$f":"COUNTIFS('база 2013'!$B$4:$B$1191,$B37,'база 2013'!$I$4:$I$1191,C$5,'база 2013'!$O$4:$O$1191,C$7)","v":0},{"$f":"COUNTIFS('база 2013'!$B$4:$B$1191,$B37,'база 2013'!$I$4:$I$1191,D$5,'база 2013'!$O$4:$O$1191,D$7)","v":0},{"$f":"COUNTIFS('база 2013'!$B$4:$B$1191,$B37,'база 2013'!$I$4:$I$1191,E$5,'база 2013'!$O$4:$O$1191,E$7)","v":0},{"$f":"COUNTIFS('база 2013'!$B$4:$B$1191,$B37,'база 2013'!$I$4:$I$1191,F$5,'база 2013'!$O$4:$O$1191,F$7)","v":0},{"$f":"COUNTIFS('база 2013'!$B$4:$B$1191,$B37,'база 2013'!$I$4:$I$1191,G$5,'база 2013'!$O$4:$O$1191,G$7)","v":0},{"$f":"COUNTIFS('база 2013'!$B$4:$B$1191,$B37,'база 2013'!$I$4:$I$1191,H$5,'база 2013'!$O$4:$O$1191,H$7)","v":0},{"$f":"COUNTIFS('база 2013'!$B$4:$B$1191,$B37,'база 2013'!$I$4:$I$1191,I$5,'база 2013'!$O$4:$O$1191,I$7)","v":0},{"$f":"COUNTIFS('база 2013'!$B$4:$B$1191,$B37,'база 2013'!$I$4:$I$1191,J$5,'база 2013'!$O$4:$O$1191,J$7)","v":0},{"$f":"COUNTIFS('база 2013'!$B$4:$B$1191,$B37,'база 2013'!$I$4:$I$1191,K$5,'база 2013'!$O$4:$O$1191,K$7)","v":0},{"$f":"COUNTIFS('база 2013'!$B$4:$B$1191,$B37,'база 2013'!$I$4:$I$1191,L$5,'база 2013'!$O$4:$O$1191,L$7)","v":0},{"$f":"COUNTIFS('база 2013'!$B$4:$B$1191,$B37,'база 2013'!$I$4:$I$1191,M$5,'база 2013'!$O$4:$O$1191,M$7)","v":0},{"$f":"COUNTIFS('база 2013'!$B$4:$B$1191,$B37,'база 2013'!$I$4:$I$1191,N$5,'база 2013'!$O$4:$O$1191,N$7)","v":0},{"$f":"COUNTIFS('база 2013'!$B$4:$B$1191,$B37,'база 2013'!$I$4:$I$1191,O$5,'база 2013'!$O$4:$O$1191,O$7)","v":0},{"$f":"COUNTIFS('база 2013'!$B$4:$B$1191,$B37,'база 2013'!$I$4:$I$1191,P$5,'база 2013'!$O$4:$O$1191,P$7)","v":0},{"$f":"COUNTIFS('база 2013'!$B$4:$B$1191,$B37,'база 2013'!$I$4:$I$1191,Q$5,'база 2013'!$O$4:$O$1191,Q$7)","v":0},0,0,0,{"$f":"COUNTIFS('база 2013'!$B$4:$B$1191,$B37,'база 2013'!$I$4:$I$1191,U$5,'база 2013'!$O$4:$O$1191,U$7)","v":0},{"$f":"COUNTIFS('база 2013'!$B$4:$B$1191,$B37,'база 2013'!$I$4:$I$1191,V$5,'база 2013'!$O$4:$O$1191,V$7)","v":0},{"$f":"COUNTIFS('база 2013'!$B$4:$B$1191,$B37,'база 2013'!$I$4:$I$1191,W$5,'база 2013'!$O$4:$O$1191,W$7)","v":0},{"$f":"COUNTIFS('база 2013'!$B$4:$B$1191,$B37,'база 2013'!$I$4:$I$1191,X$5,'база 2013'!$O$4:$O$1191,X$7)","v":0},{"$f":"COUNTIFS('база 2013'!$B$4:$B$1191,$B37,'база 2013'!$I$4:$I$1191,Y$5,'база 2013'!$O$4:$O$1191,Y$7)","v":0},{"$f":"COUNTIFS('база 2013'!$B$4:$B$1191,$B37,'база 2013'!$I$4:$I$1191,Z$5,'база 2013'!$O$4:$O$1191,Z$7)","v":0},{"$f":"COUNTIFS('база 2013'!$B$4:$B$1191,$B37,'база 2013'!$I$4:$I$1191,AA$5,'база 2013'!$O$4:$O$1191,AA$7)","v":0},{"$f":"COUNTIFS('база 2013'!$B$4:$B$1191,$B37,'база 2013'!$I$4:$I$1191,AB$5,'база 2013'!$O$4:$O$1191,AB$7)","v":0},{"$f":"COUNTIFS('база 2013'!$B$4:$B$1191,$B37,'база 2013'!$I$4:$I$1191,AC$5,'база 2013'!$O$4:$O$1191,AC$7)","v":0},0,0,0,{"$f":"COUNTIFS('база 2013'!$B$4:$B$1191,$B37,'база 2013'!$I$4:$I$1191,AG$5,'база 2013'!$O$4:$O$1191,AG$7)","v":0},{"$f":"COUNTIFS('база 2013'!$B$4:$B$1191,$B37,'база 2013'!$I$4:$I$1191,AH$5,'база 2013'!$O$4:$O$1191,AH$7)","v":0},{"$f":"COUNTIFS('база 2013'!$B$4:$B$1191,$B37,'база 2013'!$I$4:$I$1191,AI$5,'база 2013'!$O$4:$O$1191,AI$7)","v":0},{"$f":"COUNTIFS('база 2013'!$B$4:$B$1191,$B37,'база 2013'!$I$4:$I$1191,AJ$5,'база 2013'!$O$4:$O$1191,AJ$7)","v":0},{"$f":"COUNTIFS('база 2013'!$B$4:$B$1191,$B37,'база 2013'!$I$4:$I$1191,AK$5,'база 2013'!$O$4:$O$1191,AK$7)","v":0},{"$f":"COUNTIFS('база 2013'!$B$4:$B$1191,$B37,'база 2013'!$I$4:$I$1191,AL$5,'база 2013'!$O$4:$O$1191,AL$7)","v":0},{"$f":"COUNTIFS('база 2013'!$B$4:$B$1191,$B37,'база 2013'!$I$4:$I$1191,AM$5,'база 2013'!$O$4:$O$1191,AM$7)","v":0},{"$f":"COUNTIFS('база 2013'!$B$4:$B$1191,$B37,'база 2013'!$I$4:$I$1191,AN$5,'база 2013'!$O$4:$O$1191,AN$7)","v":0},{"$f":"COUNTIFS('база 2013'!$B$4:$B$1191,$B37,'база 2013'!$I$4:$I$1191,AO$5,'база 2013'!$O$4:$O$1191,AO$7)","v":0},{"$f":"COUNTIFS('база 2013'!$B$4:$B$1191,$B37,'база 2013'!$I$4:$I$1191,AP$5,'база 2013'!$O$4:$O$1191,AP$7)","v":0},{"$f":"COUNTIFS('база 2013'!$B$4:$B$1191,$B37,'база 2013'!$I$4:$I$1191,AQ$5,'база 2013'!$O$4:$O$1191,AQ$7)","v":0},{"$f":"COUNTIFS('база 2013'!$B$4:$B$1191,$B37,'база 2013'!$I$4:$I$1191,AR$5,'база 2013'!$O$4:$O$1191,AR$7)","v":0},{"$f":"COUNTIFS('база 2013'!$B$4:$B$1191,$B37,'база 2013'!$I$4:$I$1191,AS$5,'база 2013'!$O$4:$O$1191,AS$7)","v":0},{"$f":"COUNTIFS('база 2013'!$B$4:$B$1191,$B37,'база 2013'!$I$4:$I$1191,AT$5,'база 2013'!$O$4:$O$1191,AT$7)","v":0},{"$f":"COUNTIFS('база 2013'!$B$4:$B$1191,$B37,'база 2013'!$I$4:$I$1191,AU$5,'база 2013'!$O$4:$O$1191,AU$7)","v":0},{"$f":"COUNTIFS('база 2013'!$B$4:$B$1191,$B37,'база 2013'!$I$4:$I$1191,AV$5,'база 2013'!$O$4:$O$1191,AV$7)","v":0},{"$f":"COUNTIFS('база 2013'!$B$4:$B$1191,$B37,'база 2013'!$I$4:$I$1191,AW$5,'база 2013'!$O$4:$O$1191,AW$7)","v":0},{"$f":"COUNTIFS('база 2013'!$B$4:$B$1191,$B37,'база 2013'!$I$4:$I$1191,AX$5,'база 2013'!$O$4:$O$1191,AX$7)","v":0},0,0,0,0,0,0,{"$f":"SUM(BB37:BD37)","v":0}]
[31,"Дзюдо",{"$f":"COUNTIFS('база 2013'!$B$4:$B$1191,$B38,'база 2013'!$I$4:$I$1191,C$5,'база 2013'!$O$4:$O$1191,C$7)","v":0},{"$f":"COUNTIFS('база 2013'!$B$4:$B$1191,$B38,'база 2013'!$I$4:$I$1191,D$5,'база 2013'!$O$4:$O$1191,D$7)","v":0},{"$f":"COUNTIFS('база 2013'!$B$4:$B$1191,$B38,'база 2013'!$I$4:$I$1191,E$5,'база 2013'!$O$4:$O$1191,E$7)","v":0},{"$f":"COUNTIFS('база 2013'!$B$4:$B$1191,$B38,'база 2013'!$I$4:$I$1191,F$5,'база 2013'!$O$4:$O$1191,F$7)","v":0},{"$f":"COUNTIFS('база 2013'!$B$4:$B$1191,$B38,'база 2013'!$I$4:$I$1191,G$5,'база 2013'!$O$4:$O$1191,G$7)","v":0},{"$f":"COUNTIFS('база 2013'!$B$4:$B$1191,$B38,'база 2013'!$I$4:$I$1191,H$5,'база 2013'!$O$4:$O$1191,H$7)","v":0},{"$f":"COUNTIFS('база 2013'!$B$4:$B$1191,$B38,'база 2013'!$I$4:$I$1191,I$5,'база 2013'!$O$4:$O$1191,I$7)","v":0},{"$f":"COUNTIFS('база 2013'!$B$4:$B$1191,$B38,'база 2013'!$I$4:$I$1191,J$5,'база 2013'!$O$4:$O$1191,J$7)","v":0},{"$f":"COUNTIFS('база 2013'!$B$4:$B$1191,$B38,'база 2013'!$I$4:$I$1191,K$5,'база 2013'!$O$4:$O$1191,K$7)","v":0},{"$f":"COUNTIFS('база 2013'!$B$4:$B$1191,$B38,'база 2013'!$I$4:$I$1191,L$5,'база 2013'!$O$4:$O$1191,L$7)","v":0},{"$f":"COUNTIFS('база 2013'!$B$4:$B$1191,$B38,'база 2013'!$I$4:$I$1191,M$5,'база 2013'!$O$4:$O$1191,M$7)","v":0},{"$f":"COUNTIFS('база 2013'!$B$4:$B$1191,$B38,'база 2013'!$I$4:$I$1191,N$5,'база 2013'!$O$4:$O$1191,N$7)","v":0},{"$f":"COUNTIFS('база 2013'!$B$4:$B$1191,$B38,'база 2013'!$I$4:$I$1191,O$5,'база 2013'!$O$4:$O$1191,O$7)","v":0},{"$f":"COUNTIFS('база 2013'!$B$4:$B$1191,$B38,'база 2013'!$I$4:$I$1191,P$5,'база 2013'!$O$4:$O$1191,P$7)","v":0},{"$f":"COUNTIFS('база 2013'!$B$4:$B$1191,$B38,'база 2013'!$I$4:$I$1191,Q$5,'база 2013'!$O$4:$O$1191,Q$7)","v":0},0,0,0,{"$f":"COUNTIFS('база 2013'!$B$4:$B$1191,$B38,'база 2013'!$I$4:$I$1191,U$5,'база 2013'!$O$4:$O$1191,U$7)","v":0},{"$f":"COUNTIFS('база 2013'!$B$4:$B$1191,$B38,'база 2013'!$I$4:$I$1191,V$5,'база 2013'!$O$4:$O$1191,V$7)","v":0},{"$f":"COUNTIFS('база 2013'!$B$4:$B$1191,$B38,'база 2013'!$I$4:$I$1191,W$5,'база 2013'!$O$4:$O$1191,W$7)","v":0},{"$f":"COUNTIFS('база 2013'!$B$4:$B$1191,$B38,'база 2013'!$I$4:$I$1191,X$5,'база 2013'!$O$4:$O$1191,X$7)","v":0},{"$f":"COUNTIFS('база 2013'!$B$4:$B$1191,$B38,'база 2013'!$I$4:$I$1191,Y$5,'база 2013'!$O$4:$O$1191,Y$7)","v":0},{"$f":"COUNTIFS('база 2013'!$B$4:$B$1191,$B38,'база 2013'!$I$4:$I$1191,Z$5,'база 2013'!$O$4:$O$1191,Z$7)","v":0},{"$f":"COUNTIFS('база 2013'!$B$4:$B$1191,$B38,'база 2013'!$I$4:$I$1191,AA$5,'база 2013'!$O$4:$O$1191,AA$7)","v":0},{"$f":"COUNTIFS('база 2013'!$B$4:$B$1191,$B38,'база 2013'!$I$4:$I$1191,AB$5,'база 2013'!$O$4:$O$1191,AB$7)","v":0},{"$f":"COUNTIFS('база 2013'!$B$4:$B$1191,$B38,'база 2013'!$I$4:$I$1191,AC$5,'база 2013'!$O$4:$O$1191,AC$7)","v":0},0,0,0,{"$f":"COUNTIFS('база 2013'!$B$4:$B$1191,$B38,'база 2013'!$I$4:$I$1191,AG$5,'база 2013'!$O$4:$O$1191,AG$7)","v":0},{"$f":"COUNTIFS('база 2013'!$B$4:$B$1191,$B38,'база 2013'!$I$4:$I$1191,AH$5,'база 2013'!$O$4:$O$1191,AH$7)","v":0},{"$f":"COUNTIFS('база 2013'!$B$4:$B$1191,$B38,'база 2013'!$I$4:$I$1191,AI$5,'база 2013'!$O$4:$O$1191,AI$7)","v":0},{"$f":"COUNTIFS('база 2013'!$B$4:$B$1191,$B38,'база 2013'!$I$4:$I$1191,AJ$5,'база 2013'!$O$4:$O$1191,AJ$7)","v":0},{"$f":"COUNTIFS('база 2013'!$B$4:$B$1191,$B38,'база 2013'!$I$4:$I$1191,AK$5,'база 2013'!$O$4:$O$1191,AK$7)","v":0},{"$f":"COUNTIFS('база 2013'!$B$4:$B$1191,$B38,'база 2013'!$I$4:$I$1191,AL$5,'база 2013'!$O$4:$O$1191,AL$7)","v":0},{"$f":"COUNTIFS('база 2013'!$B$4:$B$1191,$B38,'база 2013'!$I$4:$I$1191,AM$5,'база 2013'!$O$4:$O$1191,AM$7)","v":0},{"$f":"COUNTIFS('база 2013'!$B$4:$B$1191,$B38,'база 2013'!$I$4:$I$1191,AN$5,'база 2013'!$O$4:$O$1191,AN$7)","v":0},{"$f":"COUNTIFS('база 2013'!$B$4:$B$1191,$B38,'база 2013'!$I$4:$I$1191,AO$5,'база 2013'!$O$4:$O$1191,AO$7)","v":0},{"$f":"COUNTIFS('база 2013'!$B$4:$B$1191,$B38,'база 2013'!$I$4:$I$1191,AP$5,'база 2013'!$O$4:$O$1191,AP$7)","v":0},{"$f":"COUNTIFS('база 2013'!$B$4:$B$1191,$B38,'база 2013'!$I$4:$I$1191,AQ$5,'база 2013'!$O$4:$O$1191,AQ$7)","v":0},{"$f":"COUNTIFS('база 2013'!$B$4:$B$1191,$B38,'база 2013'!$I$4:$I$1191,AR$5,'база 2013'!$O$4:$O$1191,AR$7)","v":0},{"$f":"COUNTIFS('база 2013'!$B$4:$B$1191,$B38,'база 2013'!$I$4:$I$1191,AS$5,'база 2013'!$O$4:$O$1191,AS$7)","v":0},{"$f":"COUNTIFS('база 2013'!$B$4:$B$1191,$B38,'база 2013'!$I$4:$I$1191,AT$5,'база 2013'!$O$4:$O$1191,AT$7)","v":0},{"$f":"COUNTIFS('база 2013'!$B$4:$B$1191,$B38,'база 2013'!$I$4:$I$1191,AU$5,'база 2013'!$O$4:$O$1191,AU$7)","v":0},{"$f":"COUNTIFS('база 2013'!$B$4:$B$1191,$B38,'база 2013'!$I$4:$I$1191,AV$5,'база 2013'!$O$4:$O$1191,AV$7)","v":0},{"$f":"COUNTIFS('база 2013'!$B$4:$B$1191,$B38,'база 2013'!$I$4:$I$1191,AW$5,'база 2013'!$O$4:$O$1191,AW$7)","v":0},{"$f":"COUNTIFS('база 2013'!$B$4:$B$1191,$B38,'база 2013'!$I$4:$I$1191,AX$5,'база 2013'!$O$4:$O$1191,AX$7)","v":0},0,0,0,0,0,0,0]
[32,"Дуатлон",{"$f":"COUNTIFS('база 2013'!$B$4:$B$1191,$B39,'база 2013'!$I$4:$I$1191,C$5,'база 2013'!$O$4:$O$1191,C$7)","v":0},{"$f":"COUNTIFS('база 2013'!$B$4:$B$1191,$B39,'база 2013'!$I$4:$I$1191,D$5,'база 2013'!$O$4:$O$1191,D$7)","v":0},{"$f":"COUNTIFS('база 2013'!$B$4:$B$1191,$B39,'база 2013'!$I$4:$I$1191,E$5,'база 2013'!$O$4:$O$1191,E$7)","v":0},{"$f":"COUNTIFS('база 2013'!$B$4:$B$1191,$B39,'база 2013'!$I$4:$I$1191,F$5,'база 2013'!$O$4:$O$1191,F$7)","v":0},{"$f":"COUNTIFS('база 2013'!$B$4:$B$1191,$B39,'база 2013'!$I$4:$I$1191,G$5,'база 2013'!$O$4:$O$1191,G$7)","v":0},{"$f":"COUNTIFS('база 2013'!$B$4:$B$1191,$B39,'база 2013'!$I$4:$I$1191,H$5,'база 2013'!$O$4:$O$1191,H$7)","v":0},{"$f":"COUNTIFS('база 2013'!$B$4:$B$1191,$B39,'база 2013'!$I$4:$I$1191,I$5,'база 2013'!$O$4:$O$1191,I$7)","v":0},{"$f":"COUNTIFS('база 2013'!$B$4:$B$1191,$B39,'база 2013'!$I$4:$I$1191,J$5,'база 2013'!$O$4:$O$1191,J$7)","v":0},{"$f":"COUNTIFS('база 2013'!$B$4:$B$1191,$B39,'база 2013'!$I$4:$I$1191,K$5,'база 2013'!$O$4:$O$1191,K$7)","v":0},{"$f":"COUNTIFS('база 2013'!$B$4:$B$1191,$B39,'база 2013'!$I$4:$I$1191,L$5,'база 2013'!$O$4:$O$1191,L$7)","v":0},{"$f":"COUNTIFS('база 2013'!$B$4:$B$1191,$B39,'база 2013'!$I$4:$I$1191,M$5,'база 2013'!$O$4:$O$1191,M$7)","v":0},{"$f":"COUNTIFS('база 2013'!$B$4:$B$1191,$B39,'база 2013'!$I$4:$I$1191,N$5,'база 2013'!$O$4:$O$1191,N$7)","v":0},{"$f":"COUNTIFS('база 2013'!$B$4:$B$1191,$B39,'база 2013'!$I$4:$I$1191,O$5,'база 2013'!$O$4:$O$1191,O$7)","v":0},{"$f":"COUNTIFS('база 2013'!$B$4:$B$1191,$B39,'база 2013'!$I$4:$I$1191,P$5,'база 2013'!$O$4:$O$1191,P$7)","v":0},{"$f":"COUNTIFS('база 2013'!$B$4:$B$1191,$B39,'база 2013'!$I$4:$I$1191,Q$5,'база 2013'!$O$4:$O$1191,Q$7)","v":0},0,0,0,{"$f":"COUNTIFS('база 2013'!$B$4:$B$1191,$B39,'база 2013'!$I$4:$I$1191,U$5,'база 2013'!$O$4:$O$1191,U$7)","v":0},{"$f":"COUNTIFS('база 2013'!$B$4:$B$1191,$B39,'база 2013'!$I$4:$I$1191,V$5,'база 2013'!$O$4:$O$1191,V$7)","v":0},{"$f":"COUNTIFS('база 2013'!$B$4:$B$1191,$B39,'база 2013'!$I$4:$I$1191,W$5,'база 2013'!$O$4:$O$1191,W$7)","v":0},{"$f":"COUNTIFS('база 2013'!$B$4:$B$1191,$B39,'база 2013'!$I$4:$I$1191,X$5,'база 2013'!$O$4:$O$1191,X$7)","v":0},{"$f":"COUNTIFS('база 2013'!$B$4:$B$1191,$B39,'база 2013'!$I$4:$I$1191,Y$5,'база 2013'!$O$4:$O$1191,Y$7)","v":0},{"$f":"COUNTIFS('база 2013'!$B$4:$B$1191,$B39,'база 2013'!$I$4:$I$1191,Z$5,'база 2013'!$O$4:$O$1191,Z$7)","v":0},{"$f":"COUNTIFS('база 2013'!$B$4:$B$1191,$B39,'база 2013'!$I$4:$I$1191,AA$5,'база 2013'!$O$4:$O$1191,AA$7)","v":0},{"$f":"COUNTIFS('база 2013'!$B$4:$B$1191,$B39,'база 2013'!$I$4:$I$1191,AB$5,'база 2013'!$O$4:$O$1191,AB$7)","v":0},{"$f":"COUNTIFS('база 2013'!$B$4:$B$1191,$B39,'база 2013'!$I$4:$I$1191,AC$5,'база 2013'!$O$4:$O$1191,AC$7)","v":0},0,0,0,{"$f":"COUNTIFS('база 2013'!$B$4:$B$1191,$B39,'база 2013'!$I$4:$I$1191,AG$5,'база 2013'!$O$4:$O$1191,AG$7)","v":0},{"$f":"COUNTIFS('база 2013'!$B$4:$B$1191,$B39,'база 2013'!$I$4:$I$1191,AH$5,'база 2013'!$O$4:$O$1191,AH$7)","v":0},{"$f":"COUNTIFS('база 2013'!$B$4:$B$1191,$B39,'база 2013'!$I$4:$I$1191,AI$5,'база 2013'!$O$4:$O$1191,AI$7)","v":0},{"$f":"COUNTIFS('база 2013'!$B$4:$B$1191,$B39,'база 2013'!$I$4:$I$1191,AJ$5,'база 2013'!$O$4:$O$1191,AJ$7)","v":0},{"$f":"COUNTIFS('база 2013'!$B$4:$B$1191,$B39,'база 2013'!$I$4:$I$1191,AK$5,'база 2013'!$O$4:$O$1191,AK$7)","v":0},{"$f":"COUNTIFS('база 2013'!$B$4:$B$1191,$B39,'база 2013'!$I$4:$I$1191,AL$5,'база 2013'!$O$4:$O$1191,AL$7)","v":0},{"$f":"COUNTIFS('база 2013'!$B$4:$B$1191,$B39,'база 2013'!$I$4:$I$1191,AM$5,'база 2013'!$O$4:$O$1191,AM$7)","v":0},{"$f":"COUNTIFS('база 2013'!$B$4:$B$1191,$B39,'база 2013'!$I$4:$I$1191,AN$5,'база 2013'!$O$4:$O$1191,AN$7)","v":0},{"$f":"COUNTIFS('база 2013'!$B$4:$B$1191,$B39,'база 2013'!$I$4:$I$1191,AO$5,'база 2013'!$O$4:$O$1191,AO$7)","v":0},{"$f":"COUNTIFS('база 2013'!$B$4:$B$1191,$B39,'база 2013'!$I$4:$I$1191,AP$5,'база 2013'!$O$4:$O$1191,AP$7)","v":0},{"$f":"COUNTIFS('база 2013'!$B$4:$B$1191,$B39,'база 2013'!$I$4:$I$1191,AQ$5,'база 2013'!$O$4:$O$1191,AQ$7)","v":0},{"$f":"COUNTIFS('база 2013'!$B$4:$B$1191,$B39,'база 2013'!$I$4:$I$1191,AR$5,'база 2013'!$O$4:$O$1191,AR$7)","v":0},{"$f":"COUNTIFS('база 2013'!$B$4:$B$1191,$B39,'база 2013'!$I$4:$I$1191,AS$5,'база 2013'!$O$4:$O$1191,AS$7)","v":0},{"$f":"COUNTIFS('база 2013'!$B$4:$B$1191,$B39,'база 2013'!$I$4:$I$1191,AT$5,'база 2013'!$O$4:$O$1191,AT$7)","v":0},{"$f":"COUNTIFS('база 2013'!$B$4:$B$1191,$B39,'база 2013'!$I$4:$I$1191,AU$5,'база 2013'!$O$4:$O$1191,AU$7)","v":0},{"$f":"COUNTIFS('база 2013'!$B$4:$B$1191,$B39,'база 2013'!$I$4:$I$1191,AV$5,'база 2013'!$O$4:$O$1191,AV$7)","v":0},{"$f":"COUNTIFS('база 2013'!$B$4:$B$1191,$B39,'база 2013'!$I$4:$I$1191,AW$5,'база 2013'!$O$4:$O$1191,AW$7)","v":0},{"$f":"COUNTIFS('база 2013'!$B$4:$B$1191,$B39,'база 2013'!$I$4:$I$1191,AX$5,'база 2013'!$O$4:$O$1191,AX$7)","v":0},0,0,0,0,0,0,0]
[33,"Каратэ",{"$f":"COUNTIFS('база 2013'!$B$4:$B$1191,$B40,'база 2013'!$I$4:$I$1191,C$5,'база 2013'!$O$4:$O$1191,C$7)","v":0},{"$f":"COUNTIFS('база 2013'!$B$4:$B$1191,$B40,'база 2013'!$I$4:$I$1191,D$5,'база 2013'!$O$4:$O$1191,D$7)","v":0},{"$f":"COUNTIFS('база 2013'!$B$4:$B$1191,$B40,'база 2013'!$I$4:$I$1191,E$5,'база 2013'!$O$4:$O$1191,E$7)","v":0},{"$f":"COUNTIFS('база 2013'!$B$4:$B$1191,$B40,'база 2013'!$I$4:$I$1191,F$5,'база 2013'!$O$4:$O$1191,F$7)","v":0},{"$f":"COUNTIFS('база 2013'!$B$4:$B$1191,$B40,'база 2013'!$I$4:$I$1191,G$5,'база 2013'!$O$4:$O$1191,G$7)","v":0},{"$f":"COUNTIFS('база 2013'!$B$4:$B$1191,$B40,'база 2013'!$I$4:$I$1191,H$5,'база 2013'!$O$4:$O$1191,H$7)","v":0},{"$f":"COUNTIFS('база 2013'!$B$4:$B$1191,$B40,'база 2013'!$I$4:$I$1191,I$5,'база 2013'!$O$4:$O$1191,I$7)","v":0},{"$f":"COUNTIFS('база 2013'!$B$4:$B$1191,$B40,'база 2013'!$I$4:$I$1191,J$5,'база 2013'!$O$4:$O$1191,J$7)","v":0},{"$f":"COUNTIFS('база 2013'!$B$4:$B$1191,$B40,'база 2013'!$I$4:$I$1191,K$5,'база 2013'!$O$4:$O$1191,K$7)","v":0},{"$f":"COUNTIFS('база 2013'!$B$4:$B$1191,$B40,'база 2013'!$I$4:$I$1191,L$5,'база 2013'!$O$4:$O$1191,L$7)","v":0},{"$f":"COUNTIFS('база 2013'!$B$4:$B$1191,$B40,'база 2013'!$I$4:$I$1191,M$5,'база 2013'!$O$4:$O$1191,M$7)","v":0},{"$f":"COUNTIFS('база 2013'!$B$4:$B$1191,$B40,'база 2013'!$I$4:$I$1191,N$5,'база 2013'!$O$4:$O$1191,N$7)","v":0},{"$f":"COUNTIFS('база 2013'!$B$4:$B$1191,$B40,'база 2013'!$I$4:$I$1191,O$5,'база 2013'!$O$4:$O$1191,O$7)","v":0},{"$f":"COUNTIFS('база 2013'!$B$4:$B$1191,$B40,'база 2013'!$I$4:$I$1191,P$5,'база 2013'!$O$4:$O$1191,P$7)","v":0},{"$f":"COUNTIFS('база 2013'!$B$4:$B$1191,$B40,'база 2013'!$I$4:$I$1191,Q$5,'база 2013'!$O$4:$O$1191,Q$7)","v":0},0,0,0,{"$f":"COUNTIFS('база 2013'!$B$4:$B$1191,$B40,'база 2013'!$I$4:$I$1191,U$5,'база 2013'!$O$4:$O$1191,U$7)","v":0},{"$f":"COUNTIFS('база 2013'!$B$4:$B$1191,$B40,'база 2013'!$I$4:$I$1191,V$5,'база 2013'!$O$4:$O$1191,V$7)","v":0},{"$f":"COUNTIFS('база 2013'!$B$4:$B$1191,$B40,'база 2013'!$I$4:$I$1191,W$5,'база 2013'!$O$4:$O$1191,W$7)","v":0},{"$f":"COUNTIFS('база 2013'!$B$4:$B$1191,$B40,'база 2013'!$I$4:$I$1191,X$5,'база 2013'!$O$4:$O$1191,X$7)","v":0},{"$f":"COUNTIFS('база 2013'!$B$4:$B$1191,$B40,'база 2013'!$I$4:$I$1191,Y$5,'база 2013'!$O$4:$O$1191,Y$7)","v":0},{"$f":"COUNTIFS('база 2013'!$B$4:$B$1191,$B40,'база 2013'!$I$4:$I$1191,Z$5,'база 2013'!$O$4:$O$1191,Z$7)","v":0},{"$f":"COUNTIFS('база 2013'!$B$4:$B$1191,$B40,'база 2013'!$I$4:$I$1191,AA$5,'база 2013'!$O$4:$O$1191,AA$7)","v":0},{"$f":"COUNTIFS('база 2013'!$B$4:$B$1191,$B40,'база 2013'!$I$4:$I$1191,AB$5,'база 2013'!$O$4:$O$1191,AB$7)","v":0},{"$f":"COUNTIFS('база 2013'!$B$4:$B$1191,$B40,'база 2013'!$I$4:$I$1191,AC$5,'база 2013'!$O$4:$O$1191,AC$7)","v":0},0,0,0,{"$f":"COUNTIFS('база 2013'!$B$4:$B$1191,$B40,'база 2013'!$I$4:$I$1191,AG$5,'база 2013'!$O$4:$O$1191,AG$7)","v":0},{"$f":"COUNTIFS('база 2013'!$B$4:$B$1191,$B40,'база 2013'!$I$4:$I$1191,AH$5,'база 2013'!$O$4:$O$1191,AH$7)","v":0},{"$f":"COUNTIFS('база 2013'!$B$4:$B$1191,$B40,'база 2013'!$I$4:$I$1191,AI$5,'база 2013'!$O$4:$O$1191,AI$7)","v":0},{"$f":"COUNTIFS('база 2013'!$B$4:$B$1191,$B40,'база 2013'!$I$4:$I$1191,AJ$5,'база 2013'!$O$4:$O$1191,AJ$7)","v":0},{"$f":"COUNTIFS('база 2013'!$B$4:$B$1191,$B40,'база 2013'!$I$4:$I$1191,AK$5,'база 2013'!$O$4:$O$1191,AK$7)","v":0},{"$f":"COUNTIFS('база 2013'!$B$4:$B$1191,$B40,'база 2013'!$I$4:$I$1191,AL$5,'база 2013'!$O$4:$O$1191,AL$7)","v":0},{"$f":"COUNTIFS('база 2013'!$B$4:$B$1191,$B40,'база 2013'!$I$4:$I$1191,AM$5,'база 2013'!$O$4:$O$1191,AM$7)","v":0},{"$f":"COUNTIFS('база 2013'!$B$4:$B$1191,$B40,'база 2013'!$I$4:$I$1191,AN$5,'база 2013'!$O$4:$O$1191,AN$7)","v":0},{"$f":"COUNTIFS('база 2013'!$B$4:$B$1191,$B40,'база 2013'!$I$4:$I$1191,AO$5,'база 2013'!$O$4:$O$1191,AO$7)","v":0},{"$f":"COUNTIFS('база 2013'!$B$4:$B$1191,$B40,'база 2013'!$I$4:$I$1191,AP$5,'база 2013'!$O$4:$O$1191,AP$7)","v":0},{"$f":"COUNTIFS('база 2013'!$B$4:$B$1191,$B40,'база 2013'!$I$4:$I$1191,AQ$5,'база 2013'!$O$4:$O$1191,AQ$7)","v":0},{"$f":"COUNTIFS('база 2013'!$B$4:$B$1191,$B40,'база 2013'!$I$4:$I$1191,AR$5,'база 2013'!$O$4:$O$1191,AR$7)","v":0},{"$f":"COUNTIFS('база 2013'!$B$4:$B$1191,$B40,'база 2013'!$I$4:$I$1191,AS$5,'база 2013'!$O$4:$O$1191,AS$7)","v":0},{"$f":"COUNTIFS('база 2013'!$B$4:$B$1191,$B40,'база 2013'!$I$4:$I$1191,AT$5,'база 2013'!$O$4:$O$1191,AT$7)","v":0},{"$f":"COUNTIFS('база 2013'!$B$4:$B$1191,$B40,'база 2013'!$I$4:$I$1191,AU$5,'база 2013'!$O$4:$O$1191,AU$7)","v":0},{"$f":"COUNTIFS('база 2013'!$B$4:$B$1191,$B40,'база 2013'!$I$4:$I$1191,AV$5,'база 2013'!$O$4:$O$1191,AV$7)","v":0},{"$f":"COUNTIFS('база 2013'!$B$4:$B$1191,$B40,'база 2013'!$I$4:$I$1191,AW$5,'база 2013'!$O$4:$O$1191,AW$7)","v":0},{"$f":"COUNTIFS('база 2013'!$B$4:$B$1191,$B40,'база 2013'!$I$4:$I$1191,AX$5,'база 2013'!$O$4:$O$1191,AX$7)","v":0},0,0,0,0,0,0,{"$f":"SUM(BB40:BD40)","v":0}]
[34,"Кикбоксинг",{"$f":"COUNTIFS('база 2013'!$B$4:$B$1191,$B41,'база 2013'!$I$4:$I$1191,C$5,'база 2013'!$O$4:$O$1191,C$7)","v":0},{"$f":"COUNTIFS('база 2013'!$B$4:$B$1191,$B41,'база 2013'!$I$4:$I$1191,D$5,'база 2013'!$O$4:$O$1191,D$7)","v":0},{"$f":"COUNTIFS('база 2013'!$B$4:$B$1191,$B41,'база 2013'!$I$4:$I$1191,E$5,'база 2013'!$O$4:$O$1191,E$7)","v":0},{"$f":"COUNTIFS('база 2013'!$B$4:$B$1191,$B41,'база 2013'!$I$4:$I$1191,F$5,'база 2013'!$O$4:$O$1191,F$7)","v":0},{"$f":"COUNTIFS('база 2013'!$B$4:$B$1191,$B41,'база 2013'!$I$4:$I$1191,G$5,'база 2013'!$O$4:$O$1191,G$7)","v":0},{"$f":"COUNTIFS('база 2013'!$B$4:$B$1191,$B41,'база 2013'!$I$4:$I$1191,H$5,'база 2013'!$O$4:$O$1191,H$7)","v":0},{"$f":"COUNTIFS('база 2013'!$B$4:$B$1191,$B41,'база 2013'!$I$4:$I$1191,I$5,'база 2013'!$O$4:$O$1191,I$7)","v":0},{"$f":"COUNTIFS('база 2013'!$B$4:$B$1191,$B41,'база 2013'!$I$4:$I$1191,J$5,'база 2013'!$O$4:$O$1191,J$7)","v":0},{"$f":"COUNTIFS('база 2013'!$B$4:$B$1191,$B41,'база 2013'!$I$4:$I$1191,K$5,'база 2013'!$O$4:$O$1191,K$7)","v":0},{"$f":"COUNTIFS('база 2013'!$B$4:$B$1191,$B41,'база 2013'!$I$4:$I$1191,L$5,'база 2013'!$O$4:$O$1191,L$7)","v":0},{"$f":"COUNTIFS('база 2013'!$B$4:$B$1191,$B41,'база 2013'!$I$4:$I$1191,M$5,'база 2013'!$O$4:$O$1191,M$7)","v":0},{"$f":"COUNTIFS('база 2013'!$B$4:$B$1191,$B41,'база 2013'!$I$4:$I$1191,N$5,'база 2013'!$O$4:$O$1191,N$7)","v":0},{"$f":"COUNTIFS('база 2013'!$B$4:$B$1191,$B41,'база 2013'!$I$4:$I$1191,O$5,'база 2013'!$O$4:$O$1191,O$7)","v":0},{"$f":"COUNTIFS('база 2013'!$B$4:$B$1191,$B41,'база 2013'!$I$4:$I$1191,P$5,'база 2013'!$O$4:$O$1191,P$7)","v":0},{"$f":"COUNTIFS('база 2013'!$B$4:$B$1191,$B41,'база 2013'!$I$4:$I$1191,Q$5,'база 2013'!$O$4:$O$1191,Q$7)","v":0},0,0,0,{"$f":"COUNTIFS('база 2013'!$B$4:$B$1191,$B41,'база 2013'!$I$4:$I$1191,U$5,'база 2013'!$O$4:$O$1191,U$7)","v":0},{"$f":"COUNTIFS('база 2013'!$B$4:$B$1191,$B41,'база 2013'!$I$4:$I$1191,V$5,'база 2013'!$O$4:$O$1191,V$7)","v":0},{"$f":"COUNTIFS('база 2013'!$B$4:$B$1191,$B41,'база 2013'!$I$4:$I$1191,W$5,'база 2013'!$O$4:$O$1191,W$7)","v":0},{"$f":"COUNTIFS('база 2013'!$B$4:$B$1191,$B41,'база 2013'!$I$4:$I$1191,X$5,'база 2013'!$O$4:$O$1191,X$7)","v":0},{"$f":"COUNTIFS('база 2013'!$B$4:$B$1191,$B41,'база 2013'!$I$4:$I$1191,Y$5,'база 2013'!$O$4:$O$1191,Y$7)","v":0},{"$f":"COUNTIFS('база 2013'!$B$4:$B$1191,$B41,'база 2013'!$I$4:$I$1191,Z$5,'база 2013'!$O$4:$O$1191,Z$7)","v":0},{"$f":"COUNTIFS('база 2013'!$B$4:$B$1191,$B41,'база 2013'!$I$4:$I$1191,AA$5,'база 2013'!$O$4:$O$1191,AA$7)","v":0},{"$f":"COUNTIFS('база 2013'!$B$4:$B$1191,$B41,'база 2013'!$I$4:$I$1191,AB$5,'база 2013'!$O$4:$O$1191,AB$7)","v":0},{"$f":"COUNTIFS('база 2013'!$B$4:$B$1191,$B41,'база 2013'!$I$4:$I$1191,AC$5,'база 2013'!$O$4:$O$1191,AC$7)","v":0},0,0,0,{"$f":"COUNTIFS('база 2013'!$B$4:$B$1191,$B41,'база 2013'!$I$4:$I$1191,AG$5,'база 2013'!$O$4:$O$1191,AG$7)","v":0},{"$f":"COUNTIFS('база 2013'!$B$4:$B$1191,$B41,'база 2013'!$I$4:$I$1191,AH$5,'база 2013'!$O$4:$O$1191,AH$7)","v":0},{"$f":"COUNTIFS('база 2013'!$B$4:$B$1191,$B41,'база 2013'!$I$4:$I$1191,AI$5,'база 2013'!$O$4:$O$1191,AI$7)","v":0},{"$f":"COUNTIFS('база 2013'!$B$4:$B$1191,$B41,'база 2013'!$I$4:$I$1191,AJ$5,'база 2013'!$O$4:$O$1191,AJ$7)","v":0},{"$f":"COUNTIFS('база 2013'!$B$4:$B$1191,$B41,'база 2013'!$I$4:$I$1191,AK$5,'база 2013'!$O$4:$O$1191,AK$7)","v":0},{"$f":"COUNTIFS('база 2013'!$B$4:$B$1191,$B41,'база 2013'!$I$4:$I$1191,AL$5,'база 2013'!$O$4:$O$1191,AL$7)","v":0},{"$f":"COUNTIFS('база 2013'!$B$4:$B$1191,$B41,'база 2013'!$I$4:$I$1191,AM$5,'база 2013'!$O$4:$O$1191,AM$7)","v":0},{"$f":"COUNTIFS('база 2013'!$B$4:$B$1191,$B41,'база 2013'!$I$4:$I$1191,AN$5,'база 2013'!$O$4:$O$1191,AN$7)","v":0},{"$f":"COUNTIFS('база 2013'!$B$4:$B$1191,$B41,'база 2013'!$I$4:$I$1191,AO$5,'база 2013'!$O$4:$O$1191,AO$7)","v":0},{"$f":"COUNTIFS('база 2013'!$B$4:$B$1191,$B41,'база 2013'!$I$4:$I$1191,AP$5,'база 2013'!$O$4:$O$1191,AP$7)","v":0},{"$f":"COUNTIFS('база 2013'!$B$4:$B$1191,$B41,'база 2013'!$I$4:$I$1191,AQ$5,'база 2013'!$O$4:$O$1191,AQ$7)","v":0},{"$f":"COUNTIFS('база 2013'!$B$4:$B$1191,$B41,'база 2013'!$I$4:$I$1191,AR$5,'база 2013'!$O$4:$O$1191,AR$7)","v":0},{"$f":"COUNTIFS('база 2013'!$B$4:$B$1191,$B41,'база 2013'!$I$4:$I$1191,AS$5,'база 2013'!$O$4:$O$1191,AS$7)","v":0},{"$f":"COUNTIFS('база 2013'!$B$4:$B$1191,$B41,'база 2013'!$I$4:$I$1191,AT$5,'база 2013'!$O$4:$O$1191,AT$7)","v":0},{"$f":"COUNTIFS('база 2013'!$B$4:$B$1191,$B41,'база 2013'!$I$4:$I$1191,AU$5,'база 2013'!$O$4:$O$1191,AU$7)","v":0},{"$f":"COUNTIFS('база 2013'!$B$4:$B$1191,$B41,'база 2013'!$I$4:$I$1191,AV$5,'база 2013'!$O$4:$O$1191,AV$7)","v":0},{"$f":"COUNTIFS('база 2013'!$B$4:$B$1191,$B41,'база 2013'!$I$4:$I$1191,AW$5,'база 2013'!$O$4:$O$1191,AW$7)","v":0},{"$f":"COUNTIFS('база 2013'!$B$4:$B$1191,$B41,'база 2013'!$I$4:$I$1191,AX$5,'база 2013'!$O$4:$O$1191,AX$7)","v":0},0,0,0,0,0,0,{"$f":"SUM(BB41:BD41)","v":0}]
[35,"Киокусинкай",{"$f":"COUNTIFS('база 2013'!$B$4:$B$1191,$B42,'база 2013'!$I$4:$I$1191,C$5,'база 2013'!$O$4:$O$1191,C$7)","v":0},{"$f":"COUNTIFS('база 2013'!$B$4:$B$1191,$B42,'база 2013'!$I$4:$I$1191,D$5,'база 2013'!$O$4:$O$1191,D$7)","v":0},{"$f":"COUNTIFS('база 2013'!$B$4:$B$1191,$B42,'база 2013'!$I$4:$I$1191,E$5,'база 2013'!$O$4:$O$1191,E$7)","v":0},{"$f":"COUNTIFS('база 2013'!$B$4:$B$1191,$B42,'база 2013'!$I$4:$I$1191,F$5,'база 2013'!$O$4:$O$1191,F$7)","v":0},{"$f":"COUNTIFS('база 2013'!$B$4:$B$1191,$B42,'база 2013'!$I$4:$I$1191,G$5,'база 2013'!$O$4:$O$1191,G$7)","v":0},{"$f":"COUNTIFS('база 2013'!$B$4:$B$1191,$B42,'база 2013'!$I$4:$I$1191,H$5,'база 2013'!$O$4:$O$1191,H$7)","v":0},{"$f":"COUNTIFS('база 2013'!$B$4:$B$1191,$B42,'база 2013'!$I$4:$I$1191,I$5,'база 2013'!$O$4:$O$1191,I$7)","v":0},{"$f":"COUNTIFS('база 2013'!$B$4:$B$1191,$B42,'база 2013'!$I$4:$I$1191,J$5,'база 2013'!$O$4:$O$1191,J$7)","v":0},{"$f":"COUNTIFS('база 2013'!$B$4:$B$1191,$B42,'база 2013'!$I$4:$I$1191,K$5,'база 2013'!$O$4:$O$1191,K$7)","v":0},{"$f":"COUNTIFS('база 2013'!$B$4:$B$1191,$B42,'база 2013'!$I$4:$I$1191,L$5,'база 2013'!$O$4:$O$1191,L$7)","v":0},{"$f":"COUNTIFS('база 2013'!$B$4:$B$1191,$B42,'база 2013'!$I$4:$I$1191,M$5,'база 2013'!$O$4:$O$1191,M$7)","v":0},{"$f":"COUNTIFS('база 2013'!$B$4:$B$1191,$B42,'база 2013'!$I$4:$I$1191,N$5,'база 2013'!$O$4:$O$1191,N$7)","v":0},{"$f":"COUNTIFS('база 2013'!$B$4:$B$1191,$B42,'база 2013'!$I$4:$I$1191,O$5,'база 2013'!$O$4:$O$1191,O$7)","v":0},{"$f":"COUNTIFS('база 2013'!$B$4:$B$1191,$B42,'база 2013'!$I$4:$I$1191,P$5,'база 2013'!$O$4:$O$1191,P$7)","v":0},{"$f":"COUNTIFS('база 2013'!$B$4:$B$1191,$B42,'база 2013'!$I$4:$I$1191,Q$5,'база 2013'!$O$4:$O$1191,Q$7)","v":0},0,0,0,{"$f":"COUNTIFS('база 2013'!$B$4:$B$1191,$B42,'база 2013'!$I$4:$I$1191,U$5,'база 2013'!$O$4:$O$1191,U$7)","v":0},{"$f":"COUNTIFS('база 2013'!$B$4:$B$1191,$B42,'база 2013'!$I$4:$I$1191,V$5,'база 2013'!$O$4:$O$1191,V$7)","v":0},{"$f":"COUNTIFS('база 2013'!$B$4:$B$1191,$B42,'база 2013'!$I$4:$I$1191,W$5,'база 2013'!$O$4:$O$1191,W$7)","v":0},{"$f":"COUNTIFS('база 2013'!$B$4:$B$1191,$B42,'база 2013'!$I$4:$I$1191,X$5,'база 2013'!$O$4:$O$1191,X$7)","v":0},{"$f":"COUNTIFS('база 2013'!$B$4:$B$1191,$B42,'база 2013'!$I$4:$I$1191,Y$5,'база 2013'!$O$4:$O$1191,Y$7)","v":0},{"$f":"COUNTIFS('база 2013'!$B$4:$B$1191,$B42,'база 2013'!$I$4:$I$1191,Z$5,'база 2013'!$O$4:$O$1191,Z$7)","v":0},{"$f":"COUNTIFS('база 2013'!$B$4:$B$1191,$B42,'база 2013'!$I$4:$I$1191,AA$5,'база 2013'!$O$4:$O$1191,AA$7)","v":0},{"$f":"COUNTIFS('база 2013'!$B$4:$B$1191,$B42,'база 2013'!$I$4:$I$1191,AB$5,'база 2013'!$O$4:$O$1191,AB$7)","v":0},{"$f":"COUNTIFS('база 2013'!$B$4:$B$1191,$B42,'база 2013'!$I$4:$I$1191,AC$5,'база 2013'!$O$4:$O$1191,AC$7)","v":0},0,0,0,{"$f":"COUNTIFS('база 2013'!$B$4:$B$1191,$B42,'база 2013'!$I$4:$I$1191,AG$5,'база 2013'!$O$4:$O$1191,AG$7)","v":0},{"$f":"COUNTIFS('база 2013'!$B$4:$B$1191,$B42,'база 2013'!$I$4:$I$1191,AH$5,'база 2013'!$O$4:$O$1191,AH$7)","v":0},{"$f":"COUNTIFS('база 2013'!$B$4:$B$1191,$B42,'база 2013'!$I$4:$I$1191,AI$5,'база 2013'!$O$4:$O$1191,AI$7)","v":0},{"$f":"COUNTIFS('база 2013'!$B$4:$B$1191,$B42,'база 2013'!$I$4:$I$1191,AJ$5,'база 2013'!$O$4:$O$1191,AJ$7)","v":0},{"$f":"COUNTIFS('база 2013'!$B$4:$B$1191,$B42,'база 2013'!$I$4:$I$1191,AK$5,'база 2013'!$O$4:$O$1191,AK$7)","v":0},{"$f":"COUNTIFS('база 2013'!$B$4:$B$1191,$B42,'база 2013'!$I$4:$I$1191,AL$5,'база 2013'!$O$4:$O$1191,AL$7)","v":0},{"$f":"COUNTIFS('база 2013'!$B$4:$B$1191,$B42,'база 2013'!$I$4:$I$1191,AM$5,'база 2013'!$O$4:$O$1191,AM$7)","v":0},{"$f":"COUNTIFS('база 2013'!$B$4:$B$1191,$B42,'база 2013'!$I$4:$I$1191,AN$5,'база 2013'!$O$4:$O$1191,AN$7)","v":0},{"$f":"COUNTIFS('база 2013'!$B$4:$B$1191,$B42,'база 2013'!$I$4:$I$1191,AO$5,'база 2013'!$O$4:$O$1191,AO$7)","v":0},{"$f":"COUNTIFS('база 2013'!$B$4:$B$1191,$B42,'база 2013'!$I$4:$I$1191,AP$5,'база 2013'!$O$4:$O$1191,AP$7)","v":0},{"$f":"COUNTIFS('база 2013'!$B$4:$B$1191,$B42,'база 2013'!$I$4:$I$1191,AQ$5,'база 2013'!$O$4:$O$1191,AQ$7)","v":0},{"$f":"COUNTIFS('база 2013'!$B$4:$B$1191,$B42,'база 2013'!$I$4:$I$1191,AR$5,'база 2013'!$O$4:$O$1191,AR$7)","v":0},{"$f":"COUNTIFS('база 2013'!$B$4:$B$1191,$B42,'база 2013'!$I$4:$I$1191,AS$5,'база 2013'!$O$4:$O$1191,AS$7)","v":0},{"$f":"COUNTIFS('база 2013'!$B$4:$B$1191,$B42,'база 2013'!$I$4:$I$1191,AT$5,'база 2013'!$O$4:$O$1191,AT$7)","v":0},{"$f":"COUNTIFS('база 2013'!$B$4:$B$1191,$B42,'база 2013'!$I$4:$I$1191,AU$5,'база 2013'!$O$4:$O$1191,AU$7)","v":0},{"$f":"COUNTIFS('база 2013'!$B$4:$B$1191,$B42,'база 2013'!$I$4:$I$1191,AV$5,'база 2013'!$O$4:$O$1191,AV$7)","v":0},{"$f":"COUNTIFS('база 2013'!$B$4:$B$1191,$B42,'база 2013'!$I$4:$I$1191,AW$5,'база 2013'!$O$4:$O$1191,AW$7)","v":0},{"$f":"COUNTIFS('база 2013'!$B$4:$B$1191,$B42,'база 2013'!$I$4:$I$1191,AX$5,'база 2013'!$O$4:$O$1191,AX$7)","v":0},0,0,0,0,0,0,0]
[36,"Керлинг",{"$f":"COUNTIFS('база 2013'!$B$4:$B$1191,$B43,'база 2013'!$I$4:$I$1191,C$5,'база 2013'!$O$4:$O$1191,C$7)","v":0},{"$f":"COUNTIFS('база 2013'!$B$4:$B$1191,$B43,'база 2013'!$I$4:$I$1191,D$5,'база 2013'!$O$4:$O$1191,D$7)","v":0},{"$f":"COUNTIFS('база 2013'!$B$4:$B$1191,$B43,'база 2013'!$I$4:$I$1191,E$5,'база 2013'!$O$4:$O$1191,E$7)","v":0},{"$f":"COUNTIFS('база 2013'!$B$4:$B$1191,$B43,'база 2013'!$I$4:$I$1191,F$5,'база 2013'!$O$4:$O$1191,F$7)","v":0},{"$f":"COUNTIFS('база 2013'!$B$4:$B$1191,$B43,'база 2013'!$I$4:$I$1191,G$5,'база 2013'!$O$4:$O$1191,G$7)","v":0},{"$f":"COUNTIFS('база 2013'!$B$4:$B$1191,$B43,'база 2013'!$I$4:$I$1191,H$5,'база 2013'!$O$4:$O$1191,H$7)","v":0},{"$f":"COUNTIFS('база 2013'!$B$4:$B$1191,$B43,'база 2013'!$I$4:$I$1191,I$5,'база 2013'!$O$4:$O$1191,I$7)","v":0},{"$f":"COUNTIFS('база 2013'!$B$4:$B$1191,$B43,'база 2013'!$I$4:$I$1191,J$5,'база 2013'!$O$4:$O$1191,J$7)","v":0},{"$f":"COUNTIFS('база 2013'!$B$4:$B$1191,$B43,'база 2013'!$I$4:$I$1191,K$5,'база 2013'!$O$4:$O$1191,K$7)","v":0},{"$f":"COUNTIFS('база 2013'!$B$4:$B$1191,$B43,'база 2013'!$I$4:$I$1191,L$5,'база 2013'!$O$4:$O$1191,L$7)","v":0},{"$f":"COUNTIFS('база 2013'!$B$4:$B$1191,$B43,'база 2013'!$I$4:$I$1191,M$5,'база 2013'!$O$4:$O$1191,M$7)","v":0},{"$f":"COUNTIFS('база 2013'!$B$4:$B$1191,$B43,'база 2013'!$I$4:$I$1191,N$5,'база 2013'!$O$4:$O$1191,N$7)","v":0},{"$f":"COUNTIFS('база 2013'!$B$4:$B$1191,$B43,'база 2013'!$I$4:$I$1191,O$5,'база 2013'!$O$4:$O$1191,O$7)","v":0},{"$f":"COUNTIFS('база 2013'!$B$4:$B$1191,$B43,'база 2013'!$I$4:$I$1191,P$5,'база 2013'!$O$4:$O$1191,P$7)","v":0},{"$f":"COUNTIFS('база 2013'!$B$4:$B$1191,$B43,'база 2013'!$I$4:$I$1191,Q$5,'база 2013'!$O$4:$O$1191,Q$7)","v":0},{"$f":"SUMIF($F$7:$Q$7,$R$7,F43:Q43)","v":0},0,0,{"$f":"COUNTIFS('база 2013'!$B$4:$B$1191,$B43,'база 2013'!$I$4:$I$1191,U$5,'база 2013'!$O$4:$O$1191,U$7)","v":0},{"$f":"COUNTIFS('база 2013'!$B$4:$B$1191,$B43,'база 2013'!$I$4:$I$1191,V$5,'база 2013'!$O$4:$O$1191,V$7)","v":0},{"$f":"COUNTIFS('база 2013'!$B$4:$B$1191,$B43,'база 2013'!$I$4:$I$1191,W$5,'база 2013'!$O$4:$O$1191,W$7)","v":0},{"$f":"COUNTIFS('база 2013'!$B$4:$B$1191,$B43,'база 2013'!$I$4:$I$1191,X$5,'база 2013'!$O$4:$O$1191,X$7)","v":0},{"$f":"COUNTIFS('база 2013'!$B$4:$B$1191,$B43,'база 2013'!$I$4:$I$1191,Y$5,'база 2013'!$O$4:$O$1191,Y$7)","v":0},{"$f":"COUNTIFS('база 2013'!$B$4:$B$1191,$B43,'база 2013'!$I$4:$I$1191,Z$5,'база 2013'!$O$4:$O$1191,Z$7)","v":0},{"$f":"COUNTIFS('база 2013'!$B$4:$B$1191,$B43,'база 2013'!$I$4:$I$1191,AA$5,'база 2013'!$O$4:$O$1191,AA$7)","v":0},{"$f":"COUNTIFS('база 2013'!$B$4:$B$1191,$B43,'база 2013'!$I$4:$I$1191,AB$5,'база 2013'!$O$4:$O$1191,AB$7)","v":0},{"$f":"COUNTIFS('база 2013'!$B$4:$B$1191,$B43,'база 2013'!$I$4:$I$1191,AC$5,'база 2013'!$O$4:$O$1191,AC$7)","v":0},0,0,0,{"$f":"COUNTIFS('база 2013'!$B$4:$B$1191,$B43,'база 2013'!$I$4:$I$1191,AG$5,'база 2013'!$O$4:$O$1191,AG$7)","v":0},{"$f":"COUNTIFS('база 2013'!$B$4:$B$1191,$B43,'база 2013'!$I$4:$I$1191,AH$5,'база 2013'!$O$4:$O$1191,AH$7)","v":0},{"$f":"COUNTIFS('база 2013'!$B$4:$B$1191,$B43,'база 2013'!$I$4:$I$1191,AI$5,'база 2013'!$O$4:$O$1191,AI$7)","v":0},{"$f":"COUNTIFS('база 2013'!$B$4:$B$1191,$B43,'база 2013'!$I$4:$I$1191,AJ$5,'база 2013'!$O$4:$O$1191,AJ$7)","v":0},{"$f":"COUNTIFS('база 2013'!$B$4:$B$1191,$B43,'база 2013'!$I$4:$I$1191,AK$5,'база 2013'!$O$4:$O$1191,AK$7)","v":0},{"$f":"COUNTIFS('база 2013'!$B$4:$B$1191,$B43,'база 2013'!$I$4:$I$1191,AL$5,'база 2013'!$O$4:$O$1191,AL$7)","v":0},{"$f":"COUNTIFS('база 2013'!$B$4:$B$1191,$B43,'база 2013'!$I$4:$I$1191,AM$5,'база 2013'!$O$4:$O$1191,AM$7)","v":0},{"$f":"COUNTIFS('база 2013'!$B$4:$B$1191,$B43,'база 2013'!$I$4:$I$1191,AN$5,'база 2013'!$O$4:$O$1191,AN$7)","v":0},{"$f":"COUNTIFS('база 2013'!$B$4:$B$1191,$B43,'база 2013'!$I$4:$I$1191,AO$5,'база 2013'!$O$4:$O$1191,AO$7)","v":0},{"$f":"COUNTIFS('база 2013'!$B$4:$B$1191,$B43,'база 2013'!$I$4:$I$1191,AP$5,'база 2013'!$O$4:$O$1191,AP$7)","v":0},{"$f":"COUNTIFS('база 2013'!$B$4:$B$1191,$B43,'база 2013'!$I$4:$I$1191,AQ$5,'база 2013'!$O$4:$O$1191,AQ$7)","v":0},{"$f":"COUNTIFS('база 2013'!$B$4:$B$1191,$B43,'база 2013'!$I$4:$I$1191,AR$5,'база 2013'!$O$4:$O$1191,AR$7)","v":0},{"$f":"COUNTIFS('база 2013'!$B$4:$B$1191,$B43,'база 2013'!$I$4:$I$1191,AS$5,'база 2013'!$O$4:$O$1191,AS$7)","v":0},{"$f":"COUNTIFS('база 2013'!$B$4:$B$1191,$B43,'база 2013'!$I$4:$I$1191,AT$5,'база 2013'!$O$4:$O$1191,AT$7)","v":0},{"$f":"COUNTIFS('база 2013'!$B$4:$B$1191,$B43,'база 2013'!$I$4:$I$1191,AU$5,'база 2013'!$O$4:$O$1191,AU$7)","v":0},{"$f":"COUNTIFS('база 2013'!$B$4:$B$1191,$B43,'база 2013'!$I$4:$I$1191,AV$5,'база 2013'!$O$4:$O$1191,AV$7)","v":0},{"$f":"COUNTIFS('база 2013'!$B$4:$B$1191,$B43,'база 2013'!$I$4:$I$1191,AW$5,'база 2013'!$O$4:$O$1191,AW$7)","v":0},{"$f":"COUNTIFS('база 2013'!$B$4:$B$1191,$B43,'база 2013'!$I$4:$I$1191,AX$5,'база 2013'!$O$4:$O$1191,AX$7)","v":0},0,0,0,0,0,0,{"$f":"SUM(BB43:BD43)","v":0}]
[37,"Конькобежный спорт",{"$f":"COUNTIFS('база 2013'!$B$4:$B$1191,$B44,'база 2013'!$I$4:$I$1191,C$5,'база 2013'!$O$4:$O$1191,C$7)","v":0},{"$f":"COUNTIFS('база 2013'!$B$4:$B$1191,$B44,'база 2013'!$I$4:$I$1191,D$5,'база 2013'!$O$4:$O$1191,D$7)","v":0},{"$f":"COUNTIFS('база 2013'!$B$4:$B$1191,$B44,'база 2013'!$I$4:$I$1191,E$5,'база 2013'!$O$4:$O$1191,E$7)","v":0},{"$f":"COUNTIFS('база 2013'!$B$4:$B$1191,$B44,'база 2013'!$I$4:$I$1191,F$5,'база 2013'!$O$4:$O$1191,F$7)","v":0},{"$f":"COUNTIFS('база 2013'!$B$4:$B$1191,$B44,'база 2013'!$I$4:$I$1191,G$5,'база 2013'!$O$4:$O$1191,G$7)","v":0},{"$f":"COUNTIFS('база 2013'!$B$4:$B$1191,$B44,'база 2013'!$I$4:$I$1191,H$5,'база 2013'!$O$4:$O$1191,H$7)","v":0},{"$f":"COUNTIFS('база 2013'!$B$4:$B$1191,$B44,'база 2013'!$I$4:$I$1191,I$5,'база 2013'!$O$4:$O$1191,I$7)","v":0},{"$f":"COUNTIFS('база 2013'!$B$4:$B$1191,$B44,'база 2013'!$I$4:$I$1191,J$5,'база 2013'!$O$4:$O$1191,J$7)","v":0},{"$f":"COUNTIFS('база 2013'!$B$4:$B$1191,$B44,'база 2013'!$I$4:$I$1191,K$5,'база 2013'!$O$4:$O$1191,K$7)","v":0},{"$f":"COUNTIFS('база 2013'!$B$4:$B$1191,$B44,'база 2013'!$I$4:$I$1191,L$5,'база 2013'!$O$4:$O$1191,L$7)","v":0},{"$f":"COUNTIFS('база 2013'!$B$4:$B$1191,$B44,'база 2013'!$I$4:$I$1191,M$5,'база 2013'!$O$4:$O$1191,M$7)","v":0},{"$f":"COUNTIFS('база 2013'!$B$4:$B$1191,$B44,'база 2013'!$I$4:$I$1191,N$5,'база 2013'!$O$4:$O$1191,N$7)","v":0},{"$f":"COUNTIFS('база 2013'!$B$4:$B$1191,$B44,'база 2013'!$I$4:$I$1191,O$5,'база 2013'!$O$4:$O$1191,O$7)","v":0},{"$f":"COUNTIFS('база 2013'!$B$4:$B$1191,$B44,'база 2013'!$I$4:$I$1191,P$5,'база 2013'!$O$4:$O$1191,P$7)","v":0},{"$f":"COUNTIFS('база 2013'!$B$4:$B$1191,$B44,'база 2013'!$I$4:$I$1191,Q$5,'база 2013'!$O$4:$O$1191,Q$7)","v":0},0,0,0,{"$f":"COUNTIFS('база 2013'!$B$4:$B$1191,$B44,'база 2013'!$I$4:$I$1191,U$5,'база 2013'!$O$4:$O$1191,U$7)","v":0},{"$f":"COUNTIFS('база 2013'!$B$4:$B$1191,$B44,'база 2013'!$I$4:$I$1191,V$5,'база 2013'!$O$4:$O$1191,V$7)","v":0},{"$f":"COUNTIFS('база 2013'!$B$4:$B$1191,$B44,'база 2013'!$I$4:$I$1191,W$5,'база 2013'!$O$4:$O$1191,W$7)","v":0},{"$f":"COUNTIFS('база 2013'!$B$4:$B$1191,$B44,'база 2013'!$I$4:$I$1191,X$5,'база 2013'!$O$4:$O$1191,X$7)","v":0},{"$f":"COUNTIFS('база 2013'!$B$4:$B$1191,$B44,'база 2013'!$I$4:$I$1191,Y$5,'база 2013'!$O$4:$O$1191,Y$7)","v":0},{"$f":"COUNTIFS('база 2013'!$B$4:$B$1191,$B44,'база 2013'!$I$4:$I$1191,Z$5,'база 2013'!$O$4:$O$1191,Z$7)","v":0},{"$f":"COUNTIFS('база 2013'!$B$4:$B$1191,$B44,'база 2013'!$I$4:$I$1191,AA$5,'база 2013'!$O$4:$O$1191,AA$7)","v":0},{"$f":"COUNTIFS('база 2013'!$B$4:$B$1191,$B44,'база 2013'!$I$4:$I$1191,AB$5,'база 2013'!$O$4:$O$1191,AB$7)","v":0},{"$f":"COUNTIFS('база 2013'!$B$4:$B$1191,$B44,'база 2013'!$I$4:$I$1191,AC$5,'база 2013'!$O$4:$O$1191,AC$7)","v":0},0,0,0,{"$f":"COUNTIFS('база 2013'!$B$4:$B$1191,$B44,'база 2013'!$I$4:$I$1191,AG$5,'база 2013'!$O$4:$O$1191,AG$7)","v":0},{"$f":"COUNTIFS('база 2013'!$B$4:$B$1191,$B44,'база 2013'!$I$4:$I$1191,AH$5,'база 2013'!$O$4:$O$1191,AH$7)","v":0},{"$f":"COUNTIFS('база 2013'!$B$4:$B$1191,$B44,'база 2013'!$I$4:$I$1191,AI$5,'база 2013'!$O$4:$O$1191,AI$7)","v":0},{"$f":"COUNTIFS('база 2013'!$B$4:$B$1191,$B44,'база 2013'!$I$4:$I$1191,AJ$5,'база 2013'!$O$4:$O$1191,AJ$7)","v":0},{"$f":"COUNTIFS('база 2013'!$B$4:$B$1191,$B44,'база 2013'!$I$4:$I$1191,AK$5,'база 2013'!$O$4:$O$1191,AK$7)","v":0},{"$f":"COUNTIFS('база 2013'!$B$4:$B$1191,$B44,'база 2013'!$I$4:$I$1191,AL$5,'база 2013'!$O$4:$O$1191,AL$7)","v":0},{"$f":"COUNTIFS('база 2013'!$B$4:$B$1191,$B44,'база 2013'!$I$4:$I$1191,AM$5,'база 2013'!$O$4:$O$1191,AM$7)","v":0},{"$f":"COUNTIFS('база 2013'!$B$4:$B$1191,$B44,'база 2013'!$I$4:$I$1191,AN$5,'база 2013'!$O$4:$O$1191,AN$7)","v":0},{"$f":"COUNTIFS('база 2013'!$B$4:$B$1191,$B44,'база 2013'!$I$4:$I$1191,AO$5,'база 2013'!$O$4:$O$1191,AO$7)","v":0},{"$f":"COUNTIFS('база 2013'!$B$4:$B$1191,$B44,'база 2013'!$I$4:$I$1191,AP$5,'база 2013'!$O$4:$O$1191,AP$7)","v":0},{"$f":"COUNTIFS('база 2013'!$B$4:$B$1191,$B44,'база 2013'!$I$4:$I$1191,AQ$5,'база 2013'!$O$4:$O$1191,AQ$7)","v":0},{"$f":"COUNTIFS('база 2013'!$B$4:$B$1191,$B44,'база 2013'!$I$4:$I$1191,AR$5,'база 2013'!$O$4:$O$1191,AR$7)","v":0},{"$f":"COUNTIFS('база 2013'!$B$4:$B$1191,$B44,'база 2013'!$I$4:$I$1191,AS$5,'база 2013'!$O$4:$O$1191,AS$7)","v":0},{"$f":"COUNTIFS('база 2013'!$B$4:$B$1191,$B44,'база 2013'!$I$4:$I$1191,AT$5,'база 2013'!$O$4:$O$1191,AT$7)","v":0},{"$f":"COUNTIFS('база 2013'!$B$4:$B$1191,$B44,'база 2013'!$I$4:$I$1191,AU$5,'база 2013'!$O$4:$O$1191,AU$7)","v":0},{"$f":"COUNTIFS('база 2013'!$B$4:$B$1191,$B44,'база 2013'!$I$4:$I$1191,AV$5,'база 2013'!$O$4:$O$1191,AV$7)","v":0},{"$f":"COUNTIFS('база 2013'!$B$4:$B$1191,$B44,'база 2013'!$I$4:$I$1191,AW$5,'база 2013'!$O$4:$O$1191,AW$7)","v":0},{"$f":"COUNTIFS('база 2013'!$B$4:$B$1191,$B44,'база 2013'!$I$4:$I$1191,AX$5,'база 2013'!$O$4:$O$1191,AX$7)","v":0},0,0,0,0,0,0,0]
[38,"Конный спорт",{"$f":"COUNTIFS('база 2013'!$B$4:$B$1191,$B45,'база 2013'!$I$4:$I$1191,C$5,'база 2013'!$O$4:$O$1191,C$7)","v":0},{"$f":"COUNTIFS('база 2013'!$B$4:$B$1191,$B45,'база 2013'!$I$4:$I$1191,D$5,'база 2013'!$O$4:$O$1191,D$7)","v":0},{"$f":"COUNTIFS('база 2013'!$B$4:$B$1191,$B45,'база 2013'!$I$4:$I$1191,E$5,'база 2013'!$O$4:$O$1191,E$7)","v":0},{"$f":"COUNTIFS('база 2013'!$B$4:$B$1191,$B45,'база 2013'!$I$4:$I$1191,F$5,'база 2013'!$O$4:$O$1191,F$7)","v":0},{"$f":"COUNTIFS('база 2013'!$B$4:$B$1191,$B45,'база 2013'!$I$4:$I$1191,G$5,'база 2013'!$O$4:$O$1191,G$7)","v":0},{"$f":"COUNTIFS('база 2013'!$B$4:$B$1191,$B45,'база 2013'!$I$4:$I$1191,H$5,'база 2013'!$O$4:$O$1191,H$7)","v":0},{"$f":"COUNTIFS('база 2013'!$B$4:$B$1191,$B45,'база 2013'!$I$4:$I$1191,I$5,'база 2013'!$O$4:$O$1191,I$7)","v":0},{"$f":"COUNTIFS('база 2013'!$B$4:$B$1191,$B45,'база 2013'!$I$4:$I$1191,J$5,'база 2013'!$O$4:$O$1191,J$7)","v":0},{"$f":"COUNTIFS('база 2013'!$B$4:$B$1191,$B45,'база 2013'!$I$4:$I$1191,K$5,'база 2013'!$O$4:$O$1191,K$7)","v":0},{"$f":"COUNTIFS('база 2013'!$B$4:$B$1191,$B45,'база 2013'!$I$4:$I$1191,L$5,'база 2013'!$O$4:$O$1191,L$7)","v":0},{"$f":"COUNTIFS('база 2013'!$B$4:$B$1191,$B45,'база 2013'!$I$4:$I$1191,M$5,'база 2013'!$O$4:$O$1191,M$7)","v":0},{"$f":"COUNTIFS('база 2013'!$B$4:$B$1191,$B45,'база 2013'!$I$4:$I$1191,N$5,'база 2013'!$O$4:$O$1191,N$7)","v":0},{"$f":"COUNTIFS('база 2013'!$B$4:$B$1191,$B45,'база 2013'!$I$4:$I$1191,O$5,'база 2013'!$O$4:$O$1191,O$7)","v":0},{"$f":"COUNTIFS('база 2013'!$B$4:$B$1191,$B45,'база 2013'!$I$4:$I$1191,P$5,'база 2013'!$O$4:$O$1191,P$7)","v":0},{"$f":"COUNTIFS('база 2013'!$B$4:$B$1191,$B45,'база 2013'!$I$4:$I$1191,Q$5,'база 2013'!$O$4:$O$1191,Q$7)","v":0},0,0,0,{"$f":"COUNTIFS('база 2013'!$B$4:$B$1191,$B45,'база 2013'!$I$4:$I$1191,U$5,'база 2013'!$O$4:$O$1191,U$7)","v":0},{"$f":"COUNTIFS('база 2013'!$B$4:$B$1191,$B45,'база 2013'!$I$4:$I$1191,V$5,'база 2013'!$O$4:$O$1191,V$7)","v":0},{"$f":"COUNTIFS('база 2013'!$B$4:$B$1191,$B45,'база 2013'!$I$4:$I$1191,W$5,'база 2013'!$O$4:$O$1191,W$7)","v":0},{"$f":"COUNTIFS('база 2013'!$B$4:$B$1191,$B45,'база 2013'!$I$4:$I$1191,X$5,'база 2013'!$O$4:$O$1191,X$7)","v":0},{"$f":"COUNTIFS('база 2013'!$B$4:$B$1191,$B45,'база 2013'!$I$4:$I$1191,Y$5,'база 2013'!$O$4:$O$1191,Y$7)","v":0},{"$f":"COUNTIFS('база 2013'!$B$4:$B$1191,$B45,'база 2013'!$I$4:$I$1191,Z$5,'база 2013'!$O$4:$O$1191,Z$7)","v":0},{"$f":"COUNTIFS('база 2013'!$B$4:$B$1191,$B45,'база 2013'!$I$4:$I$1191,AA$5,'база 2013'!$O$4:$O$1191,AA$7)","v":0},{"$f":"COUNTIFS('база 2013'!$B$4:$B$1191,$B45,'база 2013'!$I$4:$I$1191,AB$5,'база 2013'!$O$4:$O$1191,AB$7)","v":0},{"$f":"COUNTIFS('база 2013'!$B$4:$B$1191,$B45,'база 2013'!$I$4:$I$1191,AC$5,'база 2013'!$O$4:$O$1191,AC$7)","v":0},0,0,0,{"$f":"COUNTIFS('база 2013'!$B$4:$B$1191,$B45,'база 2013'!$I$4:$I$1191,AG$5,'база 2013'!$O$4:$O$1191,AG$7)","v":0},{"$f":"COUNTIFS('база 2013'!$B$4:$B$1191,$B45,'база 2013'!$I$4:$I$1191,AH$5,'база 2013'!$O$4:$O$1191,AH$7)","v":0},{"$f":"COUNTIFS('база 2013'!$B$4:$B$1191,$B45,'база 2013'!$I$4:$I$1191,AI$5,'база 2013'!$O$4:$O$1191,AI$7)","v":0},{"$f":"COUNTIFS('база 2013'!$B$4:$B$1191,$B45,'база 2013'!$I$4:$I$1191,AJ$5,'база 2013'!$O$4:$O$1191,AJ$7)","v":0},{"$f":"COUNTIFS('база 2013'!$B$4:$B$1191,$B45,'база 2013'!$I$4:$I$1191,AK$5,'база 2013'!$O$4:$O$1191,AK$7)","v":0},{"$f":"COUNTIFS('база 2013'!$B$4:$B$1191,$B45,'база 2013'!$I$4:$I$1191,AL$5,'база 2013'!$O$4:$O$1191,AL$7)","v":0},{"$f":"COUNTIFS('база 2013'!$B$4:$B$1191,$B45,'база 2013'!$I$4:$I$1191,AM$5,'база 2013'!$O$4:$O$1191,AM$7)","v":0},{"$f":"COUNTIFS('база 2013'!$B$4:$B$1191,$B45,'база 2013'!$I$4:$I$1191,AN$5,'база 2013'!$O$4:$O$1191,AN$7)","v":0},{"$f":"COUNTIFS('база 2013'!$B$4:$B$1191,$B45,'база 2013'!$I$4:$I$1191,AO$5,'база 2013'!$O$4:$O$1191,AO$7)","v":0},{"$f":"COUNTIFS('база 2013'!$B$4:$B$1191,$B45,'база 2013'!$I$4:$I$1191,AP$5,'база 2013'!$O$4:$O$1191,AP$7)","v":0},{"$f":"COUNTIFS('база 2013'!$B$4:$B$1191,$B45,'база 2013'!$I$4:$I$1191,AQ$5,'база 2013'!$O$4:$O$1191,AQ$7)","v":0},{"$f":"COUNTIFS('база 2013'!$B$4:$B$1191,$B45,'база 2013'!$I$4:$I$1191,AR$5,'база 2013'!$O$4:$O$1191,AR$7)","v":0},{"$f":"COUNTIFS('база 2013'!$B$4:$B$1191,$B45,'база 2013'!$I$4:$I$1191,AS$5,'база 2013'!$O$4:$O$1191,AS$7)","v":0},{"$f":"COUNTIFS('база 2013'!$B$4:$B$1191,$B45,'база 2013'!$I$4:$I$1191,AT$5,'база 2013'!$O$4:$O$1191,AT$7)","v":0},{"$f":"COUNTIFS('база 2013'!$B$4:$B$1191,$B45,'база 2013'!$I$4:$I$1191,AU$5,'база 2013'!$O$4:$O$1191,AU$7)","v":0},{"$f":"COUNTIFS('база 2013'!$B$4:$B$1191,$B45,'база 2013'!$I$4:$I$1191,AV$5,'база 2013'!$O$4:$O$1191,AV$7)","v":0},{"$f":"COUNTIFS('база 2013'!$B$4:$B$1191,$B45,'база 2013'!$I$4:$I$1191,AW$5,'база 2013'!$O$4:$O$1191,AW$7)","v":0},{"$f":"COUNTIFS('база 2013'!$B$4:$B$1191,$B45,'база 2013'!$I$4:$I$1191,AX$5,'база 2013'!$O$4:$O$1191,AX$7)","v":0},0,0,0,0,0,0,0]
[39,"Легкая атлетика",{"$f":"COUNTIFS('база 2013'!$B$4:$B$1191,$B46,'база 2013'!$I$4:$I$1191,C$5,'база 2013'!$O$4:$O$1191,C$7)","v":0},{"$f":"COUNTIFS('база 2013'!$B$4:$B$1191,$B46,'база 2013'!$I$4:$I$1191,D$5,'база 2013'!$O$4:$O$1191,D$7)","v":0},{"$f":"COUNTIFS('база 2013'!$B$4:$B$1191,$B46,'база 2013'!$I$4:$I$1191,E$5,'база 2013'!$O$4:$O$1191,E$7)","v":0},{"$f":"COUNTIFS('база 2013'!$B$4:$B$1191,$B46,'база 2013'!$I$4:$I$1191,F$5,'база 2013'!$O$4:$O$1191,F$7)","v":0},{"$f":"COUNTIFS('база 2013'!$B$4:$B$1191,$B46,'база 2013'!$I$4:$I$1191,G$5,'база 2013'!$O$4:$O$1191,G$7)","v":0},{"$f":"COUNTIFS('база 2013'!$B$4:$B$1191,$B46,'база 2013'!$I$4:$I$1191,H$5,'база 2013'!$O$4:$O$1191,H$7)","v":0},{"$f":"COUNTIFS('база 2013'!$B$4:$B$1191,$B46,'база 2013'!$I$4:$I$1191,I$5,'база 2013'!$O$4:$O$1191,I$7)","v":0},{"$f":"COUNTIFS('база 2013'!$B$4:$B$1191,$B46,'база 2013'!$I$4:$I$1191,J$5,'база 2013'!$O$4:$O$1191,J$7)","v":0},{"$f":"COUNTIFS('база 2013'!$B$4:$B$1191,$B46,'база 2013'!$I$4:$I$1191,K$5,'база 2013'!$O$4:$O$1191,K$7)","v":0},{"$f":"COUNTIFS('база 2013'!$B$4:$B$1191,$B46,'база 2013'!$I$4:$I$1191,L$5,'база 2013'!$O$4:$O$1191,L$7)","v":0},{"$f":"COUNTIFS('база 2013'!$B$4:$B$1191,$B46,'база 2013'!$I$4:$I$1191,M$5,'база 2013'!$O$4:$O$1191,M$7)","v":0},{"$f":"COUNTIFS('база 2013'!$B$4:$B$1191,$B46,'база 2013'!$I$4:$I$1191,N$5,'база 2013'!$O$4:$O$1191,N$7)","v":0},{"$f":"COUNTIFS('база 2013'!$B$4:$B$1191,$B46,'база 2013'!$I$4:$I$1191,O$5,'база 2013'!$O$4:$O$1191,O$7)","v":0},{"$f":"COUNTIFS('база 2013'!$B$4:$B$1191,$B46,'база 2013'!$I$4:$I$1191,P$5,'база 2013'!$O$4:$O$1191,P$7)","v":0},{"$f":"COUNTIFS('база 2013'!$B$4:$B$1191,$B46,'база 2013'!$I$4:$I$1191,Q$5,'база 2013'!$O$4:$O$1191,Q$7)","v":0},0,0,0,{"$f":"COUNTIFS('база 2013'!$B$4:$B$1191,$B46,'база 2013'!$I$4:$I$1191,U$5,'база 2013'!$O$4:$O$1191,U$7)","v":0},{"$f":"COUNTIFS('база 2013'!$B$4:$B$1191,$B46,'база 2013'!$I$4:$I$1191,V$5,'база 2013'!$O$4:$O$1191,V$7)","v":0},{"$f":"COUNTIFS('база 2013'!$B$4:$B$1191,$B46,'база 2013'!$I$4:$I$1191,W$5,'база 2013'!$O$4:$O$1191,W$7)","v":0},{"$f":"COUNTIFS('база 2013'!$B$4:$B$1191,$B46,'база 2013'!$I$4:$I$1191,X$5,'база 2013'!$O$4:$O$1191,X$7)","v":0},{"$f":"COUNTIFS('база 2013'!$B$4:$B$1191,$B46,'база 2013'!$I$4:$I$1191,Y$5,'база 2013'!$O$4:$O$1191,Y$7)","v":0},{"$f":"COUNTIFS('база 2013'!$B$4:$B$1191,$B46,'база 2013'!$I$4:$I$1191,Z$5,'база 2013'!$O$4:$O$1191,Z$7)","v":0},{"$f":"COUNTIFS('база 2013'!$B$4:$B$1191,$B46,'база 2013'!$I$4:$I$1191,AA$5,'база 2013'!$O$4:$O$1191,AA$7)","v":0},{"$f":"COUNTIFS('база 2013'!$B$4:$B$1191,$B46,'база 2013'!$I$4:$I$1191,AB$5,'база 2013'!$O$4:$O$1191,AB$7)","v":0},{"$f":"COUNTIFS('база 2013'!$B$4:$B$1191,$B46,'база 2013'!$I$4:$I$1191,AC$5,'база 2013'!$O$4:$O$1191,AC$7)","v":0},0,0,0,{"$f":"COUNTIFS('база 2013'!$B$4:$B$1191,$B46,'база 2013'!$I$4:$I$1191,AG$5,'база 2013'!$O$4:$O$1191,AG$7)","v":0},{"$f":"COUNTIFS('база 2013'!$B$4:$B$1191,$B46,'база 2013'!$I$4:$I$1191,AH$5,'база 2013'!$O$4:$O$1191,AH$7)","v":0},{"$f":"COUNTIFS('база 2013'!$B$4:$B$1191,$B46,'база 2013'!$I$4:$I$1191,AI$5,'база 2013'!$O$4:$O$1191,AI$7)","v":0},{"$f":"COUNTIFS('база 2013'!$B$4:$B$1191,$B46,'база 2013'!$I$4:$I$1191,AJ$5,'база 2013'!$O$4:$O$1191,AJ$7)","v":0},{"$f":"COUNTIFS('база 2013'!$B$4:$B$1191,$B46,'база 2013'!$I$4:$I$1191,AK$5,'база 2013'!$O$4:$O$1191,AK$7)","v":0},{"$f":"COUNTIFS('база 2013'!$B$4:$B$1191,$B46,'база 2013'!$I$4:$I$1191,AL$5,'база 2013'!$O$4:$O$1191,AL$7)","v":0},{"$f":"COUNTIFS('база 2013'!$B$4:$B$1191,$B46,'база 2013'!$I$4:$I$1191,AM$5,'база 2013'!$O$4:$O$1191,AM$7)","v":0},{"$f":"COUNTIFS('база 2013'!$B$4:$B$1191,$B46,'база 2013'!$I$4:$I$1191,AN$5,'база 2013'!$O$4:$O$1191,AN$7)","v":0},{"$f":"COUNTIFS('база 2013'!$B$4:$B$1191,$B46,'база 2013'!$I$4:$I$1191,AO$5,'база 2013'!$O$4:$O$1191,AO$7)","v":0},{"$f":"COUNTIFS('база 2013'!$B$4:$B$1191,$B46,'база 2013'!$I$4:$I$1191,AP$5,'база 2013'!$O$4:$O$1191,AP$7)","v":0},{"$f":"COUNTIFS('база 2013'!$B$4:$B$1191,$B46,'база 2013'!$I$4:$I$1191,AQ$5,'база 2013'!$O$4:$O$1191,AQ$7)","v":0},{"$f":"COUNTIFS('база 2013'!$B$4:$B$1191,$B46,'база 2013'!$I$4:$I$1191,AR$5,'база 2013'!$O$4:$O$1191,AR$7)","v":0},{"$f":"COUNTIFS('база 2013'!$B$4:$B$1191,$B46,'база 2013'!$I$4:$I$1191,AS$5,'база 2013'!$O$4:$O$1191,AS$7)","v":0},{"$f":"COUNTIFS('база 2013'!$B$4:$B$1191,$B46,'база 2013'!$I$4:$I$1191,AT$5,'база 2013'!$O$4:$O$1191,AT$7)","v":0},{"$f":"COUNTIFS('база 2013'!$B$4:$B$1191,$B46,'база 2013'!$I$4:$I$1191,AU$5,'база 2013'!$O$4:$O$1191,AU$7)","v":0},{"$f":"COUNTIFS('база 2013'!$B$4:$B$1191,$B46,'база 2013'!$I$4:$I$1191,AV$5,'база 2013'!$O$4:$O$1191,AV$7)","v":0},{"$f":"COUNTIFS('база 2013'!$B$4:$B$1191,$B46,'база 2013'!$I$4:$I$1191,AW$5,'база 2013'!$O$4:$O$1191,AW$7)","v":0},{"$f":"COUNTIFS('база 2013'!$B$4:$B$1191,$B46,'база 2013'!$I$4:$I$1191,AX$5,'база 2013'!$O$4:$O$1191,AX$7)","v":0},0,0,0,0,0,0,0]
[40,"Мотоциклетный спорт",{"$f":"COUNTIFS('база 2013'!$B$4:$B$1191,$B47,'база 2013'!$I$4:$I$1191,C$5,'база 2013'!$O$4:$O$1191,C$7)","v":0},{"$f":"COUNTIFS('база 2013'!$B$4:$B$1191,$B47,'база 2013'!$I$4:$I$1191,D$5,'база 2013'!$O$4:$O$1191,D$7)","v":0},{"$f":"COUNTIFS('база 2013'!$B$4:$B$1191,$B47,'база 2013'!$I$4:$I$1191,E$5,'база 2013'!$O$4:$O$1191,E$7)","v":0},{"$f":"COUNTIFS('база 2013'!$B$4:$B$1191,$B47,'база 2013'!$I$4:$I$1191,F$5,'база 2013'!$O$4:$O$1191,F$7)","v":0},{"$f":"COUNTIFS('база 2013'!$B$4:$B$1191,$B47,'база 2013'!$I$4:$I$1191,G$5,'база 2013'!$O$4:$O$1191,G$7)","v":0},{"$f":"COUNTIFS('база 2013'!$B$4:$B$1191,$B47,'база 2013'!$I$4:$I$1191,H$5,'база 2013'!$O$4:$O$1191,H$7)","v":0},{"$f":"COUNTIFS('база 2013'!$B$4:$B$1191,$B47,'база 2013'!$I$4:$I$1191,I$5,'база 2013'!$O$4:$O$1191,I$7)","v":0},{"$f":"COUNTIFS('база 2013'!$B$4:$B$1191,$B47,'база 2013'!$I$4:$I$1191,J$5,'база 2013'!$O$4:$O$1191,J$7)","v":0},{"$f":"COUNTIFS('база 2013'!$B$4:$B$1191,$B47,'база 2013'!$I$4:$I$1191,K$5,'база 2013'!$O$4:$O$1191,K$7)","v":0},{"$f":"COUNTIFS('база 2013'!$B$4:$B$1191,$B47,'база 2013'!$I$4:$I$1191,L$5,'база 2013'!$O$4:$O$1191,L$7)","v":0},{"$f":"COUNTIFS('база 2013'!$B$4:$B$1191,$B47,'база 2013'!$I$4:$I$1191,M$5,'база 2013'!$O$4:$O$1191,M$7)","v":0},{"$f":"COUNTIFS('база 2013'!$B$4:$B$1191,$B47,'база 2013'!$I$4:$I$1191,N$5,'база 2013'!$O$4:$O$1191,N$7)","v":0},{"$f":"COUNTIFS('база 2013'!$B$4:$B$1191,$B47,'база 2013'!$I$4:$I$1191,O$5,'база 2013'!$O$4:$O$1191,O$7)","v":0},{"$f":"COUNTIFS('база 2013'!$B$4:$B$1191,$B47,'база 2013'!$I$4:$I$1191,P$5,'база 2013'!$O$4:$O$1191,P$7)","v":0},{"$f":"COUNTIFS('база 2013'!$B$4:$B$1191,$B47,'база 2013'!$I$4:$I$1191,Q$5,'база 2013'!$O$4:$O$1191,Q$7)","v":0},0,0,0,{"$f":"COUNTIFS('база 2013'!$B$4:$B$1191,$B47,'база 2013'!$I$4:$I$1191,U$5,'база 2013'!$O$4:$O$1191,U$7)","v":0},{"$f":"COUNTIFS('база 2013'!$B$4:$B$1191,$B47,'база 2013'!$I$4:$I$1191,V$5,'база 2013'!$O$4:$O$1191,V$7)","v":0},{"$f":"COUNTIFS('база 2013'!$B$4:$B$1191,$B47,'база 2013'!$I$4:$I$1191,W$5,'база 2013'!$O$4:$O$1191,W$7)","v":0},{"$f":"COUNTIFS('база 2013'!$B$4:$B$1191,$B47,'база 2013'!$I$4:$I$1191,X$5,'база 2013'!$O$4:$O$1191,X$7)","v":0},{"$f":"COUNTIFS('база 2013'!$B$4:$B$1191,$B47,'база 2013'!$I$4:$I$1191,Y$5,'база 2013'!$O$4:$O$1191,Y$7)","v":0},{"$f":"COUNTIFS('база 2013'!$B$4:$B$1191,$B47,'база 2013'!$I$4:$I$1191,Z$5,'база 2013'!$O$4:$O$1191,Z$7)","v":0},{"$f":"COUNTIFS('база 2013'!$B$4:$B$1191,$B47,'база 2013'!$I$4:$I$1191,AA$5,'база 2013'!$O$4:$O$1191,AA$7)","v":0},{"$f":"COUNTIFS('база 2013'!$B$4:$B$1191,$B47,'база 2013'!$I$4:$I$1191,AB$5,'база 2013'!$O$4:$O$1191,AB$7)","v":0},{"$f":"COUNTIFS('база 2013'!$B$4:$B$1191,$B47,'база 2013'!$I$4:$I$1191,AC$5,'база 2013'!$O$4:$O$1191,AC$7)","v":0},0,0,0,{"$f":"COUNTIFS('база 2013'!$B$4:$B$1191,$B47,'база 2013'!$I$4:$I$1191,AG$5,'база 2013'!$O$4:$O$1191,AG$7)","v":0},{"$f":"COUNTIFS('база 2013'!$B$4:$B$1191,$B47,'база 2013'!$I$4:$I$1191,AH$5,'база 2013'!$O$4:$O$1191,AH$7)","v":0},{"$f":"COUNTIFS('база 2013'!$B$4:$B$1191,$B47,'база 2013'!$I$4:$I$1191,AI$5,'база 2013'!$O$4:$O$1191,AI$7)","v":0},{"$f":"COUNTIFS('база 2013'!$B$4:$B$1191,$B47,'база 2013'!$I$4:$I$1191,AJ$5,'база 2013'!$O$4:$O$1191,AJ$7)","v":0},{"$f":"COUNTIFS('база 2013'!$B$4:$B$1191,$B47,'база 2013'!$I$4:$I$1191,AK$5,'база 2013'!$O$4:$O$1191,AK$7)","v":0},{"$f":"COUNTIFS('база 2013'!$B$4:$B$1191,$B47,'база 2013'!$I$4:$I$1191,AL$5,'база 2013'!$O$4:$O$1191,AL$7)","v":0},{"$f":"COUNTIFS('база 2013'!$B$4:$B$1191,$B47,'база 2013'!$I$4:$I$1191,AM$5,'база 2013'!$O$4:$O$1191,AM$7)","v":0},{"$f":"COUNTIFS('база 2013'!$B$4:$B$1191,$B47,'база 2013'!$I$4:$I$1191,AN$5,'база 2013'!$O$4:$O$1191,AN$7)","v":0},{"$f":"COUNTIFS('база 2013'!$B$4:$B$1191,$B47,'база 2013'!$I$4:$I$1191,AO$5,'база 2013'!$O$4:$O$1191,AO$7)","v":0},{"$f":"COUNTIFS('база 2013'!$B$4:$B$1191,$B47,'база 2013'!$I$4:$I$1191,AP$5,'база 2013'!$O$4:$O$1191,AP$7)","v":0},{"$f":"COUNTIFS('база 2013'!$B$4:$B$1191,$B47,'база 2013'!$I$4:$I$1191,AQ$5,'база 2013'!$O$4:$O$1191,AQ$7)","v":0},{"$f":"COUNTIFS('база 2013'!$B$4:$B$1191,$B47,'база 2013'!$I$4:$I$1191,AR$5,'база 2013'!$O$4:$O$1191,AR$7)","v":0},{"$f":"COUNTIFS('база 2013'!$B$4:$B$1191,$B47,'база 2013'!$I$4:$I$1191,AS$5,'база 2013'!$O$4:$O$1191,AS$7)","v":0},{"$f":"COUNTIFS('база 2013'!$B$4:$B$1191,$B47,'база 2013'!$I$4:$I$1191,AT$5,'база 2013'!$O$4:$O$1191,AT$7)","v":0},{"$f":"COUNTIFS('база 2013'!$B$4:$B$1191,$B47,'база 2013'!$I$4:$I$1191,AU$5,'база 2013'!$O$4:$O$1191,AU$7)","v":0},{"$f":"COUNTIFS('база 2013'!$B$4:$B$1191,$B47,'база 2013'!$I$4:$I$1191,AV$5,'база 2013'!$O$4:$O$1191,AV$7)","v":0},{"$f":"COUNTIFS('база 2013'!$B$4:$B$1191,$B47,'база 2013'!$I$4:$I$1191,AW$5,'база 2013'!$O$4:$O$1191,AW$7)","v":0},{"$f":"COUNTIFS('база 2013'!$B$4:$B$1191,$B47,'база 2013'!$I$4:$I$1191,AX$5,'база 2013'!$O$4:$O$1191,AX$7)","v":0},0,0,0,0,0,0,0]
[41,"Настольный теннис",{"$f":"COUNTIFS('база 2013'!$B$4:$B$1191,$B48,'база 2013'!$I$4:$I$1191,C$5,'база 2013'!$O$4:$O$1191,C$7)","v":0},{"$f":"COUNTIFS('база 2013'!$B$4:$B$1191,$B48,'база 2013'!$I$4:$I$1191,D$5,'база 2013'!$O$4:$O$1191,D$7)","v":0},{"$f":"COUNTIFS('база 2013'!$B$4:$B$1191,$B48,'база 2013'!$I$4:$I$1191,E$5,'база 2013'!$O$4:$O$1191,E$7)","v":0},{"$f":"COUNTIFS('база 2013'!$B$4:$B$1191,$B48,'база 2013'!$I$4:$I$1191,F$5,'база 2013'!$O$4:$O$1191,F$7)","v":0},{"$f":"COUNTIFS('база 2013'!$B$4:$B$1191,$B48,'база 2013'!$I$4:$I$1191,G$5,'база 2013'!$O$4:$O$1191,G$7)","v":0},{"$f":"COUNTIFS('база 2013'!$B$4:$B$1191,$B48,'база 2013'!$I$4:$I$1191,H$5,'база 2013'!$O$4:$O$1191,H$7)","v":0},{"$f":"COUNTIFS('база 2013'!$B$4:$B$1191,$B48,'база 2013'!$I$4:$I$1191,I$5,'база 2013'!$O$4:$O$1191,I$7)","v":0},{"$f":"COUNTIFS('база 2013'!$B$4:$B$1191,$B48,'база 2013'!$I$4:$I$1191,J$5,'база 2013'!$O$4:$O$1191,J$7)","v":0},{"$f":"COUNTIFS('база 2013'!$B$4:$B$1191,$B48,'база 2013'!$I$4:$I$1191,K$5,'база 2013'!$O$4:$O$1191,K$7)","v":0},{"$f":"COUNTIFS('база 2013'!$B$4:$B$1191,$B48,'база 2013'!$I$4:$I$1191,L$5,'база 2013'!$O$4:$O$1191,L$7)","v":0},{"$f":"COUNTIFS('база 2013'!$B$4:$B$1191,$B48,'база 2013'!$I$4:$I$1191,M$5,'база 2013'!$O$4:$O$1191,M$7)","v":0},{"$f":"COUNTIFS('база 2013'!$B$4:$B$1191,$B48,'база 2013'!$I$4:$I$1191,N$5,'база 2013'!$O$4:$O$1191,N$7)","v":0},{"$f":"COUNTIFS('база 2013'!$B$4:$B$1191,$B48,'база 2013'!$I$4:$I$1191,O$5,'база 2013'!$O$4:$O$1191,O$7)","v":0},{"$f":"COUNTIFS('база 2013'!$B$4:$B$1191,$B48,'база 2013'!$I$4:$I$1191,P$5,'база 2013'!$O$4:$O$1191,P$7)","v":0},{"$f":"COUNTIFS('база 2013'!$B$4:$B$1191,$B48,'база 2013'!$I$4:$I$1191,Q$5,'база 2013'!$O$4:$O$1191,Q$7)","v":0},{"$f":"SUMIF($F$7:$Q$7,$R$7,F48:Q48)","v":0},{"$f":"SUMIF($F$7:$Q$7,$S$7,$F48:$Q48)","v":0},{"$f":"SUMIF($F$7:$Q$7,$T$7,$F48:$Q48)","v":0},{"$f":"COUNTIFS('база 2013'!$B$4:$B$1191,$B48,'база 2013'!$I$4:$I$1191,U$5,'база 2013'!$O$4:$O$1191,U$7)","v":0},{"$f":"COUNTIFS('база 2013'!$B$4:$B$1191,$B48,'база 2013'!$I$4:$I$1191,V$5,'база 2013'!$O$4:$O$1191,V$7)","v":0},{"$f":"COUNTIFS('база 2013'!$B$4:$B$1191,$B48,'база 2013'!$I$4:$I$1191,W$5,'база 2013'!$O$4:$O$1191,W$7)","v":0},{"$f":"COUNTIFS('база 2013'!$B$4:$B$1191,$B48,'база 2013'!$I$4:$I$1191,X$5,'база 2013'!$O$4:$O$1191,X$7)","v":0},{"$f":"COUNTIFS('база 2013'!$B$4:$B$1191,$B48,'база 2013'!$I$4:$I$1191,Y$5,'база 2013'!$O$4:$O$1191,Y$7)","v":0},{"$f":"COUNTIFS('база 2013'!$B$4:$B$1191,$B48,'база 2013'!$I$4:$I$1191,Z$5,'база 2013'!$O$4:$O$1191,Z$7)","v":0},{"$f":"COUNTIFS('база 2013'!$B$4:$B$1191,$B48,'база 2013'!$I$4:$I$1191,AA$5,'база 2013'!$O$4:$O$1191,AA$7)","v":0},{"$f":"COUNTIFS('база 2013'!$B$4:$B$1191,$B48,'база 2013'!$I$4:$I$1191,AB$5,'база 2013'!$O$4:$O$1191,AB$7)","v":0},{"$f":"COUNTIFS('база 2013'!$B$4:$B$1191,$B48,'база 2013'!$I$4:$I$1191,AC$5,'база 2013'!$O$4:$O$1191,AC$7)","v":0},0,0,0,{"$f":"COUNTIFS('база 2013'!$B$4:$B$1191,$B48,'база 2013'!$I$4:$I$1191,AG$5,'база 2013'!$O$4:$O$1191,AG$7)","v":0},{"$f":"COUNTIFS('база 2013'!$B$4:$B$1191,$B48,'база 2013'!$I$4:$I$1191,AH$5,'база 2013'!$O$4:$O$1191,AH$7)","v":0},{"$f":"COUNTIFS('база 2013'!$B$4:$B$1191,$B48,'база 2013'!$I$4:$I$1191,AI$5,'база 2013'!$O$4:$O$1191,AI$7)","v":0},{"$f":"COUNTIFS('база 2013'!$B$4:$B$1191,$B48,'база 2013'!$I$4:$I$1191,AJ$5,'база 2013'!$O$4:$O$1191,AJ$7)","v":0},{"$f":"COUNTIFS('база 2013'!$B$4:$B$1191,$B48,'база 2013'!$I$4:$I$1191,AK$5,'база 2013'!$O$4:$O$1191,AK$7)","v":0},{"$f":"COUNTIFS('база 2013'!$B$4:$B$1191,$B48,'база 2013'!$I$4:$I$1191,AL$5,'база 2013'!$O$4:$O$1191,AL$7)","v":0},{"$f":"COUNTIFS('база 2013'!$B$4:$B$1191,$B48,'база 2013'!$I$4:$I$1191,AM$5,'база 2013'!$O$4:$O$1191,AM$7)","v":0},{"$f":"COUNTIFS('база 2013'!$B$4:$B$1191,$B48,'база 2013'!$I$4:$I$1191,AN$5,'база 2013'!$O$4:$O$1191,AN$7)","v":0},{"$f":"COUNTIFS('база 2013'!$B$4:$B$1191,$B48,'база 2013'!$I$4:$I$1191,AO$5,'база 2013'!$O$4:$O$1191,AO$7)","v":0},{"$f":"COUNTIFS('база 2013'!$B$4:$B$1191,$B48,'база 2013'!$I$4:$I$1191,AP$5,'база 2013'!$O$4:$O$1191,AP$7)","v":0},{"$f":"COUNTIFS('база 2013'!$B$4:$B$1191,$B48,'база 2013'!$I$4:$I$1191,AQ$5,'база 2013'!$O$4:$O$1191,AQ$7)","v":0},{"$f":"COUNTIFS('база 2013'!$B$4:$B$1191,$B48,'база 2013'!$I$4:$I$1191,AR$5,'база 2013'!$O$4:$O$1191,AR$7)","v":0},{"$f":"COUNTIFS('база 2013'!$B$4:$B$1191,$B48,'база 2013'!$I$4:$I$1191,AS$5,'база 2013'!$O$4:$O$1191,AS$7)","v":0},{"$f":"COUNTIFS('база 2013'!$B$4:$B$1191,$B48,'база 2013'!$I$4:$I$1191,AT$5,'база 2013'!$O$4:$O$1191,AT$7)","v":0},{"$f":"COUNTIFS('база 2013'!$B$4:$B$1191,$B48,'база 2013'!$I$4:$I$1191,AU$5,'база 2013'!$O$4:$O$1191,AU$7)","v":0},{"$f":"COUNTIFS('база 2013'!$B$4:$B$1191,$B48,'база 2013'!$I$4:$I$1191,AV$5,'база 2013'!$O$4:$O$1191,AV$7)","v":0},{"$f":"COUNTIFS('база 2013'!$B$4:$B$1191,$B48,'база 2013'!$I$4:$I$1191,AW$5,'база 2013'!$O$4:$O$1191,AW$7)","v":0},{"$f":"COUNTIFS('база 2013'!$B$4:$B$1191,$B48,'база 2013'!$I$4:$I$1191,AX$5,'база 2013'!$O$4:$O$1191,AX$7)","v":0},0,0,0,0,0,0,0]
[42,"Парусный спорт",{"$f":"COUNTIFS('база 2013'!$B$4:$B$1191,$B49,'база 2013'!$I$4:$I$1191,C$5,'база 2013'!$O$4:$O$1191,C$7)","v":0},{"$f":"COUNTIFS('база 2013'!$B$4:$B$1191,$B49,'база 2013'!$I$4:$I$1191,D$5,'база 2013'!$O$4:$O$1191,D$7)","v":0},{"$f":"COUNTIFS('база 2013'!$B$4:$B$1191,$B49,'база 2013'!$I$4:$I$1191,E$5,'база 2013'!$O$4:$O$1191,E$7)","v":0},{"$f":"COUNTIFS('база 2013'!$B$4:$B$1191,$B49,'база 2013'!$I$4:$I$1191,F$5,'база 2013'!$O$4:$O$1191,F$7)","v":0},{"$f":"COUNTIFS('база 2013'!$B$4:$B$1191,$B49,'база 2013'!$I$4:$I$1191,G$5,'база 2013'!$O$4:$O$1191,G$7)","v":0},{"$f":"COUNTIFS('база 2013'!$B$4:$B$1191,$B49,'база 2013'!$I$4:$I$1191,H$5,'база 2013'!$O$4:$O$1191,H$7)","v":0},{"$f":"COUNTIFS('база 2013'!$B$4:$B$1191,$B49,'база 2013'!$I$4:$I$1191,I$5,'база 2013'!$O$4:$O$1191,I$7)","v":0},{"$f":"COUNTIFS('база 2013'!$B$4:$B$1191,$B49,'база 2013'!$I$4:$I$1191,J$5,'база 2013'!$O$4:$O$1191,J$7)","v":0},{"$f":"COUNTIFS('база 2013'!$B$4:$B$1191,$B49,'база 2013'!$I$4:$I$1191,K$5,'база 2013'!$O$4:$O$1191,K$7)","v":0},{"$f":"COUNTIFS('база 2013'!$B$4:$B$1191,$B49,'база 2013'!$I$4:$I$1191,L$5,'база 2013'!$O$4:$O$1191,L$7)","v":0},{"$f":"COUNTIFS('база 2013'!$B$4:$B$1191,$B49,'база 2013'!$I$4:$I$1191,M$5,'база 2013'!$O$4:$O$1191,M$7)","v":0},{"$f":"COUNTIFS('база 2013'!$B$4:$B$1191,$B49,'база 2013'!$I$4:$I$1191,N$5,'база 2013'!$O$4:$O$1191,N$7)","v":0},{"$f":"COUNTIFS('база 2013'!$B$4:$B$1191,$B49,'база 2013'!$I$4:$I$1191,O$5,'база 2013'!$O$4:$O$1191,O$7)","v":0},{"$f":"COUNTIFS('база 2013'!$B$4:$B$1191,$B49,'база 2013'!$I$4:$I$1191,P$5,'база 2013'!$O$4:$O$1191,P$7)","v":0},{"$f":"COUNTIFS('база 2013'!$B$4:$B$1191,$B49,'база 2013'!$I$4:$I$1191,Q$5,'база 2013'!$O$4:$O$1191,Q$7)","v":0},0,0,0,{"$f":"COUNTIFS('база 2013'!$B$4:$B$1191,$B49,'база 2013'!$I$4:$I$1191,U$5,'база 2013'!$O$4:$O$1191,U$7)","v":0},{"$f":"COUNTIFS('база 2013'!$B$4:$B$1191,$B49,'база 2013'!$I$4:$I$1191,V$5,'база 2013'!$O$4:$O$1191,V$7)","v":0},{"$f":"COUNTIFS('база 2013'!$B$4:$B$1191,$B49,'база 2013'!$I$4:$I$1191,W$5,'база 2013'!$O$4:$O$1191,W$7)","v":0},{"$f":"COUNTIFS('база 2013'!$B$4:$B$1191,$B49,'база 2013'!$I$4:$I$1191,X$5,'база 2013'!$O$4:$O$1191,X$7)","v":0},{"$f":"COUNTIFS('база 2013'!$B$4:$B$1191,$B49,'база 2013'!$I$4:$I$1191,Y$5,'база 2013'!$O$4:$O$1191,Y$7)","v":0},{"$f":"COUNTIFS('база 2013'!$B$4:$B$1191,$B49,'база 2013'!$I$4:$I$1191,Z$5,'база 2013'!$O$4:$O$1191,Z$7)","v":0},{"$f":"COUNTIFS('база 2013'!$B$4:$B$1191,$B49,'база 2013'!$I$4:$I$1191,AA$5,'база 2013'!$O$4:$O$1191,AA$7)","v":0},{"$f":"COUNTIFS('база 2013'!$B$4:$B$1191,$B49,'база 2013'!$I$4:$I$1191,AB$5,'база 2013'!$O$4:$O$1191,AB$7)","v":0},{"$f":"COUNTIFS('база 2013'!$B$4:$B$1191,$B49,'база 2013'!$I$4:$I$1191,AC$5,'база 2013'!$O$4:$O$1191,AC$7)","v":0},0,0,0,{"$f":"COUNTIFS('база 2013'!$B$4:$B$1191,$B49,'база 2013'!$I$4:$I$1191,AG$5,'база 2013'!$O$4:$O$1191,AG$7)","v":0},{"$f":"COUNTIFS('база 2013'!$B$4:$B$1191,$B49,'база 2013'!$I$4:$I$1191,AH$5,'база 2013'!$O$4:$O$1191,AH$7)","v":0},{"$f":"COUNTIFS('база 2013'!$B$4:$B$1191,$B49,'база 2013'!$I$4:$I$1191,AI$5,'база 2013'!$O$4:$O$1191,AI$7)","v":0},{"$f":"COUNTIFS('база 2013'!$B$4:$B$1191,$B49,'база 2013'!$I$4:$I$1191,AJ$5,'база 2013'!$O$4:$O$1191,AJ$7)","v":0},{"$f":"COUNTIFS('база 2013'!$B$4:$B$1191,$B49,'база 2013'!$I$4:$I$1191,AK$5,'база 2013'!$O$4:$O$1191,AK$7)","v":0},{"$f":"COUNTIFS('база 2013'!$B$4:$B$1191,$B49,'база 2013'!$I$4:$I$1191,AL$5,'база 2013'!$O$4:$O$1191,AL$7)","v":0},{"$f":"COUNTIFS('база 2013'!$B$4:$B$1191,$B49,'база 2013'!$I$4:$I$1191,AM$5,'база 2013'!$O$4:$O$1191,AM$7)","v":0},{"$f":"COUNTIFS('база 2013'!$B$4:$B$1191,$B49,'база 2013'!$I$4:$I$1191,AN$5,'база 2013'!$O$4:$O$1191,AN$7)","v":0},{"$f":"COUNTIFS('база 2013'!$B$4:$B$1191,$B49,'база 2013'!$I$4:$I$1191,AO$5,'база 2013'!$O$4:$O$1191,AO$7)","v":0},{"$f":"COUNTIFS('база 2013'!$B$4:$B$1191,$B49,'база 2013'!$I$4:$I$1191,AP$5,'база 2013'!$O$4:$O$1191,AP$7)","v":0},{"$f":"COUNTIFS('база 2013'!$B$4:$B$1191,$B49,'база 2013'!$I$4:$I$1191,AQ$5,'база 2013'!$O$4:$O$1191,AQ$7)","v":0},{"$f":"COUNTIFS('база 2013'!$B$4:$B$1191,$B49,'база 2013'!$I$4:$I$1191,AR$5,'база 2013'!$O$4:$O$1191,AR$7)","v":0},{"$f":"COUNTIFS('база 2013'!$B$4:$B$1191,$B49,'база 2013'!$I$4:$I$1191,AS$5,'база 2013'!$O$4:$O$1191,AS$7)","v":0},{"$f":"COUNTIFS('база 2013'!$B$4:$B$1191,$B49,'база 2013'!$I$4:$I$1191,AT$5,'база 2013'!$O$4:$O$1191,AT$7)","v":0},{"$f":"COUNTIFS('база 2013'!$B$4:$B$1191,$B49,'база 2013'!$I$4:$I$1191,AU$5,'база 2013'!$O$4:$O$1191,AU$7)","v":0},{"$f":"COUNTIFS('база 2013'!$B$4:$B$1191,$B49,'база 2013'!$I$4:$I$1191,AV$5,'база 2013'!$O$4:$O$1191,AV$7)","v":0},{"$f":"COUNTIFS('база 2013'!$B$4:$B$1191,$B49,'база 2013'!$I$4:$I$1191,AW$5,'база 2013'!$O$4:$O$1191,AW$7)","v":0},{"$f":"COUNTIFS('база 2013'!$B$4:$B$1191,$B49,'база 2013'!$I$4:$I$1191,AX$5,'база 2013'!$O$4:$O$1191,AX$7)","v":0},0,0,0,0,0,0,0]
[43,"Панкратион",{"$f":"COUNTIFS('база 2013'!$B$4:$B$1191,$B50,'база 2013'!$I$4:$I$1191,C$5,'база 2013'!$O$4:$O$1191,C$7)","v":0},{"$f":"COUNTIFS('база 2013'!$B$4:$B$1191,$B50,'база 2013'!$I$4:$I$1191,D$5,'база 2013'!$O$4:$O$1191,D$7)","v":0},{"$f":"COUNTIFS('база 2013'!$B$4:$B$1191,$B50,'база 2013'!$I$4:$I$1191,E$5,'база 2013'!$O$4:$O$1191,E$7)","v":0},{"$f":"COUNTIFS('база 2013'!$B$4:$B$1191,$B50,'база 2013'!$I$4:$I$1191,F$5,'база 2013'!$O$4:$O$1191,F$7)","v":0},{"$f":"COUNTIFS('база 2013'!$B$4:$B$1191,$B50,'база 2013'!$I$4:$I$1191,G$5,'база 2013'!$O$4:$O$1191,G$7)","v":0},{"$f":"COUNTIFS('база 2013'!$B$4:$B$1191,$B50,'база 2013'!$I$4:$I$1191,H$5,'база 2013'!$O$4:$O$1191,H$7)","v":0},{"$f":"COUNTIFS('база 2013'!$B$4:$B$1191,$B50,'база 2013'!$I$4:$I$1191,I$5,'база 2013'!$O$4:$O$1191,I$7)","v":0},{"$f":"COUNTIFS('база 2013'!$B$4:$B$1191,$B50,'база 2013'!$I$4:$I$1191,J$5,'база 2013'!$O$4:$O$1191,J$7)","v":0},{"$f":"COUNTIFS('база 2013'!$B$4:$B$1191,$B50,'база 2013'!$I$4:$I$1191,K$5,'база 2013'!$O$4:$O$1191,K$7)","v":0},{"$f":"COUNTIFS('база 2013'!$B$4:$B$1191,$B50,'база 2013'!$I$4:$I$1191,L$5,'база 2013'!$O$4:$O$1191,L$7)","v":0},{"$f":"COUNTIFS('база 2013'!$B$4:$B$1191,$B50,'база 2013'!$I$4:$I$1191,M$5,'база 2013'!$O$4:$O$1191,M$7)","v":0},{"$f":"COUNTIFS('база 2013'!$B$4:$B$1191,$B50,'база 2013'!$I$4:$I$1191,N$5,'база 2013'!$O$4:$O$1191,N$7)","v":0},{"$f":"COUNTIFS('база 2013'!$B$4:$B$1191,$B50,'база 2013'!$I$4:$I$1191,O$5,'база 2013'!$O$4:$O$1191,O$7)","v":0},{"$f":"COUNTIFS('база 2013'!$B$4:$B$1191,$B50,'база 2013'!$I$4:$I$1191,P$5,'база 2013'!$O$4:$O$1191,P$7)","v":0},{"$f":"COUNTIFS('база 2013'!$B$4:$B$1191,$B50,'база 2013'!$I$4:$I$1191,Q$5,'база 2013'!$O$4:$O$1191,Q$7)","v":0},{"$f":"SUMIF($F$7:$Q$7,$R$7,F50:Q50)","v":0},0,0,{"$f":"COUNTIFS('база 2013'!$B$4:$B$1191,$B50,'база 2013'!$I$4:$I$1191,U$5,'база 2013'!$O$4:$O$1191,U$7)","v":0},{"$f":"COUNTIFS('база 2013'!$B$4:$B$1191,$B50,'база 2013'!$I$4:$I$1191,V$5,'база 2013'!$O$4:$O$1191,V$7)","v":0},{"$f":"COUNTIFS('база 2013'!$B$4:$B$1191,$B50,'база 2013'!$I$4:$I$1191,W$5,'база 2013'!$O$4:$O$1191,W$7)","v":0},{"$f":"COUNTIFS('база 2013'!$B$4:$B$1191,$B50,'база 2013'!$I$4:$I$1191,X$5,'база 2013'!$O$4:$O$1191,X$7)","v":0},{"$f":"COUNTIFS('база 2013'!$B$4:$B$1191,$B50,'база 2013'!$I$4:$I$1191,Y$5,'база 2013'!$O$4:$O$1191,Y$7)","v":0},{"$f":"COUNTIFS('база 2013'!$B$4:$B$1191,$B50,'база 2013'!$I$4:$I$1191,Z$5,'база 2013'!$O$4:$O$1191,Z$7)","v":0},{"$f":"COUNTIFS('база 2013'!$B$4:$B$1191,$B50,'база 2013'!$I$4:$I$1191,AA$5,'база 2013'!$O$4:$O$1191,AA$7)","v":0},{"$f":"COUNTIFS('база 2013'!$B$4:$B$1191,$B50,'база 2013'!$I$4:$I$1191,AB$5,'база 2013'!$O$4:$O$1191,AB$7)","v":0},{"$f":"COUNTIFS('база 2013'!$B$4:$B$1191,$B50,'база 2013'!$I$4:$I$1191,AC$5,'база 2013'!$O$4:$O$1191,AC$7)","v":0},0,0,0,{"$f":"COUNTIFS('база 2013'!$B$4:$B$1191,$B50,'база 2013'!$I$4:$I$1191,AG$5,'база 2013'!$O$4:$O$1191,AG$7)","v":0},{"$f":"COUNTIFS('база 2013'!$B$4:$B$1191,$B50,'база 2013'!$I$4:$I$1191,AH$5,'база 2013'!$O$4:$O$1191,AH$7)","v":0},{"$f":"COUNTIFS('база 2013'!$B$4:$B$1191,$B50,'база 2013'!$I$4:$I$1191,AI$5,'база 2013'!$O$4:$O$1191,AI$7)","v":0},{"$f":"COUNTIFS('база 2013'!$B$4:$B$1191,$B50,'база 2013'!$I$4:$I$1191,AJ$5,'база 2013'!$O$4:$O$1191,AJ$7)","v":0},{"$f":"COUNTIFS('база 2013'!$B$4:$B$1191,$B50,'база 2013'!$I$4:$I$1191,AK$5,'база 2013'!$O$4:$O$1191,AK$7)","v":0},{"$f":"COUNTIFS('база 2013'!$B$4:$B$1191,$B50,'база 2013'!$I$4:$I$1191,AL$5,'база 2013'!$O$4:$O$1191,AL$7)","v":0},{"$f":"COUNTIFS('база 2013'!$B$4:$B$1191,$B50,'база 2013'!$I$4:$I$1191,AM$5,'база 2013'!$O$4:$O$1191,AM$7)","v":0},{"$f":"COUNTIFS('база 2013'!$B$4:$B$1191,$B50,'база 2013'!$I$4:$I$1191,AN$5,'база 2013'!$O$4:$O$1191,AN$7)","v":0},{"$f":"COUNTIFS('база 2013'!$B$4:$B$1191,$B50,'база 2013'!$I$4:$I$1191,AO$5,'база 2013'!$O$4:$O$1191,AO$7)","v":0},{"$f":"COUNTIFS('база 2013'!$B$4:$B$1191,$B50,'база 2013'!$I$4:$I$1191,AP$5,'база 2013'!$O$4:$O$1191,AP$7)","v":0},{"$f":"COUNTIFS('база 2013'!$B$4:$B$1191,$B50,'база 2013'!$I$4:$I$1191,AQ$5,'база 2013'!$O$4:$O$1191,AQ$7)","v":0},{"$f":"COUNTIFS('база 2013'!$B$4:$B$1191,$B50,'база 2013'!$I$4:$I$1191,AR$5,'база 2013'!$O$4:$O$1191,AR$7)","v":0},{"$f":"COUNTIFS('база 2013'!$B$4:$B$1191,$B50,'база 2013'!$I$4:$I$1191,AS$5,'база 2013'!$O$4:$O$1191,AS$7)","v":0},{"$f":"COUNTIFS('база 2013'!$B$4:$B$1191,$B50,'база 2013'!$I$4:$I$1191,AT$5,'база 2013'!$O$4:$O$1191,AT$7)","v":0},{"$f":"COUNTIFS('база 2013'!$B$4:$B$1191,$B50,'база 2013'!$I$4:$I$1191,AU$5,'база 2013'!$O$4:$O$1191,AU$7)","v":0},{"$f":"COUNTIFS('база 2013'!$B$4:$B$1191,$B50,'база 2013'!$I$4:$I$1191,AV$5,'база 2013'!$O$4:$O$1191,AV$7)","v":0},{"$f":"COUNTIFS('база 2013'!$B$4:$B$1191,$B50,'база 2013'!$I$4:$I$1191,AW$5,'база 2013'!$O$4:$O$1191,AW$7)","v":0},{"$f":"COUNTIFS('база 2013'!$B$4:$B$1191,$B50,'база 2013'!$I$4:$I$1191,AX$5,'база 2013'!$O$4:$O$1191,AX$7)","v":0},0,0,0,0,0,0,{"$f":"SUM(BB50:BD50)","v":0}]
[44,"Пауэрлифтинг",{"$f":"COUNTIFS('база 2013'!$B$4:$B$1191,$B51,'база 2013'!$I$4:$I$1191,C$5,'база 2013'!$O$4:$O$1191,C$7)","v":0},{"$f":"COUNTIFS('база 2013'!$B$4:$B$1191,$B51,'база 2013'!$I$4:$I$1191,D$5,'база 2013'!$O$4:$O$1191,D$7)","v":0},{"$f":"COUNTIFS('база 2013'!$B$4:$B$1191,$B51,'база 2013'!$I$4:$I$1191,E$5,'база 2013'!$O$4:$O$1191,E$7)","v":0},{"$f":"COUNTIFS('база 2013'!$B$4:$B$1191,$B51,'база 2013'!$I$4:$I$1191,F$5,'база 2013'!$O$4:$O$1191,F$7)","v":0},{"$f":"COUNTIFS('база 2013'!$B$4:$B$1191,$B51,'база 2013'!$I$4:$I$1191,G$5,'база 2013'!$O$4:$O$1191,G$7)","v":0},{"$f":"COUNTIFS('база 2013'!$B$4:$B$1191,$B51,'база 2013'!$I$4:$I$1191,H$5,'база 2013'!$O$4:$O$1191,H$7)","v":0},{"$f":"COUNTIFS('база 2013'!$B$4:$B$1191,$B51,'база 2013'!$I$4:$I$1191,I$5,'база 2013'!$O$4:$O$1191,I$7)","v":0},{"$f":"COUNTIFS('база 2013'!$B$4:$B$1191,$B51,'база 2013'!$I$4:$I$1191,J$5,'база 2013'!$O$4:$O$1191,J$7)","v":0},{"$f":"COUNTIFS('база 2013'!$B$4:$B$1191,$B51,'база 2013'!$I$4:$I$1191,K$5,'база 2013'!$O$4:$O$1191,K$7)","v":0},{"$f":"COUNTIFS('база 2013'!$B$4:$B$1191,$B51,'база 2013'!$I$4:$I$1191,L$5,'база 2013'!$O$4:$O$1191,L$7)","v":0},{"$f":"COUNTIFS('база 2013'!$B$4:$B$1191,$B51,'база 2013'!$I$4:$I$1191,M$5,'база 2013'!$O$4:$O$1191,M$7)","v":0},{"$f":"COUNTIFS('база 2013'!$B$4:$B$1191,$B51,'база 2013'!$I$4:$I$1191,N$5,'база 2013'!$O$4:$O$1191,N$7)","v":0},{"$f":"COUNTIFS('база 2013'!$B$4:$B$1191,$B51,'база 2013'!$I$4:$I$1191,O$5,'база 2013'!$O$4:$O$1191,O$7)","v":0},{"$f":"COUNTIFS('база 2013'!$B$4:$B$1191,$B51,'база 2013'!$I$4:$I$1191,P$5,'база 2013'!$O$4:$O$1191,P$7)","v":0},{"$f":"COUNTIFS('база 2013'!$B$4:$B$1191,$B51,'база 2013'!$I$4:$I$1191,Q$5,'база 2013'!$O$4:$O$1191,Q$7)","v":0},0,0,0,{"$f":"COUNTIFS('база 2013'!$B$4:$B$1191,$B51,'база 2013'!$I$4:$I$1191,U$5,'база 2013'!$O$4:$O$1191,U$7)","v":0},{"$f":"COUNTIFS('база 2013'!$B$4:$B$1191,$B51,'база 2013'!$I$4:$I$1191,V$5,'база 2013'!$O$4:$O$1191,V$7)","v":0},{"$f":"COUNTIFS('база 2013'!$B$4:$B$1191,$B51,'база 2013'!$I$4:$I$1191,W$5,'база 2013'!$O$4:$O$1191,W$7)","v":0},{"$f":"COUNTIFS('база 2013'!$B$4:$B$1191,$B51,'база 2013'!$I$4:$I$1191,X$5,'база 2013'!$O$4:$O$1191,X$7)","v":0},{"$f":"COUNTIFS('база 2013'!$B$4:$B$1191,$B51,'база 2013'!$I$4:$I$1191,Y$5,'база 2013'!$O$4:$O$1191,Y$7)","v":0},{"$f":"COUNTIFS('база 2013'!$B$4:$B$1191,$B51,'база 2013'!$I$4:$I$1191,Z$5,'база 2013'!$O$4:$O$1191,Z$7)","v":0},{"$f":"COUNTIFS('база 2013'!$B$4:$B$1191,$B51,'база 2013'!$I$4:$I$1191,AA$5,'база 2013'!$O$4:$O$1191,AA$7)","v":0},{"$f":"COUNTIFS('база 2013'!$B$4:$B$1191,$B51,'база 2013'!$I$4:$I$1191,AB$5,'база 2013'!$O$4:$O$1191,AB$7)","v":0},{"$f":"COUNTIFS('база 2013'!$B$4:$B$1191,$B51,'база 2013'!$I$4:$I$1191,AC$5,'база 2013'!$O$4:$O$1191,AC$7)","v":0},0,0,0,{"$f":"COUNTIFS('база 2013'!$B$4:$B$1191,$B51,'база 2013'!$I$4:$I$1191,AG$5,'база 2013'!$O$4:$O$1191,AG$7)","v":0},{"$f":"COUNTIFS('база 2013'!$B$4:$B$1191,$B51,'база 2013'!$I$4:$I$1191,AH$5,'база 2013'!$O$4:$O$1191,AH$7)","v":0},{"$f":"COUNTIFS('база 2013'!$B$4:$B$1191,$B51,'база 2013'!$I$4:$I$1191,AI$5,'база 2013'!$O$4:$O$1191,AI$7)","v":0},{"$f":"COUNTIFS('база 2013'!$B$4:$B$1191,$B51,'база 2013'!$I$4:$I$1191,AJ$5,'база 2013'!$O$4:$O$1191,AJ$7)","v":0},{"$f":"COUNTIFS('база 2013'!$B$4:$B$1191,$B51,'база 2013'!$I$4:$I$1191,AK$5,'база 2013'!$O$4:$O$1191,AK$7)","v":0},{"$f":"COUNTIFS('база 2013'!$B$4:$B$1191,$B51,'база 2013'!$I$4:$I$1191,AL$5,'база 2013'!$O$4:$O$1191,AL$7)","v":0},{"$f":"COUNTIFS('база 2013'!$B$4:$B$1191,$B51,'база 2013'!$I$4:$I$1191,AM$5,'база 2013'!$O$4:$O$1191,AM$7)","v":0},{"$f":"COUNTIFS('база 2013'!$B$4:$B$1191,$B51,'база 2013'!$I$4:$I$1191,AN$5,'база 2013'!$O$4:$O$1191,AN$7)","v":0},{"$f":"COUNTIFS('база 2013'!$B$4:$B$1191,$B51,'база 2013'!$I$4:$I$1191,AO$5,'база 2013'!$O$4:$O$1191,AO$7)","v":0},{"$f":"COUNTIFS('база 2013'!$B$4:$B$1191,$B51,'база 2013'!$I$4:$I$1191,AP$5,'база 2013'!$O$4:$O$1191,AP$7)","v":0},{"$f":"COUNTIFS('база 2013'!$B$4:$B$1191,$B51,'база 2013'!$I$4:$I$1191,AQ$5,'база 2013'!$O$4:$O$1191,AQ$7)","v":0},{"$f":"COUNTIFS('база 2013'!$B$4:$B$1191,$B51,'база 2013'!$I$4:$I$1191,AR$5,'база 2013'!$O$4:$O$1191,AR$7)","v":0},{"$f":"COUNTIFS('база 2013'!$B$4:$B$1191,$B51,'база 2013'!$I$4:$I$1191,AS$5,'база 2013'!$O$4:$O$1191,AS$7)","v":0},{"$f":"COUNTIFS('база 2013'!$B$4:$B$1191,$B51,'база 2013'!$I$4:$I$1191,AT$5,'база 2013'!$O$4:$O$1191,AT$7)","v":0},{"$f":"COUNTIFS('база 2013'!$B$4:$B$1191,$B51,'база 2013'!$I$4:$I$1191,AU$5,'база 2013'!$O$4:$O$1191,AU$7)","v":0},{"$f":"COUNTIFS('база 2013'!$B$4:$B$1191,$B51,'база 2013'!$I$4:$I$1191,AV$5,'база 2013'!$O$4:$O$1191,AV$7)","v":0},{"$f":"COUNTIFS('база 2013'!$B$4:$B$1191,$B51,'база 2013'!$I$4:$I$1191,AW$5,'база 2013'!$O$4:$O$1191,AW$7)","v":0},{"$f":"COUNTIFS('база 2013'!$B$4:$B$1191,$B51,'база 2013'!$I$4:$I$1191,AX$5,'база 2013'!$O$4:$O$1191,AX$7)","v":0},0,0,0,0,0,0,{"$f":"SUM(BB51:BD51)","v":0}]
[45,"Плавание",{"$f":"COUNTIFS('база 2013'!$B$4:$B$1191,$B52,'база 2013'!$I$4:$I$1191,C$5,'база 2013'!$O$4:$O$1191,C$7)","v":0},{"$f":"COUNTIFS('база 2013'!$B$4:$B$1191,$B52,'база 2013'!$I$4:$I$1191,D$5,'база 2013'!$O$4:$O$1191,D$7)","v":0},{"$f":"COUNTIFS('база 2013'!$B$4:$B$1191,$B52,'база 2013'!$I$4:$I$1191,E$5,'база 2013'!$O$4:$O$1191,E$7)","v":0},{"$f":"COUNTIFS('база 2013'!$B$4:$B$1191,$B52,'база 2013'!$I$4:$I$1191,F$5,'база 2013'!$O$4:$O$1191,F$7)","v":0},{"$f":"COUNTIFS('база 2013'!$B$4:$B$1191,$B52,'база 2013'!$I$4:$I$1191,G$5,'база 2013'!$O$4:$O$1191,G$7)","v":0},{"$f":"COUNTIFS('база 2013'!$B$4:$B$1191,$B52,'база 2013'!$I$4:$I$1191,H$5,'база 2013'!$O$4:$O$1191,H$7)","v":0},{"$f":"COUNTIFS('база 2013'!$B$4:$B$1191,$B52,'база 2013'!$I$4:$I$1191,I$5,'база 2013'!$O$4:$O$1191,I$7)","v":0},{"$f":"COUNTIFS('база 2013'!$B$4:$B$1191,$B52,'база 2013'!$I$4:$I$1191,J$5,'база 2013'!$O$4:$O$1191,J$7)","v":0},{"$f":"COUNTIFS('база 2013'!$B$4:$B$1191,$B52,'база 2013'!$I$4:$I$1191,K$5,'база 2013'!$O$4:$O$1191,K$7)","v":0},{"$f":"COUNTIFS('база 2013'!$B$4:$B$1191,$B52,'база 2013'!$I$4:$I$1191,L$5,'база 2013'!$O$4:$O$1191,L$7)","v":0},{"$f":"COUNTIFS('база 2013'!$B$4:$B$1191,$B52,'база 2013'!$I$4:$I$1191,M$5,'база 2013'!$O$4:$O$1191,M$7)","v":0},{"$f":"COUNTIFS('база 2013'!$B$4:$B$1191,$B52,'база 2013'!$I$4:$I$1191,N$5,'база 2013'!$O$4:$O$1191,N$7)","v":0},{"$f":"COUNTIFS('база 2013'!$B$4:$B$1191,$B52,'база 2013'!$I$4:$I$1191,O$5,'база 2013'!$O$4:$O$1191,O$7)","v":0},{"$f":"COUNTIFS('база 2013'!$B$4:$B$1191,$B52,'база 2013'!$I$4:$I$1191,P$5,'база 2013'!$O$4:$O$1191,P$7)","v":0},{"$f":"COUNTIFS('база 2013'!$B$4:$B$1191,$B52,'база 2013'!$I$4:$I$1191,Q$5,'база 2013'!$O$4:$O$1191,Q$7)","v":0},0,0,0,{"$f":"COUNTIFS('база 2013'!$B$4:$B$1191,$B52,'база 2013'!$I$4:$I$1191,U$5,'база 2013'!$O$4:$O$1191,U$7)","v":0},{"$f":"COUNTIFS('база 2013'!$B$4:$B$1191,$B52,'база 2013'!$I$4:$I$1191,V$5,'база 2013'!$O$4:$O$1191,V$7)","v":0},{"$f":"COUNTIFS('база 2013'!$B$4:$B$1191,$B52,'база 2013'!$I$4:$I$1191,W$5,'база 2013'!$O$4:$O$1191,W$7)","v":0},{"$f":"COUNTIFS('база 2013'!$B$4:$B$1191,$B52,'база 2013'!$I$4:$I$1191,X$5,'база 2013'!$O$4:$O$1191,X$7)","v":0},{"$f":"COUNTIFS('база 2013'!$B$4:$B$1191,$B52,'база 2013'!$I$4:$I$1191,Y$5,'база 2013'!$O$4:$O$1191,Y$7)","v":0},{"$f":"COUNTIFS('база 2013'!$B$4:$B$1191,$B52,'база 2013'!$I$4:$I$1191,Z$5,'база 2013'!$O$4:$O$1191,Z$7)","v":0},{"$f":"COUNTIFS('база 2013'!$B$4:$B$1191,$B52,'база 2013'!$I$4:$I$1191,AA$5,'база 2013'!$O$4:$O$1191,AA$7)","v":0},{"$f":"COUNTIFS('база 2013'!$B$4:$B$1191,$B52,'база 2013'!$I$4:$I$1191,AB$5,'база 2013'!$O$4:$O$1191,AB$7)","v":0},{"$f":"COUNTIFS('база 2013'!$B$4:$B$1191,$B52,'база 2013'!$I$4:$I$1191,AC$5,'база 2013'!$O$4:$O$1191,AC$7)","v":0},0,0,0,{"$f":"COUNTIFS('база 2013'!$B$4:$B$1191,$B52,'база 2013'!$I$4:$I$1191,AG$5,'база 2013'!$O$4:$O$1191,AG$7)","v":0},{"$f":"COUNTIFS('база 2013'!$B$4:$B$1191,$B52,'база 2013'!$I$4:$I$1191,AH$5,'база 2013'!$O$4:$O$1191,AH$7)","v":0},{"$f":"COUNTIFS('база 2013'!$B$4:$B$1191,$B52,'база 2013'!$I$4:$I$1191,AI$5,'база 2013'!$O$4:$O$1191,AI$7)","v":0},{"$f":"COUNTIFS('база 2013'!$B$4:$B$1191,$B52,'база 2013'!$I$4:$I$1191,AJ$5,'база 2013'!$O$4:$O$1191,AJ$7)","v":0},{"$f":"COUNTIFS('база 2013'!$B$4:$B$1191,$B52,'база 2013'!$I$4:$I$1191,AK$5,'база 2013'!$O$4:$O$1191,AK$7)","v":0},{"$f":"COUNTIFS('база 2013'!$B$4:$B$1191,$B52,'база 2013'!$I$4:$I$1191,AL$5,'база 2013'!$O$4:$O$1191,AL$7)","v":0},{"$f":"COUNTIFS('база 2013'!$B$4:$B$1191,$B52,'база 2013'!$I$4:$I$1191,AM$5,'база 2013'!$O$4:$O$1191,AM$7)","v":0},{"$f":"COUNTIFS('база 2013'!$B$4:$B$1191,$B52,'база 2013'!$I$4:$I$1191,AN$5,'база 2013'!$O$4:$O$1191,AN$7)","v":0},{"$f":"COUNTIFS('база 2013'!$B$4:$B$1191,$B52,'база 2013'!$I$4:$I$1191,AO$5,'база 2013'!$O$4:$O$1191,AO$7)","v":0},{"$f":"COUNTIFS('база 2013'!$B$4:$B$1191,$B52,'база 2013'!$I$4:$I$1191,AP$5,'база 2013'!$O$4:$O$1191,AP$7)","v":0},{"$f":"COUNTIFS('база 2013'!$B$4:$B$1191,$B52,'база 2013'!$I$4:$I$1191,AQ$5,'база 2013'!$O$4:$O$1191,AQ$7)","v":0},{"$f":"COUNTIFS('база 2013'!$B$4:$B$1191,$B52,'база 2013'!$I$4:$I$1191,AR$5,'база 2013'!$O$4:$O$1191,AR$7)","v":0},{"$f":"COUNTIFS('база 2013'!$B$4:$B$1191,$B52,'база 2013'!$I$4:$I$1191,AS$5,'база 2013'!$O$4:$O$1191,AS$7)","v":0},{"$f":"COUNTIFS('база 2013'!$B$4:$B$1191,$B52,'база 2013'!$I$4:$I$1191,AT$5,'база 2013'!$O$4:$O$1191,AT$7)","v":0},{"$f":"COUNTIFS('база 2013'!$B$4:$B$1191,$B52,'база 2013'!$I$4:$I$1191,AU$5,'база 2013'!$O$4:$O$1191,AU$7)","v":0},{"$f":"COUNTIFS('база 2013'!$B$4:$B$1191,$B52,'база 2013'!$I$4:$I$1191,AV$5,'база 2013'!$O$4:$O$1191,AV$7)","v":0},{"$f":"COUNTIFS('база 2013'!$B$4:$B$1191,$B52,'база 2013'!$I$4:$I$1191,AW$5,'база 2013'!$O$4:$O$1191,AW$7)","v":0},{"$f":"COUNTIFS('база 2013'!$B$4:$B$1191,$B52,'база 2013'!$I$4:$I$1191,AX$5,'база 2013'!$O$4:$O$1191,AX$7)","v":0},0,0,0,0,0,0,0]
[46,"Подводный спорт",{"$f":"COUNTIFS('база 2013'!$B$4:$B$1191,$B53,'база 2013'!$I$4:$I$1191,C$5,'база 2013'!$O$4:$O$1191,C$7)","v":0},{"$f":"COUNTIFS('база 2013'!$B$4:$B$1191,$B53,'база 2013'!$I$4:$I$1191,D$5,'база 2013'!$O$4:$O$1191,D$7)","v":0},{"$f":"COUNTIFS('база 2013'!$B$4:$B$1191,$B53,'база 2013'!$I$4:$I$1191,E$5,'база 2013'!$O$4:$O$1191,E$7)","v":0},{"$f":"COUNTIFS('база 2013'!$B$4:$B$1191,$B53,'база 2013'!$I$4:$I$1191,F$5,'база 2013'!$O$4:$O$1191,F$7)","v":0},{"$f":"COUNTIFS('база 2013'!$B$4:$B$1191,$B53,'база 2013'!$I$4:$I$1191,G$5,'база 2013'!$O$4:$O$1191,G$7)","v":0},{"$f":"COUNTIFS('база 2013'!$B$4:$B$1191,$B53,'база 2013'!$I$4:$I$1191,H$5,'база 2013'!$O$4:$O$1191,H$7)","v":0},{"$f":"COUNTIFS('база 2013'!$B$4:$B$1191,$B53,'база 2013'!$I$4:$I$1191,I$5,'база 2013'!$O$4:$O$1191,I$7)","v":0},{"$f":"COUNTIFS('база 2013'!$B$4:$B$1191,$B53,'база 2013'!$I$4:$I$1191,J$5,'база 2013'!$O$4:$O$1191,J$7)","v":0},{"$f":"COUNTIFS('база 2013'!$B$4:$B$1191,$B53,'база 2013'!$I$4:$I$1191,K$5,'база 2013'!$O$4:$O$1191,K$7)","v":0},{"$f":"COUNTIFS('база 2013'!$B$4:$B$1191,$B53,'база 2013'!$I$4:$I$1191,L$5,'база 2013'!$O$4:$O$1191,L$7)","v":0},{"$f":"COUNTIFS('база 2013'!$B$4:$B$1191,$B53,'база 2013'!$I$4:$I$1191,M$5,'база 2013'!$O$4:$O$1191,M$7)","v":0},{"$f":"COUNTIFS('база 2013'!$B$4:$B$1191,$B53,'база 2013'!$I$4:$I$1191,N$5,'база 2013'!$O$4:$O$1191,N$7)","v":0},{"$f":"COUNTIFS('база 2013'!$B$4:$B$1191,$B53,'база 2013'!$I$4:$I$1191,O$5,'база 2013'!$O$4:$O$1191,O$7)","v":0},{"$f":"COUNTIFS('база 2013'!$B$4:$B$1191,$B53,'база 2013'!$I$4:$I$1191,P$5,'база 2013'!$O$4:$O$1191,P$7)","v":0},{"$f":"COUNTIFS('база 2013'!$B$4:$B$1191,$B53,'база 2013'!$I$4:$I$1191,Q$5,'база 2013'!$O$4:$O$1191,Q$7)","v":0},0,0,0,{"$f":"COUNTIFS('база 2013'!$B$4:$B$1191,$B53,'база 2013'!$I$4:$I$1191,U$5,'база 2013'!$O$4:$O$1191,U$7)","v":0},{"$f":"COUNTIFS('база 2013'!$B$4:$B$1191,$B53,'база 2013'!$I$4:$I$1191,V$5,'база 2013'!$O$4:$O$1191,V$7)","v":0},{"$f":"COUNTIFS('база 2013'!$B$4:$B$1191,$B53,'база 2013'!$I$4:$I$1191,W$5,'база 2013'!$O$4:$O$1191,W$7)","v":0},{"$f":"COUNTIFS('база 2013'!$B$4:$B$1191,$B53,'база 2013'!$I$4:$I$1191,X$5,'база 2013'!$O$4:$O$1191,X$7)","v":0},{"$f":"COUNTIFS('база 2013'!$B$4:$B$1191,$B53,'база 2013'!$I$4:$I$1191,Y$5,'база 2013'!$O$4:$O$1191,Y$7)","v":0},{"$f":"COUNTIFS('база 2013'!$B$4:$B$1191,$B53,'база 2013'!$I$4:$I$1191,Z$5,'база 2013'!$O$4:$O$1191,Z$7)","v":0},{"$f":"COUNTIFS('база 2013'!$B$4:$B$1191,$B53,'база 2013'!$I$4:$I$1191,AA$5,'база 2013'!$O$4:$O$1191,AA$7)","v":0},{"$f":"COUNTIFS('база 2013'!$B$4:$B$1191,$B53,'база 2013'!$I$4:$I$1191,AB$5,'база 2013'!$O$4:$O$1191,AB$7)","v":0},{"$f":"COUNTIFS('база 2013'!$B$4:$B$1191,$B53,'база 2013'!$I$4:$I$1191,AC$5,'база 2013'!$O$4:$O$1191,AC$7)","v":0},0,0,0,{"$f":"COUNTIFS('база 2013'!$B$4:$B$1191,$B53,'база 2013'!$I$4:$I$1191,AG$5,'база 2013'!$O$4:$O$1191,AG$7)","v":0},{"$f":"COUNTIFS('база 2013'!$B$4:$B$1191,$B53,'база 2013'!$I$4:$I$1191,AH$5,'база 2013'!$O$4:$O$1191,AH$7)","v":0},{"$f":"COUNTIFS('база 2013'!$B$4:$B$1191,$B53,'база 2013'!$I$4:$I$1191,AI$5,'база 2013'!$O$4:$O$1191,AI$7)","v":0},{"$f":"COUNTIFS('база 2013'!$B$4:$B$1191,$B53,'база 2013'!$I$4:$I$1191,AJ$5,'база 2013'!$O$4:$O$1191,AJ$7)","v":0},{"$f":"COUNTIFS('база 2013'!$B$4:$B$1191,$B53,'база 2013'!$I$4:$I$1191,AK$5,'база 2013'!$O$4:$O$1191,AK$7)","v":0},{"$f":"COUNTIFS('база 2013'!$B$4:$B$1191,$B53,'база 2013'!$I$4:$I$1191,AL$5,'база 2013'!$O$4:$O$1191,AL$7)","v":0},{"$f":"COUNTIFS('база 2013'!$B$4:$B$1191,$B53,'база 2013'!$I$4:$I$1191,AM$5,'база 2013'!$O$4:$O$1191,AM$7)","v":0},{"$f":"COUNTIFS('база 2013'!$B$4:$B$1191,$B53,'база 2013'!$I$4:$I$1191,AN$5,'база 2013'!$O$4:$O$1191,AN$7)","v":0},{"$f":"COUNTIFS('база 2013'!$B$4:$B$1191,$B53,'база 2013'!$I$4:$I$1191,AO$5,'база 2013'!$O$4:$O$1191,AO$7)","v":0},{"$f":"COUNTIFS('база 2013'!$B$4:$B$1191,$B53,'база 2013'!$I$4:$I$1191,AP$5,'база 2013'!$O$4:$O$1191,AP$7)","v":0},{"$f":"COUNTIFS('база 2013'!$B$4:$B$1191,$B53,'база 2013'!$I$4:$I$1191,AQ$5,'база 2013'!$O$4:$O$1191,AQ$7)","v":0},{"$f":"COUNTIFS('база 2013'!$B$4:$B$1191,$B53,'база 2013'!$I$4:$I$1191,AR$5,'база 2013'!$O$4:$O$1191,AR$7)","v":0},{"$f":"COUNTIFS('база 2013'!$B$4:$B$1191,$B53,'база 2013'!$I$4:$I$1191,AS$5,'база 2013'!$O$4:$O$1191,AS$7)","v":0},{"$f":"COUNTIFS('база 2013'!$B$4:$B$1191,$B53,'база 2013'!$I$4:$I$1191,AT$5,'база 2013'!$O$4:$O$1191,AT$7)","v":0},{"$f":"COUNTIFS('база 2013'!$B$4:$B$1191,$B53,'база 2013'!$I$4:$I$1191,AU$5,'база 2013'!$O$4:$O$1191,AU$7)","v":0},{"$f":"COUNTIFS('база 2013'!$B$4:$B$1191,$B53,'база 2013'!$I$4:$I$1191,AV$5,'база 2013'!$O$4:$O$1191,AV$7)","v":0},{"$f":"COUNTIFS('база 2013'!$B$4:$B$1191,$B53,'база 2013'!$I$4:$I$1191,AW$5,'база 2013'!$O$4:$O$1191,AW$7)","v":0},{"$f":"COUNTIFS('база 2013'!$B$4:$B$1191,$B53,'база 2013'!$I$4:$I$1191,AX$5,'база 2013'!$O$4:$O$1191,AX$7)","v":0},0,0,0,0,0,0,0]
[47,"Полиатлон",{"$f":"COUNTIFS('база 2013'!$B$4:$B$1191,$B54,'база 2013'!$I$4:$I$1191,C$5,'база 2013'!$O$4:$O$1191,C$7)","v":0},{"$f":"COUNTIFS('база 2013'!$B$4:$B$1191,$B54,'база 2013'!$I$4:$I$1191,D$5,'база 2013'!$O$4:$O$1191,D$7)","v":0},{"$f":"COUNTIFS('база 2013'!$B$4:$B$1191,$B54,'база 2013'!$I$4:$I$1191,E$5,'база 2013'!$O$4:$O$1191,E$7)","v":0},{"$f":"COUNTIFS('база 2013'!$B$4:$B$1191,$B54,'база 2013'!$I$4:$I$1191,F$5,'база 2013'!$O$4:$O$1191,F$7)","v":0},{"$f":"COUNTIFS('база 2013'!$B$4:$B$1191,$B54,'база 2013'!$I$4:$I$1191,G$5,'база 2013'!$O$4:$O$1191,G$7)","v":0},{"$f":"COUNTIFS('база 2013'!$B$4:$B$1191,$B54,'база 2013'!$I$4:$I$1191,H$5,'база 2013'!$O$4:$O$1191,H$7)","v":0},{"$f":"COUNTIFS('база 2013'!$B$4:$B$1191,$B54,'база 2013'!$I$4:$I$1191,I$5,'база 2013'!$O$4:$O$1191,I$7)","v":0},{"$f":"COUNTIFS('база 2013'!$B$4:$B$1191,$B54,'база 2013'!$I$4:$I$1191,J$5,'база 2013'!$O$4:$O$1191,J$7)","v":0},{"$f":"COUNTIFS('база 2013'!$B$4:$B$1191,$B54,'база 2013'!$I$4:$I$1191,K$5,'база 2013'!$O$4:$O$1191,K$7)","v":0},{"$f":"COUNTIFS('база 2013'!$B$4:$B$1191,$B54,'база 2013'!$I$4:$I$1191,L$5,'база 2013'!$O$4:$O$1191,L$7)","v":0},{"$f":"COUNTIFS('база 2013'!$B$4:$B$1191,$B54,'база 2013'!$I$4:$I$1191,M$5,'база 2013'!$O$4:$O$1191,M$7)","v":0},{"$f":"COUNTIFS('база 2013'!$B$4:$B$1191,$B54,'база 2013'!$I$4:$I$1191,N$5,'база 2013'!$O$4:$O$1191,N$7)","v":0},{"$f":"COUNTIFS('база 2013'!$B$4:$B$1191,$B54,'база 2013'!$I$4:$I$1191,O$5,'база 2013'!$O$4:$O$1191,O$7)","v":0},{"$f":"COUNTIFS('база 2013'!$B$4:$B$1191,$B54,'база 2013'!$I$4:$I$1191,P$5,'база 2013'!$O$4:$O$1191,P$7)","v":0},{"$f":"COUNTIFS('база 2013'!$B$4:$B$1191,$B54,'база 2013'!$I$4:$I$1191,Q$5,'база 2013'!$O$4:$O$1191,Q$7)","v":0},0,0,0,{"$f":"COUNTIFS('база 2013'!$B$4:$B$1191,$B54,'база 2013'!$I$4:$I$1191,U$5,'база 2013'!$O$4:$O$1191,U$7)","v":0},{"$f":"COUNTIFS('база 2013'!$B$4:$B$1191,$B54,'база 2013'!$I$4:$I$1191,V$5,'база 2013'!$O$4:$O$1191,V$7)","v":0},{"$f":"COUNTIFS('база 2013'!$B$4:$B$1191,$B54,'база 2013'!$I$4:$I$1191,W$5,'база 2013'!$O$4:$O$1191,W$7)","v":0},{"$f":"COUNTIFS('база 2013'!$B$4:$B$1191,$B54,'база 2013'!$I$4:$I$1191,X$5,'база 2013'!$O$4:$O$1191,X$7)","v":0},{"$f":"COUNTIFS('база 2013'!$B$4:$B$1191,$B54,'база 2013'!$I$4:$I$1191,Y$5,'база 2013'!$O$4:$O$1191,Y$7)","v":0},{"$f":"COUNTIFS('база 2013'!$B$4:$B$1191,$B54,'база 2013'!$I$4:$I$1191,Z$5,'база 2013'!$O$4:$O$1191,Z$7)","v":0},{"$f":"COUNTIFS('база 2013'!$B$4:$B$1191,$B54,'база 2013'!$I$4:$I$1191,AA$5,'база 2013'!$O$4:$O$1191,AA$7)","v":0},{"$f":"COUNTIFS('база 2013'!$B$4:$B$1191,$B54,'база 2013'!$I$4:$I$1191,AB$5,'база 2013'!$O$4:$O$1191,AB$7)","v":0},{"$f":"COUNTIFS('база 2013'!$B$4:$B$1191,$B54,'база 2013'!$I$4:$I$1191,AC$5,'база 2013'!$O$4:$O$1191,AC$7)","v":0},0,0,0,{"$f":"COUNTIFS('база 2013'!$B$4:$B$1191,$B54,'база 2013'!$I$4:$I$1191,AG$5,'база 2013'!$O$4:$O$1191,AG$7)","v":0},{"$f":"COUNTIFS('база 2013'!$B$4:$B$1191,$B54,'база 2013'!$I$4:$I$1191,AH$5,'база 2013'!$O$4:$O$1191,AH$7)","v":0},{"$f":"COUNTIFS('база 2013'!$B$4:$B$1191,$B54,'база 2013'!$I$4:$I$1191,AI$5,'база 2013'!$O$4:$O$1191,AI$7)","v":0},{"$f":"COUNTIFS('база 2013'!$B$4:$B$1191,$B54,'база 2013'!$I$4:$I$1191,AJ$5,'база 2013'!$O$4:$O$1191,AJ$7)","v":0},{"$f":"COUNTIFS('база 2013'!$B$4:$B$1191,$B54,'база 2013'!$I$4:$I$1191,AK$5,'база 2013'!$O$4:$O$1191,AK$7)","v":0},{"$f":"COUNTIFS('база 2013'!$B$4:$B$1191,$B54,'база 2013'!$I$4:$I$1191,AL$5,'база 2013'!$O$4:$O$1191,AL$7)","v":0},{"$f":"COUNTIFS('база 2013'!$B$4:$B$1191,$B54,'база 2013'!$I$4:$I$1191,AM$5,'база 2013'!$O$4:$O$1191,AM$7)","v":0},{"$f":"COUNTIFS('база 2013'!$B$4:$B$1191,$B54,'база 2013'!$I$4:$I$1191,AN$5,'база 2013'!$O$4:$O$1191,AN$7)","v":0},{"$f":"COUNTIFS('база 2013'!$B$4:$B$1191,$B54,'база 2013'!$I$4:$I$1191,AO$5,'база 2013'!$O$4:$O$1191,AO$7)","v":0},{"$f":"COUNTIFS('база 2013'!$B$4:$B$1191,$B54,'база 2013'!$I$4:$I$1191,AP$5,'база 2013'!$O$4:$O$1191,AP$7)","v":0},{"$f":"COUNTIFS('база 2013'!$B$4:$B$1191,$B54,'база 2013'!$I$4:$I$1191,AQ$5,'база 2013'!$O$4:$O$1191,AQ$7)","v":0},{"$f":"COUNTIFS('база 2013'!$B$4:$B$1191,$B54,'база 2013'!$I$4:$I$1191,AR$5,'база 2013'!$O$4:$O$1191,AR$7)","v":0},{"$f":"COUNTIFS('база 2013'!$B$4:$B$1191,$B54,'база 2013'!$I$4:$I$1191,AS$5,'база 2013'!$O$4:$O$1191,AS$7)","v":0},{"$f":"COUNTIFS('база 2013'!$B$4:$B$1191,$B54,'база 2013'!$I$4:$I$1191,AT$5,'база 2013'!$O$4:$O$1191,AT$7)","v":0},{"$f":"COUNTIFS('база 2013'!$B$4:$B$1191,$B54,'база 2013'!$I$4:$I$1191,AU$5,'база 2013'!$O$4:$O$1191,AU$7)","v":0},{"$f":"COUNTIFS('база 2013'!$B$4:$B$1191,$B54,'база 2013'!$I$4:$I$1191,AV$5,'база 2013'!$O$4:$O$1191,AV$7)","v":0},{"$f":"COUNTIFS('база 2013'!$B$4:$B$1191,$B54,'база 2013'!$I$4:$I$1191,AW$5,'база 2013'!$O$4:$O$1191,AW$7)","v":0},{"$f":"COUNTIFS('база 2013'!$B$4:$B$1191,$B54,'база 2013'!$I$4:$I$1191,AX$5,'база 2013'!$O$4:$O$1191,AX$7)","v":0},0,0,0,0,0,0,0]
[48,"Прыжки на батуте",{"$f":"COUNTIFS('база 2013'!$B$4:$B$1191,$B55,'база 2013'!$I$4:$I$1191,C$5,'база 2013'!$O$4:$O$1191,C$7)","v":0},{"$f":"COUNTIFS('база 2013'!$B$4:$B$1191,$B55,'база 2013'!$I$4:$I$1191,D$5,'база 2013'!$O$4:$O$1191,D$7)","v":0},{"$f":"COUNTIFS('база 2013'!$B$4:$B$1191,$B55,'база 2013'!$I$4:$I$1191,E$5,'база 2013'!$O$4:$O$1191,E$7)","v":0},{"$f":"COUNTIFS('база 2013'!$B$4:$B$1191,$B55,'база 2013'!$I$4:$I$1191,F$5,'база 2013'!$O$4:$O$1191,F$7)","v":0},{"$f":"COUNTIFS('база 2013'!$B$4:$B$1191,$B55,'база 2013'!$I$4:$I$1191,G$5,'база 2013'!$O$4:$O$1191,G$7)","v":0},{"$f":"COUNTIFS('база 2013'!$B$4:$B$1191,$B55,'база 2013'!$I$4:$I$1191,H$5,'база 2013'!$O$4:$O$1191,H$7)","v":0},{"$f":"COUNTIFS('база 2013'!$B$4:$B$1191,$B55,'база 2013'!$I$4:$I$1191,I$5,'база 2013'!$O$4:$O$1191,I$7)","v":0},{"$f":"COUNTIFS('база 2013'!$B$4:$B$1191,$B55,'база 2013'!$I$4:$I$1191,J$5,'база 2013'!$O$4:$O$1191,J$7)","v":0},{"$f":"COUNTIFS('база 2013'!$B$4:$B$1191,$B55,'база 2013'!$I$4:$I$1191,K$5,'база 2013'!$O$4:$O$1191,K$7)","v":0},{"$f":"COUNTIFS('база 2013'!$B$4:$B$1191,$B55,'база 2013'!$I$4:$I$1191,L$5,'база 2013'!$O$4:$O$1191,L$7)","v":0},{"$f":"COUNTIFS('база 2013'!$B$4:$B$1191,$B55,'база 2013'!$I$4:$I$1191,M$5,'база 2013'!$O$4:$O$1191,M$7)","v":0},{"$f":"COUNTIFS('база 2013'!$B$4:$B$1191,$B55,'база 2013'!$I$4:$I$1191,N$5,'база 2013'!$O$4:$O$1191,N$7)","v":0},{"$f":"COUNTIFS('база 2013'!$B$4:$B$1191,$B55,'база 2013'!$I$4:$I$1191,O$5,'база 2013'!$O$4:$O$1191,O$7)","v":0},{"$f":"COUNTIFS('база 2013'!$B$4:$B$1191,$B55,'база 2013'!$I$4:$I$1191,P$5,'база 2013'!$O$4:$O$1191,P$7)","v":0},{"$f":"COUNTIFS('база 2013'!$B$4:$B$1191,$B55,'база 2013'!$I$4:$I$1191,Q$5,'база 2013'!$O$4:$O$1191,Q$7)","v":0},0,0,0,{"$f":"COUNTIFS('база 2013'!$B$4:$B$1191,$B55,'база 2013'!$I$4:$I$1191,U$5,'база 2013'!$O$4:$O$1191,U$7)","v":0},{"$f":"COUNTIFS('база 2013'!$B$4:$B$1191,$B55,'база 2013'!$I$4:$I$1191,V$5,'база 2013'!$O$4:$O$1191,V$7)","v":0},{"$f":"COUNTIFS('база 2013'!$B$4:$B$1191,$B55,'база 2013'!$I$4:$I$1191,W$5,'база 2013'!$O$4:$O$1191,W$7)","v":0},{"$f":"COUNTIFS('база 2013'!$B$4:$B$1191,$B55,'база 2013'!$I$4:$I$1191,X$5,'база 2013'!$O$4:$O$1191,X$7)","v":0},{"$f":"COUNTIFS('база 2013'!$B$4:$B$1191,$B55,'база 2013'!$I$4:$I$1191,Y$5,'база 2013'!$O$4:$O$1191,Y$7)","v":0},{"$f":"COUNTIFS('база 2013'!$B$4:$B$1191,$B55,'база 2013'!$I$4:$I$1191,Z$5,'база 2013'!$O$4:$O$1191,Z$7)","v":0},{"$f":"COUNTIFS('база 2013'!$B$4:$B$1191,$B55,'база 2013'!$I$4:$I$1191,AA$5,'база 2013'!$O$4:$O$1191,AA$7)","v":0},{"$f":"COUNTIFS('база 2013'!$B$4:$B$1191,$B55,'база 2013'!$I$4:$I$1191,AB$5,'база 2013'!$O$4:$O$1191,AB$7)","v":0},{"$f":"COUNTIFS('база 2013'!$B$4:$B$1191,$B55,'база 2013'!$I$4:$I$1191,AC$5,'база 2013'!$O$4:$O$1191,AC$7)","v":0},0,0,0,{"$f":"COUNTIFS('база 2013'!$B$4:$B$1191,$B55,'база 2013'!$I$4:$I$1191,AG$5,'база 2013'!$O$4:$O$1191,AG$7)","v":0},{"$f":"COUNTIFS('база 2013'!$B$4:$B$1191,$B55,'база 2013'!$I$4:$I$1191,AH$5,'база 2013'!$O$4:$O$1191,AH$7)","v":0},{"$f":"COUNTIFS('база 2013'!$B$4:$B$1191,$B55,'база 2013'!$I$4:$I$1191,AI$5,'база 2013'!$O$4:$O$1191,AI$7)","v":0},{"$f":"COUNTIFS('база 2013'!$B$4:$B$1191,$B55,'база 2013'!$I$4:$I$1191,AJ$5,'база 2013'!$O$4:$O$1191,AJ$7)","v":0},{"$f":"COUNTIFS('база 2013'!$B$4:$B$1191,$B55,'база 2013'!$I$4:$I$1191,AK$5,'база 2013'!$O$4:$O$1191,AK$7)","v":0},{"$f":"COUNTIFS('база 2013'!$B$4:$B$1191,$B55,'база 2013'!$I$4:$I$1191,AL$5,'база 2013'!$O$4:$O$1191,AL$7)","v":0},{"$f":"COUNTIFS('база 2013'!$B$4:$B$1191,$B55,'база 2013'!$I$4:$I$1191,AM$5,'база 2013'!$O$4:$O$1191,AM$7)","v":0},{"$f":"COUNTIFS('база 2013'!$B$4:$B$1191,$B55,'база 2013'!$I$4:$I$1191,AN$5,'база 2013'!$O$4:$O$1191,AN$7)","v":0},{"$f":"COUNTIFS('база 2013'!$B$4:$B$1191,$B55,'база 2013'!$I$4:$I$1191,AO$5,'база 2013'!$O$4:$O$1191,AO$7)","v":0},{"$f":"COUNTIFS('база 2013'!$B$4:$B$1191,$B55,'база 2013'!$I$4:$I$1191,AP$5,'база 2013'!$O$4:$O$1191,AP$7)","v":0},{"$f":"COUNTIFS('база 2013'!$B$4:$B$1191,$B55,'база 2013'!$I$4:$I$1191,AQ$5,'база 2013'!$O$4:$O$1191,AQ$7)","v":0},{"$f":"COUNTIFS('база 2013'!$B$4:$B$1191,$B55,'база 2013'!$I$4:$I$1191,AR$5,'база 2013'!$O$4:$O$1191,AR$7)","v":0},{"$f":"COUNTIFS('база 2013'!$B$4:$B$1191,$B55,'база 2013'!$I$4:$I$1191,AS$5,'база 2013'!$O$4:$O$1191,AS$7)","v":0},{"$f":"COUNTIFS('база 2013'!$B$4:$B$1191,$B55,'база 2013'!$I$4:$I$1191,AT$5,'база 2013'!$O$4:$O$1191,AT$7)","v":0},{"$f":"COUNTIFS('база 2013'!$B$4:$B$1191,$B55,'база 2013'!$I$4:$I$1191,AU$5,'база 2013'!$O$4:$O$1191,AU$7)","v":0},{"$f":"COUNTIFS('база 2013'!$B$4:$B$1191,$B55,'база 2013'!$I$4:$I$1191,AV$5,'база 2013'!$O$4:$O$1191,AV$7)","v":0},{"$f":"COUNTIFS('база 2013'!$B$4:$B$1191,$B55,'база 2013'!$I$4:$I$1191,AW$5,'база 2013'!$O$4:$O$1191,AW$7)","v":0},{"$f":"COUNTIFS('база 2013'!$B$4:$B$1191,$B55,'база 2013'!$I$4:$I$1191,AX$5,'база 2013'!$O$4:$O$1191,AX$7)","v":0},0,0,0,0,0,0,0]
[49,"Регби",{"$f":"COUNTIFS('база 2013'!$B$4:$B$1191,$B56,'база 2013'!$I$4:$I$1191,C$5,'база 2013'!$O$4:$O$1191,C$7)","v":0},{"$f":"COUNTIFS('база 2013'!$B$4:$B$1191,$B56,'база 2013'!$I$4:$I$1191,D$5,'база 2013'!$O$4:$O$1191,D$7)","v":0},{"$f":"COUNTIFS('база 2013'!$B$4:$B$1191,$B56,'база 2013'!$I$4:$I$1191,E$5,'база 2013'!$O$4:$O$1191,E$7)","v":0},{"$f":"COUNTIFS('база 2013'!$B$4:$B$1191,$B56,'база 2013'!$I$4:$I$1191,F$5,'база 2013'!$O$4:$O$1191,F$7)","v":0},{"$f":"COUNTIFS('база 2013'!$B$4:$B$1191,$B56,'база 2013'!$I$4:$I$1191,G$5,'база 2013'!$O$4:$O$1191,G$7)","v":0},{"$f":"COUNTIFS('база 2013'!$B$4:$B$1191,$B56,'база 2013'!$I$4:$I$1191,H$5,'база 2013'!$O$4:$O$1191,H$7)","v":0},{"$f":"COUNTIFS('база 2013'!$B$4:$B$1191,$B56,'база 2013'!$I$4:$I$1191,I$5,'база 2013'!$O$4:$O$1191,I$7)","v":0},{"$f":"COUNTIFS('база 2013'!$B$4:$B$1191,$B56,'база 2013'!$I$4:$I$1191,J$5,'база 2013'!$O$4:$O$1191,J$7)","v":0},{"$f":"COUNTIFS('база 2013'!$B$4:$B$1191,$B56,'база 2013'!$I$4:$I$1191,K$5,'база 2013'!$O$4:$O$1191,K$7)","v":0},{"$f":"COUNTIFS('база 2013'!$B$4:$B$1191,$B56,'база 2013'!$I$4:$I$1191,L$5,'база 2013'!$O$4:$O$1191,L$7)","v":0},{"$f":"COUNTIFS('база 2013'!$B$4:$B$1191,$B56,'база 2013'!$I$4:$I$1191,M$5,'база 2013'!$O$4:$O$1191,M$7)","v":0},{"$f":"COUNTIFS('база 2013'!$B$4:$B$1191,$B56,'база 2013'!$I$4:$I$1191,N$5,'база 2013'!$O$4:$O$1191,N$7)","v":0},{"$f":"COUNTIFS('база 2013'!$B$4:$B$1191,$B56,'база 2013'!$I$4:$I$1191,O$5,'база 2013'!$O$4:$O$1191,O$7)","v":0},{"$f":"COUNTIFS('база 2013'!$B$4:$B$1191,$B56,'база 2013'!$I$4:$I$1191,P$5,'база 2013'!$O$4:$O$1191,P$7)","v":0},{"$f":"COUNTIFS('база 2013'!$B$4:$B$1191,$B56,'база 2013'!$I$4:$I$1191,Q$5,'база 2013'!$O$4:$O$1191,Q$7)","v":0},0,0,0,{"$f":"COUNTIFS('база 2013'!$B$4:$B$1191,$B56,'база 2013'!$I$4:$I$1191,U$5,'база 2013'!$O$4:$O$1191,U$7)","v":0},{"$f":"COUNTIFS('база 2013'!$B$4:$B$1191,$B56,'база 2013'!$I$4:$I$1191,V$5,'база 2013'!$O$4:$O$1191,V$7)","v":0},{"$f":"COUNTIFS('база 2013'!$B$4:$B$1191,$B56,'база 2013'!$I$4:$I$1191,W$5,'база 2013'!$O$4:$O$1191,W$7)","v":0},{"$f":"COUNTIFS('база 2013'!$B$4:$B$1191,$B56,'база 2013'!$I$4:$I$1191,X$5,'база 2013'!$O$4:$O$1191,X$7)","v":0},{"$f":"COUNTIFS('база 2013'!$B$4:$B$1191,$B56,'база 2013'!$I$4:$I$1191,Y$5,'база 2013'!$O$4:$O$1191,Y$7)","v":0},{"$f":"COUNTIFS('база 2013'!$B$4:$B$1191,$B56,'база 2013'!$I$4:$I$1191,Z$5,'база 2013'!$O$4:$O$1191,Z$7)","v":0},{"$f":"COUNTIFS('база 2013'!$B$4:$B$1191,$B56,'база 2013'!$I$4:$I$1191,AA$5,'база 2013'!$O$4:$O$1191,AA$7)","v":0},{"$f":"COUNTIFS('база 2013'!$B$4:$B$1191,$B56,'база 2013'!$I$4:$I$1191,AB$5,'база 2013'!$O$4:$O$1191,AB$7)","v":0},{"$f":"COUNTIFS('база 2013'!$B$4:$B$1191,$B56,'база 2013'!$I$4:$I$1191,AC$5,'база 2013'!$O$4:$O$1191,AC$7)","v":0},0,0,0,{"$f":"COUNTIFS('база 2013'!$B$4:$B$1191,$B56,'база 2013'!$I$4:$I$1191,AG$5,'база 2013'!$O$4:$O$1191,AG$7)","v":0},{"$f":"COUNTIFS('база 2013'!$B$4:$B$1191,$B56,'база 2013'!$I$4:$I$1191,AH$5,'база 2013'!$O$4:$O$1191,AH$7)","v":0},{"$f":"COUNTIFS('база 2013'!$B$4:$B$1191,$B56,'база 2013'!$I$4:$I$1191,AI$5,'база 2013'!$O$4:$O$1191,AI$7)","v":0},{"$f":"COUNTIFS('база 2013'!$B$4:$B$1191,$B56,'база 2013'!$I$4:$I$1191,AJ$5,'база 2013'!$O$4:$O$1191,AJ$7)","v":0},{"$f":"COUNTIFS('база 2013'!$B$4:$B$1191,$B56,'база 2013'!$I$4:$I$1191,AK$5,'база 2013'!$O$4:$O$1191,AK$7)","v":0},{"$f":"COUNTIFS('база 2013'!$B$4:$B$1191,$B56,'база 2013'!$I$4:$I$1191,AL$5,'база 2013'!$O$4:$O$1191,AL$7)","v":0},{"$f":"COUNTIFS('база 2013'!$B$4:$B$1191,$B56,'база 2013'!$I$4:$I$1191,AM$5,'база 2013'!$O$4:$O$1191,AM$7)","v":0},{"$f":"COUNTIFS('база 2013'!$B$4:$B$1191,$B56,'база 2013'!$I$4:$I$1191,AN$5,'база 2013'!$O$4:$O$1191,AN$7)","v":0},{"$f":"COUNTIFS('база 2013'!$B$4:$B$1191,$B56,'база 2013'!$I$4:$I$1191,AO$5,'база 2013'!$O$4:$O$1191,AO$7)","v":0},{"$f":"COUNTIFS('база 2013'!$B$4:$B$1191,$B56,'база 2013'!$I$4:$I$1191,AP$5,'база 2013'!$O$4:$O$1191,AP$7)","v":0},{"$f":"COUNTIFS('база 2013'!$B$4:$B$1191,$B56,'база 2013'!$I$4:$I$1191,AQ$5,'база 2013'!$O$4:$O$1191,AQ$7)","v":0},{"$f":"COUNTIFS('база 2013'!$B$4:$B$1191,$B56,'база 2013'!$I$4:$I$1191,AR$5,'база 2013'!$O$4:$O$1191,AR$7)","v":0},{"$f":"COUNTIFS('база 2013'!$B$4:$B$1191,$B56,'база 2013'!$I$4:$I$1191,AS$5,'база 2013'!$O$4:$O$1191,AS$7)","v":0},{"$f":"COUNTIFS('база 2013'!$B$4:$B$1191,$B56,'база 2013'!$I$4:$I$1191,AT$5,'база 2013'!$O$4:$O$1191,AT$7)","v":0},{"$f":"COUNTIFS('база 2013'!$B$4:$B$1191,$B56,'база 2013'!$I$4:$I$1191,AU$5,'база 2013'!$O$4:$O$1191,AU$7)","v":0},{"$f":"COUNTIFS('база 2013'!$B$4:$B$1191,$B56,'база 2013'!$I$4:$I$1191,AV$5,'база 2013'!$O$4:$O$1191,AV$7)","v":0},{"$f":"COUNTIFS('база 2013'!$B$4:$B$1191,$B56,'база 2013'!$I$4:$I$1191,AW$5,'база 2013'!$O$4:$O$1191,AW$7)","v":0},{"$f":"COUNTIFS('база 2013'!$B$4:$B$1191,$B56,'база 2013'!$I$4:$I$1191,AX$5,'база 2013'!$O$4:$O$1191,AX$7)","v":0},0,0,0,0,0,0,0]
[50,"Рыболовный спорт",{"$f":"COUNTIFS('база 2013'!$B$4:$B$1191,$B57,'база 2013'!$I$4:$I$1191,C$5,'база 2013'!$O$4:$O$1191,C$7)","v":0},{"$f":"COUNTIFS('база 2013'!$B$4:$B$1191,$B57,'база 2013'!$I$4:$I$1191,D$5,'база 2013'!$O$4:$O$1191,D$7)","v":0},{"$f":"COUNTIFS('база 2013'!$B$4:$B$1191,$B57,'база 2013'!$I$4:$I$1191,E$5,'база 2013'!$O$4:$O$1191,E$7)","v":0},{"$f":"COUNTIFS('база 2013'!$B$4:$B$1191,$B57,'база 2013'!$I$4:$I$1191,F$5,'база 2013'!$O$4:$O$1191,F$7)","v":0},{"$f":"COUNTIFS('база 2013'!$B$4:$B$1191,$B57,'база 2013'!$I$4:$I$1191,G$5,'база 2013'!$O$4:$O$1191,G$7)","v":0},{"$f":"COUNTIFS('база 2013'!$B$4:$B$1191,$B57,'база 2013'!$I$4:$I$1191,H$5,'база 2013'!$O$4:$O$1191,H$7)","v":0},{"$f":"COUNTIFS('база 2013'!$B$4:$B$1191,$B57,'база 2013'!$I$4:$I$1191,I$5,'база 2013'!$O$4:$O$1191,I$7)","v":0},{"$f":"COUNTIFS('база 2013'!$B$4:$B$1191,$B57,'база 2013'!$I$4:$I$1191,J$5,'база 2013'!$O$4:$O$1191,J$7)","v":0},{"$f":"COUNTIFS('база 2013'!$B$4:$B$1191,$B57,'база 2013'!$I$4:$I$1191,K$5,'база 2013'!$O$4:$O$1191,K$7)","v":0},{"$f":"COUNTIFS('база 2013'!$B$4:$B$1191,$B57,'база 2013'!$I$4:$I$1191,L$5,'база 2013'!$O$4:$O$1191,L$7)","v":0},{"$f":"COUNTIFS('база 2013'!$B$4:$B$1191,$B57,'база 2013'!$I$4:$I$1191,M$5,'база 2013'!$O$4:$O$1191,M$7)","v":0},{"$f":"COUNTIFS('база 2013'!$B$4:$B$1191,$B57,'база 2013'!$I$4:$I$1191,N$5,'база 2013'!$O$4:$O$1191,N$7)","v":0},{"$f":"COUNTIFS('база 2013'!$B$4:$B$1191,$B57,'база 2013'!$I$4:$I$1191,O$5,'база 2013'!$O$4:$O$1191,O$7)","v":0},{"$f":"COUNTIFS('база 2013'!$B$4:$B$1191,$B57,'база 2013'!$I$4:$I$1191,P$5,'база 2013'!$O$4:$O$1191,P$7)","v":0},{"$f":"COUNTIFS('база 2013'!$B$4:$B$1191,$B57,'база 2013'!$I$4:$I$1191,Q$5,'база 2013'!$O$4:$O$1191,Q$7)","v":0},0,0,0,{"$f":"COUNTIFS('база 2013'!$B$4:$B$1191,$B57,'база 2013'!$I$4:$I$1191,U$5,'база 2013'!$O$4:$O$1191,U$7)","v":0},{"$f":"COUNTIFS('база 2013'!$B$4:$B$1191,$B57,'база 2013'!$I$4:$I$1191,V$5,'база 2013'!$O$4:$O$1191,V$7)","v":0},{"$f":"COUNTIFS('база 2013'!$B$4:$B$1191,$B57,'база 2013'!$I$4:$I$1191,W$5,'база 2013'!$O$4:$O$1191,W$7)","v":0},{"$f":"COUNTIFS('база 2013'!$B$4:$B$1191,$B57,'база 2013'!$I$4:$I$1191,X$5,'база 2013'!$O$4:$O$1191,X$7)","v":0},{"$f":"COUNTIFS('база 2013'!$B$4:$B$1191,$B57,'база 2013'!$I$4:$I$1191,Y$5,'база 2013'!$O$4:$O$1191,Y$7)","v":0},{"$f":"COUNTIFS('база 2013'!$B$4:$B$1191,$B57,'база 2013'!$I$4:$I$1191,Z$5,'база 2013'!$O$4:$O$1191,Z$7)","v":0},{"$f":"COUNTIFS('база 2013'!$B$4:$B$1191,$B57,'база 2013'!$I$4:$I$1191,AA$5,'база 2013'!$O$4:$O$1191,AA$7)","v":0},{"$f":"COUNTIFS('база 2013'!$B$4:$B$1191,$B57,'база 2013'!$I$4:$I$1191,AB$5,'база 2013'!$O$4:$O$1191,AB$7)","v":0},{"$f":"COUNTIFS('база 2013'!$B$4:$B$1191,$B57,'база 2013'!$I$4:$I$1191,AC$5,'база 2013'!$O$4:$O$1191,AC$7)","v":0},0,0,0,{"$f":"COUNTIFS('база 2013'!$B$4:$B$1191,$B57,'база 2013'!$I$4:$I$1191,AG$5,'база 2013'!$O$4:$O$1191,AG$7)","v":0},{"$f":"COUNTIFS('база 2013'!$B$4:$B$1191,$B57,'база 2013'!$I$4:$I$1191,AH$5,'база 2013'!$O$4:$O$1191,AH$7)","v":0},{"$f":"COUNTIFS('база 2013'!$B$4:$B$1191,$B57,'база 2013'!$I$4:$I$1191,AI$5,'база 2013'!$O$4:$O$1191,AI$7)","v":0},{"$f":"COUNTIFS('база 2013'!$B$4:$B$1191,$B57,'база 2013'!$I$4:$I$1191,AJ$5,'база 2013'!$O$4:$O$1191,AJ$7)","v":0},{"$f":"COUNTIFS('база 2013'!$B$4:$B$1191,$B57,'база 2013'!$I$4:$I$1191,AK$5,'база 2013'!$O$4:$O$1191,AK$7)","v":0},{"$f":"COUNTIFS('база 2013'!$B$4:$B$1191,$B57,'база 2013'!$I$4:$I$1191,AL$5,'база 2013'!$O$4:$O$1191,AL$7)","v":0},{"$f":"COUNTIFS('база 2013'!$B$4:$B$1191,$B57,'база 2013'!$I$4:$I$1191,AM$5,'база 2013'!$O$4:$O$1191,AM$7)","v":0},{"$f":"COUNTIFS('база 2013'!$B$4:$B$1191,$B57,'база 2013'!$I$4:$I$1191,AN$5,'база 2013'!$O$4:$O$1191,AN$7)","v":0},{"$f":"COUNTIFS('база 2013'!$B$4:$B$1191,$B57,'база 2013'!$I$4:$I$1191,AO$5,'база 2013'!$O$4:$O$1191,AO$7)","v":0},{"$f":"COUNTIFS('база 2013'!$B$4:$B$1191,$B57,'база 2013'!$I$4:$I$1191,AP$5,'база 2013'!$O$4:$O$1191,AP$7)","v":0},{"$f":"COUNTIFS('база 2013'!$B$4:$B$1191,$B57,'база 2013'!$I$4:$I$1191,AQ$5,'база 2013'!$O$4:$O$1191,AQ$7)","v":0},{"$f":"COUNTIFS('база 2013'!$B$4:$B$1191,$B57,'база 2013'!$I$4:$I$1191,AR$5,'база 2013'!$O$4:$O$1191,AR$7)","v":0},{"$f":"COUNTIFS('база 2013'!$B$4:$B$1191,$B57,'база 2013'!$I$4:$I$1191,AS$5,'база 2013'!$O$4:$O$1191,AS$7)","v":0},{"$f":"COUNTIFS('база 2013'!$B$4:$B$1191,$B57,'база 2013'!$I$4:$I$1191,AT$5,'база 2013'!$O$4:$O$1191,AT$7)","v":0},{"$f":"COUNTIFS('база 2013'!$B$4:$B$1191,$B57,'база 2013'!$I$4:$I$1191,AU$5,'база 2013'!$O$4:$O$1191,AU$7)","v":0},{"$f":"COUNTIFS('база 2013'!$B$4:$B$1191,$B57,'база 2013'!$I$4:$I$1191,AV$5,'база 2013'!$O$4:$O$1191,AV$7)","v":0},{"$f":"COUNTIFS('база 2013'!$B$4:$B$1191,$B57,'база 2013'!$I$4:$I$1191,AW$5,'база 2013'!$O$4:$O$1191,AW$7)","v":0},{"$f":"COUNTIFS('база 2013'!$B$4:$B$1191,$B57,'база 2013'!$I$4:$I$1191,AX$5,'база 2013'!$O$4:$O$1191,AX$7)","v":0},0,0,0,{"$f":"SUMIFS($C57:$BA57,$C$6:$BA$6,BB$6,$C$7:$BA$7,BB$7)","v":0},0,0,0]
[51,"Рукопашный бой",{"$f":"COUNTIFS('база 2013'!$B$4:$B$1191,$B58,'база 2013'!$I$4:$I$1191,C$5,'база 2013'!$O$4:$O$1191,C$7)","v":0},{"$f":"COUNTIFS('база 2013'!$B$4:$B$1191,$B58,'база 2013'!$I$4:$I$1191,D$5,'база 2013'!$O$4:$O$1191,D$7)","v":0},{"$f":"COUNTIFS('база 2013'!$B$4:$B$1191,$B58,'база 2013'!$I$4:$I$1191,E$5,'база 2013'!$O$4:$O$1191,E$7)","v":0},{"$f":"COUNTIFS('база 2013'!$B$4:$B$1191,$B58,'база 2013'!$I$4:$I$1191,F$5,'база 2013'!$O$4:$O$1191,F$7)","v":0},{"$f":"COUNTIFS('база 2013'!$B$4:$B$1191,$B58,'база 2013'!$I$4:$I$1191,G$5,'база 2013'!$O$4:$O$1191,G$7)","v":0},{"$f":"COUNTIFS('база 2013'!$B$4:$B$1191,$B58,'база 2013'!$I$4:$I$1191,H$5,'база 2013'!$O$4:$O$1191,H$7)","v":0},{"$f":"COUNTIFS('база 2013'!$B$4:$B$1191,$B58,'база 2013'!$I$4:$I$1191,I$5,'база 2013'!$O$4:$O$1191,I$7)","v":0},{"$f":"COUNTIFS('база 2013'!$B$4:$B$1191,$B58,'база 2013'!$I$4:$I$1191,J$5,'база 2013'!$O$4:$O$1191,J$7)","v":0},{"$f":"COUNTIFS('база 2013'!$B$4:$B$1191,$B58,'база 2013'!$I$4:$I$1191,K$5,'база 2013'!$O$4:$O$1191,K$7)","v":0},{"$f":"COUNTIFS('база 2013'!$B$4:$B$1191,$B58,'база 2013'!$I$4:$I$1191,L$5,'база 2013'!$O$4:$O$1191,L$7)","v":0},{"$f":"COUNTIFS('база 2013'!$B$4:$B$1191,$B58,'база 2013'!$I$4:$I$1191,M$5,'база 2013'!$O$4:$O$1191,M$7)","v":0},{"$f":"COUNTIFS('база 2013'!$B$4:$B$1191,$B58,'база 2013'!$I$4:$I$1191,N$5,'база 2013'!$O$4:$O$1191,N$7)","v":0},{"$f":"COUNTIFS('база 2013'!$B$4:$B$1191,$B58,'база 2013'!$I$4:$I$1191,O$5,'база 2013'!$O$4:$O$1191,O$7)","v":0},{"$f":"COUNTIFS('база 2013'!$B$4:$B$1191,$B58,'база 2013'!$I$4:$I$1191,P$5,'база 2013'!$O$4:$O$1191,P$7)","v":0},{"$f":"COUNTIFS('база 2013'!$B$4:$B$1191,$B58,'база 2013'!$I$4:$I$1191,Q$5,'база 2013'!$O$4:$O$1191,Q$7)","v":0},0,0,0,{"$f":"COUNTIFS('база 2013'!$B$4:$B$1191,$B58,'база 2013'!$I$4:$I$1191,U$5,'база 2013'!$O$4:$O$1191,U$7)","v":0},{"$f":"COUNTIFS('база 2013'!$B$4:$B$1191,$B58,'база 2013'!$I$4:$I$1191,V$5,'база 2013'!$O$4:$O$1191,V$7)","v":0},{"$f":"COUNTIFS('база 2013'!$B$4:$B$1191,$B58,'база 2013'!$I$4:$I$1191,W$5,'база 2013'!$O$4:$O$1191,W$7)","v":0},{"$f":"COUNTIFS('база 2013'!$B$4:$B$1191,$B58,'база 2013'!$I$4:$I$1191,X$5,'база 2013'!$O$4:$O$1191,X$7)","v":0},{"$f":"COUNTIFS('база 2013'!$B$4:$B$1191,$B58,'база 2013'!$I$4:$I$1191,Y$5,'база 2013'!$O$4:$O$1191,Y$7)","v":0},{"$f":"COUNTIFS('база 2013'!$B$4:$B$1191,$B58,'база 2013'!$I$4:$I$1191,Z$5,'база 2013'!$O$4:$O$1191,Z$7)","v":0},{"$f":"COUNTIFS('база 2013'!$B$4:$B$1191,$B58,'база 2013'!$I$4:$I$1191,AA$5,'база 2013'!$O$4:$O$1191,AA$7)","v":0},{"$f":"COUNTIFS('база 2013'!$B$4:$B$1191,$B58,'база 2013'!$I$4:$I$1191,AB$5,'база 2013'!$O$4:$O$1191,AB$7)","v":0},{"$f":"COUNTIFS('база 2013'!$B$4:$B$1191,$B58,'база 2013'!$I$4:$I$1191,AC$5,'база 2013'!$O$4:$O$1191,AC$7)","v":0},0,0,0,{"$f":"COUNTIFS('база 2013'!$B$4:$B$1191,$B58,'база 2013'!$I$4:$I$1191,AG$5,'база 2013'!$O$4:$O$1191,AG$7)","v":0},{"$f":"COUNTIFS('база 2013'!$B$4:$B$1191,$B58,'база 2013'!$I$4:$I$1191,AH$5,'база 2013'!$O$4:$O$1191,AH$7)","v":0},{"$f":"COUNTIFS('база 2013'!$B$4:$B$1191,$B58,'база 2013'!$I$4:$I$1191,AI$5,'база 2013'!$O$4:$O$1191,AI$7)","v":0},{"$f":"COUNTIFS('база 2013'!$B$4:$B$1191,$B58,'база 2013'!$I$4:$I$1191,AJ$5,'база 2013'!$O$4:$O$1191,AJ$7)","v":0},{"$f":"COUNTIFS('база 2013'!$B$4:$B$1191,$B58,'база 2013'!$I$4:$I$1191,AK$5,'база 2013'!$O$4:$O$1191,AK$7)","v":0},{"$f":"COUNTIFS('база 2013'!$B$4:$B$1191,$B58,'база 2013'!$I$4:$I$1191,AL$5,'база 2013'!$O$4:$O$1191,AL$7)","v":0},{"$f":"COUNTIFS('база 2013'!$B$4:$B$1191,$B58,'база 2013'!$I$4:$I$1191,AM$5,'база 2013'!$O$4:$O$1191,AM$7)","v":0},{"$f":"COUNTIFS('база 2013'!$B$4:$B$1191,$B58,'база 2013'!$I$4:$I$1191,AN$5,'база 2013'!$O$4:$O$1191,AN$7)","v":0},{"$f":"COUNTIFS('база 2013'!$B$4:$B$1191,$B58,'база 2013'!$I$4:$I$1191,AO$5,'база 2013'!$O$4:$O$1191,AO$7)","v":0},{"$f":"COUNTIFS('база 2013'!$B$4:$B$1191,$B58,'база 2013'!$I$4:$I$1191,AP$5,'база 2013'!$O$4:$O$1191,AP$7)","v":0},{"$f":"COUNTIFS('база 2013'!$B$4:$B$1191,$B58,'база 2013'!$I$4:$I$1191,AQ$5,'база 2013'!$O$4:$O$1191,AQ$7)","v":0},{"$f":"COUNTIFS('база 2013'!$B$4:$B$1191,$B58,'база 2013'!$I$4:$I$1191,AR$5,'база 2013'!$O$4:$O$1191,AR$7)","v":0},{"$f":"COUNTIFS('база 2013'!$B$4:$B$1191,$B58,'база 2013'!$I$4:$I$1191,AS$5,'база 2013'!$O$4:$O$1191,AS$7)","v":0},{"$f":"COUNTIFS('база 2013'!$B$4:$B$1191,$B58,'база 2013'!$I$4:$I$1191,AT$5,'база 2013'!$O$4:$O$1191,AT$7)","v":0},{"$f":"COUNTIFS('база 2013'!$B$4:$B$1191,$B58,'база 2013'!$I$4:$I$1191,AU$5,'база 2013'!$O$4:$O$1191,AU$7)","v":0},{"$f":"COUNTIFS('база 2013'!$B$4:$B$1191,$B58,'база 2013'!$I$4:$I$1191,AV$5,'база 2013'!$O$4:$O$1191,AV$7)","v":0},{"$f":"COUNTIFS('база 2013'!$B$4:$B$1191,$B58,'база 2013'!$I$4:$I$1191,AW$5,'база 2013'!$O$4:$O$1191,AW$7)","v":0},{"$f":"COUNTIFS('база 2013'!$B$4:$B$1191,$B58,'база 2013'!$I$4:$I$1191,AX$5,'база 2013'!$O$4:$O$1191,AX$7)","v":0},0,0,0,0,0,0,{"$f":"SUM(BB58:BD58)","v":0}]
[52,"Санный спорт",{"$f":"COUNTIFS('база 2013'!$B$4:$B$1191,$B59,'база 2013'!$I$4:$I$1191,C$5,'база 2013'!$O$4:$O$1191,C$7)","v":0},{"$f":"COUNTIFS('база 2013'!$B$4:$B$1191,$B59,'база 2013'!$I$4:$I$1191,D$5,'база 2013'!$O$4:$O$1191,D$7)","v":0},{"$f":"COUNTIFS('база 2013'!$B$4:$B$1191,$B59,'база 2013'!$I$4:$I$1191,E$5,'база 2013'!$O$4:$O$1191,E$7)","v":0},{"$f":"COUNTIFS('база 2013'!$B$4:$B$1191,$B59,'база 2013'!$I$4:$I$1191,F$5,'база 2013'!$O$4:$O$1191,F$7)","v":0},{"$f":"COUNTIFS('база 2013'!$B$4:$B$1191,$B59,'база 2013'!$I$4:$I$1191,G$5,'база 2013'!$O$4:$O$1191,G$7)","v":0},{"$f":"COUNTIFS('база 2013'!$B$4:$B$1191,$B59,'база 2013'!$I$4:$I$1191,H$5,'база 2013'!$O$4:$O$1191,H$7)","v":0},{"$f":"COUNTIFS('база 2013'!$B$4:$B$1191,$B59,'база 2013'!$I$4:$I$1191,I$5,'база 2013'!$O$4:$O$1191,I$7)","v":0},{"$f":"COUNTIFS('база 2013'!$B$4:$B$1191,$B59,'база 2013'!$I$4:$I$1191,J$5,'база 2013'!$O$4:$O$1191,J$7)","v":0},{"$f":"COUNTIFS('база 2013'!$B$4:$B$1191,$B59,'база 2013'!$I$4:$I$1191,K$5,'база 2013'!$O$4:$O$1191,K$7)","v":0},{"$f":"COUNTIFS('база 2013'!$B$4:$B$1191,$B59,'база 2013'!$I$4:$I$1191,L$5,'база 2013'!$O$4:$O$1191,L$7)","v":0},{"$f":"COUNTIFS('база 2013'!$B$4:$B$1191,$B59,'база 2013'!$I$4:$I$1191,M$5,'база 2013'!$O$4:$O$1191,M$7)","v":0},{"$f":"COUNTIFS('база 2013'!$B$4:$B$1191,$B59,'база 2013'!$I$4:$I$1191,N$5,'база 2013'!$O$4:$O$1191,N$7)","v":0},{"$f":"COUNTIFS('база 2013'!$B$4:$B$1191,$B59,'база 2013'!$I$4:$I$1191,O$5,'база 2013'!$O$4:$O$1191,O$7)","v":0},{"$f":"COUNTIFS('база 2013'!$B$4:$B$1191,$B59,'база 2013'!$I$4:$I$1191,P$5,'база 2013'!$O$4:$O$1191,P$7)","v":0},{"$f":"COUNTIFS('база 2013'!$B$4:$B$1191,$B59,'база 2013'!$I$4:$I$1191,Q$5,'база 2013'!$O$4:$O$1191,Q$7)","v":0},0,0,0,{"$f":"COUNTIFS('база 2013'!$B$4:$B$1191,$B59,'база 2013'!$I$4:$I$1191,U$5,'база 2013'!$O$4:$O$1191,U$7)","v":0},{"$f":"COUNTIFS('база 2013'!$B$4:$B$1191,$B59,'база 2013'!$I$4:$I$1191,V$5,'база 2013'!$O$4:$O$1191,V$7)","v":0},{"$f":"COUNTIFS('база 2013'!$B$4:$B$1191,$B59,'база 2013'!$I$4:$I$1191,W$5,'база 2013'!$O$4:$O$1191,W$7)","v":0},{"$f":"COUNTIFS('база 2013'!$B$4:$B$1191,$B59,'база 2013'!$I$4:$I$1191,X$5,'база 2013'!$O$4:$O$1191,X$7)","v":0},{"$f":"COUNTIFS('база 2013'!$B$4:$B$1191,$B59,'база 2013'!$I$4:$I$1191,Y$5,'база 2013'!$O$4:$O$1191,Y$7)","v":0},{"$f":"COUNTIFS('база 2013'!$B$4:$B$1191,$B59,'база 2013'!$I$4:$I$1191,Z$5,'база 2013'!$O$4:$O$1191,Z$7)","v":0},{"$f":"COUNTIFS('база 2013'!$B$4:$B$1191,$B59,'база 2013'!$I$4:$I$1191,AA$5,'база 2013'!$O$4:$O$1191,AA$7)","v":0},{"$f":"COUNTIFS('база 2013'!$B$4:$B$1191,$B59,'база 2013'!$I$4:$I$1191,AB$5,'база 2013'!$O$4:$O$1191,AB$7)","v":0},{"$f":"COUNTIFS('база 2013'!$B$4:$B$1191,$B59,'база 2013'!$I$4:$I$1191,AC$5,'база 2013'!$O$4:$O$1191,AC$7)","v":0},0,0,0,{"$f":"COUNTIFS('база 2013'!$B$4:$B$1191,$B59,'база 2013'!$I$4:$I$1191,AG$5,'база 2013'!$O$4:$O$1191,AG$7)","v":0},{"$f":"COUNTIFS('база 2013'!$B$4:$B$1191,$B59,'база 2013'!$I$4:$I$1191,AH$5,'база 2013'!$O$4:$O$1191,AH$7)","v":0},{"$f":"COUNTIFS('база 2013'!$B$4:$B$1191,$B59,'база 2013'!$I$4:$I$1191,AI$5,'база 2013'!$O$4:$O$1191,AI$7)","v":0},{"$f":"COUNTIFS('база 2013'!$B$4:$B$1191,$B59,'база 2013'!$I$4:$I$1191,AJ$5,'база 2013'!$O$4:$O$1191,AJ$7)","v":0},{"$f":"COUNTIFS('база 2013'!$B$4:$B$1191,$B59,'база 2013'!$I$4:$I$1191,AK$5,'база 2013'!$O$4:$O$1191,AK$7)","v":0},{"$f":"COUNTIFS('база 2013'!$B$4:$B$1191,$B59,'база 2013'!$I$4:$I$1191,AL$5,'база 2013'!$O$4:$O$1191,AL$7)","v":0},{"$f":"COUNTIFS('база 2013'!$B$4:$B$1191,$B59,'база 2013'!$I$4:$I$1191,AM$5,'база 2013'!$O$4:$O$1191,AM$7)","v":0},{"$f":"COUNTIFS('база 2013'!$B$4:$B$1191,$B59,'база 2013'!$I$4:$I$1191,AN$5,'база 2013'!$O$4:$O$1191,AN$7)","v":0},{"$f":"COUNTIFS('база 2013'!$B$4:$B$1191,$B59,'база 2013'!$I$4:$I$1191,AO$5,'база 2013'!$O$4:$O$1191,AO$7)","v":0},{"$f":"COUNTIFS('база 2013'!$B$4:$B$1191,$B59,'база 2013'!$I$4:$I$1191,AP$5,'база 2013'!$O$4:$O$1191,AP$7)","v":0},{"$f":"COUNTIFS('база 2013'!$B$4:$B$1191,$B59,'база 2013'!$I$4:$I$1191,AQ$5,'база 2013'!$O$4:$O$1191,AQ$7)","v":0},{"$f":"COUNTIFS('база 2013'!$B$4:$B$1191,$B59,'база 2013'!$I$4:$I$1191,AR$5,'база 2013'!$O$4:$O$1191,AR$7)","v":0},{"$f":"COUNTIFS('база 2013'!$B$4:$B$1191,$B59,'база 2013'!$I$4:$I$1191,AS$5,'база 2013'!$O$4:$O$1191,AS$7)","v":0},{"$f":"COUNTIFS('база 2013'!$B$4:$B$1191,$B59,'база 2013'!$I$4:$I$1191,AT$5,'база 2013'!$O$4:$O$1191,AT$7)","v":0},{"$f":"COUNTIFS('база 2013'!$B$4:$B$1191,$B59,'база 2013'!$I$4:$I$1191,AU$5,'база 2013'!$O$4:$O$1191,AU$7)","v":0},{"$f":"COUNTIFS('база 2013'!$B$4:$B$1191,$B59,'база 2013'!$I$4:$I$1191,AV$5,'база 2013'!$O$4:$O$1191,AV$7)","v":0},{"$f":"COUNTIFS('база 2013'!$B$4:$B$1191,$B59,'база 2013'!$I$4:$I$1191,AW$5,'база 2013'!$O$4:$O$1191,AW$7)","v":0},{"$f":"COUNTIFS('база 2013'!$B$4:$B$1191,$B59,'база 2013'!$I$4:$I$1191,AX$5,'база 2013'!$O$4:$O$1191,AX$7)","v":0},0,0,0,0,0,0,{"$f":"SUM(BB59:BD59)","v":0}]
[53,"Сноуборд",{"$f":"COUNTIFS('база 2013'!$B$4:$B$1191,$B60,'база 2013'!$I$4:$I$1191,C$5,'база 2013'!$O$4:$O$1191,C$7)","v":0},{"$f":"COUNTIFS('база 2013'!$B$4:$B$1191,$B60,'база 2013'!$I$4:$I$1191,D$5,'база 2013'!$O$4:$O$1191,D$7)","v":0},{"$f":"COUNTIFS('база 2013'!$B$4:$B$1191,$B60,'база 2013'!$I$4:$I$1191,E$5,'база 2013'!$O$4:$O$1191,E$7)","v":0},{"$f":"COUNTIFS('база 2013'!$B$4:$B$1191,$B60,'база 2013'!$I$4:$I$1191,F$5,'база 2013'!$O$4:$O$1191,F$7)","v":0},{"$f":"COUNTIFS('база 2013'!$B$4:$B$1191,$B60,'база 2013'!$I$4:$I$1191,G$5,'база 2013'!$O$4:$O$1191,G$7)","v":0},{"$f":"COUNTIFS('база 2013'!$B$4:$B$1191,$B60,'база 2013'!$I$4:$I$1191,H$5,'база 2013'!$O$4:$O$1191,H$7)","v":0},{"$f":"COUNTIFS('база 2013'!$B$4:$B$1191,$B60,'база 2013'!$I$4:$I$1191,I$5,'база 2013'!$O$4:$O$1191,I$7)","v":0},{"$f":"COUNTIFS('база 2013'!$B$4:$B$1191,$B60,'база 2013'!$I$4:$I$1191,J$5,'база 2013'!$O$4:$O$1191,J$7)","v":0},{"$f":"COUNTIFS('база 2013'!$B$4:$B$1191,$B60,'база 2013'!$I$4:$I$1191,K$5,'база 2013'!$O$4:$O$1191,K$7)","v":0},{"$f":"COUNTIFS('база 2013'!$B$4:$B$1191,$B60,'база 2013'!$I$4:$I$1191,L$5,'база 2013'!$O$4:$O$1191,L$7)","v":0},{"$f":"COUNTIFS('база 2013'!$B$4:$B$1191,$B60,'база 2013'!$I$4:$I$1191,M$5,'база 2013'!$O$4:$O$1191,M$7)","v":0},{"$f":"COUNTIFS('база 2013'!$B$4:$B$1191,$B60,'база 2013'!$I$4:$I$1191,N$5,'база 2013'!$O$4:$O$1191,N$7)","v":0},{"$f":"COUNTIFS('база 2013'!$B$4:$B$1191,$B60,'база 2013'!$I$4:$I$1191,O$5,'база 2013'!$O$4:$O$1191,O$7)","v":0},{"$f":"COUNTIFS('база 2013'!$B$4:$B$1191,$B60,'база 2013'!$I$4:$I$1191,P$5,'база 2013'!$O$4:$O$1191,P$7)","v":0},{"$f":"COUNTIFS('база 2013'!$B$4:$B$1191,$B60,'база 2013'!$I$4:$I$1191,Q$5,'база 2013'!$O$4:$O$1191,Q$7)","v":0},{"$f":"SUMIF($F$7:$Q$7,$R$7,F60:Q60)","v":0},0,0,{"$f":"COUNTIFS('база 2013'!$B$4:$B$1191,$B60,'база 2013'!$I$4:$I$1191,U$5,'база 2013'!$O$4:$O$1191,U$7)","v":0},{"$f":"COUNTIFS('база 2013'!$B$4:$B$1191,$B60,'база 2013'!$I$4:$I$1191,V$5,'база 2013'!$O$4:$O$1191,V$7)","v":0},{"$f":"COUNTIFS('база 2013'!$B$4:$B$1191,$B60,'база 2013'!$I$4:$I$1191,W$5,'база 2013'!$O$4:$O$1191,W$7)","v":0},{"$f":"COUNTIFS('база 2013'!$B$4:$B$1191,$B60,'база 2013'!$I$4:$I$1191,X$5,'база 2013'!$O$4:$O$1191,X$7)","v":0},{"$f":"COUNTIFS('база 2013'!$B$4:$B$1191,$B60,'база 2013'!$I$4:$I$1191,Y$5,'база 2013'!$O$4:$O$1191,Y$7)","v":0},{"$f":"COUNTIFS('база 2013'!$B$4:$B$1191,$B60,'база 2013'!$I$4:$I$1191,Z$5,'база 2013'!$O$4:$O$1191,Z$7)","v":0},{"$f":"COUNTIFS('база 2013'!$B$4:$B$1191,$B60,'база 2013'!$I$4:$I$1191,AA$5,'база 2013'!$O$4:$O$1191,AA$7)","v":0},{"$f":"COUNTIFS('база 2013'!$B$4:$B$1191,$B60,'база 2013'!$I$4:$I$1191,AB$5,'база 2013'!$O$4:$O$1191,AB$7)","v":0},{"$f":"COUNTIFS('база 2013'!$B$4:$B$1191,$B60,'база 2013'!$I$4:$I$1191,AC$5,'база 2013'!$O$4:$O$1191,AC$7)","v":0},0,0,0,{"$f":"COUNTIFS('база 2013'!$B$4:$B$1191,$B60,'база 2013'!$I$4:$I$1191,AG$5,'база 2013'!$O$4:$O$1191,AG$7)","v":0},{"$f":"COUNTIFS('база 2013'!$B$4:$B$1191,$B60,'база 2013'!$I$4:$I$1191,AH$5,'база 2013'!$O$4:$O$1191,AH$7)","v":0},{"$f":"COUNTIFS('база 2013'!$B$4:$B$1191,$B60,'база 2013'!$I$4:$I$1191,AI$5,'база 2013'!$O$4:$O$1191,AI$7)","v":0},{"$f":"COUNTIFS('база 2013'!$B$4:$B$1191,$B60,'база 2013'!$I$4:$I$1191,AJ$5,'база 2013'!$O$4:$O$1191,AJ$7)","v":0},{"$f":"COUNTIFS('база 2013'!$B$4:$B$1191,$B60,'база 2013'!$I$4:$I$1191,AK$5,'база 2013'!$O$4:$O$1191,AK$7)","v":0},{"$f":"COUNTIFS('база 2013'!$B$4:$B$1191,$B60,'база 2013'!$I$4:$I$1191,AL$5,'база 2013'!$O$4:$O$1191,AL$7)","v":0},{"$f":"COUNTIFS('база 2013'!$B$4:$B$1191,$B60,'база 2013'!$I$4:$I$1191,AM$5,'база 2013'!$O$4:$O$1191,AM$7)","v":0},{"$f":"COUNTIFS('база 2013'!$B$4:$B$1191,$B60,'база 2013'!$I$4:$I$1191,AN$5,'база 2013'!$O$4:$O$1191,AN$7)","v":0},{"$f":"COUNTIFS('база 2013'!$B$4:$B$1191,$B60,'база 2013'!$I$4:$I$1191,AO$5,'база 2013'!$O$4:$O$1191,AO$7)","v":0},{"$f":"COUNTIFS('база 2013'!$B$4:$B$1191,$B60,'база 2013'!$I$4:$I$1191,AP$5,'база 2013'!$O$4:$O$1191,AP$7)","v":0},{"$f":"COUNTIFS('база 2013'!$B$4:$B$1191,$B60,'база 2013'!$I$4:$I$1191,AQ$5,'база 2013'!$O$4:$O$1191,AQ$7)","v":0},{"$f":"COUNTIFS('база 2013'!$B$4:$B$1191,$B60,'база 2013'!$I$4:$I$1191,AR$5,'база 2013'!$O$4:$O$1191,AR$7)","v":0},{"$f":"COUNTIFS('база 2013'!$B$4:$B$1191,$B60,'база 2013'!$I$4:$I$1191,AS$5,'база 2013'!$O$4:$O$1191,AS$7)","v":0},{"$f":"COUNTIFS('база 2013'!$B$4:$B$1191,$B60,'база 2013'!$I$4:$I$1191,AT$5,'база 2013'!$O$4:$O$1191,AT$7)","v":0},{"$f":"COUNTIFS('база 2013'!$B$4:$B$1191,$B60,'база 2013'!$I$4:$I$1191,AU$5,'база 2013'!$O$4:$O$1191,AU$7)","v":0},{"$f":"COUNTIFS('база 2013'!$B$4:$B$1191,$B60,'база 2013'!$I$4:$I$1191,AV$5,'база 2013'!$O$4:$O$1191,AV$7)","v":0},{"$f":"COUNTIFS('база 2013'!$B$4:$B$1191,$B60,'база 2013'!$I$4:$I$1191,AW$5,'база 2013'!$O$4:$O$1191,AW$7)","v":0},{"$f":"COUNTIFS('база 2013'!$B$4:$B$1191,$B60,'база 2013'!$I$4:$I$1191,AX$5,'база 2013'!$O$4:$O$1191,AX$7)","v":0},0,0,0,0,0,0,{"$f":"SUM(BB60:BD60)","v":0}]
[54,"Скелетон",{"$f":"COUNTIFS('база 2013'!$B$4:$B$1191,$B61,'база 2013'!$I$4:$I$1191,C$5,'база 2013'!$O$4:$O$1191,C$7)","v":0},{"$f":"COUNTIFS('база 2013'!$B$4:$B$1191,$B61,'база 2013'!$I$4:$I$1191,D$5,'база 2013'!$O$4:$O$1191,D$7)","v":0},{"$f":"COUNTIFS('база 2013'!$B$4:$B$1191,$B61,'база 2013'!$I$4:$I$1191,E$5,'база 2013'!$O$4:$O$1191,E$7)","v":0},{"$f":"COUNTIFS('база 2013'!$B$4:$B$1191,$B61,'база 2013'!$I$4:$I$1191,F$5,'база 2013'!$O$4:$O$1191,F$7)","v":0},{"$f":"COUNTIFS('база 2013'!$B$4:$B$1191,$B61,'база 2013'!$I$4:$I$1191,G$5,'база 2013'!$O$4:$O$1191,G$7)","v":0},{"$f":"COUNTIFS('база 2013'!$B$4:$B$1191,$B61,'база 2013'!$I$4:$I$1191,H$5,'база 2013'!$O$4:$O$1191,H$7)","v":0},{"$f":"COUNTIFS('база 2013'!$B$4:$B$1191,$B61,'база 2013'!$I$4:$I$1191,I$5,'база 2013'!$O$4:$O$1191,I$7)","v":0},{"$f":"COUNTIFS('база 2013'!$B$4:$B$1191,$B61,'база 2013'!$I$4:$I$1191,J$5,'база 2013'!$O$4:$O$1191,J$7)","v":0},{"$f":"COUNTIFS('база 2013'!$B$4:$B$1191,$B61,'база 2013'!$I$4:$I$1191,K$5,'база 2013'!$O$4:$O$1191,K$7)","v":0},{"$f":"COUNTIFS('база 2013'!$B$4:$B$1191,$B61,'база 2013'!$I$4:$I$1191,L$5,'база 2013'!$O$4:$O$1191,L$7)","v":0},{"$f":"COUNTIFS('база 2013'!$B$4:$B$1191,$B61,'база 2013'!$I$4:$I$1191,M$5,'база 2013'!$O$4:$O$1191,M$7)","v":0},{"$f":"COUNTIFS('база 2013'!$B$4:$B$1191,$B61,'база 2013'!$I$4:$I$1191,N$5,'база 2013'!$O$4:$O$1191,N$7)","v":0},{"$f":"COUNTIFS('база 2013'!$B$4:$B$1191,$B61,'база 2013'!$I$4:$I$1191,O$5,'база 2013'!$O$4:$O$1191,O$7)","v":0},{"$f":"COUNTIFS('база 2013'!$B$4:$B$1191,$B61,'база 2013'!$I$4:$I$1191,P$5,'база 2013'!$O$4:$O$1191,P$7)","v":0},{"$f":"COUNTIFS('база 2013'!$B$4:$B$1191,$B61,'база 2013'!$I$4:$I$1191,Q$5,'база 2013'!$O$4:$O$1191,Q$7)","v":0},0,0,0,{"$f":"COUNTIFS('база 2013'!$B$4:$B$1191,$B61,'база 2013'!$I$4:$I$1191,U$5,'база 2013'!$O$4:$O$1191,U$7)","v":0},{"$f":"COUNTIFS('база 2013'!$B$4:$B$1191,$B61,'база 2013'!$I$4:$I$1191,V$5,'база 2013'!$O$4:$O$1191,V$7)","v":0},{"$f":"COUNTIFS('база 2013'!$B$4:$B$1191,$B61,'база 2013'!$I$4:$I$1191,W$5,'база 2013'!$O$4:$O$1191,W$7)","v":0},{"$f":"COUNTIFS('база 2013'!$B$4:$B$1191,$B61,'база 2013'!$I$4:$I$1191,X$5,'база 2013'!$O$4:$O$1191,X$7)","v":0},{"$f":"COUNTIFS('база 2013'!$B$4:$B$1191,$B61,'база 2013'!$I$4:$I$1191,Y$5,'база 2013'!$O$4:$O$1191,Y$7)","v":0},{"$f":"COUNTIFS('база 2013'!$B$4:$B$1191,$B61,'база 2013'!$I$4:$I$1191,Z$5,'база 2013'!$O$4:$O$1191,Z$7)","v":0},{"$f":"COUNTIFS('база 2013'!$B$4:$B$1191,$B61,'база 2013'!$I$4:$I$1191,AA$5,'база 2013'!$O$4:$O$1191,AA$7)","v":0},{"$f":"COUNTIFS('база 2013'!$B$4:$B$1191,$B61,'база 2013'!$I$4:$I$1191,AB$5,'база 2013'!$O$4:$O$1191,AB$7)","v":0},{"$f":"COUNTIFS('база 2013'!$B$4:$B$1191,$B61,'база 2013'!$I$4:$I$1191,AC$5,'база 2013'!$O$4:$O$1191,AC$7)","v":0},0,0,0,{"$f":"COUNTIFS('база 2013'!$B$4:$B$1191,$B61,'база 2013'!$I$4:$I$1191,AG$5,'база 2013'!$O$4:$O$1191,AG$7)","v":0},{"$f":"COUNTIFS('база 2013'!$B$4:$B$1191,$B61,'база 2013'!$I$4:$I$1191,AH$5,'база 2013'!$O$4:$O$1191,AH$7)","v":0},{"$f":"COUNTIFS('база 2013'!$B$4:$B$1191,$B61,'база 2013'!$I$4:$I$1191,AI$5,'база 2013'!$O$4:$O$1191,AI$7)","v":0},{"$f":"COUNTIFS('база 2013'!$B$4:$B$1191,$B61,'база 2013'!$I$4:$I$1191,AJ$5,'база 2013'!$O$4:$O$1191,AJ$7)","v":0},{"$f":"COUNTIFS('база 2013'!$B$4:$B$1191,$B61,'база 2013'!$I$4:$I$1191,AK$5,'база 2013'!$O$4:$O$1191,AK$7)","v":0},{"$f":"COUNTIFS('база 2013'!$B$4:$B$1191,$B61,'база 2013'!$I$4:$I$1191,AL$5,'база 2013'!$O$4:$O$1191,AL$7)","v":0},{"$f":"COUNTIFS('база 2013'!$B$4:$B$1191,$B61,'база 2013'!$I$4:$I$1191,AM$5,'база 2013'!$O$4:$O$1191,AM$7)","v":0},{"$f":"COUNTIFS('база 2013'!$B$4:$B$1191,$B61,'база 2013'!$I$4:$I$1191,AN$5,'база 2013'!$O$4:$O$1191,AN$7)","v":0},{"$f":"COUNTIFS('база 2013'!$B$4:$B$1191,$B61,'база 2013'!$I$4:$I$1191,AO$5,'база 2013'!$O$4:$O$1191,AO$7)","v":0},{"$f":"COUNTIFS('база 2013'!$B$4:$B$1191,$B61,'база 2013'!$I$4:$I$1191,AP$5,'база 2013'!$O$4:$O$1191,AP$7)","v":0},{"$f":"COUNTIFS('база 2013'!$B$4:$B$1191,$B61,'база 2013'!$I$4:$I$1191,AQ$5,'база 2013'!$O$4:$O$1191,AQ$7)","v":0},{"$f":"COUNTIFS('база 2013'!$B$4:$B$1191,$B61,'база 2013'!$I$4:$I$1191,AR$5,'база 2013'!$O$4:$O$1191,AR$7)","v":0},{"$f":"COUNTIFS('база 2013'!$B$4:$B$1191,$B61,'база 2013'!$I$4:$I$1191,AS$5,'база 2013'!$O$4:$O$1191,AS$7)","v":0},{"$f":"COUNTIFS('база 2013'!$B$4:$B$1191,$B61,'база 2013'!$I$4:$I$1191,AT$5,'база 2013'!$O$4:$O$1191,AT$7)","v":0},{"$f":"COUNTIFS('база 2013'!$B$4:$B$1191,$B61,'база 2013'!$I$4:$I$1191,AU$5,'база 2013'!$O$4:$O$1191,AU$7)","v":0},{"$f":"COUNTIFS('база 2013'!$B$4:$B$1191,$B61,'база 2013'!$I$4:$I$1191,AV$5,'база 2013'!$O$4:$O$1191,AV$7)","v":0},{"$f":"COUNTIFS('база 2013'!$B$4:$B$1191,$B61,'база 2013'!$I$4:$I$1191,AW$5,'база 2013'!$O$4:$O$1191,AW$7)","v":0},{"$f":"COUNTIFS('база 2013'!$B$4:$B$1191,$B61,'база 2013'!$I$4:$I$1191,AX$5,'база 2013'!$O$4:$O$1191,AX$7)","v":0},0,0,0,0,0,0,{"$f":"SUM(BB61:BD61)","v":0}]
[55,"Сават",{"$f":"COUNTIFS('база 2013'!$B$4:$B$1191,$B62,'база 2013'!$I$4:$I$1191,C$5,'база 2013'!$O$4:$O$1191,C$7)","v":0},{"$f":"COUNTIFS('база 2013'!$B$4:$B$1191,$B62,'база 2013'!$I$4:$I$1191,D$5,'база 2013'!$O$4:$O$1191,D$7)","v":0},{"$f":"COUNTIFS('база 2013'!$B$4:$B$1191,$B62,'база 2013'!$I$4:$I$1191,E$5,'база 2013'!$O$4:$O$1191,E$7)","v":0},{"$f":"COUNTIFS('база 2013'!$B$4:$B$1191,$B62,'база 2013'!$I$4:$I$1191,F$5,'база 2013'!$O$4:$O$1191,F$7)","v":0},{"$f":"COUNTIFS('база 2013'!$B$4:$B$1191,$B62,'база 2013'!$I$4:$I$1191,G$5,'база 2013'!$O$4:$O$1191,G$7)","v":0},{"$f":"COUNTIFS('база 2013'!$B$4:$B$1191,$B62,'база 2013'!$I$4:$I$1191,H$5,'база 2013'!$O$4:$O$1191,H$7)","v":0},{"$f":"COUNTIFS('база 2013'!$B$4:$B$1191,$B62,'база 2013'!$I$4:$I$1191,I$5,'база 2013'!$O$4:$O$1191,I$7)","v":0},{"$f":"COUNTIFS('база 2013'!$B$4:$B$1191,$B62,'база 2013'!$I$4:$I$1191,J$5,'база 2013'!$O$4:$O$1191,J$7)","v":0},{"$f":"COUNTIFS('база 2013'!$B$4:$B$1191,$B62,'база 2013'!$I$4:$I$1191,K$5,'база 2013'!$O$4:$O$1191,K$7)","v":0},{"$f":"COUNTIFS('база 2013'!$B$4:$B$1191,$B62,'база 2013'!$I$4:$I$1191,L$5,'база 2013'!$O$4:$O$1191,L$7)","v":0},{"$f":"COUNTIFS('база 2013'!$B$4:$B$1191,$B62,'база 2013'!$I$4:$I$1191,M$5,'база 2013'!$O$4:$O$1191,M$7)","v":0},{"$f":"COUNTIFS('база 2013'!$B$4:$B$1191,$B62,'база 2013'!$I$4:$I$1191,N$5,'база 2013'!$O$4:$O$1191,N$7)","v":0},{"$f":"COUNTIFS('база 2013'!$B$4:$B$1191,$B62,'база 2013'!$I$4:$I$1191,O$5,'база 2013'!$O$4:$O$1191,O$7)","v":0},{"$f":"COUNTIFS('база 2013'!$B$4:$B$1191,$B62,'база 2013'!$I$4:$I$1191,P$5,'база 2013'!$O$4:$O$1191,P$7)","v":0},{"$f":"COUNTIFS('база 2013'!$B$4:$B$1191,$B62,'база 2013'!$I$4:$I$1191,Q$5,'база 2013'!$O$4:$O$1191,Q$7)","v":0},{"$f":"SUMIF($F$7:$Q$7,$R$7,F62:Q62)","v":0},0,0,{"$f":"COUNTIFS('база 2013'!$B$4:$B$1191,$B62,'база 2013'!$I$4:$I$1191,U$5,'база 2013'!$O$4:$O$1191,U$7)","v":0},{"$f":"COUNTIFS('база 2013'!$B$4:$B$1191,$B62,'база 2013'!$I$4:$I$1191,V$5,'база 2013'!$O$4:$O$1191,V$7)","v":0},{"$f":"COUNTIFS('база 2013'!$B$4:$B$1191,$B62,'база 2013'!$I$4:$I$1191,W$5,'база 2013'!$O$4:$O$1191,W$7)","v":0},{"$f":"COUNTIFS('база 2013'!$B$4:$B$1191,$B62,'база 2013'!$I$4:$I$1191,X$5,'база 2013'!$O$4:$O$1191,X$7)","v":0},{"$f":"COUNTIFS('база 2013'!$B$4:$B$1191,$B62,'база 2013'!$I$4:$I$1191,Y$5,'база 2013'!$O$4:$O$1191,Y$7)","v":0},{"$f":"COUNTIFS('база 2013'!$B$4:$B$1191,$B62,'база 2013'!$I$4:$I$1191,Z$5,'база 2013'!$O$4:$O$1191,Z$7)","v":0},{"$f":"COUNTIFS('база 2013'!$B$4:$B$1191,$B62,'база 2013'!$I$4:$I$1191,AA$5,'база 2013'!$O$4:$O$1191,AA$7)","v":0},{"$f":"COUNTIFS('база 2013'!$B$4:$B$1191,$B62,'база 2013'!$I$4:$I$1191,AB$5,'база 2013'!$O$4:$O$1191,AB$7)","v":0},{"$f":"COUNTIFS('база 2013'!$B$4:$B$1191,$B62,'база 2013'!$I$4:$I$1191,AC$5,'база 2013'!$O$4:$O$1191,AC$7)","v":0},0,0,0,{"$f":"COUNTIFS('база 2013'!$B$4:$B$1191,$B62,'база 2013'!$I$4:$I$1191,AG$5,'база 2013'!$O$4:$O$1191,AG$7)","v":0},{"$f":"COUNTIFS('база 2013'!$B$4:$B$1191,$B62,'база 2013'!$I$4:$I$1191,AH$5,'база 2013'!$O$4:$O$1191,AH$7)","v":0},{"$f":"COUNTIFS('база 2013'!$B$4:$B$1191,$B62,'база 2013'!$I$4:$I$1191,AI$5,'база 2013'!$O$4:$O$1191,AI$7)","v":0},{"$f":"COUNTIFS('база 2013'!$B$4:$B$1191,$B62,'база 2013'!$I$4:$I$1191,AJ$5,'база 2013'!$O$4:$O$1191,AJ$7)","v":0},{"$f":"COUNTIFS('база 2013'!$B$4:$B$1191,$B62,'база 2013'!$I$4:$I$1191,AK$5,'база 2013'!$O$4:$O$1191,AK$7)","v":0},{"$f":"COUNTIFS('база 2013'!$B$4:$B$1191,$B62,'база 2013'!$I$4:$I$1191,AL$5,'база 2013'!$O$4:$O$1191,AL$7)","v":0},{"$f":"COUNTIFS('база 2013'!$B$4:$B$1191,$B62,'база 2013'!$I$4:$I$1191,AM$5,'база 2013'!$O$4:$O$1191,AM$7)","v":0},{"$f":"COUNTIFS('база 2013'!$B$4:$B$1191,$B62,'база 2013'!$I$4:$I$1191,AN$5,'база 2013'!$O$4:$O$1191,AN$7)","v":0},{"$f":"COUNTIFS('база 2013'!$B$4:$B$1191,$B62,'база 2013'!$I$4:$I$1191,AO$5,'база 2013'!$O$4:$O$1191,AO$7)","v":0},{"$f":"COUNTIFS('база 2013'!$B$4:$B$1191,$B62,'база 2013'!$I$4:$I$1191,AP$5,'база 2013'!$O$4:$O$1191,AP$7)","v":0},{"$f":"COUNTIFS('база 2013'!$B$4:$B$1191,$B62,'база 2013'!$I$4:$I$1191,AQ$5,'база 2013'!$O$4:$O$1191,AQ$7)","v":0},{"$f":"COUNTIFS('база 2013'!$B$4:$B$1191,$B62,'база 2013'!$I$4:$I$1191,AR$5,'база 2013'!$O$4:$O$1191,AR$7)","v":0},{"$f":"COUNTIFS('база 2013'!$B$4:$B$1191,$B62,'база 2013'!$I$4:$I$1191,AS$5,'база 2013'!$O$4:$O$1191,AS$7)","v":0},{"$f":"COUNTIFS('база 2013'!$B$4:$B$1191,$B62,'база 2013'!$I$4:$I$1191,AT$5,'база 2013'!$O$4:$O$1191,AT$7)","v":0},{"$f":"COUNTIFS('база 2013'!$B$4:$B$1191,$B62,'база 2013'!$I$4:$I$1191,AU$5,'база 2013'!$O$4:$O$1191,AU$7)","v":0},{"$f":"COUNTIFS('база 2013'!$B$4:$B$1191,$B62,'база 2013'!$I$4:$I$1191,AV$5,'база 2013'!$O$4:$O$1191,AV$7)","v":0},{"$f":"COUNTIFS('база 2013'!$B$4:$B$1191,$B62,'база 2013'!$I$4:$I$1191,AW$5,'база 2013'!$O$4:$O$1191,AW$7)","v":0},{"$f":"COUNTIFS('база 2013'!$B$4:$B$1191,$B62,'база 2013'!$I$4:$I$1191,AX$5,'база 2013'!$O$4:$O$1191,AX$7)","v":0},0,0,0,0,0,0,{"$f":"SUM(BB62:BD62)","v":0}]
[56,"Самбо",{"$f":"COUNTIFS('база 2013'!$B$4:$B$1191,$B63,'база 2013'!$I$4:$I$1191,C$5,'база 2013'!$O$4:$O$1191,C$7)","v":0},{"$f":"COUNTIFS('база 2013'!$B$4:$B$1191,$B63,'база 2013'!$I$4:$I$1191,D$5,'база 2013'!$O$4:$O$1191,D$7)","v":0},{"$f":"COUNTIFS('база 2013'!$B$4:$B$1191,$B63,'база 2013'!$I$4:$I$1191,E$5,'база 2013'!$O$4:$O$1191,E$7)","v":0},{"$f":"COUNTIFS('база 2013'!$B$4:$B$1191,$B63,'база 2013'!$I$4:$I$1191,F$5,'база 2013'!$O$4:$O$1191,F$7)","v":0},{"$f":"COUNTIFS('база 2013'!$B$4:$B$1191,$B63,'база 2013'!$I$4:$I$1191,G$5,'база 2013'!$O$4:$O$1191,G$7)","v":0},{"$f":"COUNTIFS('база 2013'!$B$4:$B$1191,$B63,'база 2013'!$I$4:$I$1191,H$5,'база 2013'!$O$4:$O$1191,H$7)","v":0},{"$f":"COUNTIFS('база 2013'!$B$4:$B$1191,$B63,'база 2013'!$I$4:$I$1191,I$5,'база 2013'!$O$4:$O$1191,I$7)","v":0},{"$f":"COUNTIFS('база 2013'!$B$4:$B$1191,$B63,'база 2013'!$I$4:$I$1191,J$5,'база 2013'!$O$4:$O$1191,J$7)","v":0},{"$f":"COUNTIFS('база 2013'!$B$4:$B$1191,$B63,'база 2013'!$I$4:$I$1191,K$5,'база 2013'!$O$4:$O$1191,K$7)","v":0},{"$f":"COUNTIFS('база 2013'!$B$4:$B$1191,$B63,'база 2013'!$I$4:$I$1191,L$5,'база 2013'!$O$4:$O$1191,L$7)","v":0},{"$f":"COUNTIFS('база 2013'!$B$4:$B$1191,$B63,'база 2013'!$I$4:$I$1191,M$5,'база 2013'!$O$4:$O$1191,M$7)","v":0},{"$f":"COUNTIFS('база 2013'!$B$4:$B$1191,$B63,'база 2013'!$I$4:$I$1191,N$5,'база 2013'!$O$4:$O$1191,N$7)","v":0},{"$f":"COUNTIFS('база 2013'!$B$4:$B$1191,$B63,'база 2013'!$I$4:$I$1191,O$5,'база 2013'!$O$4:$O$1191,O$7)","v":0},{"$f":"COUNTIFS('база 2013'!$B$4:$B$1191,$B63,'база 2013'!$I$4:$I$1191,P$5,'база 2013'!$O$4:$O$1191,P$7)","v":0},{"$f":"COUNTIFS('база 2013'!$B$4:$B$1191,$B63,'база 2013'!$I$4:$I$1191,Q$5,'база 2013'!$O$4:$O$1191,Q$7)","v":0},0,0,0,{"$f":"COUNTIFS('база 2013'!$B$4:$B$1191,$B63,'база 2013'!$I$4:$I$1191,U$5,'база 2013'!$O$4:$O$1191,U$7)","v":0},{"$f":"COUNTIFS('база 2013'!$B$4:$B$1191,$B63,'база 2013'!$I$4:$I$1191,V$5,'база 2013'!$O$4:$O$1191,V$7)","v":0},{"$f":"COUNTIFS('база 2013'!$B$4:$B$1191,$B63,'база 2013'!$I$4:$I$1191,W$5,'база 2013'!$O$4:$O$1191,W$7)","v":0},{"$f":"COUNTIFS('база 2013'!$B$4:$B$1191,$B63,'база 2013'!$I$4:$I$1191,X$5,'база 2013'!$O$4:$O$1191,X$7)","v":0},{"$f":"COUNTIFS('база 2013'!$B$4:$B$1191,$B63,'база 2013'!$I$4:$I$1191,Y$5,'база 2013'!$O$4:$O$1191,Y$7)","v":0},{"$f":"COUNTIFS('база 2013'!$B$4:$B$1191,$B63,'база 2013'!$I$4:$I$1191,Z$5,'база 2013'!$O$4:$O$1191,Z$7)","v":0},{"$f":"COUNTIFS('база 2013'!$B$4:$B$1191,$B63,'база 2013'!$I$4:$I$1191,AA$5,'база 2013'!$O$4:$O$1191,AA$7)","v":0},{"$f":"COUNTIFS('база 2013'!$B$4:$B$1191,$B63,'база 2013'!$I$4:$I$1191,AB$5,'база 2013'!$O$4:$O$1191,AB$7)","v":0},{"$f":"COUNTIFS('база 2013'!$B$4:$B$1191,$B63,'база 2013'!$I$4:$I$1191,AC$5,'база 2013'!$O$4:$O$1191,AC$7)","v":0},0,0,0,{"$f":"COUNTIFS('база 2013'!$B$4:$B$1191,$B63,'база 2013'!$I$4:$I$1191,AG$5,'база 2013'!$O$4:$O$1191,AG$7)","v":0},{"$f":"COUNTIFS('база 2013'!$B$4:$B$1191,$B63,'база 2013'!$I$4:$I$1191,AH$5,'база 2013'!$O$4:$O$1191,AH$7)","v":0},{"$f":"COUNTIFS('база 2013'!$B$4:$B$1191,$B63,'база 2013'!$I$4:$I$1191,AI$5,'база 2013'!$O$4:$O$1191,AI$7)","v":0},{"$f":"COUNTIFS('база 2013'!$B$4:$B$1191,$B63,'база 2013'!$I$4:$I$1191,AJ$5,'база 2013'!$O$4:$O$1191,AJ$7)","v":0},{"$f":"COUNTIFS('база 2013'!$B$4:$B$1191,$B63,'база 2013'!$I$4:$I$1191,AK$5,'база 2013'!$O$4:$O$1191,AK$7)","v":0},{"$f":"COUNTIFS('база 2013'!$B$4:$B$1191,$B63,'база 2013'!$I$4:$I$1191,AL$5,'база 2013'!$O$4:$O$1191,AL$7)","v":0},{"$f":"COUNTIFS('база 2013'!$B$4:$B$1191,$B63,'база 2013'!$I$4:$I$1191,AM$5,'база 2013'!$O$4:$O$1191,AM$7)","v":0},{"$f":"COUNTIFS('база 2013'!$B$4:$B$1191,$B63,'база 2013'!$I$4:$I$1191,AN$5,'база 2013'!$O$4:$O$1191,AN$7)","v":0},{"$f":"COUNTIFS('база 2013'!$B$4:$B$1191,$B63,'база 2013'!$I$4:$I$1191,AO$5,'база 2013'!$O$4:$O$1191,AO$7)","v":0},{"$f":"COUNTIFS('база 2013'!$B$4:$B$1191,$B63,'база 2013'!$I$4:$I$1191,AP$5,'база 2013'!$O$4:$O$1191,AP$7)","v":0},{"$f":"COUNTIFS('база 2013'!$B$4:$B$1191,$B63,'база 2013'!$I$4:$I$1191,AQ$5,'база 2013'!$O$4:$O$1191,AQ$7)","v":0},{"$f":"COUNTIFS('база 2013'!$B$4:$B$1191,$B63,'база 2013'!$I$4:$I$1191,AR$5,'база 2013'!$O$4:$O$1191,AR$7)","v":0},{"$f":"COUNTIFS('база 2013'!$B$4:$B$1191,$B63,'база 2013'!$I$4:$I$1191,AS$5,'база 2013'!$O$4:$O$1191,AS$7)","v":0},{"$f":"COUNTIFS('база 2013'!$B$4:$B$1191,$B63,'база 2013'!$I$4:$I$1191,AT$5,'база 2013'!$O$4:$O$1191,AT$7)","v":0},{"$f":"COUNTIFS('база 2013'!$B$4:$B$1191,$B63,'база 2013'!$I$4:$I$1191,AU$5,'база 2013'!$O$4:$O$1191,AU$7)","v":0},{"$f":"COUNTIFS('база 2013'!$B$4:$B$1191,$B63,'база 2013'!$I$4:$I$1191,AV$5,'база 2013'!$O$4:$O$1191,AV$7)","v":0},{"$f":"COUNTIFS('база 2013'!$B$4:$B$1191,$B63,'база 2013'!$I$4:$I$1191,AW$5,'база 2013'!$O$4:$O$1191,AW$7)","v":0},{"$f":"COUNTIFS('база 2013'!$B$4:$B$1191,$B63,'база 2013'!$I$4:$I$1191,AX$5,'база 2013'!$O$4:$O$1191,AX$7)","v":0},0,0,0,0,0,0,0]
[57,"Смешанное боевое единоборство (ММА)",{"$f":"COUNTIFS('база 2013'!$B$4:$B$1191,$B64,'база 2013'!$I$4:$I$1191,C$5,'база 2013'!$O$4:$O$1191,C$7)","v":0},{"$f":"COUNTIFS('база 2013'!$B$4:$B$1191,$B64,'база 2013'!$I$4:$I$1191,D$5,'база 2013'!$O$4:$O$1191,D$7)","v":0},{"$f":"COUNTIFS('база 2013'!$B$4:$B$1191,$B64,'база 2013'!$I$4:$I$1191,E$5,'база 2013'!$O$4:$O$1191,E$7)","v":0},{"$f":"COUNTIFS('база 2013'!$B$4:$B$1191,$B64,'база 2013'!$I$4:$I$1191,F$5,'база 2013'!$O$4:$O$1191,F$7)","v":0},{"$f":"COUNTIFS('база 2013'!$B$4:$B$1191,$B64,'база 2013'!$I$4:$I$1191,G$5,'база 2013'!$O$4:$O$1191,G$7)","v":0},{"$f":"COUNTIFS('база 2013'!$B$4:$B$1191,$B64,'база 2013'!$I$4:$I$1191,H$5,'база 2013'!$O$4:$O$1191,H$7)","v":0},{"$f":"COUNTIFS('база 2013'!$B$4:$B$1191,$B64,'база 2013'!$I$4:$I$1191,I$5,'база 2013'!$O$4:$O$1191,I$7)","v":0},{"$f":"COUNTIFS('база 2013'!$B$4:$B$1191,$B64,'база 2013'!$I$4:$I$1191,J$5,'база 2013'!$O$4:$O$1191,J$7)","v":0},{"$f":"COUNTIFS('база 2013'!$B$4:$B$1191,$B64,'база 2013'!$I$4:$I$1191,K$5,'база 2013'!$O$4:$O$1191,K$7)","v":0},{"$f":"COUNTIFS('база 2013'!$B$4:$B$1191,$B64,'база 2013'!$I$4:$I$1191,L$5,'база 2013'!$O$4:$O$1191,L$7)","v":0},{"$f":"COUNTIFS('база 2013'!$B$4:$B$1191,$B64,'база 2013'!$I$4:$I$1191,M$5,'база 2013'!$O$4:$O$1191,M$7)","v":0},{"$f":"COUNTIFS('база 2013'!$B$4:$B$1191,$B64,'база 2013'!$I$4:$I$1191,N$5,'база 2013'!$O$4:$O$1191,N$7)","v":0},{"$f":"COUNTIFS('база 2013'!$B$4:$B$1191,$B64,'база 2013'!$I$4:$I$1191,O$5,'база 2013'!$O$4:$O$1191,O$7)","v":0},{"$f":"COUNTIFS('база 2013'!$B$4:$B$1191,$B64,'база 2013'!$I$4:$I$1191,P$5,'база 2013'!$O$4:$O$1191,P$7)","v":0},{"$f":"COUNTIFS('база 2013'!$B$4:$B$1191,$B64,'база 2013'!$I$4:$I$1191,Q$5,'база 2013'!$O$4:$O$1191,Q$7)","v":0},{"$f":"SUMIF($F$7:$Q$7,$R$7,F64:Q64)","v":0},0,0,{"$f":"COUNTIFS('база 2013'!$B$4:$B$1191,$B64,'база 2013'!$I$4:$I$1191,U$5,'база 2013'!$O$4:$O$1191,U$7)","v":0},{"$f":"COUNTIFS('база 2013'!$B$4:$B$1191,$B64,'база 2013'!$I$4:$I$1191,V$5,'база 2013'!$O$4:$O$1191,V$7)","v":0},{"$f":"COUNTIFS('база 2013'!$B$4:$B$1191,$B64,'база 2013'!$I$4:$I$1191,W$5,'база 2013'!$O$4:$O$1191,W$7)","v":0},{"$f":"COUNTIFS('база 2013'!$B$4:$B$1191,$B64,'база 2013'!$I$4:$I$1191,X$5,'база 2013'!$O$4:$O$1191,X$7)","v":0},{"$f":"COUNTIFS('база 2013'!$B$4:$B$1191,$B64,'база 2013'!$I$4:$I$1191,Y$5,'база 2013'!$O$4:$O$1191,Y$7)","v":0},{"$f":"COUNTIFS('база 2013'!$B$4:$B$1191,$B64,'база 2013'!$I$4:$I$1191,Z$5,'база 2013'!$O$4:$O$1191,Z$7)","v":0},{"$f":"COUNTIFS('база 2013'!$B$4:$B$1191,$B64,'база 2013'!$I$4:$I$1191,AA$5,'база 2013'!$O$4:$O$1191,AA$7)","v":0},{"$f":"COUNTIFS('база 2013'!$B$4:$B$1191,$B64,'база 2013'!$I$4:$I$1191,AB$5,'база 2013'!$O$4:$O$1191,AB$7)","v":0},{"$f":"COUNTIFS('база 2013'!$B$4:$B$1191,$B64,'база 2013'!$I$4:$I$1191,AC$5,'база 2013'!$O$4:$O$1191,AC$7)","v":0},0,0,0,{"$f":"COUNTIFS('база 2013'!$B$4:$B$1191,$B64,'база 2013'!$I$4:$I$1191,AG$5,'база 2013'!$O$4:$O$1191,AG$7)","v":0},{"$f":"COUNTIFS('база 2013'!$B$4:$B$1191,$B64,'база 2013'!$I$4:$I$1191,AH$5,'база 2013'!$O$4:$O$1191,AH$7)","v":0},{"$f":"COUNTIFS('база 2013'!$B$4:$B$1191,$B64,'база 2013'!$I$4:$I$1191,AI$5,'база 2013'!$O$4:$O$1191,AI$7)","v":0},{"$f":"COUNTIFS('база 2013'!$B$4:$B$1191,$B64,'база 2013'!$I$4:$I$1191,AJ$5,'база 2013'!$O$4:$O$1191,AJ$7)","v":0},{"$f":"COUNTIFS('база 2013'!$B$4:$B$1191,$B64,'база 2013'!$I$4:$I$1191,AK$5,'база 2013'!$O$4:$O$1191,AK$7)","v":0},{"$f":"COUNTIFS('база 2013'!$B$4:$B$1191,$B64,'база 2013'!$I$4:$I$1191,AL$5,'база 2013'!$O$4:$O$1191,AL$7)","v":0},{"$f":"COUNTIFS('база 2013'!$B$4:$B$1191,$B64,'база 2013'!$I$4:$I$1191,AM$5,'база 2013'!$O$4:$O$1191,AM$7)","v":0},{"$f":"COUNTIFS('база 2013'!$B$4:$B$1191,$B64,'база 2013'!$I$4:$I$1191,AN$5,'база 2013'!$O$4:$O$1191,AN$7)","v":0},{"$f":"COUNTIFS('база 2013'!$B$4:$B$1191,$B64,'база 2013'!$I$4:$I$1191,AO$5,'база 2013'!$O$4:$O$1191,AO$7)","v":0},{"$f":"COUNTIFS('база 2013'!$B$4:$B$1191,$B64,'база 2013'!$I$4:$I$1191,AP$5,'база 2013'!$O$4:$O$1191,AP$7)","v":0},{"$f":"COUNTIFS('база 2013'!$B$4:$B$1191,$B64,'база 2013'!$I$4:$I$1191,AQ$5,'база 2013'!$O$4:$O$1191,AQ$7)","v":0},{"$f":"COUNTIFS('база 2013'!$B$4:$B$1191,$B64,'база 2013'!$I$4:$I$1191,AR$5,'база 2013'!$O$4:$O$1191,AR$7)","v":0},{"$f":"COUNTIFS('база 2013'!$B$4:$B$1191,$B64,'база 2013'!$I$4:$I$1191,AS$5,'база 2013'!$O$4:$O$1191,AS$7)","v":0},{"$f":"COUNTIFS('база 2013'!$B$4:$B$1191,$B64,'база 2013'!$I$4:$I$1191,AT$5,'база 2013'!$O$4:$O$1191,AT$7)","v":0},{"$f":"COUNTIFS('база 2013'!$B$4:$B$1191,$B64,'база 2013'!$I$4:$I$1191,AU$5,'база 2013'!$O$4:$O$1191,AU$7)","v":0},{"$f":"COUNTIFS('база 2013'!$B$4:$B$1191,$B64,'база 2013'!$I$4:$I$1191,AV$5,'база 2013'!$O$4:$O$1191,AV$7)","v":0},{"$f":"COUNTIFS('база 2013'!$B$4:$B$1191,$B64,'база 2013'!$I$4:$I$1191,AW$5,'база 2013'!$O$4:$O$1191,AW$7)","v":0},{"$f":"COUNTIFS('база 2013'!$B$4:$B$1191,$B64,'база 2013'!$I$4:$I$1191,AX$5,'база 2013'!$O$4:$O$1191,AX$7)","v":0},0,0,0,0,0,0,{"$f":"SUM(BB64:BD64)","v":0}]
[58,"Современное пятиборье",{"$f":"COUNTIFS('база 2013'!$B$4:$B$1191,$B65,'база 2013'!$I$4:$I$1191,C$5,'база 2013'!$O$4:$O$1191,C$7)","v":0},{"$f":"COUNTIFS('база 2013'!$B$4:$B$1191,$B65,'база 2013'!$I$4:$I$1191,D$5,'база 2013'!$O$4:$O$1191,D$7)","v":0},{"$f":"COUNTIFS('база 2013'!$B$4:$B$1191,$B65,'база 2013'!$I$4:$I$1191,E$5,'база 2013'!$O$4:$O$1191,E$7)","v":0},{"$f":"COUNTIFS('база 2013'!$B$4:$B$1191,$B65,'база 2013'!$I$4:$I$1191,F$5,'база 2013'!$O$4:$O$1191,F$7)","v":0},{"$f":"COUNTIFS('база 2013'!$B$4:$B$1191,$B65,'база 2013'!$I$4:$I$1191,G$5,'база 2013'!$O$4:$O$1191,G$7)","v":0},{"$f":"COUNTIFS('база 2013'!$B$4:$B$1191,$B65,'база 2013'!$I$4:$I$1191,H$5,'база 2013'!$O$4:$O$1191,H$7)","v":0},{"$f":"COUNTIFS('база 2013'!$B$4:$B$1191,$B65,'база 2013'!$I$4:$I$1191,I$5,'база 2013'!$O$4:$O$1191,I$7)","v":0},{"$f":"COUNTIFS('база 2013'!$B$4:$B$1191,$B65,'база 2013'!$I$4:$I$1191,J$5,'база 2013'!$O$4:$O$1191,J$7)","v":0},{"$f":"COUNTIFS('база 2013'!$B$4:$B$1191,$B65,'база 2013'!$I$4:$I$1191,K$5,'база 2013'!$O$4:$O$1191,K$7)","v":0},{"$f":"COUNTIFS('база 2013'!$B$4:$B$1191,$B65,'база 2013'!$I$4:$I$1191,L$5,'база 2013'!$O$4:$O$1191,L$7)","v":0},{"$f":"COUNTIFS('база 2013'!$B$4:$B$1191,$B65,'база 2013'!$I$4:$I$1191,M$5,'база 2013'!$O$4:$O$1191,M$7)","v":0},{"$f":"COUNTIFS('база 2013'!$B$4:$B$1191,$B65,'база 2013'!$I$4:$I$1191,N$5,'база 2013'!$O$4:$O$1191,N$7)","v":0},{"$f":"COUNTIFS('база 2013'!$B$4:$B$1191,$B65,'база 2013'!$I$4:$I$1191,O$5,'база 2013'!$O$4:$O$1191,O$7)","v":0},{"$f":"COUNTIFS('база 2013'!$B$4:$B$1191,$B65,'база 2013'!$I$4:$I$1191,P$5,'база 2013'!$O$4:$O$1191,P$7)","v":0},{"$f":"COUNTIFS('база 2013'!$B$4:$B$1191,$B65,'база 2013'!$I$4:$I$1191,Q$5,'база 2013'!$O$4:$O$1191,Q$7)","v":0},0,0,0,{"$f":"COUNTIFS('база 2013'!$B$4:$B$1191,$B65,'база 2013'!$I$4:$I$1191,U$5,'база 2013'!$O$4:$O$1191,U$7)","v":0},{"$f":"COUNTIFS('база 2013'!$B$4:$B$1191,$B65,'база 2013'!$I$4:$I$1191,V$5,'база 2013'!$O$4:$O$1191,V$7)","v":0},{"$f":"COUNTIFS('база 2013'!$B$4:$B$1191,$B65,'база 2013'!$I$4:$I$1191,W$5,'база 2013'!$O$4:$O$1191,W$7)","v":0},{"$f":"COUNTIFS('база 2013'!$B$4:$B$1191,$B65,'база 2013'!$I$4:$I$1191,X$5,'база 2013'!$O$4:$O$1191,X$7)","v":0},{"$f":"COUNTIFS('база 2013'!$B$4:$B$1191,$B65,'база 2013'!$I$4:$I$1191,Y$5,'база 2013'!$O$4:$O$1191,Y$7)","v":0},{"$f":"COUNTIFS('база 2013'!$B$4:$B$1191,$B65,'база 2013'!$I$4:$I$1191,Z$5,'база 2013'!$O$4:$O$1191,Z$7)","v":0},{"$f":"COUNTIFS('база 2013'!$B$4:$B$1191,$B65,'база 2013'!$I$4:$I$1191,AA$5,'база 2013'!$O$4:$O$1191,AA$7)","v":0},{"$f":"COUNTIFS('база 2013'!$B$4:$B$1191,$B65,'база 2013'!$I$4:$I$1191,AB$5,'база 2013'!$O$4:$O$1191,AB$7)","v":0},{"$f":"COUNTIFS('база 2013'!$B$4:$B$1191,$B65,'база 2013'!$I$4:$I$1191,AC$5,'база 2013'!$O$4:$O$1191,AC$7)","v":0},0,0,0,{"$f":"COUNTIFS('база 2013'!$B$4:$B$1191,$B65,'база 2013'!$I$4:$I$1191,AG$5,'база 2013'!$O$4:$O$1191,AG$7)","v":0},{"$f":"COUNTIFS('база 2013'!$B$4:$B$1191,$B65,'база 2013'!$I$4:$I$1191,AH$5,'база 2013'!$O$4:$O$1191,AH$7)","v":0},{"$f":"COUNTIFS('база 2013'!$B$4:$B$1191,$B65,'база 2013'!$I$4:$I$1191,AI$5,'база 2013'!$O$4:$O$1191,AI$7)","v":0},{"$f":"COUNTIFS('база 2013'!$B$4:$B$1191,$B65,'база 2013'!$I$4:$I$1191,AJ$5,'база 2013'!$O$4:$O$1191,AJ$7)","v":0},{"$f":"COUNTIFS('база 2013'!$B$4:$B$1191,$B65,'база 2013'!$I$4:$I$1191,AK$5,'база 2013'!$O$4:$O$1191,AK$7)","v":0},{"$f":"COUNTIFS('база 2013'!$B$4:$B$1191,$B65,'база 2013'!$I$4:$I$1191,AL$5,'база 2013'!$O$4:$O$1191,AL$7)","v":0},{"$f":"COUNTIFS('база 2013'!$B$4:$B$1191,$B65,'база 2013'!$I$4:$I$1191,AM$5,'база 2013'!$O$4:$O$1191,AM$7)","v":0},{"$f":"COUNTIFS('база 2013'!$B$4:$B$1191,$B65,'база 2013'!$I$4:$I$1191,AN$5,'база 2013'!$O$4:$O$1191,AN$7)","v":0},{"$f":"COUNTIFS('база 2013'!$B$4:$B$1191,$B65,'база 2013'!$I$4:$I$1191,AO$5,'база 2013'!$O$4:$O$1191,AO$7)","v":0},{"$f":"COUNTIFS('база 2013'!$B$4:$B$1191,$B65,'база 2013'!$I$4:$I$1191,AP$5,'база 2013'!$O$4:$O$1191,AP$7)","v":0},{"$f":"COUNTIFS('база 2013'!$B$4:$B$1191,$B65,'база 2013'!$I$4:$I$1191,AQ$5,'база 2013'!$O$4:$O$1191,AQ$7)","v":0},{"$f":"COUNTIFS('база 2013'!$B$4:$B$1191,$B65,'база 2013'!$I$4:$I$1191,AR$5,'база 2013'!$O$4:$O$1191,AR$7)","v":0},{"$f":"COUNTIFS('база 2013'!$B$4:$B$1191,$B65,'база 2013'!$I$4:$I$1191,AS$5,'база 2013'!$O$4:$O$1191,AS$7)","v":0},{"$f":"COUNTIFS('база 2013'!$B$4:$B$1191,$B65,'база 2013'!$I$4:$I$1191,AT$5,'база 2013'!$O$4:$O$1191,AT$7)","v":0},{"$f":"COUNTIFS('база 2013'!$B$4:$B$1191,$B65,'база 2013'!$I$4:$I$1191,AU$5,'база 2013'!$O$4:$O$1191,AU$7)","v":0},{"$f":"COUNTIFS('база 2013'!$B$4:$B$1191,$B65,'база 2013'!$I$4:$I$1191,AV$5,'база 2013'!$O$4:$O$1191,AV$7)","v":0},{"$f":"COUNTIFS('база 2013'!$B$4:$B$1191,$B65,'база 2013'!$I$4:$I$1191,AW$5,'база 2013'!$O$4:$O$1191,AW$7)","v":0},{"$f":"COUNTIFS('база 2013'!$B$4:$B$1191,$B65,'база 2013'!$I$4:$I$1191,AX$5,'база 2013'!$O$4:$O$1191,AX$7)","v":0},0,0,0,0,0,0,0]
[59,"Спортивное ориентирование",{"$f":"COUNTIFS('база 2013'!$B$4:$B$1191,$B66,'база 2013'!$I$4:$I$1191,C$5,'база 2013'!$O$4:$O$1191,C$7)","v":0},{"$f":"COUNTIFS('база 2013'!$B$4:$B$1191,$B66,'база 2013'!$I$4:$I$1191,D$5,'база 2013'!$O$4:$O$1191,D$7)","v":0},{"$f":"COUNTIFS('база 2013'!$B$4:$B$1191,$B66,'база 2013'!$I$4:$I$1191,E$5,'база 2013'!$O$4:$O$1191,E$7)","v":0},{"$f":"COUNTIFS('база 2013'!$B$4:$B$1191,$B66,'база 2013'!$I$4:$I$1191,F$5,'база 2013'!$O$4:$O$1191,F$7)","v":0},{"$f":"COUNTIFS('база 2013'!$B$4:$B$1191,$B66,'база 2013'!$I$4:$I$1191,G$5,'база 2013'!$O$4:$O$1191,G$7)","v":0},{"$f":"COUNTIFS('база 2013'!$B$4:$B$1191,$B66,'база 2013'!$I$4:$I$1191,H$5,'база 2013'!$O$4:$O$1191,H$7)","v":0},{"$f":"COUNTIFS('база 2013'!$B$4:$B$1191,$B66,'база 2013'!$I$4:$I$1191,I$5,'база 2013'!$O$4:$O$1191,I$7)","v":0},{"$f":"COUNTIFS('база 2013'!$B$4:$B$1191,$B66,'база 2013'!$I$4:$I$1191,J$5,'база 2013'!$O$4:$O$1191,J$7)","v":0},{"$f":"COUNTIFS('база 2013'!$B$4:$B$1191,$B66,'база 2013'!$I$4:$I$1191,K$5,'база 2013'!$O$4:$O$1191,K$7)","v":0},{"$f":"COUNTIFS('база 2013'!$B$4:$B$1191,$B66,'база 2013'!$I$4:$I$1191,L$5,'база 2013'!$O$4:$O$1191,L$7)","v":0},{"$f":"COUNTIFS('база 2013'!$B$4:$B$1191,$B66,'база 2013'!$I$4:$I$1191,M$5,'база 2013'!$O$4:$O$1191,M$7)","v":0},{"$f":"COUNTIFS('база 2013'!$B$4:$B$1191,$B66,'база 2013'!$I$4:$I$1191,N$5,'база 2013'!$O$4:$O$1191,N$7)","v":0},{"$f":"COUNTIFS('база 2013'!$B$4:$B$1191,$B66,'база 2013'!$I$4:$I$1191,O$5,'база 2013'!$O$4:$O$1191,O$7)","v":0},{"$f":"COUNTIFS('база 2013'!$B$4:$B$1191,$B66,'база 2013'!$I$4:$I$1191,P$5,'база 2013'!$O$4:$O$1191,P$7)","v":0},{"$f":"COUNTIFS('база 2013'!$B$4:$B$1191,$B66,'база 2013'!$I$4:$I$1191,Q$5,'база 2013'!$O$4:$O$1191,Q$7)","v":0},0,0,0,{"$f":"COUNTIFS('база 2013'!$B$4:$B$1191,$B66,'база 2013'!$I$4:$I$1191,U$5,'база 2013'!$O$4:$O$1191,U$7)","v":0},{"$f":"COUNTIFS('база 2013'!$B$4:$B$1191,$B66,'база 2013'!$I$4:$I$1191,V$5,'база 2013'!$O$4:$O$1191,V$7)","v":0},{"$f":"COUNTIFS('база 2013'!$B$4:$B$1191,$B66,'база 2013'!$I$4:$I$1191,W$5,'база 2013'!$O$4:$O$1191,W$7)","v":0},{"$f":"COUNTIFS('база 2013'!$B$4:$B$1191,$B66,'база 2013'!$I$4:$I$1191,X$5,'база 2013'!$O$4:$O$1191,X$7)","v":0},{"$f":"COUNTIFS('база 2013'!$B$4:$B$1191,$B66,'база 2013'!$I$4:$I$1191,Y$5,'база 2013'!$O$4:$O$1191,Y$7)","v":0},{"$f":"COUNTIFS('база 2013'!$B$4:$B$1191,$B66,'база 2013'!$I$4:$I$1191,Z$5,'база 2013'!$O$4:$O$1191,Z$7)","v":0},{"$f":"COUNTIFS('база 2013'!$B$4:$B$1191,$B66,'база 2013'!$I$4:$I$1191,AA$5,'база 2013'!$O$4:$O$1191,AA$7)","v":0},{"$f":"COUNTIFS('база 2013'!$B$4:$B$1191,$B66,'база 2013'!$I$4:$I$1191,AB$5,'база 2013'!$O$4:$O$1191,AB$7)","v":0},{"$f":"COUNTIFS('база 2013'!$B$4:$B$1191,$B66,'база 2013'!$I$4:$I$1191,AC$5,'база 2013'!$O$4:$O$1191,AC$7)","v":0},0,0,0,{"$f":"COUNTIFS('база 2013'!$B$4:$B$1191,$B66,'база 2013'!$I$4:$I$1191,AG$5,'база 2013'!$O$4:$O$1191,AG$7)","v":0},{"$f":"COUNTIFS('база 2013'!$B$4:$B$1191,$B66,'база 2013'!$I$4:$I$1191,AH$5,'база 2013'!$O$4:$O$1191,AH$7)","v":0},{"$f":"COUNTIFS('база 2013'!$B$4:$B$1191,$B66,'база 2013'!$I$4:$I$1191,AI$5,'база 2013'!$O$4:$O$1191,AI$7)","v":0},{"$f":"COUNTIFS('база 2013'!$B$4:$B$1191,$B66,'база 2013'!$I$4:$I$1191,AJ$5,'база 2013'!$O$4:$O$1191,AJ$7)","v":0},{"$f":"COUNTIFS('база 2013'!$B$4:$B$1191,$B66,'база 2013'!$I$4:$I$1191,AK$5,'база 2013'!$O$4:$O$1191,AK$7)","v":0},{"$f":"COUNTIFS('база 2013'!$B$4:$B$1191,$B66,'база 2013'!$I$4:$I$1191,AL$5,'база 2013'!$O$4:$O$1191,AL$7)","v":0},{"$f":"COUNTIFS('база 2013'!$B$4:$B$1191,$B66,'база 2013'!$I$4:$I$1191,AM$5,'база 2013'!$O$4:$O$1191,AM$7)","v":0},{"$f":"COUNTIFS('база 2013'!$B$4:$B$1191,$B66,'база 2013'!$I$4:$I$1191,AN$5,'база 2013'!$O$4:$O$1191,AN$7)","v":0},{"$f":"COUNTIFS('база 2013'!$B$4:$B$1191,$B66,'база 2013'!$I$4:$I$1191,AO$5,'база 2013'!$O$4:$O$1191,AO$7)","v":0},{"$f":"COUNTIFS('база 2013'!$B$4:$B$1191,$B66,'база 2013'!$I$4:$I$1191,AP$5,'база 2013'!$O$4:$O$1191,AP$7)","v":0},{"$f":"COUNTIFS('база 2013'!$B$4:$B$1191,$B66,'база 2013'!$I$4:$I$1191,AQ$5,'база 2013'!$O$4:$O$1191,AQ$7)","v":0},{"$f":"COUNTIFS('база 2013'!$B$4:$B$1191,$B66,'база 2013'!$I$4:$I$1191,AR$5,'база 2013'!$O$4:$O$1191,AR$7)","v":0},{"$f":"COUNTIFS('база 2013'!$B$4:$B$1191,$B66,'база 2013'!$I$4:$I$1191,AS$5,'база 2013'!$O$4:$O$1191,AS$7)","v":0},{"$f":"COUNTIFS('база 2013'!$B$4:$B$1191,$B66,'база 2013'!$I$4:$I$1191,AT$5,'база 2013'!$O$4:$O$1191,AT$7)","v":0},{"$f":"COUNTIFS('база 2013'!$B$4:$B$1191,$B66,'база 2013'!$I$4:$I$1191,AU$5,'база 2013'!$O$4:$O$1191,AU$7)","v":0},{"$f":"COUNTIFS('база 2013'!$B$4:$B$1191,$B66,'база 2013'!$I$4:$I$1191,AV$5,'база 2013'!$O$4:$O$1191,AV$7)","v":0},{"$f":"COUNTIFS('база 2013'!$B$4:$B$1191,$B66,'база 2013'!$I$4:$I$1191,AW$5,'база 2013'!$O$4:$O$1191,AW$7)","v":0},{"$f":"COUNTIFS('база 2013'!$B$4:$B$1191,$B66,'база 2013'!$I$4:$I$1191,AX$5,'база 2013'!$O$4:$O$1191,AX$7)","v":0},0,0,0,0,0,0,0]
[60,"Спортивная гимнастика",{"$f":"COUNTIFS('база 2013'!$B$4:$B$1191,$B67,'база 2013'!$I$4:$I$1191,C$5,'база 2013'!$O$4:$O$1191,C$7)","v":0},{"$f":"COUNTIFS('база 2013'!$B$4:$B$1191,$B67,'база 2013'!$I$4:$I$1191,D$5,'база 2013'!$O$4:$O$1191,D$7)","v":0},{"$f":"COUNTIFS('база 2013'!$B$4:$B$1191,$B67,'база 2013'!$I$4:$I$1191,E$5,'база 2013'!$O$4:$O$1191,E$7)","v":0},{"$f":"COUNTIFS('база 2013'!$B$4:$B$1191,$B67,'база 2013'!$I$4:$I$1191,F$5,'база 2013'!$O$4:$O$1191,F$7)","v":0},{"$f":"COUNTIFS('база 2013'!$B$4:$B$1191,$B67,'база 2013'!$I$4:$I$1191,G$5,'база 2013'!$O$4:$O$1191,G$7)","v":0},{"$f":"COUNTIFS('база 2013'!$B$4:$B$1191,$B67,'база 2013'!$I$4:$I$1191,H$5,'база 2013'!$O$4:$O$1191,H$7)","v":0},{"$f":"COUNTIFS('база 2013'!$B$4:$B$1191,$B67,'база 2013'!$I$4:$I$1191,I$5,'база 2013'!$O$4:$O$1191,I$7)","v":0},{"$f":"COUNTIFS('база 2013'!$B$4:$B$1191,$B67,'база 2013'!$I$4:$I$1191,J$5,'база 2013'!$O$4:$O$1191,J$7)","v":0},{"$f":"COUNTIFS('база 2013'!$B$4:$B$1191,$B67,'база 2013'!$I$4:$I$1191,K$5,'база 2013'!$O$4:$O$1191,K$7)","v":0},{"$f":"COUNTIFS('база 2013'!$B$4:$B$1191,$B67,'база 2013'!$I$4:$I$1191,L$5,'база 2013'!$O$4:$O$1191,L$7)","v":0},{"$f":"COUNTIFS('база 2013'!$B$4:$B$1191,$B67,'база 2013'!$I$4:$I$1191,M$5,'база 2013'!$O$4:$O$1191,M$7)","v":0},{"$f":"COUNTIFS('база 2013'!$B$4:$B$1191,$B67,'база 2013'!$I$4:$I$1191,N$5,'база 2013'!$O$4:$O$1191,N$7)","v":0},{"$f":"COUNTIFS('база 2013'!$B$4:$B$1191,$B67,'база 2013'!$I$4:$I$1191,O$5,'база 2013'!$O$4:$O$1191,O$7)","v":0},{"$f":"COUNTIFS('база 2013'!$B$4:$B$1191,$B67,'база 2013'!$I$4:$I$1191,P$5,'база 2013'!$O$4:$O$1191,P$7)","v":0},{"$f":"COUNTIFS('база 2013'!$B$4:$B$1191,$B67,'база 2013'!$I$4:$I$1191,Q$5,'база 2013'!$O$4:$O$1191,Q$7)","v":0},0,0,0,{"$f":"COUNTIFS('база 2013'!$B$4:$B$1191,$B67,'база 2013'!$I$4:$I$1191,U$5,'база 2013'!$O$4:$O$1191,U$7)","v":0},{"$f":"COUNTIFS('база 2013'!$B$4:$B$1191,$B67,'база 2013'!$I$4:$I$1191,V$5,'база 2013'!$O$4:$O$1191,V$7)","v":0},{"$f":"COUNTIFS('база 2013'!$B$4:$B$1191,$B67,'база 2013'!$I$4:$I$1191,W$5,'база 2013'!$O$4:$O$1191,W$7)","v":0},{"$f":"COUNTIFS('база 2013'!$B$4:$B$1191,$B67,'база 2013'!$I$4:$I$1191,X$5,'база 2013'!$O$4:$O$1191,X$7)","v":0},{"$f":"COUNTIFS('база 2013'!$B$4:$B$1191,$B67,'база 2013'!$I$4:$I$1191,Y$5,'база 2013'!$O$4:$O$1191,Y$7)","v":0},{"$f":"COUNTIFS('база 2013'!$B$4:$B$1191,$B67,'база 2013'!$I$4:$I$1191,Z$5,'база 2013'!$O$4:$O$1191,Z$7)","v":0},{"$f":"COUNTIFS('база 2013'!$B$4:$B$1191,$B67,'база 2013'!$I$4:$I$1191,AA$5,'база 2013'!$O$4:$O$1191,AA$7)","v":0},{"$f":"COUNTIFS('база 2013'!$B$4:$B$1191,$B67,'база 2013'!$I$4:$I$1191,AB$5,'база 2013'!$O$4:$O$1191,AB$7)","v":0},{"$f":"COUNTIFS('база 2013'!$B$4:$B$1191,$B67,'база 2013'!$I$4:$I$1191,AC$5,'база 2013'!$O$4:$O$1191,AC$7)","v":0},0,0,0,{"$f":"COUNTIFS('база 2013'!$B$4:$B$1191,$B67,'база 2013'!$I$4:$I$1191,AG$5,'база 2013'!$O$4:$O$1191,AG$7)","v":0},{"$f":"COUNTIFS('база 2013'!$B$4:$B$1191,$B67,'база 2013'!$I$4:$I$1191,AH$5,'база 2013'!$O$4:$O$1191,AH$7)","v":0},{"$f":"COUNTIFS('база 2013'!$B$4:$B$1191,$B67,'база 2013'!$I$4:$I$1191,AI$5,'база 2013'!$O$4:$O$1191,AI$7)","v":0},{"$f":"COUNTIFS('база 2013'!$B$4:$B$1191,$B67,'база 2013'!$I$4:$I$1191,AJ$5,'база 2013'!$O$4:$O$1191,AJ$7)","v":0},{"$f":"COUNTIFS('база 2013'!$B$4:$B$1191,$B67,'база 2013'!$I$4:$I$1191,AK$5,'база 2013'!$O$4:$O$1191,AK$7)","v":0},{"$f":"COUNTIFS('база 2013'!$B$4:$B$1191,$B67,'база 2013'!$I$4:$I$1191,AL$5,'база 2013'!$O$4:$O$1191,AL$7)","v":0},{"$f":"COUNTIFS('база 2013'!$B$4:$B$1191,$B67,'база 2013'!$I$4:$I$1191,AM$5,'база 2013'!$O$4:$O$1191,AM$7)","v":0},{"$f":"COUNTIFS('база 2013'!$B$4:$B$1191,$B67,'база 2013'!$I$4:$I$1191,AN$5,'база 2013'!$O$4:$O$1191,AN$7)","v":0},{"$f":"COUNTIFS('база 2013'!$B$4:$B$1191,$B67,'база 2013'!$I$4:$I$1191,AO$5,'база 2013'!$O$4:$O$1191,AO$7)","v":0},{"$f":"COUNTIFS('база 2013'!$B$4:$B$1191,$B67,'база 2013'!$I$4:$I$1191,AP$5,'база 2013'!$O$4:$O$1191,AP$7)","v":0},{"$f":"COUNTIFS('база 2013'!$B$4:$B$1191,$B67,'база 2013'!$I$4:$I$1191,AQ$5,'база 2013'!$O$4:$O$1191,AQ$7)","v":0},{"$f":"COUNTIFS('база 2013'!$B$4:$B$1191,$B67,'база 2013'!$I$4:$I$1191,AR$5,'база 2013'!$O$4:$O$1191,AR$7)","v":0},{"$f":"COUNTIFS('база 2013'!$B$4:$B$1191,$B67,'база 2013'!$I$4:$I$1191,AS$5,'база 2013'!$O$4:$O$1191,AS$7)","v":0},{"$f":"COUNTIFS('база 2013'!$B$4:$B$1191,$B67,'база 2013'!$I$4:$I$1191,AT$5,'база 2013'!$O$4:$O$1191,AT$7)","v":0},{"$f":"COUNTIFS('база 2013'!$B$4:$B$1191,$B67,'база 2013'!$I$4:$I$1191,AU$5,'база 2013'!$O$4:$O$1191,AU$7)","v":0},{"$f":"COUNTIFS('база 2013'!$B$4:$B$1191,$B67,'база 2013'!$I$4:$I$1191,AV$5,'база 2013'!$O$4:$O$1191,AV$7)","v":0},{"$f":"COUNTIFS('база 2013'!$B$4:$B$1191,$B67,'база 2013'!$I$4:$I$1191,AW$5,'база 2013'!$O$4:$O$1191,AW$7)","v":0},{"$f":"COUNTIFS('база 2013'!$B$4:$B$1191,$B67,'база 2013'!$I$4:$I$1191,AX$5,'база 2013'!$O$4:$O$1191,AX$7)","v":0},0,0,0,0,0,0,{"$f":"SUM(BB67:BD67)","v":0}]
[61,"Стендовая стрельба",{"$f":"COUNTIFS('база 2013'!$B$4:$B$1191,$B68,'база 2013'!$I$4:$I$1191,C$5,'база 2013'!$O$4:$O$1191,C$7)","v":0},{"$f":"COUNTIFS('база 2013'!$B$4:$B$1191,$B68,'база 2013'!$I$4:$I$1191,D$5,'база 2013'!$O$4:$O$1191,D$7)","v":0},{"$f":"COUNTIFS('база 2013'!$B$4:$B$1191,$B68,'база 2013'!$I$4:$I$1191,E$5,'база 2013'!$O$4:$O$1191,E$7)","v":0},{"$f":"COUNTIFS('база 2013'!$B$4:$B$1191,$B68,'база 2013'!$I$4:$I$1191,F$5,'база 2013'!$O$4:$O$1191,F$7)","v":0},{"$f":"COUNTIFS('база 2013'!$B$4:$B$1191,$B68,'база 2013'!$I$4:$I$1191,G$5,'база 2013'!$O$4:$O$1191,G$7)","v":0},{"$f":"COUNTIFS('база 2013'!$B$4:$B$1191,$B68,'база 2013'!$I$4:$I$1191,H$5,'база 2013'!$O$4:$O$1191,H$7)","v":0},{"$f":"COUNTIFS('база 2013'!$B$4:$B$1191,$B68,'база 2013'!$I$4:$I$1191,I$5,'база 2013'!$O$4:$O$1191,I$7)","v":0},{"$f":"COUNTIFS('база 2013'!$B$4:$B$1191,$B68,'база 2013'!$I$4:$I$1191,J$5,'база 2013'!$O$4:$O$1191,J$7)","v":0},{"$f":"COUNTIFS('база 2013'!$B$4:$B$1191,$B68,'база 2013'!$I$4:$I$1191,K$5,'база 2013'!$O$4:$O$1191,K$7)","v":0},{"$f":"COUNTIFS('база 2013'!$B$4:$B$1191,$B68,'база 2013'!$I$4:$I$1191,L$5,'база 2013'!$O$4:$O$1191,L$7)","v":0},{"$f":"COUNTIFS('база 2013'!$B$4:$B$1191,$B68,'база 2013'!$I$4:$I$1191,M$5,'база 2013'!$O$4:$O$1191,M$7)","v":0},{"$f":"COUNTIFS('база 2013'!$B$4:$B$1191,$B68,'база 2013'!$I$4:$I$1191,N$5,'база 2013'!$O$4:$O$1191,N$7)","v":0},{"$f":"COUNTIFS('база 2013'!$B$4:$B$1191,$B68,'база 2013'!$I$4:$I$1191,O$5,'база 2013'!$O$4:$O$1191,O$7)","v":0},{"$f":"COUNTIFS('база 2013'!$B$4:$B$1191,$B68,'база 2013'!$I$4:$I$1191,P$5,'база 2013'!$O$4:$O$1191,P$7)","v":0},{"$f":"COUNTIFS('база 2013'!$B$4:$B$1191,$B68,'база 2013'!$I$4:$I$1191,Q$5,'база 2013'!$O$4:$O$1191,Q$7)","v":0},0,0,0,{"$f":"COUNTIFS('база 2013'!$B$4:$B$1191,$B68,'база 2013'!$I$4:$I$1191,U$5,'база 2013'!$O$4:$O$1191,U$7)","v":0},{"$f":"COUNTIFS('база 2013'!$B$4:$B$1191,$B68,'база 2013'!$I$4:$I$1191,V$5,'база 2013'!$O$4:$O$1191,V$7)","v":0},{"$f":"COUNTIFS('база 2013'!$B$4:$B$1191,$B68,'база 2013'!$I$4:$I$1191,W$5,'база 2013'!$O$4:$O$1191,W$7)","v":0},{"$f":"COUNTIFS('база 2013'!$B$4:$B$1191,$B68,'база 2013'!$I$4:$I$1191,X$5,'база 2013'!$O$4:$O$1191,X$7)","v":0},{"$f":"COUNTIFS('база 2013'!$B$4:$B$1191,$B68,'база 2013'!$I$4:$I$1191,Y$5,'база 2013'!$O$4:$O$1191,Y$7)","v":0},{"$f":"COUNTIFS('база 2013'!$B$4:$B$1191,$B68,'база 2013'!$I$4:$I$1191,Z$5,'база 2013'!$O$4:$O$1191,Z$7)","v":0},{"$f":"COUNTIFS('база 2013'!$B$4:$B$1191,$B68,'база 2013'!$I$4:$I$1191,AA$5,'база 2013'!$O$4:$O$1191,AA$7)","v":0},{"$f":"COUNTIFS('база 2013'!$B$4:$B$1191,$B68,'база 2013'!$I$4:$I$1191,AB$5,'база 2013'!$O$4:$O$1191,AB$7)","v":0},{"$f":"COUNTIFS('база 2013'!$B$4:$B$1191,$B68,'база 2013'!$I$4:$I$1191,AC$5,'база 2013'!$O$4:$O$1191,AC$7)","v":0},0,0,0,{"$f":"COUNTIFS('база 2013'!$B$4:$B$1191,$B68,'база 2013'!$I$4:$I$1191,AG$5,'база 2013'!$O$4:$O$1191,AG$7)","v":0},{"$f":"COUNTIFS('база 2013'!$B$4:$B$1191,$B68,'база 2013'!$I$4:$I$1191,AH$5,'база 2013'!$O$4:$O$1191,AH$7)","v":0},{"$f":"COUNTIFS('база 2013'!$B$4:$B$1191,$B68,'база 2013'!$I$4:$I$1191,AI$5,'база 2013'!$O$4:$O$1191,AI$7)","v":0},{"$f":"COUNTIFS('база 2013'!$B$4:$B$1191,$B68,'база 2013'!$I$4:$I$1191,AJ$5,'база 2013'!$O$4:$O$1191,AJ$7)","v":0},{"$f":"COUNTIFS('база 2013'!$B$4:$B$1191,$B68,'база 2013'!$I$4:$I$1191,AK$5,'база 2013'!$O$4:$O$1191,AK$7)","v":0},{"$f":"COUNTIFS('база 2013'!$B$4:$B$1191,$B68,'база 2013'!$I$4:$I$1191,AL$5,'база 2013'!$O$4:$O$1191,AL$7)","v":0},{"$f":"COUNTIFS('база 2013'!$B$4:$B$1191,$B68,'база 2013'!$I$4:$I$1191,AM$5,'база 2013'!$O$4:$O$1191,AM$7)","v":0},{"$f":"COUNTIFS('база 2013'!$B$4:$B$1191,$B68,'база 2013'!$I$4:$I$1191,AN$5,'база 2013'!$O$4:$O$1191,AN$7)","v":0},{"$f":"COUNTIFS('база 2013'!$B$4:$B$1191,$B68,'база 2013'!$I$4:$I$1191,AO$5,'база 2013'!$O$4:$O$1191,AO$7)","v":0},{"$f":"COUNTIFS('база 2013'!$B$4:$B$1191,$B68,'база 2013'!$I$4:$I$1191,AP$5,'база 2013'!$O$4:$O$1191,AP$7)","v":0},{"$f":"COUNTIFS('база 2013'!$B$4:$B$1191,$B68,'база 2013'!$I$4:$I$1191,AQ$5,'база 2013'!$O$4:$O$1191,AQ$7)","v":0},{"$f":"COUNTIFS('база 2013'!$B$4:$B$1191,$B68,'база 2013'!$I$4:$I$1191,AR$5,'база 2013'!$O$4:$O$1191,AR$7)","v":0},{"$f":"COUNTIFS('база 2013'!$B$4:$B$1191,$B68,'база 2013'!$I$4:$I$1191,AS$5,'база 2013'!$O$4:$O$1191,AS$7)","v":0},{"$f":"COUNTIFS('база 2013'!$B$4:$B$1191,$B68,'база 2013'!$I$4:$I$1191,AT$5,'база 2013'!$O$4:$O$1191,AT$7)","v":0},{"$f":"COUNTIFS('база 2013'!$B$4:$B$1191,$B68,'база 2013'!$I$4:$I$1191,AU$5,'база 2013'!$O$4:$O$1191,AU$7)","v":0},{"$f":"COUNTIFS('база 2013'!$B$4:$B$1191,$B68,'база 2013'!$I$4:$I$1191,AV$5,'база 2013'!$O$4:$O$1191,AV$7)","v":0},{"$f":"COUNTIFS('база 2013'!$B$4:$B$1191,$B68,'база 2013'!$I$4:$I$1191,AW$5,'база 2013'!$O$4:$O$1191,AW$7)","v":0},{"$f":"COUNTIFS('база 2013'!$B$4:$B$1191,$B68,'база 2013'!$I$4:$I$1191,AX$5,'база 2013'!$O$4:$O$1191,AX$7)","v":0},0,0,0,0,0,0,{"$f":"SUM(BB68:BD68)","v":0}]
[62,"Стрельба из лука",{"$f":"COUNTIFS('база 2013'!$B$4:$B$1191,$B69,'база 2013'!$I$4:$I$1191,C$5,'база 2013'!$O$4:$O$1191,C$7)","v":0},{"$f":"COUNTIFS('база 2013'!$B$4:$B$1191,$B69,'база 2013'!$I$4:$I$1191,D$5,'база 2013'!$O$4:$O$1191,D$7)","v":0},{"$f":"COUNTIFS('база 2013'!$B$4:$B$1191,$B69,'база 2013'!$I$4:$I$1191,E$5,'база 2013'!$O$4:$O$1191,E$7)","v":0},{"$f":"COUNTIFS('база 2013'!$B$4:$B$1191,$B69,'база 2013'!$I$4:$I$1191,F$5,'база 2013'!$O$4:$O$1191,F$7)","v":0},{"$f":"COUNTIFS('база 2013'!$B$4:$B$1191,$B69,'база 2013'!$I$4:$I$1191,G$5,'база 2013'!$O$4:$O$1191,G$7)","v":0},{"$f":"COUNTIFS('база 2013'!$B$4:$B$1191,$B69,'база 2013'!$I$4:$I$1191,H$5,'база 2013'!$O$4:$O$1191,H$7)","v":0},{"$f":"COUNTIFS('база 2013'!$B$4:$B$1191,$B69,'база 2013'!$I$4:$I$1191,I$5,'база 2013'!$O$4:$O$1191,I$7)","v":0},{"$f":"COUNTIFS('база 2013'!$B$4:$B$1191,$B69,'база 2013'!$I$4:$I$1191,J$5,'база 2013'!$O$4:$O$1191,J$7)","v":0},{"$f":"COUNTIFS('база 2013'!$B$4:$B$1191,$B69,'база 2013'!$I$4:$I$1191,K$5,'база 2013'!$O$4:$O$1191,K$7)","v":0},{"$f":"COUNTIFS('база 2013'!$B$4:$B$1191,$B69,'база 2013'!$I$4:$I$1191,L$5,'база 2013'!$O$4:$O$1191,L$7)","v":0},{"$f":"COUNTIFS('база 2013'!$B$4:$B$1191,$B69,'база 2013'!$I$4:$I$1191,M$5,'база 2013'!$O$4:$O$1191,M$7)","v":0},{"$f":"COUNTIFS('база 2013'!$B$4:$B$1191,$B69,'база 2013'!$I$4:$I$1191,N$5,'база 2013'!$O$4:$O$1191,N$7)","v":0},{"$f":"COUNTIFS('база 2013'!$B$4:$B$1191,$B69,'база 2013'!$I$4:$I$1191,O$5,'база 2013'!$O$4:$O$1191,O$7)","v":0},{"$f":"COUNTIFS('база 2013'!$B$4:$B$1191,$B69,'база 2013'!$I$4:$I$1191,P$5,'база 2013'!$O$4:$O$1191,P$7)","v":0},{"$f":"COUNTIFS('база 2013'!$B$4:$B$1191,$B69,'база 2013'!$I$4:$I$1191,Q$5,'база 2013'!$O$4:$O$1191,Q$7)","v":0},0,0,0,{"$f":"COUNTIFS('база 2013'!$B$4:$B$1191,$B69,'база 2013'!$I$4:$I$1191,U$5,'база 2013'!$O$4:$O$1191,U$7)","v":0},{"$f":"COUNTIFS('база 2013'!$B$4:$B$1191,$B69,'база 2013'!$I$4:$I$1191,V$5,'база 2013'!$O$4:$O$1191,V$7)","v":0},{"$f":"COUNTIFS('база 2013'!$B$4:$B$1191,$B69,'база 2013'!$I$4:$I$1191,W$5,'база 2013'!$O$4:$O$1191,W$7)","v":0},{"$f":"COUNTIFS('база 2013'!$B$4:$B$1191,$B69,'база 2013'!$I$4:$I$1191,X$5,'база 2013'!$O$4:$O$1191,X$7)","v":0},{"$f":"COUNTIFS('база 2013'!$B$4:$B$1191,$B69,'база 2013'!$I$4:$I$1191,Y$5,'база 2013'!$O$4:$O$1191,Y$7)","v":0},{"$f":"COUNTIFS('база 2013'!$B$4:$B$1191,$B69,'база 2013'!$I$4:$I$1191,Z$5,'база 2013'!$O$4:$O$1191,Z$7)","v":0},{"$f":"COUNTIFS('база 2013'!$B$4:$B$1191,$B69,'база 2013'!$I$4:$I$1191,AA$5,'база 2013'!$O$4:$O$1191,AA$7)","v":0},{"$f":"COUNTIFS('база 2013'!$B$4:$B$1191,$B69,'база 2013'!$I$4:$I$1191,AB$5,'база 2013'!$O$4:$O$1191,AB$7)","v":0},{"$f":"COUNTIFS('база 2013'!$B$4:$B$1191,$B69,'база 2013'!$I$4:$I$1191,AC$5,'база 2013'!$O$4:$O$1191,AC$7)","v":0},0,0,0,{"$f":"COUNTIFS('база 2013'!$B$4:$B$1191,$B69,'база 2013'!$I$4:$I$1191,AG$5,'база 2013'!$O$4:$O$1191,AG$7)","v":0},{"$f":"COUNTIFS('база 2013'!$B$4:$B$1191,$B69,'база 2013'!$I$4:$I$1191,AH$5,'база 2013'!$O$4:$O$1191,AH$7)","v":0},{"$f":"COUNTIFS('база 2013'!$B$4:$B$1191,$B69,'база 2013'!$I$4:$I$1191,AI$5,'база 2013'!$O$4:$O$1191,AI$7)","v":0},{"$f":"COUNTIFS('база 2013'!$B$4:$B$1191,$B69,'база 2013'!$I$4:$I$1191,AJ$5,'база 2013'!$O$4:$O$1191,AJ$7)","v":0},{"$f":"COUNTIFS('база 2013'!$B$4:$B$1191,$B69,'база 2013'!$I$4:$I$1191,AK$5,'база 2013'!$O$4:$O$1191,AK$7)","v":0},{"$f":"COUNTIFS('база 2013'!$B$4:$B$1191,$B69,'база 2013'!$I$4:$I$1191,AL$5,'база 2013'!$O$4:$O$1191,AL$7)","v":0},{"$f":"COUNTIFS('база 2013'!$B$4:$B$1191,$B69,'база 2013'!$I$4:$I$1191,AM$5,'база 2013'!$O$4:$O$1191,AM$7)","v":0},{"$f":"COUNTIFS('база 2013'!$B$4:$B$1191,$B69,'база 2013'!$I$4:$I$1191,AN$5,'база 2013'!$O$4:$O$1191,AN$7)","v":0},{"$f":"COUNTIFS('база 2013'!$B$4:$B$1191,$B69,'база 2013'!$I$4:$I$1191,AO$5,'база 2013'!$O$4:$O$1191,AO$7)","v":0},{"$f":"COUNTIFS('база 2013'!$B$4:$B$1191,$B69,'база 2013'!$I$4:$I$1191,AP$5,'база 2013'!$O$4:$O$1191,AP$7)","v":0},{"$f":"COUNTIFS('база 2013'!$B$4:$B$1191,$B69,'база 2013'!$I$4:$I$1191,AQ$5,'база 2013'!$O$4:$O$1191,AQ$7)","v":0},{"$f":"COUNTIFS('база 2013'!$B$4:$B$1191,$B69,'база 2013'!$I$4:$I$1191,AR$5,'база 2013'!$O$4:$O$1191,AR$7)","v":0},{"$f":"COUNTIFS('база 2013'!$B$4:$B$1191,$B69,'база 2013'!$I$4:$I$1191,AS$5,'база 2013'!$O$4:$O$1191,AS$7)","v":0},{"$f":"COUNTIFS('база 2013'!$B$4:$B$1191,$B69,'база 2013'!$I$4:$I$1191,AT$5,'база 2013'!$O$4:$O$1191,AT$7)","v":0},{"$f":"COUNTIFS('база 2013'!$B$4:$B$1191,$B69,'база 2013'!$I$4:$I$1191,AU$5,'база 2013'!$O$4:$O$1191,AU$7)","v":0},{"$f":"COUNTIFS('база 2013'!$B$4:$B$1191,$B69,'база 2013'!$I$4:$I$1191,AV$5,'база 2013'!$O$4:$O$1191,AV$7)","v":0},{"$f":"COUNTIFS('база 2013'!$B$4:$B$1191,$B69,'база 2013'!$I$4:$I$1191,AW$5,'база 2013'!$O$4:$O$1191,AW$7)","v":0},{"$f":"COUNTIFS('база 2013'!$B$4:$B$1191,$B69,'база 2013'!$I$4:$I$1191,AX$5,'база 2013'!$O$4:$O$1191,AX$7)","v":0},0,0,0,0,0,0,0]
[63,"Пулевая стрельба",{"$f":"COUNTIFS('база 2013'!$B$4:$B$1191,$B70,'база 2013'!$I$4:$I$1191,C$5,'база 2013'!$O$4:$O$1191,C$7)","v":0},{"$f":"COUNTIFS('база 2013'!$B$4:$B$1191,$B70,'база 2013'!$I$4:$I$1191,D$5,'база 2013'!$O$4:$O$1191,D$7)","v":0},{"$f":"COUNTIFS('база 2013'!$B$4:$B$1191,$B70,'база 2013'!$I$4:$I$1191,E$5,'база 2013'!$O$4:$O$1191,E$7)","v":0},{"$f":"COUNTIFS('база 2013'!$B$4:$B$1191,$B70,'база 2013'!$I$4:$I$1191,F$5,'база 2013'!$O$4:$O$1191,F$7)","v":0},{"$f":"COUNTIFS('база 2013'!$B$4:$B$1191,$B70,'база 2013'!$I$4:$I$1191,G$5,'база 2013'!$O$4:$O$1191,G$7)","v":0},{"$f":"COUNTIFS('база 2013'!$B$4:$B$1191,$B70,'база 2013'!$I$4:$I$1191,H$5,'база 2013'!$O$4:$O$1191,H$7)","v":0},{"$f":"COUNTIFS('база 2013'!$B$4:$B$1191,$B70,'база 2013'!$I$4:$I$1191,I$5,'база 2013'!$O$4:$O$1191,I$7)","v":0},{"$f":"COUNTIFS('база 2013'!$B$4:$B$1191,$B70,'база 2013'!$I$4:$I$1191,J$5,'база 2013'!$O$4:$O$1191,J$7)","v":0},{"$f":"COUNTIFS('база 2013'!$B$4:$B$1191,$B70,'база 2013'!$I$4:$I$1191,K$5,'база 2013'!$O$4:$O$1191,K$7)","v":0},{"$f":"COUNTIFS('база 2013'!$B$4:$B$1191,$B70,'база 2013'!$I$4:$I$1191,L$5,'база 2013'!$O$4:$O$1191,L$7)","v":0},{"$f":"COUNTIFS('база 2013'!$B$4:$B$1191,$B70,'база 2013'!$I$4:$I$1191,M$5,'база 2013'!$O$4:$O$1191,M$7)","v":0},{"$f":"COUNTIFS('база 2013'!$B$4:$B$1191,$B70,'база 2013'!$I$4:$I$1191,N$5,'база 2013'!$O$4:$O$1191,N$7)","v":0},{"$f":"COUNTIFS('база 2013'!$B$4:$B$1191,$B70,'база 2013'!$I$4:$I$1191,O$5,'база 2013'!$O$4:$O$1191,O$7)","v":0},{"$f":"COUNTIFS('база 2013'!$B$4:$B$1191,$B70,'база 2013'!$I$4:$I$1191,P$5,'база 2013'!$O$4:$O$1191,P$7)","v":0},{"$f":"COUNTIFS('база 2013'!$B$4:$B$1191,$B70,'база 2013'!$I$4:$I$1191,Q$5,'база 2013'!$O$4:$O$1191,Q$7)","v":0},0,0,0,{"$f":"COUNTIFS('база 2013'!$B$4:$B$1191,$B70,'база 2013'!$I$4:$I$1191,U$5,'база 2013'!$O$4:$O$1191,U$7)","v":0},{"$f":"COUNTIFS('база 2013'!$B$4:$B$1191,$B70,'база 2013'!$I$4:$I$1191,V$5,'база 2013'!$O$4:$O$1191,V$7)","v":0},{"$f":"COUNTIFS('база 2013'!$B$4:$B$1191,$B70,'база 2013'!$I$4:$I$1191,W$5,'база 2013'!$O$4:$O$1191,W$7)","v":0},{"$f":"COUNTIFS('база 2013'!$B$4:$B$1191,$B70,'база 2013'!$I$4:$I$1191,X$5,'база 2013'!$O$4:$O$1191,X$7)","v":0},{"$f":"COUNTIFS('база 2013'!$B$4:$B$1191,$B70,'база 2013'!$I$4:$I$1191,Y$5,'база 2013'!$O$4:$O$1191,Y$7)","v":0},{"$f":"COUNTIFS('база 2013'!$B$4:$B$1191,$B70,'база 2013'!$I$4:$I$1191,Z$5,'база 2013'!$O$4:$O$1191,Z$7)","v":0},{"$f":"COUNTIFS('база 2013'!$B$4:$B$1191,$B70,'база 2013'!$I$4:$I$1191,AA$5,'база 2013'!$O$4:$O$1191,AA$7)","v":0},{"$f":"COUNTIFS('база 2013'!$B$4:$B$1191,$B70,'база 2013'!$I$4:$I$1191,AB$5,'база 2013'!$O$4:$O$1191,AB$7)","v":0},{"$f":"COUNTIFS('база 2013'!$B$4:$B$1191,$B70,'база 2013'!$I$4:$I$1191,AC$5,'база 2013'!$O$4:$O$1191,AC$7)","v":0},0,0,0,{"$f":"COUNTIFS('база 2013'!$B$4:$B$1191,$B70,'база 2013'!$I$4:$I$1191,AG$5,'база 2013'!$O$4:$O$1191,AG$7)","v":0},{"$f":"COUNTIFS('база 2013'!$B$4:$B$1191,$B70,'база 2013'!$I$4:$I$1191,AH$5,'база 2013'!$O$4:$O$1191,AH$7)","v":0},{"$f":"COUNTIFS('база 2013'!$B$4:$B$1191,$B70,'база 2013'!$I$4:$I$1191,AI$5,'база 2013'!$O$4:$O$1191,AI$7)","v":0},{"$f":"COUNTIFS('база 2013'!$B$4:$B$1191,$B70,'база 2013'!$I$4:$I$1191,AJ$5,'база 2013'!$O$4:$O$1191,AJ$7)","v":0},{"$f":"COUNTIFS('база 2013'!$B$4:$B$1191,$B70,'база 2013'!$I$4:$I$1191,AK$5,'база 2013'!$O$4:$O$1191,AK$7)","v":0},{"$f":"COUNTIFS('база 2013'!$B$4:$B$1191,$B70,'база 2013'!$I$4:$I$1191,AL$5,'база 2013'!$O$4:$O$1191,AL$7)","v":0},{"$f":"COUNTIFS('база 2013'!$B$4:$B$1191,$B70,'база 2013'!$I$4:$I$1191,AM$5,'база 2013'!$O$4:$O$1191,AM$7)","v":0},{"$f":"COUNTIFS('база 2013'!$B$4:$B$1191,$B70,'база 2013'!$I$4:$I$1191,AN$5,'база 2013'!$O$4:$O$1191,AN$7)","v":0},{"$f":"COUNTIFS('база 2013'!$B$4:$B$1191,$B70,'база 2013'!$I$4:$I$1191,AO$5,'база 2013'!$O$4:$O$1191,AO$7)","v":0},{"$f":"COUNTIFS('база 2013'!$B$4:$B$1191,$B70,'база 2013'!$I$4:$I$1191,AP$5,'база 2013'!$O$4:$O$1191,AP$7)","v":0},{"$f":"COUNTIFS('база 2013'!$B$4:$B$1191,$B70,'база 2013'!$I$4:$I$1191,AQ$5,'база 2013'!$O$4:$O$1191,AQ$7)","v":0},{"$f":"COUNTIFS('база 2013'!$B$4:$B$1191,$B70,'база 2013'!$I$4:$I$1191,AR$5,'база 2013'!$O$4:$O$1191,AR$7)","v":0},{"$f":"COUNTIFS('база 2013'!$B$4:$B$1191,$B70,'база 2013'!$I$4:$I$1191,AS$5,'база 2013'!$O$4:$O$1191,AS$7)","v":0},{"$f":"COUNTIFS('база 2013'!$B$4:$B$1191,$B70,'база 2013'!$I$4:$I$1191,AT$5,'база 2013'!$O$4:$O$1191,AT$7)","v":0},{"$f":"COUNTIFS('база 2013'!$B$4:$B$1191,$B70,'база 2013'!$I$4:$I$1191,AU$5,'база 2013'!$O$4:$O$1191,AU$7)","v":0},{"$f":"COUNTIFS('база 2013'!$B$4:$B$1191,$B70,'база 2013'!$I$4:$I$1191,AV$5,'база 2013'!$O$4:$O$1191,AV$7)","v":0},{"$f":"COUNTIFS('база 2013'!$B$4:$B$1191,$B70,'база 2013'!$I$4:$I$1191,AW$5,'база 2013'!$O$4:$O$1191,AW$7)","v":0},{"$f":"COUNTIFS('база 2013'!$B$4:$B$1191,$B70,'база 2013'!$I$4:$I$1191,AX$5,'база 2013'!$O$4:$O$1191,AX$7)","v":0},0,0,0,0,0,0,0]
[64,"Тайский бокс",{"$f":"COUNTIFS('база 2013'!$B$4:$B$1191,$B71,'база 2013'!$I$4:$I$1191,C$5,'база 2013'!$O$4:$O$1191,C$7)","v":0},{"$f":"COUNTIFS('база 2013'!$B$4:$B$1191,$B71,'база 2013'!$I$4:$I$1191,D$5,'база 2013'!$O$4:$O$1191,D$7)","v":0},{"$f":"COUNTIFS('база 2013'!$B$4:$B$1191,$B71,'база 2013'!$I$4:$I$1191,E$5,'база 2013'!$O$4:$O$1191,E$7)","v":0},{"$f":"COUNTIFS('база 2013'!$B$4:$B$1191,$B71,'база 2013'!$I$4:$I$1191,F$5,'база 2013'!$O$4:$O$1191,F$7)","v":0},{"$f":"COUNTIFS('база 2013'!$B$4:$B$1191,$B71,'база 2013'!$I$4:$I$1191,G$5,'база 2013'!$O$4:$O$1191,G$7)","v":0},{"$f":"COUNTIFS('база 2013'!$B$4:$B$1191,$B71,'база 2013'!$I$4:$I$1191,H$5,'база 2013'!$O$4:$O$1191,H$7)","v":0},{"$f":"COUNTIFS('база 2013'!$B$4:$B$1191,$B71,'база 2013'!$I$4:$I$1191,I$5,'база 2013'!$O$4:$O$1191,I$7)","v":0},{"$f":"COUNTIFS('база 2013'!$B$4:$B$1191,$B71,'база 2013'!$I$4:$I$1191,J$5,'база 2013'!$O$4:$O$1191,J$7)","v":0},{"$f":"COUNTIFS('база 2013'!$B$4:$B$1191,$B71,'база 2013'!$I$4:$I$1191,K$5,'база 2013'!$O$4:$O$1191,K$7)","v":0},{"$f":"COUNTIFS('база 2013'!$B$4:$B$1191,$B71,'база 2013'!$I$4:$I$1191,L$5,'база 2013'!$O$4:$O$1191,L$7)","v":0},{"$f":"COUNTIFS('база 2013'!$B$4:$B$1191,$B71,'база 2013'!$I$4:$I$1191,M$5,'база 2013'!$O$4:$O$1191,M$7)","v":0},{"$f":"COUNTIFS('база 2013'!$B$4:$B$1191,$B71,'база 2013'!$I$4:$I$1191,N$5,'база 2013'!$O$4:$O$1191,N$7)","v":0},{"$f":"COUNTIFS('база 2013'!$B$4:$B$1191,$B71,'база 2013'!$I$4:$I$1191,O$5,'база 2013'!$O$4:$O$1191,O$7)","v":0},{"$f":"COUNTIFS('база 2013'!$B$4:$B$1191,$B71,'база 2013'!$I$4:$I$1191,P$5,'база 2013'!$O$4:$O$1191,P$7)","v":0},{"$f":"COUNTIFS('база 2013'!$B$4:$B$1191,$B71,'база 2013'!$I$4:$I$1191,Q$5,'база 2013'!$O$4:$O$1191,Q$7)","v":0},{"$f":"SUMIF($F$7:$Q$7,$R$7,F71:Q71)","v":0},0,0,{"$f":"COUNTIFS('база 2013'!$B$4:$B$1191,$B71,'база 2013'!$I$4:$I$1191,U$5,'база 2013'!$O$4:$O$1191,U$7)","v":0},{"$f":"COUNTIFS('база 2013'!$B$4:$B$1191,$B71,'база 2013'!$I$4:$I$1191,V$5,'база 2013'!$O$4:$O$1191,V$7)","v":0},{"$f":"COUNTIFS('база 2013'!$B$4:$B$1191,$B71,'база 2013'!$I$4:$I$1191,W$5,'база 2013'!$O$4:$O$1191,W$7)","v":0},{"$f":"COUNTIFS('база 2013'!$B$4:$B$1191,$B71,'база 2013'!$I$4:$I$1191,X$5,'база 2013'!$O$4:$O$1191,X$7)","v":0},{"$f":"COUNTIFS('база 2013'!$B$4:$B$1191,$B71,'база 2013'!$I$4:$I$1191,Y$5,'база 2013'!$O$4:$O$1191,Y$7)","v":0},{"$f":"COUNTIFS('база 2013'!$B$4:$B$1191,$B71,'база 2013'!$I$4:$I$1191,Z$5,'база 2013'!$O$4:$O$1191,Z$7)","v":0},{"$f":"COUNTIFS('база 2013'!$B$4:$B$1191,$B71,'база 2013'!$I$4:$I$1191,AA$5,'база 2013'!$O$4:$O$1191,AA$7)","v":0},{"$f":"COUNTIFS('база 2013'!$B$4:$B$1191,$B71,'база 2013'!$I$4:$I$1191,AB$5,'база 2013'!$O$4:$O$1191,AB$7)","v":0},{"$f":"COUNTIFS('база 2013'!$B$4:$B$1191,$B71,'база 2013'!$I$4:$I$1191,AC$5,'база 2013'!$O$4:$O$1191,AC$7)","v":0},0,0,0,{"$f":"COUNTIFS('база 2013'!$B$4:$B$1191,$B71,'база 2013'!$I$4:$I$1191,AG$5,'база 2013'!$O$4:$O$1191,AG$7)","v":0},{"$f":"COUNTIFS('база 2013'!$B$4:$B$1191,$B71,'база 2013'!$I$4:$I$1191,AH$5,'база 2013'!$O$4:$O$1191,AH$7)","v":0},{"$f":"COUNTIFS('база 2013'!$B$4:$B$1191,$B71,'база 2013'!$I$4:$I$1191,AI$5,'база 2013'!$O$4:$O$1191,AI$7)","v":0},{"$f":"COUNTIFS('база 2013'!$B$4:$B$1191,$B71,'база 2013'!$I$4:$I$1191,AJ$5,'база 2013'!$O$4:$O$1191,AJ$7)","v":0},{"$f":"COUNTIFS('база 2013'!$B$4:$B$1191,$B71,'база 2013'!$I$4:$I$1191,AK$5,'база 2013'!$O$4:$O$1191,AK$7)","v":0},{"$f":"COUNTIFS('база 2013'!$B$4:$B$1191,$B71,'база 2013'!$I$4:$I$1191,AL$5,'база 2013'!$O$4:$O$1191,AL$7)","v":0},{"$f":"COUNTIFS('база 2013'!$B$4:$B$1191,$B71,'база 2013'!$I$4:$I$1191,AM$5,'база 2013'!$O$4:$O$1191,AM$7)","v":0},{"$f":"COUNTIFS('база 2013'!$B$4:$B$1191,$B71,'база 2013'!$I$4:$I$1191,AN$5,'база 2013'!$O$4:$O$1191,AN$7)","v":0},{"$f":"COUNTIFS('база 2013'!$B$4:$B$1191,$B71,'база 2013'!$I$4:$I$1191,AO$5,'база 2013'!$O$4:$O$1191,AO$7)","v":0},{"$f":"COUNTIFS('база 2013'!$B$4:$B$1191,$B71,'база 2013'!$I$4:$I$1191,AP$5,'база 2013'!$O$4:$O$1191,AP$7)","v":0},{"$f":"COUNTIFS('база 2013'!$B$4:$B$1191,$B71,'база 2013'!$I$4:$I$1191,AQ$5,'база 2013'!$O$4:$O$1191,AQ$7)","v":0},{"$f":"COUNTIFS('база 2013'!$B$4:$B$1191,$B71,'база 2013'!$I$4:$I$1191,AR$5,'база 2013'!$O$4:$O$1191,AR$7)","v":0},{"$f":"COUNTIFS('база 2013'!$B$4:$B$1191,$B71,'база 2013'!$I$4:$I$1191,AS$5,'база 2013'!$O$4:$O$1191,AS$7)","v":0},{"$f":"COUNTIFS('база 2013'!$B$4:$B$1191,$B71,'база 2013'!$I$4:$I$1191,AT$5,'база 2013'!$O$4:$O$1191,AT$7)","v":0},{"$f":"COUNTIFS('база 2013'!$B$4:$B$1191,$B71,'база 2013'!$I$4:$I$1191,AU$5,'база 2013'!$O$4:$O$1191,AU$7)","v":0},{"$f":"COUNTIFS('база 2013'!$B$4:$B$1191,$B71,'база 2013'!$I$4:$I$1191,AV$5,'база 2013'!$O$4:$O$1191,AV$7)","v":0},{"$f":"COUNTIFS('база 2013'!$B$4:$B$1191,$B71,'база 2013'!$I$4:$I$1191,AW$5,'база 2013'!$O$4:$O$1191,AW$7)","v":0},{"$f":"COUNTIFS('база 2013'!$B$4:$B$1191,$B71,'база 2013'!$I$4:$I$1191,AX$5,'база 2013'!$O$4:$O$1191,AX$7)","v":0},0,0,0,0,0,0,{"$f":"SUM(BB71:BD71)","v":0}]
[65,"Танцевальный спорт",{"$f":"COUNTIFS('база 2013'!$B$4:$B$1191,$B72,'база 2013'!$I$4:$I$1191,C$5,'база 2013'!$O$4:$O$1191,C$7)","v":0},{"$f":"COUNTIFS('база 2013'!$B$4:$B$1191,$B72,'база 2013'!$I$4:$I$1191,D$5,'база 2013'!$O$4:$O$1191,D$7)","v":0},{"$f":"COUNTIFS('база 2013'!$B$4:$B$1191,$B72,'база 2013'!$I$4:$I$1191,E$5,'база 2013'!$O$4:$O$1191,E$7)","v":0},{"$f":"COUNTIFS('база 2013'!$B$4:$B$1191,$B72,'база 2013'!$I$4:$I$1191,F$5,'база 2013'!$O$4:$O$1191,F$7)","v":0},{"$f":"COUNTIFS('база 2013'!$B$4:$B$1191,$B72,'база 2013'!$I$4:$I$1191,G$5,'база 2013'!$O$4:$O$1191,G$7)","v":0},{"$f":"COUNTIFS('база 2013'!$B$4:$B$1191,$B72,'база 2013'!$I$4:$I$1191,H$5,'база 2013'!$O$4:$O$1191,H$7)","v":0},{"$f":"COUNTIFS('база 2013'!$B$4:$B$1191,$B72,'база 2013'!$I$4:$I$1191,I$5,'база 2013'!$O$4:$O$1191,I$7)","v":0},{"$f":"COUNTIFS('база 2013'!$B$4:$B$1191,$B72,'база 2013'!$I$4:$I$1191,J$5,'база 2013'!$O$4:$O$1191,J$7)","v":0},{"$f":"COUNTIFS('база 2013'!$B$4:$B$1191,$B72,'база 2013'!$I$4:$I$1191,K$5,'база 2013'!$O$4:$O$1191,K$7)","v":0},{"$f":"COUNTIFS('база 2013'!$B$4:$B$1191,$B72,'база 2013'!$I$4:$I$1191,L$5,'база 2013'!$O$4:$O$1191,L$7)","v":0},{"$f":"COUNTIFS('база 2013'!$B$4:$B$1191,$B72,'база 2013'!$I$4:$I$1191,M$5,'база 2013'!$O$4:$O$1191,M$7)","v":0},{"$f":"COUNTIFS('база 2013'!$B$4:$B$1191,$B72,'база 2013'!$I$4:$I$1191,N$5,'база 2013'!$O$4:$O$1191,N$7)","v":0},{"$f":"COUNTIFS('база 2013'!$B$4:$B$1191,$B72,'база 2013'!$I$4:$I$1191,O$5,'база 2013'!$O$4:$O$1191,O$7)","v":0},{"$f":"COUNTIFS('база 2013'!$B$4:$B$1191,$B72,'база 2013'!$I$4:$I$1191,P$5,'база 2013'!$O$4:$O$1191,P$7)","v":0},{"$f":"COUNTIFS('база 2013'!$B$4:$B$1191,$B72,'база 2013'!$I$4:$I$1191,Q$5,'база 2013'!$O$4:$O$1191,Q$7)","v":0},0,0,0,{"$f":"COUNTIFS('база 2013'!$B$4:$B$1191,$B72,'база 2013'!$I$4:$I$1191,U$5,'база 2013'!$O$4:$O$1191,U$7)","v":0},{"$f":"COUNTIFS('база 2013'!$B$4:$B$1191,$B72,'база 2013'!$I$4:$I$1191,V$5,'база 2013'!$O$4:$O$1191,V$7)","v":0},{"$f":"COUNTIFS('база 2013'!$B$4:$B$1191,$B72,'база 2013'!$I$4:$I$1191,W$5,'база 2013'!$O$4:$O$1191,W$7)","v":0},{"$f":"COUNTIFS('база 2013'!$B$4:$B$1191,$B72,'база 2013'!$I$4:$I$1191,X$5,'база 2013'!$O$4:$O$1191,X$7)","v":0},{"$f":"COUNTIFS('база 2013'!$B$4:$B$1191,$B72,'база 2013'!$I$4:$I$1191,Y$5,'база 2013'!$O$4:$O$1191,Y$7)","v":0},{"$f":"COUNTIFS('база 2013'!$B$4:$B$1191,$B72,'база 2013'!$I$4:$I$1191,Z$5,'база 2013'!$O$4:$O$1191,Z$7)","v":0},{"$f":"COUNTIFS('база 2013'!$B$4:$B$1191,$B72,'база 2013'!$I$4:$I$1191,AA$5,'база 2013'!$O$4:$O$1191,AA$7)","v":0},{"$f":"COUNTIFS('база 2013'!$B$4:$B$1191,$B72,'база 2013'!$I$4:$I$1191,AB$5,'база 2013'!$O$4:$O$1191,AB$7)","v":0},{"$f":"COUNTIFS('база 2013'!$B$4:$B$1191,$B72,'база 2013'!$I$4:$I$1191,AC$5,'база 2013'!$O$4:$O$1191,AC$7)","v":0},0,0,0,{"$f":"COUNTIFS('база 2013'!$B$4:$B$1191,$B72,'база 2013'!$I$4:$I$1191,AG$5,'база 2013'!$O$4:$O$1191,AG$7)","v":0},{"$f":"COUNTIFS('база 2013'!$B$4:$B$1191,$B72,'база 2013'!$I$4:$I$1191,AH$5,'база 2013'!$O$4:$O$1191,AH$7)","v":0},{"$f":"COUNTIFS('база 2013'!$B$4:$B$1191,$B72,'база 2013'!$I$4:$I$1191,AI$5,'база 2013'!$O$4:$O$1191,AI$7)","v":0},{"$f":"COUNTIFS('база 2013'!$B$4:$B$1191,$B72,'база 2013'!$I$4:$I$1191,AJ$5,'база 2013'!$O$4:$O$1191,AJ$7)","v":0},{"$f":"COUNTIFS('база 2013'!$B$4:$B$1191,$B72,'база 2013'!$I$4:$I$1191,AK$5,'база 2013'!$O$4:$O$1191,AK$7)","v":0},{"$f":"COUNTIFS('база 2013'!$B$4:$B$1191,$B72,'база 2013'!$I$4:$I$1191,AL$5,'база 2013'!$O$4:$O$1191,AL$7)","v":0},{"$f":"COUNTIFS('база 2013'!$B$4:$B$1191,$B72,'база 2013'!$I$4:$I$1191,AM$5,'база 2013'!$O$4:$O$1191,AM$7)","v":0},{"$f":"COUNTIFS('база 2013'!$B$4:$B$1191,$B72,'база 2013'!$I$4:$I$1191,AN$5,'база 2013'!$O$4:$O$1191,AN$7)","v":0},{"$f":"COUNTIFS('база 2013'!$B$4:$B$1191,$B72,'база 2013'!$I$4:$I$1191,AO$5,'база 2013'!$O$4:$O$1191,AO$7)","v":0},{"$f":"COUNTIFS('база 2013'!$B$4:$B$1191,$B72,'база 2013'!$I$4:$I$1191,AP$5,'база 2013'!$O$4:$O$1191,AP$7)","v":0},{"$f":"COUNTIFS('база 2013'!$B$4:$B$1191,$B72,'база 2013'!$I$4:$I$1191,AQ$5,'база 2013'!$O$4:$O$1191,AQ$7)","v":0},{"$f":"COUNTIFS('база 2013'!$B$4:$B$1191,$B72,'база 2013'!$I$4:$I$1191,AR$5,'база 2013'!$O$4:$O$1191,AR$7)","v":0},{"$f":"COUNTIFS('база 2013'!$B$4:$B$1191,$B72,'база 2013'!$I$4:$I$1191,AS$5,'база 2013'!$O$4:$O$1191,AS$7)","v":0},{"$f":"COUNTIFS('база 2013'!$B$4:$B$1191,$B72,'база 2013'!$I$4:$I$1191,AT$5,'база 2013'!$O$4:$O$1191,AT$7)","v":0},{"$f":"COUNTIFS('база 2013'!$B$4:$B$1191,$B72,'база 2013'!$I$4:$I$1191,AU$5,'база 2013'!$O$4:$O$1191,AU$7)","v":0},{"$f":"COUNTIFS('база 2013'!$B$4:$B$1191,$B72,'база 2013'!$I$4:$I$1191,AV$5,'база 2013'!$O$4:$O$1191,AV$7)","v":0},{"$f":"COUNTIFS('база 2013'!$B$4:$B$1191,$B72,'база 2013'!$I$4:$I$1191,AW$5,'база 2013'!$O$4:$O$1191,AW$7)","v":0},{"$f":"COUNTIFS('база 2013'!$B$4:$B$1191,$B72,'база 2013'!$I$4:$I$1191,AX$5,'база 2013'!$O$4:$O$1191,AX$7)","v":0},0,0,0,0,0,0,0]
[66,"Теннис",{"$f":"COUNTIFS('база 2013'!$B$4:$B$1191,$B73,'база 2013'!$I$4:$I$1191,C$5,'база 2013'!$O$4:$O$1191,C$7)","v":0},{"$f":"COUNTIFS('база 2013'!$B$4:$B$1191,$B73,'база 2013'!$I$4:$I$1191,D$5,'база 2013'!$O$4:$O$1191,D$7)","v":0},{"$f":"COUNTIFS('база 2013'!$B$4:$B$1191,$B73,'база 2013'!$I$4:$I$1191,E$5,'база 2013'!$O$4:$O$1191,E$7)","v":0},{"$f":"COUNTIFS('база 2013'!$B$4:$B$1191,$B73,'база 2013'!$I$4:$I$1191,F$5,'база 2013'!$O$4:$O$1191,F$7)","v":0},{"$f":"COUNTIFS('база 2013'!$B$4:$B$1191,$B73,'база 2013'!$I$4:$I$1191,G$5,'база 2013'!$O$4:$O$1191,G$7)","v":0},{"$f":"COUNTIFS('база 2013'!$B$4:$B$1191,$B73,'база 2013'!$I$4:$I$1191,H$5,'база 2013'!$O$4:$O$1191,H$7)","v":0},{"$f":"COUNTIFS('база 2013'!$B$4:$B$1191,$B73,'база 2013'!$I$4:$I$1191,I$5,'база 2013'!$O$4:$O$1191,I$7)","v":0},{"$f":"COUNTIFS('база 2013'!$B$4:$B$1191,$B73,'база 2013'!$I$4:$I$1191,J$5,'база 2013'!$O$4:$O$1191,J$7)","v":0},{"$f":"COUNTIFS('база 2013'!$B$4:$B$1191,$B73,'база 2013'!$I$4:$I$1191,K$5,'база 2013'!$O$4:$O$1191,K$7)","v":0},{"$f":"COUNTIFS('база 2013'!$B$4:$B$1191,$B73,'база 2013'!$I$4:$I$1191,L$5,'база 2013'!$O$4:$O$1191,L$7)","v":0},{"$f":"COUNTIFS('база 2013'!$B$4:$B$1191,$B73,'база 2013'!$I$4:$I$1191,M$5,'база 2013'!$O$4:$O$1191,M$7)","v":0},{"$f":"COUNTIFS('база 2013'!$B$4:$B$1191,$B73,'база 2013'!$I$4:$I$1191,N$5,'база 2013'!$O$4:$O$1191,N$7)","v":0},{"$f":"COUNTIFS('база 2013'!$B$4:$B$1191,$B73,'база 2013'!$I$4:$I$1191,O$5,'база 2013'!$O$4:$O$1191,O$7)","v":0},{"$f":"COUNTIFS('база 2013'!$B$4:$B$1191,$B73,'база 2013'!$I$4:$I$1191,P$5,'база 2013'!$O$4:$O$1191,P$7)","v":0},{"$f":"COUNTIFS('база 2013'!$B$4:$B$1191,$B73,'база 2013'!$I$4:$I$1191,Q$5,'база 2013'!$O$4:$O$1191,Q$7)","v":0},0,0,0,{"$f":"COUNTIFS('база 2013'!$B$4:$B$1191,$B73,'база 2013'!$I$4:$I$1191,U$5,'база 2013'!$O$4:$O$1191,U$7)","v":0},{"$f":"COUNTIFS('база 2013'!$B$4:$B$1191,$B73,'база 2013'!$I$4:$I$1191,V$5,'база 2013'!$O$4:$O$1191,V$7)","v":0},{"$f":"COUNTIFS('база 2013'!$B$4:$B$1191,$B73,'база 2013'!$I$4:$I$1191,W$5,'база 2013'!$O$4:$O$1191,W$7)","v":0},{"$f":"COUNTIFS('база 2013'!$B$4:$B$1191,$B73,'база 2013'!$I$4:$I$1191,X$5,'база 2013'!$O$4:$O$1191,X$7)","v":0},{"$f":"COUNTIFS('база 2013'!$B$4:$B$1191,$B73,'база 2013'!$I$4:$I$1191,Y$5,'база 2013'!$O$4:$O$1191,Y$7)","v":0},{"$f":"COUNTIFS('база 2013'!$B$4:$B$1191,$B73,'база 2013'!$I$4:$I$1191,Z$5,'база 2013'!$O$4:$O$1191,Z$7)","v":0},{"$f":"COUNTIFS('база 2013'!$B$4:$B$1191,$B73,'база 2013'!$I$4:$I$1191,AA$5,'база 2013'!$O$4:$O$1191,AA$7)","v":0},{"$f":"COUNTIFS('база 2013'!$B$4:$B$1191,$B73,'база 2013'!$I$4:$I$1191,AB$5,'база 2013'!$O$4:$O$1191,AB$7)","v":0},{"$f":"COUNTIFS('база 2013'!$B$4:$B$1191,$B73,'база 2013'!$I$4:$I$1191,AC$5,'база 2013'!$O$4:$O$1191,AC$7)","v":0},0,0,0,{"$f":"COUNTIFS('база 2013'!$B$4:$B$1191,$B73,'база 2013'!$I$4:$I$1191,AG$5,'база 2013'!$O$4:$O$1191,AG$7)","v":0},{"$f":"COUNTIFS('база 2013'!$B$4:$B$1191,$B73,'база 2013'!$I$4:$I$1191,AH$5,'база 2013'!$O$4:$O$1191,AH$7)","v":0},{"$f":"COUNTIFS('база 2013'!$B$4:$B$1191,$B73,'база 2013'!$I$4:$I$1191,AI$5,'база 2013'!$O$4:$O$1191,AI$7)","v":0},{"$f":"COUNTIFS('база 2013'!$B$4:$B$1191,$B73,'база 2013'!$I$4:$I$1191,AJ$5,'база 2013'!$O$4:$O$1191,AJ$7)","v":0},{"$f":"COUNTIFS('база 2013'!$B$4:$B$1191,$B73,'база 2013'!$I$4:$I$1191,AK$5,'база 2013'!$O$4:$O$1191,AK$7)","v":0},{"$f":"COUNTIFS('база 2013'!$B$4:$B$1191,$B73,'база 2013'!$I$4:$I$1191,AL$5,'база 2013'!$O$4:$O$1191,AL$7)","v":0},{"$f":"COUNTIFS('база 2013'!$B$4:$B$1191,$B73,'база 2013'!$I$4:$I$1191,AM$5,'база 2013'!$O$4:$O$1191,AM$7)","v":0},{"$f":"COUNTIFS('база 2013'!$B$4:$B$1191,$B73,'база 2013'!$I$4:$I$1191,AN$5,'база 2013'!$O$4:$O$1191,AN$7)","v":0},{"$f":"COUNTIFS('база 2013'!$B$4:$B$1191,$B73,'база 2013'!$I$4:$I$1191,AO$5,'база 2013'!$O$4:$O$1191,AO$7)","v":0},{"$f":"COUNTIFS('база 2013'!$B$4:$B$1191,$B73,'база 2013'!$I$4:$I$1191,AP$5,'база 2013'!$O$4:$O$1191,AP$7)","v":0},{"$f":"COUNTIFS('база 2013'!$B$4:$B$1191,$B73,'база 2013'!$I$4:$I$1191,AQ$5,'база 2013'!$O$4:$O$1191,AQ$7)","v":0},{"$f":"COUNTIFS('база 2013'!$B$4:$B$1191,$B73,'база 2013'!$I$4:$I$1191,AR$5,'база 2013'!$O$4:$O$1191,AR$7)","v":0},{"$f":"COUNTIFS('база 2013'!$B$4:$B$1191,$B73,'база 2013'!$I$4:$I$1191,AS$5,'база 2013'!$O$4:$O$1191,AS$7)","v":0},{"$f":"COUNTIFS('база 2013'!$B$4:$B$1191,$B73,'база 2013'!$I$4:$I$1191,AT$5,'база 2013'!$O$4:$O$1191,AT$7)","v":0},{"$f":"COUNTIFS('база 2013'!$B$4:$B$1191,$B73,'база 2013'!$I$4:$I$1191,AU$5,'база 2013'!$O$4:$O$1191,AU$7)","v":0},{"$f":"COUNTIFS('база 2013'!$B$4:$B$1191,$B73,'база 2013'!$I$4:$I$1191,AV$5,'база 2013'!$O$4:$O$1191,AV$7)","v":0},{"$f":"COUNTIFS('база 2013'!$B$4:$B$1191,$B73,'база 2013'!$I$4:$I$1191,AW$5,'база 2013'!$O$4:$O$1191,AW$7)","v":0},{"$f":"COUNTIFS('база 2013'!$B$4:$B$1191,$B73,'база 2013'!$I$4:$I$1191,AX$5,'база 2013'!$O$4:$O$1191,AX$7)","v":0},0,0,0,0,0,0,0]
[67,"Триатлон",{"$f":"COUNTIFS('база 2013'!$B$4:$B$1191,$B74,'база 2013'!$I$4:$I$1191,C$5,'база 2013'!$O$4:$O$1191,C$7)","v":0},{"$f":"COUNTIFS('база 2013'!$B$4:$B$1191,$B74,'база 2013'!$I$4:$I$1191,D$5,'база 2013'!$O$4:$O$1191,D$7)","v":0},{"$f":"COUNTIFS('база 2013'!$B$4:$B$1191,$B74,'база 2013'!$I$4:$I$1191,E$5,'база 2013'!$O$4:$O$1191,E$7)","v":0},{"$f":"COUNTIFS('база 2013'!$B$4:$B$1191,$B74,'база 2013'!$I$4:$I$1191,F$5,'база 2013'!$O$4:$O$1191,F$7)","v":0},{"$f":"COUNTIFS('база 2013'!$B$4:$B$1191,$B74,'база 2013'!$I$4:$I$1191,G$5,'база 2013'!$O$4:$O$1191,G$7)","v":0},{"$f":"COUNTIFS('база 2013'!$B$4:$B$1191,$B74,'база 2013'!$I$4:$I$1191,H$5,'база 2013'!$O$4:$O$1191,H$7)","v":0},{"$f":"COUNTIFS('база 2013'!$B$4:$B$1191,$B74,'база 2013'!$I$4:$I$1191,I$5,'база 2013'!$O$4:$O$1191,I$7)","v":0},{"$f":"COUNTIFS('база 2013'!$B$4:$B$1191,$B74,'база 2013'!$I$4:$I$1191,J$5,'база 2013'!$O$4:$O$1191,J$7)","v":0},{"$f":"COUNTIFS('база 2013'!$B$4:$B$1191,$B74,'база 2013'!$I$4:$I$1191,K$5,'база 2013'!$O$4:$O$1191,K$7)","v":0},{"$f":"COUNTIFS('база 2013'!$B$4:$B$1191,$B74,'база 2013'!$I$4:$I$1191,L$5,'база 2013'!$O$4:$O$1191,L$7)","v":0},{"$f":"COUNTIFS('база 2013'!$B$4:$B$1191,$B74,'база 2013'!$I$4:$I$1191,M$5,'база 2013'!$O$4:$O$1191,M$7)","v":0},{"$f":"COUNTIFS('база 2013'!$B$4:$B$1191,$B74,'база 2013'!$I$4:$I$1191,N$5,'база 2013'!$O$4:$O$1191,N$7)","v":0},{"$f":"COUNTIFS('база 2013'!$B$4:$B$1191,$B74,'база 2013'!$I$4:$I$1191,O$5,'база 2013'!$O$4:$O$1191,O$7)","v":0},{"$f":"COUNTIFS('база 2013'!$B$4:$B$1191,$B74,'база 2013'!$I$4:$I$1191,P$5,'база 2013'!$O$4:$O$1191,P$7)","v":0},{"$f":"COUNTIFS('база 2013'!$B$4:$B$1191,$B74,'база 2013'!$I$4:$I$1191,Q$5,'база 2013'!$O$4:$O$1191,Q$7)","v":0},0,0,0,{"$f":"COUNTIFS('база 2013'!$B$4:$B$1191,$B74,'база 2013'!$I$4:$I$1191,U$5,'база 2013'!$O$4:$O$1191,U$7)","v":0},{"$f":"COUNTIFS('база 2013'!$B$4:$B$1191,$B74,'база 2013'!$I$4:$I$1191,V$5,'база 2013'!$O$4:$O$1191,V$7)","v":0},{"$f":"COUNTIFS('база 2013'!$B$4:$B$1191,$B74,'база 2013'!$I$4:$I$1191,W$5,'база 2013'!$O$4:$O$1191,W$7)","v":0},{"$f":"COUNTIFS('база 2013'!$B$4:$B$1191,$B74,'база 2013'!$I$4:$I$1191,X$5,'база 2013'!$O$4:$O$1191,X$7)","v":0},{"$f":"COUNTIFS('база 2013'!$B$4:$B$1191,$B74,'база 2013'!$I$4:$I$1191,Y$5,'база 2013'!$O$4:$O$1191,Y$7)","v":0},{"$f":"COUNTIFS('база 2013'!$B$4:$B$1191,$B74,'база 2013'!$I$4:$I$1191,Z$5,'база 2013'!$O$4:$O$1191,Z$7)","v":0},{"$f":"COUNTIFS('база 2013'!$B$4:$B$1191,$B74,'база 2013'!$I$4:$I$1191,AA$5,'база 2013'!$O$4:$O$1191,AA$7)","v":0},{"$f":"COUNTIFS('база 2013'!$B$4:$B$1191,$B74,'база 2013'!$I$4:$I$1191,AB$5,'база 2013'!$O$4:$O$1191,AB$7)","v":0},{"$f":"COUNTIFS('база 2013'!$B$4:$B$1191,$B74,'база 2013'!$I$4:$I$1191,AC$5,'база 2013'!$O$4:$O$1191,AC$7)","v":0},0,0,0,{"$f":"COUNTIFS('база 2013'!$B$4:$B$1191,$B74,'база 2013'!$I$4:$I$1191,AG$5,'база 2013'!$O$4:$O$1191,AG$7)","v":0},{"$f":"COUNTIFS('база 2013'!$B$4:$B$1191,$B74,'база 2013'!$I$4:$I$1191,AH$5,'база 2013'!$O$4:$O$1191,AH$7)","v":0},{"$f":"COUNTIFS('база 2013'!$B$4:$B$1191,$B74,'база 2013'!$I$4:$I$1191,AI$5,'база 2013'!$O$4:$O$1191,AI$7)","v":0},{"$f":"COUNTIFS('база 2013'!$B$4:$B$1191,$B74,'база 2013'!$I$4:$I$1191,AJ$5,'база 2013'!$O$4:$O$1191,AJ$7)","v":0},{"$f":"COUNTIFS('база 2013'!$B$4:$B$1191,$B74,'база 2013'!$I$4:$I$1191,AK$5,'база 2013'!$O$4:$O$1191,AK$7)","v":0},{"$f":"COUNTIFS('база 2013'!$B$4:$B$1191,$B74,'база 2013'!$I$4:$I$1191,AL$5,'база 2013'!$O$4:$O$1191,AL$7)","v":0},{"$f":"COUNTIFS('база 2013'!$B$4:$B$1191,$B74,'база 2013'!$I$4:$I$1191,AM$5,'база 2013'!$O$4:$O$1191,AM$7)","v":0},{"$f":"COUNTIFS('база 2013'!$B$4:$B$1191,$B74,'база 2013'!$I$4:$I$1191,AN$5,'база 2013'!$O$4:$O$1191,AN$7)","v":0},{"$f":"COUNTIFS('база 2013'!$B$4:$B$1191,$B74,'база 2013'!$I$4:$I$1191,AO$5,'база 2013'!$O$4:$O$1191,AO$7)","v":0},{"$f":"COUNTIFS('база 2013'!$B$4:$B$1191,$B74,'база 2013'!$I$4:$I$1191,AP$5,'база 2013'!$O$4:$O$1191,AP$7)","v":0},{"$f":"COUNTIFS('база 2013'!$B$4:$B$1191,$B74,'база 2013'!$I$4:$I$1191,AQ$5,'база 2013'!$O$4:$O$1191,AQ$7)","v":0},{"$f":"COUNTIFS('база 2013'!$B$4:$B$1191,$B74,'база 2013'!$I$4:$I$1191,AR$5,'база 2013'!$O$4:$O$1191,AR$7)","v":0},{"$f":"COUNTIFS('база 2013'!$B$4:$B$1191,$B74,'база 2013'!$I$4:$I$1191,AS$5,'база 2013'!$O$4:$O$1191,AS$7)","v":0},{"$f":"COUNTIFS('база 2013'!$B$4:$B$1191,$B74,'база 2013'!$I$4:$I$1191,AT$5,'база 2013'!$O$4:$O$1191,AT$7)","v":0},{"$f":"COUNTIFS('база 2013'!$B$4:$B$1191,$B74,'база 2013'!$I$4:$I$1191,AU$5,'база 2013'!$O$4:$O$1191,AU$7)","v":0},{"$f":"COUNTIFS('база 2013'!$B$4:$B$1191,$B74,'база 2013'!$I$4:$I$1191,AV$5,'база 2013'!$O$4:$O$1191,AV$7)","v":0},{"$f":"COUNTIFS('база 2013'!$B$4:$B$1191,$B74,'база 2013'!$I$4:$I$1191,AW$5,'база 2013'!$O$4:$O$1191,AW$7)","v":0},{"$f":"COUNTIFS('база 2013'!$B$4:$B$1191,$B74,'база 2013'!$I$4:$I$1191,AX$5,'база 2013'!$O$4:$O$1191,AX$7)","v":0},0,0,0,0,0,0,0]
[68,"Тхэквондо",{"$f":"COUNTIFS('база 2013'!$B$4:$B$1191,$B75,'база 2013'!$I$4:$I$1191,C$5,'база 2013'!$O$4:$O$1191,C$7)","v":0},{"$f":"COUNTIFS('база 2013'!$B$4:$B$1191,$B75,'база 2013'!$I$4:$I$1191,D$5,'база 2013'!$O$4:$O$1191,D$7)","v":0},{"$f":"COUNTIFS('база 2013'!$B$4:$B$1191,$B75,'база 2013'!$I$4:$I$1191,E$5,'база 2013'!$O$4:$O$1191,E$7)","v":0},{"$f":"COUNTIFS('база 2013'!$B$4:$B$1191,$B75,'база 2013'!$I$4:$I$1191,F$5,'база 2013'!$O$4:$O$1191,F$7)","v":0},{"$f":"COUNTIFS('база 2013'!$B$4:$B$1191,$B75,'база 2013'!$I$4:$I$1191,G$5,'база 2013'!$O$4:$O$1191,G$7)","v":0},{"$f":"COUNTIFS('база 2013'!$B$4:$B$1191,$B75,'база 2013'!$I$4:$I$1191,H$5,'база 2013'!$O$4:$O$1191,H$7)","v":0},{"$f":"COUNTIFS('база 2013'!$B$4:$B$1191,$B75,'база 2013'!$I$4:$I$1191,I$5,'база 2013'!$O$4:$O$1191,I$7)","v":0},{"$f":"COUNTIFS('база 2013'!$B$4:$B$1191,$B75,'база 2013'!$I$4:$I$1191,J$5,'база 2013'!$O$4:$O$1191,J$7)","v":0},{"$f":"COUNTIFS('база 2013'!$B$4:$B$1191,$B75,'база 2013'!$I$4:$I$1191,K$5,'база 2013'!$O$4:$O$1191,K$7)","v":0},{"$f":"COUNTIFS('база 2013'!$B$4:$B$1191,$B75,'база 2013'!$I$4:$I$1191,L$5,'база 2013'!$O$4:$O$1191,L$7)","v":0},{"$f":"COUNTIFS('база 2013'!$B$4:$B$1191,$B75,'база 2013'!$I$4:$I$1191,M$5,'база 2013'!$O$4:$O$1191,M$7)","v":0},{"$f":"COUNTIFS('база 2013'!$B$4:$B$1191,$B75,'база 2013'!$I$4:$I$1191,N$5,'база 2013'!$O$4:$O$1191,N$7)","v":0},{"$f":"COUNTIFS('база 2013'!$B$4:$B$1191,$B75,'база 2013'!$I$4:$I$1191,O$5,'база 2013'!$O$4:$O$1191,O$7)","v":0},{"$f":"COUNTIFS('база 2013'!$B$4:$B$1191,$B75,'база 2013'!$I$4:$I$1191,P$5,'база 2013'!$O$4:$O$1191,P$7)","v":0},{"$f":"COUNTIFS('база 2013'!$B$4:$B$1191,$B75,'база 2013'!$I$4:$I$1191,Q$5,'база 2013'!$O$4:$O$1191,Q$7)","v":0},0,0,0,{"$f":"COUNTIFS('база 2013'!$B$4:$B$1191,$B75,'база 2013'!$I$4:$I$1191,U$5,'база 2013'!$O$4:$O$1191,U$7)","v":0},{"$f":"COUNTIFS('база 2013'!$B$4:$B$1191,$B75,'база 2013'!$I$4:$I$1191,V$5,'база 2013'!$O$4:$O$1191,V$7)","v":0},{"$f":"COUNTIFS('база 2013'!$B$4:$B$1191,$B75,'база 2013'!$I$4:$I$1191,W$5,'база 2013'!$O$4:$O$1191,W$7)","v":0},{"$f":"COUNTIFS('база 2013'!$B$4:$B$1191,$B75,'база 2013'!$I$4:$I$1191,X$5,'база 2013'!$O$4:$O$1191,X$7)","v":0},{"$f":"COUNTIFS('база 2013'!$B$4:$B$1191,$B75,'база 2013'!$I$4:$I$1191,Y$5,'база 2013'!$O$4:$O$1191,Y$7)","v":0},{"$f":"COUNTIFS('база 2013'!$B$4:$B$1191,$B75,'база 2013'!$I$4:$I$1191,Z$5,'база 2013'!$O$4:$O$1191,Z$7)","v":0},{"$f":"COUNTIFS('база 2013'!$B$4:$B$1191,$B75,'база 2013'!$I$4:$I$1191,AA$5,'база 2013'!$O$4:$O$1191,AA$7)","v":0},{"$f":"COUNTIFS('база 2013'!$B$4:$B$1191,$B75,'база 2013'!$I$4:$I$1191,AB$5,'база 2013'!$O$4:$O$1191,AB$7)","v":0},{"$f":"COUNTIFS('база 2013'!$B$4:$B$1191,$B75,'база 2013'!$I$4:$I$1191,AC$5,'база 2013'!$O$4:$O$1191,AC$7)","v":0},0,0,0,{"$f":"COUNTIFS('база 2013'!$B$4:$B$1191,$B75,'база 2013'!$I$4:$I$1191,AG$5,'база 2013'!$O$4:$O$1191,AG$7)","v":0},{"$f":"COUNTIFS('база 2013'!$B$4:$B$1191,$B75,'база 2013'!$I$4:$I$1191,AH$5,'база 2013'!$O$4:$O$1191,AH$7)","v":0},{"$f":"COUNTIFS('база 2013'!$B$4:$B$1191,$B75,'база 2013'!$I$4:$I$1191,AI$5,'база 2013'!$O$4:$O$1191,AI$7)","v":0},{"$f":"COUNTIFS('база 2013'!$B$4:$B$1191,$B75,'база 2013'!$I$4:$I$1191,AJ$5,'база 2013'!$O$4:$O$1191,AJ$7)","v":0},{"$f":"COUNTIFS('база 2013'!$B$4:$B$1191,$B75,'база 2013'!$I$4:$I$1191,AK$5,'база 2013'!$O$4:$O$1191,AK$7)","v":0},{"$f":"COUNTIFS('база 2013'!$B$4:$B$1191,$B75,'база 2013'!$I$4:$I$1191,AL$5,'база 2013'!$O$4:$O$1191,AL$7)","v":0},{"$f":"COUNTIFS('база 2013'!$B$4:$B$1191,$B75,'база 2013'!$I$4:$I$1191,AM$5,'база 2013'!$O$4:$O$1191,AM$7)","v":0},{"$f":"COUNTIFS('база 2013'!$B$4:$B$1191,$B75,'база 2013'!$I$4:$I$1191,AN$5,'база 2013'!$O$4:$O$1191,AN$7)","v":0},{"$f":"COUNTIFS('база 2013'!$B$4:$B$1191,$B75,'база 2013'!$I$4:$I$1191,AO$5,'база 2013'!$O$4:$O$1191,AO$7)","v":0},{"$f":"COUNTIFS('база 2013'!$B$4:$B$1191,$B75,'база 2013'!$I$4:$I$1191,AP$5,'база 2013'!$O$4:$O$1191,AP$7)","v":0},{"$f":"COUNTIFS('база 2013'!$B$4:$B$1191,$B75,'база 2013'!$I$4:$I$1191,AQ$5,'база 2013'!$O$4:$O$1191,AQ$7)","v":0},{"$f":"COUNTIFS('база 2013'!$B$4:$B$1191,$B75,'база 2013'!$I$4:$I$1191,AR$5,'база 2013'!$O$4:$O$1191,AR$7)","v":0},{"$f":"COUNTIFS('база 2013'!$B$4:$B$1191,$B75,'база 2013'!$I$4:$I$1191,AS$5,'база 2013'!$O$4:$O$1191,AS$7)","v":0},{"$f":"COUNTIFS('база 2013'!$B$4:$B$1191,$B75,'база 2013'!$I$4:$I$1191,AT$5,'база 2013'!$O$4:$O$1191,AT$7)","v":0},{"$f":"COUNTIFS('база 2013'!$B$4:$B$1191,$B75,'база 2013'!$I$4:$I$1191,AU$5,'база 2013'!$O$4:$O$1191,AU$7)","v":0},{"$f":"COUNTIFS('база 2013'!$B$4:$B$1191,$B75,'база 2013'!$I$4:$I$1191,AV$5,'база 2013'!$O$4:$O$1191,AV$7)","v":0},{"$f":"COUNTIFS('база 2013'!$B$4:$B$1191,$B75,'база 2013'!$I$4:$I$1191,AW$5,'база 2013'!$O$4:$O$1191,AW$7)","v":0},{"$f":"COUNTIFS('база 2013'!$B$4:$B$1191,$B75,'база 2013'!$I$4:$I$1191,AX$5,'база 2013'!$O$4:$O$1191,AX$7)","v":0},0,0,0,0,0,0,0]
[69,"Тяжелая атлетика",{"$f":"COUNTIFS('база 2013'!$B$4:$B$1191,$B76,'база 2013'!$I$4:$I$1191,C$5,'база 2013'!$O$4:$O$1191,C$7)","v":0},{"$f":"COUNTIFS('база 2013'!$B$4:$B$1191,$B76,'база 2013'!$I$4:$I$1191,D$5,'база 2013'!$O$4:$O$1191,D$7)","v":0},{"$f":"COUNTIFS('база 2013'!$B$4:$B$1191,$B76,'база 2013'!$I$4:$I$1191,E$5,'база 2013'!$O$4:$O$1191,E$7)","v":0},{"$f":"COUNTIFS('база 2013'!$B$4:$B$1191,$B76,'база 2013'!$I$4:$I$1191,F$5,'база 2013'!$O$4:$O$1191,F$7)","v":0},{"$f":"COUNTIFS('база 2013'!$B$4:$B$1191,$B76,'база 2013'!$I$4:$I$1191,G$5,'база 2013'!$O$4:$O$1191,G$7)","v":0},{"$f":"COUNTIFS('база 2013'!$B$4:$B$1191,$B76,'база 2013'!$I$4:$I$1191,H$5,'база 2013'!$O$4:$O$1191,H$7)","v":0},{"$f":"COUNTIFS('база 2013'!$B$4:$B$1191,$B76,'база 2013'!$I$4:$I$1191,I$5,'база 2013'!$O$4:$O$1191,I$7)","v":0},{"$f":"COUNTIFS('база 2013'!$B$4:$B$1191,$B76,'база 2013'!$I$4:$I$1191,J$5,'база 2013'!$O$4:$O$1191,J$7)","v":0},{"$f":"COUNTIFS('база 2013'!$B$4:$B$1191,$B76,'база 2013'!$I$4:$I$1191,K$5,'база 2013'!$O$4:$O$1191,K$7)","v":0},{"$f":"COUNTIFS('база 2013'!$B$4:$B$1191,$B76,'база 2013'!$I$4:$I$1191,L$5,'база 2013'!$O$4:$O$1191,L$7)","v":0},{"$f":"COUNTIFS('база 2013'!$B$4:$B$1191,$B76,'база 2013'!$I$4:$I$1191,M$5,'база 2013'!$O$4:$O$1191,M$7)","v":0},{"$f":"COUNTIFS('база 2013'!$B$4:$B$1191,$B76,'база 2013'!$I$4:$I$1191,N$5,'база 2013'!$O$4:$O$1191,N$7)","v":0},{"$f":"COUNTIFS('база 2013'!$B$4:$B$1191,$B76,'база 2013'!$I$4:$I$1191,O$5,'база 2013'!$O$4:$O$1191,O$7)","v":0},{"$f":"COUNTIFS('база 2013'!$B$4:$B$1191,$B76,'база 2013'!$I$4:$I$1191,P$5,'база 2013'!$O$4:$O$1191,P$7)","v":0},{"$f":"COUNTIFS('база 2013'!$B$4:$B$1191,$B76,'база 2013'!$I$4:$I$1191,Q$5,'база 2013'!$O$4:$O$1191,Q$7)","v":0},0,0,0,{"$f":"COUNTIFS('база 2013'!$B$4:$B$1191,$B76,'база 2013'!$I$4:$I$1191,U$5,'база 2013'!$O$4:$O$1191,U$7)","v":0},{"$f":"COUNTIFS('база 2013'!$B$4:$B$1191,$B76,'база 2013'!$I$4:$I$1191,V$5,'база 2013'!$O$4:$O$1191,V$7)","v":0},{"$f":"COUNTIFS('база 2013'!$B$4:$B$1191,$B76,'база 2013'!$I$4:$I$1191,W$5,'база 2013'!$O$4:$O$1191,W$7)","v":0},{"$f":"COUNTIFS('база 2013'!$B$4:$B$1191,$B76,'база 2013'!$I$4:$I$1191,X$5,'база 2013'!$O$4:$O$1191,X$7)","v":0},{"$f":"COUNTIFS('база 2013'!$B$4:$B$1191,$B76,'база 2013'!$I$4:$I$1191,Y$5,'база 2013'!$O$4:$O$1191,Y$7)","v":0},{"$f":"COUNTIFS('база 2013'!$B$4:$B$1191,$B76,'база 2013'!$I$4:$I$1191,Z$5,'база 2013'!$O$4:$O$1191,Z$7)","v":0},{"$f":"COUNTIFS('база 2013'!$B$4:$B$1191,$B76,'база 2013'!$I$4:$I$1191,AA$5,'база 2013'!$O$4:$O$1191,AA$7)","v":0},{"$f":"COUNTIFS('база 2013'!$B$4:$B$1191,$B76,'база 2013'!$I$4:$I$1191,AB$5,'база 2013'!$O$4:$O$1191,AB$7)","v":0},{"$f":"COUNTIFS('база 2013'!$B$4:$B$1191,$B76,'база 2013'!$I$4:$I$1191,AC$5,'база 2013'!$O$4:$O$1191,AC$7)","v":0},0,0,0,{"$f":"COUNTIFS('база 2013'!$B$4:$B$1191,$B76,'база 2013'!$I$4:$I$1191,AG$5,'база 2013'!$O$4:$O$1191,AG$7)","v":0},{"$f":"COUNTIFS('база 2013'!$B$4:$B$1191,$B76,'база 2013'!$I$4:$I$1191,AH$5,'база 2013'!$O$4:$O$1191,AH$7)","v":0},{"$f":"COUNTIFS('база 2013'!$B$4:$B$1191,$B76,'база 2013'!$I$4:$I$1191,AI$5,'база 2013'!$O$4:$O$1191,AI$7)","v":0},{"$f":"COUNTIFS('база 2013'!$B$4:$B$1191,$B76,'база 2013'!$I$4:$I$1191,AJ$5,'база 2013'!$O$4:$O$1191,AJ$7)","v":0},{"$f":"COUNTIFS('база 2013'!$B$4:$B$1191,$B76,'база 2013'!$I$4:$I$1191,AK$5,'база 2013'!$O$4:$O$1191,AK$7)","v":0},{"$f":"COUNTIFS('база 2013'!$B$4:$B$1191,$B76,'база 2013'!$I$4:$I$1191,AL$5,'база 2013'!$O$4:$O$1191,AL$7)","v":0},{"$f":"COUNTIFS('база 2013'!$B$4:$B$1191,$B76,'база 2013'!$I$4:$I$1191,AM$5,'база 2013'!$O$4:$O$1191,AM$7)","v":0},{"$f":"COUNTIFS('база 2013'!$B$4:$B$1191,$B76,'база 2013'!$I$4:$I$1191,AN$5,'база 2013'!$O$4:$O$1191,AN$7)","v":0},{"$f":"COUNTIFS('база 2013'!$B$4:$B$1191,$B76,'база 2013'!$I$4:$I$1191,AO$5,'база 2013'!$O$4:$O$1191,AO$7)","v":0},{"$f":"COUNTIFS('база 2013'!$B$4:$B$1191,$B76,'база 2013'!$I$4:$I$1191,AP$5,'база 2013'!$O$4:$O$1191,AP$7)","v":0},{"$f":"COUNTIFS('база 2013'!$B$4:$B$1191,$B76,'база 2013'!$I$4:$I$1191,AQ$5,'база 2013'!$O$4:$O$1191,AQ$7)","v":0},{"$f":"COUNTIFS('база 2013'!$B$4:$B$1191,$B76,'база 2013'!$I$4:$I$1191,AR$5,'база 2013'!$O$4:$O$1191,AR$7)","v":0},{"$f":"COUNTIFS('база 2013'!$B$4:$B$1191,$B76,'база 2013'!$I$4:$I$1191,AS$5,'база 2013'!$O$4:$O$1191,AS$7)","v":0},{"$f":"COUNTIFS('база 2013'!$B$4:$B$1191,$B76,'база 2013'!$I$4:$I$1191,AT$5,'база 2013'!$O$4:$O$1191,AT$7)","v":0},{"$f":"COUNTIFS('база 2013'!$B$4:$B$1191,$B76,'база 2013'!$I$4:$I$1191,AU$5,'база 2013'!$O$4:$O$1191,AU$7)","v":0},{"$f":"COUNTIFS('база 2013'!$B$4:$B$1191,$B76,'база 2013'!$I$4:$I$1191,AV$5,'база 2013'!$O$4:$O$1191,AV$7)","v":0},{"$f":"COUNTIFS('база 2013'!$B$4:$B$1191,$B76,'база 2013'!$I$4:$I$1191,AW$5,'база 2013'!$O$4:$O$1191,AW$7)","v":0},{"$f":"COUNTIFS('база 2013'!$B$4:$B$1191,$B76,'база 2013'!$I$4:$I$1191,AX$5,'база 2013'!$O$4:$O$1191,AX$7)","v":0},0,0,0,0,0,0,0]
[70,"Хоккей на траве",{"$f":"COUNTIFS('база 2013'!$B$4:$B$1191,$B77,'база 2013'!$I$4:$I$1191,C$5,'база 2013'!$O$4:$O$1191,C$7)","v":0},{"$f":"COUNTIFS('база 2013'!$B$4:$B$1191,$B77,'база 2013'!$I$4:$I$1191,D$5,'база 2013'!$O$4:$O$1191,D$7)","v":0},{"$f":"COUNTIFS('база 2013'!$B$4:$B$1191,$B77,'база 2013'!$I$4:$I$1191,E$5,'база 2013'!$O$4:$O$1191,E$7)","v":0},{"$f":"COUNTIFS('база 2013'!$B$4:$B$1191,$B77,'база 2013'!$I$4:$I$1191,F$5,'база 2013'!$O$4:$O$1191,F$7)","v":0},{"$f":"COUNTIFS('база 2013'!$B$4:$B$1191,$B77,'база 2013'!$I$4:$I$1191,G$5,'база 2013'!$O$4:$O$1191,G$7)","v":0},{"$f":"COUNTIFS('база 2013'!$B$4:$B$1191,$B77,'база 2013'!$I$4:$I$1191,H$5,'база 2013'!$O$4:$O$1191,H$7)","v":0},{"$f":"COUNTIFS('база 2013'!$B$4:$B$1191,$B77,'база 2013'!$I$4:$I$1191,I$5,'база 2013'!$O$4:$O$1191,I$7)","v":0},{"$f":"COUNTIFS('база 2013'!$B$4:$B$1191,$B77,'база 2013'!$I$4:$I$1191,J$5,'база 2013'!$O$4:$O$1191,J$7)","v":0},{"$f":"COUNTIFS('база 2013'!$B$4:$B$1191,$B77,'база 2013'!$I$4:$I$1191,K$5,'база 2013'!$O$4:$O$1191,K$7)","v":0},{"$f":"COUNTIFS('база 2013'!$B$4:$B$1191,$B77,'база 2013'!$I$4:$I$1191,L$5,'база 2013'!$O$4:$O$1191,L$7)","v":0},{"$f":"COUNTIFS('база 2013'!$B$4:$B$1191,$B77,'база 2013'!$I$4:$I$1191,M$5,'база 2013'!$O$4:$O$1191,M$7)","v":0},{"$f":"COUNTIFS('база 2013'!$B$4:$B$1191,$B77,'база 2013'!$I$4:$I$1191,N$5,'база 2013'!$O$4:$O$1191,N$7)","v":0},{"$f":"COUNTIFS('база 2013'!$B$4:$B$1191,$B77,'база 2013'!$I$4:$I$1191,O$5,'база 2013'!$O$4:$O$1191,O$7)","v":0},{"$f":"COUNTIFS('база 2013'!$B$4:$B$1191,$B77,'база 2013'!$I$4:$I$1191,P$5,'база 2013'!$O$4:$O$1191,P$7)","v":0},{"$f":"COUNTIFS('база 2013'!$B$4:$B$1191,$B77,'база 2013'!$I$4:$I$1191,Q$5,'база 2013'!$O$4:$O$1191,Q$7)","v":0},0,0,0,{"$f":"COUNTIFS('база 2013'!$B$4:$B$1191,$B77,'база 2013'!$I$4:$I$1191,U$5,'база 2013'!$O$4:$O$1191,U$7)","v":0},{"$f":"COUNTIFS('база 2013'!$B$4:$B$1191,$B77,'база 2013'!$I$4:$I$1191,V$5,'база 2013'!$O$4:$O$1191,V$7)","v":0},{"$f":"COUNTIFS('база 2013'!$B$4:$B$1191,$B77,'база 2013'!$I$4:$I$1191,W$5,'база 2013'!$O$4:$O$1191,W$7)","v":0},{"$f":"COUNTIFS('база 2013'!$B$4:$B$1191,$B77,'база 2013'!$I$4:$I$1191,X$5,'база 2013'!$O$4:$O$1191,X$7)","v":0},{"$f":"COUNTIFS('база 2013'!$B$4:$B$1191,$B77,'база 2013'!$I$4:$I$1191,Y$5,'база 2013'!$O$4:$O$1191,Y$7)","v":0},{"$f":"COUNTIFS('база 2013'!$B$4:$B$1191,$B77,'база 2013'!$I$4:$I$1191,Z$5,'база 2013'!$O$4:$O$1191,Z$7)","v":0},{"$f":"COUNTIFS('база 2013'!$B$4:$B$1191,$B77,'база 2013'!$I$4:$I$1191,AA$5,'база 2013'!$O$4:$O$1191,AA$7)","v":0},{"$f":"COUNTIFS('база 2013'!$B$4:$B$1191,$B77,'база 2013'!$I$4:$I$1191,AB$5,'база 2013'!$O$4:$O$1191,AB$7)","v":0},{"$f":"COUNTIFS('база 2013'!$B$4:$B$1191,$B77,'база 2013'!$I$4:$I$1191,AC$5,'база 2013'!$O$4:$O$1191,AC$7)","v":0},0,0,0,{"$f":"COUNTIFS('база 2013'!$B$4:$B$1191,$B77,'база 2013'!$I$4:$I$1191,AG$5,'база 2013'!$O$4:$O$1191,AG$7)","v":0},{"$f":"COUNTIFS('база 2013'!$B$4:$B$1191,$B77,'база 2013'!$I$4:$I$1191,AH$5,'база 2013'!$O$4:$O$1191,AH$7)","v":0},{"$f":"COUNTIFS('база 2013'!$B$4:$B$1191,$B77,'база 2013'!$I$4:$I$1191,AI$5,'база 2013'!$O$4:$O$1191,AI$7)","v":0},{"$f":"COUNTIFS('база 2013'!$B$4:$B$1191,$B77,'база 2013'!$I$4:$I$1191,AJ$5,'база 2013'!$O$4:$O$1191,AJ$7)","v":0},{"$f":"COUNTIFS('база 2013'!$B$4:$B$1191,$B77,'база 2013'!$I$4:$I$1191,AK$5,'база 2013'!$O$4:$O$1191,AK$7)","v":0},{"$f":"COUNTIFS('база 2013'!$B$4:$B$1191,$B77,'база 2013'!$I$4:$I$1191,AL$5,'база 2013'!$O$4:$O$1191,AL$7)","v":0},{"$f":"COUNTIFS('база 2013'!$B$4:$B$1191,$B77,'база 2013'!$I$4:$I$1191,AM$5,'база 2013'!$O$4:$O$1191,AM$7)","v":0},{"$f":"COUNTIFS('база 2013'!$B$4:$B$1191,$B77,'база 2013'!$I$4:$I$1191,AN$5,'база 2013'!$O$4:$O$1191,AN$7)","v":0},{"$f":"COUNTIFS('база 2013'!$B$4:$B$1191,$B77,'база 2013'!$I$4:$I$1191,AO$5,'база 2013'!$O$4:$O$1191,AO$7)","v":0},{"$f":"COUNTIFS('база 2013'!$B$4:$B$1191,$B77,'база 2013'!$I$4:$I$1191,AP$5,'база 2013'!$O$4:$O$1191,AP$7)","v":0},{"$f":"COUNTIFS('база 2013'!$B$4:$B$1191,$B77,'база 2013'!$I$4:$I$1191,AQ$5,'база 2013'!$O$4:$O$1191,AQ$7)","v":0},{"$f":"COUNTIFS('база 2013'!$B$4:$B$1191,$B77,'база 2013'!$I$4:$I$1191,AR$5,'база 2013'!$O$4:$O$1191,AR$7)","v":0},{"$f":"COUNTIFS('база 2013'!$B$4:$B$1191,$B77,'база 2013'!$I$4:$I$1191,AS$5,'база 2013'!$O$4:$O$1191,AS$7)","v":0},{"$f":"COUNTIFS('база 2013'!$B$4:$B$1191,$B77,'база 2013'!$I$4:$I$1191,AT$5,'база 2013'!$O$4:$O$1191,AT$7)","v":0},{"$f":"COUNTIFS('база 2013'!$B$4:$B$1191,$B77,'база 2013'!$I$4:$I$1191,AU$5,'база 2013'!$O$4:$O$1191,AU$7)","v":0},{"$f":"COUNTIFS('база 2013'!$B$4:$B$1191,$B77,'база 2013'!$I$4:$I$1191,AV$5,'база 2013'!$O$4:$O$1191,AV$7)","v":0},{"$f":"COUNTIFS('база 2013'!$B$4:$B$1191,$B77,'база 2013'!$I$4:$I$1191,AW$5,'база 2013'!$O$4:$O$1191,AW$7)","v":0},{"$f":"COUNTIFS('база 2013'!$B$4:$B$1191,$B77,'база 2013'!$I$4:$I$1191,AX$5,'база 2013'!$O$4:$O$1191,AX$7)","v":0},0,0,0,0,0,0,0]
[71,"Ушу",{"$f":"COUNTIFS('база 2013'!$B$4:$B$1191,$B78,'база 2013'!$I$4:$I$1191,C$5,'база 2013'!$O$4:$O$1191,C$7)","v":0},{"$f":"COUNTIFS('база 2013'!$B$4:$B$1191,$B78,'база 2013'!$I$4:$I$1191,D$5,'база 2013'!$O$4:$O$1191,D$7)","v":0},{"$f":"COUNTIFS('база 2013'!$B$4:$B$1191,$B78,'база 2013'!$I$4:$I$1191,E$5,'база 2013'!$O$4:$O$1191,E$7)","v":0},{"$f":"COUNTIFS('база 2013'!$B$4:$B$1191,$B78,'база 2013'!$I$4:$I$1191,F$5,'база 2013'!$O$4:$O$1191,F$7)","v":0},{"$f":"COUNTIFS('база 2013'!$B$4:$B$1191,$B78,'база 2013'!$I$4:$I$1191,G$5,'база 2013'!$O$4:$O$1191,G$7)","v":0},{"$f":"COUNTIFS('база 2013'!$B$4:$B$1191,$B78,'база 2013'!$I$4:$I$1191,H$5,'база 2013'!$O$4:$O$1191,H$7)","v":0},{"$f":"COUNTIFS('база 2013'!$B$4:$B$1191,$B78,'база 2013'!$I$4:$I$1191,I$5,'база 2013'!$O$4:$O$1191,I$7)","v":0},{"$f":"COUNTIFS('база 2013'!$B$4:$B$1191,$B78,'база 2013'!$I$4:$I$1191,J$5,'база 2013'!$O$4:$O$1191,J$7)","v":0},{"$f":"COUNTIFS('база 2013'!$B$4:$B$1191,$B78,'база 2013'!$I$4:$I$1191,K$5,'база 2013'!$O$4:$O$1191,K$7)","v":0},{"$f":"COUNTIFS('база 2013'!$B$4:$B$1191,$B78,'база 2013'!$I$4:$I$1191,L$5,'база 2013'!$O$4:$O$1191,L$7)","v":0},{"$f":"COUNTIFS('база 2013'!$B$4:$B$1191,$B78,'база 2013'!$I$4:$I$1191,M$5,'база 2013'!$O$4:$O$1191,M$7)","v":0},{"$f":"COUNTIFS('база 2013'!$B$4:$B$1191,$B78,'база 2013'!$I$4:$I$1191,N$5,'база 2013'!$O$4:$O$1191,N$7)","v":0},{"$f":"COUNTIFS('база 2013'!$B$4:$B$1191,$B78,'база 2013'!$I$4:$I$1191,O$5,'база 2013'!$O$4:$O$1191,O$7)","v":0},{"$f":"COUNTIFS('база 2013'!$B$4:$B$1191,$B78,'база 2013'!$I$4:$I$1191,P$5,'база 2013'!$O$4:$O$1191,P$7)","v":0},{"$f":"COUNTIFS('база 2013'!$B$4:$B$1191,$B78,'база 2013'!$I$4:$I$1191,Q$5,'база 2013'!$O$4:$O$1191,Q$7)","v":0},0,0,0,{"$f":"COUNTIFS('база 2013'!$B$4:$B$1191,$B78,'база 2013'!$I$4:$I$1191,U$5,'база 2013'!$O$4:$O$1191,U$7)","v":0},{"$f":"COUNTIFS('база 2013'!$B$4:$B$1191,$B78,'база 2013'!$I$4:$I$1191,V$5,'база 2013'!$O$4:$O$1191,V$7)","v":0},{"$f":"COUNTIFS('база 2013'!$B$4:$B$1191,$B78,'база 2013'!$I$4:$I$1191,W$5,'база 2013'!$O$4:$O$1191,W$7)","v":0},{"$f":"COUNTIFS('база 2013'!$B$4:$B$1191,$B78,'база 2013'!$I$4:$I$1191,X$5,'база 2013'!$O$4:$O$1191,X$7)","v":0},{"$f":"COUNTIFS('база 2013'!$B$4:$B$1191,$B78,'база 2013'!$I$4:$I$1191,Y$5,'база 2013'!$O$4:$O$1191,Y$7)","v":0},{"$f":"COUNTIFS('база 2013'!$B$4:$B$1191,$B78,'база 2013'!$I$4:$I$1191,Z$5,'база 2013'!$O$4:$O$1191,Z$7)","v":0},{"$f":"COUNTIFS('база 2013'!$B$4:$B$1191,$B78,'база 2013'!$I$4:$I$1191,AA$5,'база 2013'!$O$4:$O$1191,AA$7)","v":0},{"$f":"COUNTIFS('база 2013'!$B$4:$B$1191,$B78,'база 2013'!$I$4:$I$1191,AB$5,'база 2013'!$O$4:$O$1191,AB$7)","v":0},{"$f":"COUNTIFS('база 2013'!$B$4:$B$1191,$B78,'база 2013'!$I$4:$I$1191,AC$5,'база 2013'!$O$4:$O$1191,AC$7)","v":0},0,0,0,{"$f":"COUNTIFS('база 2013'!$B$4:$B$1191,$B78,'база 2013'!$I$4:$I$1191,AG$5,'база 2013'!$O$4:$O$1191,AG$7)","v":0},{"$f":"COUNTIFS('база 2013'!$B$4:$B$1191,$B78,'база 2013'!$I$4:$I$1191,AH$5,'база 2013'!$O$4:$O$1191,AH$7)","v":0},{"$f":"COUNTIFS('база 2013'!$B$4:$B$1191,$B78,'база 2013'!$I$4:$I$1191,AI$5,'база 2013'!$O$4:$O$1191,AI$7)","v":0},{"$f":"COUNTIFS('база 2013'!$B$4:$B$1191,$B78,'база 2013'!$I$4:$I$1191,AJ$5,'база 2013'!$O$4:$O$1191,AJ$7)","v":0},{"$f":"COUNTIFS('база 2013'!$B$4:$B$1191,$B78,'база 2013'!$I$4:$I$1191,AK$5,'база 2013'!$O$4:$O$1191,AK$7)","v":0},{"$f":"COUNTIFS('база 2013'!$B$4:$B$1191,$B78,'база 2013'!$I$4:$I$1191,AL$5,'база 2013'!$O$4:$O$1191,AL$7)","v":0},{"$f":"COUNTIFS('база 2013'!$B$4:$B$1191,$B78,'база 2013'!$I$4:$I$1191,AM$5,'база 2013'!$O$4:$O$1191,AM$7)","v":0},{"$f":"COUNTIFS('база 2013'!$B$4:$B$1191,$B78,'база 2013'!$I$4:$I$1191,AN$5,'база 2013'!$O$4:$O$1191,AN$7)","v":0},{"$f":"COUNTIFS('база 2013'!$B$4:$B$1191,$B78,'база 2013'!$I$4:$I$1191,AO$5,'база 2013'!$O$4:$O$1191,AO$7)","v":0},{"$f":"COUNTIFS('база 2013'!$B$4:$B$1191,$B78,'база 2013'!$I$4:$I$1191,AP$5,'база 2013'!$O$4:$O$1191,AP$7)","v":0},{"$f":"COUNTIFS('база 2013'!$B$4:$B$1191,$B78,'база 2013'!$I$4:$I$1191,AQ$5,'база 2013'!$O$4:$O$1191,AQ$7)","v":0},{"$f":"COUNTIFS('база 2013'!$B$4:$B$1191,$B78,'база 2013'!$I$4:$I$1191,AR$5,'база 2013'!$O$4:$O$1191,AR$7)","v":0},{"$f":"COUNTIFS('база 2013'!$B$4:$B$1191,$B78,'база 2013'!$I$4:$I$1191,AS$5,'база 2013'!$O$4:$O$1191,AS$7)","v":0},{"$f":"COUNTIFS('база 2013'!$B$4:$B$1191,$B78,'база 2013'!$I$4:$I$1191,AT$5,'база 2013'!$O$4:$O$1191,AT$7)","v":0},{"$f":"COUNTIFS('база 2013'!$B$4:$B$1191,$B78,'база 2013'!$I$4:$I$1191,AU$5,'база 2013'!$O$4:$O$1191,AU$7)","v":0},{"$f":"COUNTIFS('база 2013'!$B$4:$B$1191,$B78,'база 2013'!$I$4:$I$1191,AV$5,'база 2013'!$O$4:$O$1191,AV$7)","v":0},{"$f":"COUNTIFS('база 2013'!$B$4:$B$1191,$B78,'база 2013'!$I$4:$I$1191,AW$5,'база 2013'!$O$4:$O$1191,AW$7)","v":0},{"$f":"COUNTIFS('база 2013'!$B$4:$B$1191,$B78,'база 2013'!$I$4:$I$1191,AX$5,'база 2013'!$O$4:$O$1191,AX$7)","v":0},0,0,0,0,0,0,{"$f":"SUM(BB78:BD78)","v":0}]
[72,"Универсальный бой",{"$f":"COUNTIFS('база 2013'!$B$4:$B$1191,$B79,'база 2013'!$I$4:$I$1191,C$5,'база 2013'!$O$4:$O$1191,C$7)","v":0},{"$f":"COUNTIFS('база 2013'!$B$4:$B$1191,$B79,'база 2013'!$I$4:$I$1191,D$5,'база 2013'!$O$4:$O$1191,D$7)","v":0},{"$f":"COUNTIFS('база 2013'!$B$4:$B$1191,$B79,'база 2013'!$I$4:$I$1191,E$5,'база 2013'!$O$4:$O$1191,E$7)","v":0},{"$f":"COUNTIFS('база 2013'!$B$4:$B$1191,$B79,'база 2013'!$I$4:$I$1191,F$5,'база 2013'!$O$4:$O$1191,F$7)","v":0},{"$f":"COUNTIFS('база 2013'!$B$4:$B$1191,$B79,'база 2013'!$I$4:$I$1191,G$5,'база 2013'!$O$4:$O$1191,G$7)","v":0},{"$f":"COUNTIFS('база 2013'!$B$4:$B$1191,$B79,'база 2013'!$I$4:$I$1191,H$5,'база 2013'!$O$4:$O$1191,H$7)","v":0},{"$f":"COUNTIFS('база 2013'!$B$4:$B$1191,$B79,'база 2013'!$I$4:$I$1191,I$5,'база 2013'!$O$4:$O$1191,I$7)","v":0},{"$f":"COUNTIFS('база 2013'!$B$4:$B$1191,$B79,'база 2013'!$I$4:$I$1191,J$5,'база 2013'!$O$4:$O$1191,J$7)","v":0},{"$f":"COUNTIFS('база 2013'!$B$4:$B$1191,$B79,'база 2013'!$I$4:$I$1191,K$5,'база 2013'!$O$4:$O$1191,K$7)","v":0},{"$f":"COUNTIFS('база 2013'!$B$4:$B$1191,$B79,'база 2013'!$I$4:$I$1191,L$5,'база 2013'!$O$4:$O$1191,L$7)","v":0},{"$f":"COUNTIFS('база 2013'!$B$4:$B$1191,$B79,'база 2013'!$I$4:$I$1191,M$5,'база 2013'!$O$4:$O$1191,M$7)","v":0},{"$f":"COUNTIFS('база 2013'!$B$4:$B$1191,$B79,'база 2013'!$I$4:$I$1191,N$5,'база 2013'!$O$4:$O$1191,N$7)","v":0},{"$f":"COUNTIFS('база 2013'!$B$4:$B$1191,$B79,'база 2013'!$I$4:$I$1191,O$5,'база 2013'!$O$4:$O$1191,O$7)","v":0},{"$f":"COUNTIFS('база 2013'!$B$4:$B$1191,$B79,'база 2013'!$I$4:$I$1191,P$5,'база 2013'!$O$4:$O$1191,P$7)","v":0},{"$f":"COUNTIFS('база 2013'!$B$4:$B$1191,$B79,'база 2013'!$I$4:$I$1191,Q$5,'база 2013'!$O$4:$O$1191,Q$7)","v":0},0,0,0,{"$f":"COUNTIFS('база 2013'!$B$4:$B$1191,$B79,'база 2013'!$I$4:$I$1191,U$5,'база 2013'!$O$4:$O$1191,U$7)","v":0},{"$f":"COUNTIFS('база 2013'!$B$4:$B$1191,$B79,'база 2013'!$I$4:$I$1191,V$5,'база 2013'!$O$4:$O$1191,V$7)","v":0},{"$f":"COUNTIFS('база 2013'!$B$4:$B$1191,$B79,'база 2013'!$I$4:$I$1191,W$5,'база 2013'!$O$4:$O$1191,W$7)","v":0},{"$f":"COUNTIFS('база 2013'!$B$4:$B$1191,$B79,'база 2013'!$I$4:$I$1191,X$5,'база 2013'!$O$4:$O$1191,X$7)","v":0},{"$f":"COUNTIFS('база 2013'!$B$4:$B$1191,$B79,'база 2013'!$I$4:$I$1191,Y$5,'база 2013'!$O$4:$O$1191,Y$7)","v":0},{"$f":"COUNTIFS('база 2013'!$B$4:$B$1191,$B79,'база 2013'!$I$4:$I$1191,Z$5,'база 2013'!$O$4:$O$1191,Z$7)","v":0},{"$f":"COUNTIFS('база 2013'!$B$4:$B$1191,$B79,'база 2013'!$I$4:$I$1191,AA$5,'база 2013'!$O$4:$O$1191,AA$7)","v":0},{"$f":"COUNTIFS('база 2013'!$B$4:$B$1191,$B79,'база 2013'!$I$4:$I$1191,AB$5,'база 2013'!$O$4:$O$1191,AB$7)","v":0},{"$f":"COUNTIFS('база 2013'!$B$4:$B$1191,$B79,'база 2013'!$I$4:$I$1191,AC$5,'база 2013'!$O$4:$O$1191,AC$7)","v":0},0,0,0,{"$f":"COUNTIFS('база 2013'!$B$4:$B$1191,$B79,'база 2013'!$I$4:$I$1191,AG$5,'база 2013'!$O$4:$O$1191,AG$7)","v":0},{"$f":"COUNTIFS('база 2013'!$B$4:$B$1191,$B79,'база 2013'!$I$4:$I$1191,AH$5,'база 2013'!$O$4:$O$1191,AH$7)","v":0},{"$f":"COUNTIFS('база 2013'!$B$4:$B$1191,$B79,'база 2013'!$I$4:$I$1191,AI$5,'база 2013'!$O$4:$O$1191,AI$7)","v":0},{"$f":"COUNTIFS('база 2013'!$B$4:$B$1191,$B79,'база 2013'!$I$4:$I$1191,AJ$5,'база 2013'!$O$4:$O$1191,AJ$7)","v":0},{"$f":"COUNTIFS('база 2013'!$B$4:$B$1191,$B79,'база 2013'!$I$4:$I$1191,AK$5,'база 2013'!$O$4:$O$1191,AK$7)","v":0},{"$f":"COUNTIFS('база 2013'!$B$4:$B$1191,$B79,'база 2013'!$I$4:$I$1191,AL$5,'база 2013'!$O$4:$O$1191,AL$7)","v":0},{"$f":"COUNTIFS('база 2013'!$B$4:$B$1191,$B79,'база 2013'!$I$4:$I$1191,AM$5,'база 2013'!$O$4:$O$1191,AM$7)","v":0},{"$f":"COUNTIFS('база 2013'!$B$4:$B$1191,$B79,'база 2013'!$I$4:$I$1191,AN$5,'база 2013'!$O$4:$O$1191,AN$7)","v":0},{"$f":"COUNTIFS('база 2013'!$B$4:$B$1191,$B79,'база 2013'!$I$4:$I$1191,AO$5,'база 2013'!$O$4:$O$1191,AO$7)","v":0},{"$f":"COUNTIFS('база 2013'!$B$4:$B$1191,$B79,'база 2013'!$I$4:$I$1191,AP$5,'база 2013'!$O$4:$O$1191,AP$7)","v":0},{"$f":"COUNTIFS('база 2013'!$B$4:$B$1191,$B79,'база 2013'!$I$4:$I$1191,AQ$5,'база 2013'!$O$4:$O$1191,AQ$7)","v":0},{"$f":"COUNTIFS('база 2013'!$B$4:$B$1191,$B79,'база 2013'!$I$4:$I$1191,AR$5,'база 2013'!$O$4:$O$1191,AR$7)","v":0},{"$f":"COUNTIFS('база 2013'!$B$4:$B$1191,$B79,'база 2013'!$I$4:$I$1191,AS$5,'база 2013'!$O$4:$O$1191,AS$7)","v":0},{"$f":"COUNTIFS('база 2013'!$B$4:$B$1191,$B79,'база 2013'!$I$4:$I$1191,AT$5,'база 2013'!$O$4:$O$1191,AT$7)","v":0},{"$f":"COUNTIFS('база 2013'!$B$4:$B$1191,$B79,'база 2013'!$I$4:$I$1191,AU$5,'база 2013'!$O$4:$O$1191,AU$7)","v":0},{"$f":"COUNTIFS('база 2013'!$B$4:$B$1191,$B79,'база 2013'!$I$4:$I$1191,AV$5,'база 2013'!$O$4:$O$1191,AV$7)","v":0},{"$f":"COUNTIFS('база 2013'!$B$4:$B$1191,$B79,'база 2013'!$I$4:$I$1191,AW$5,'база 2013'!$O$4:$O$1191,AW$7)","v":0},{"$f":"COUNTIFS('база 2013'!$B$4:$B$1191,$B79,'база 2013'!$I$4:$I$1191,AX$5,'база 2013'!$O$4:$O$1191,AX$7)","v":0},0,0,0,0,0,0,{"$f":"SUM(BB79:BD79)","v":0}]
[73,"Фехтование",{"$f":"COUNTIFS('база 2013'!$B$4:$B$1191,$B80,'база 2013'!$I$4:$I$1191,C$5,'база 2013'!$O$4:$O$1191,C$7)","v":0},{"$f":"COUNTIFS('база 2013'!$B$4:$B$1191,$B80,'база 2013'!$I$4:$I$1191,D$5,'база 2013'!$O$4:$O$1191,D$7)","v":0},{"$f":"COUNTIFS('база 2013'!$B$4:$B$1191,$B80,'база 2013'!$I$4:$I$1191,E$5,'база 2013'!$O$4:$O$1191,E$7)","v":0},{"$f":"COUNTIFS('база 2013'!$B$4:$B$1191,$B80,'база 2013'!$I$4:$I$1191,F$5,'база 2013'!$O$4:$O$1191,F$7)","v":0},{"$f":"COUNTIFS('база 2013'!$B$4:$B$1191,$B80,'база 2013'!$I$4:$I$1191,G$5,'база 2013'!$O$4:$O$1191,G$7)","v":0},{"$f":"COUNTIFS('база 2013'!$B$4:$B$1191,$B80,'база 2013'!$I$4:$I$1191,H$5,'база 2013'!$O$4:$O$1191,H$7)","v":0},{"$f":"COUNTIFS('база 2013'!$B$4:$B$1191,$B80,'база 2013'!$I$4:$I$1191,I$5,'база 2013'!$O$4:$O$1191,I$7)","v":0},{"$f":"COUNTIFS('база 2013'!$B$4:$B$1191,$B80,'база 2013'!$I$4:$I$1191,J$5,'база 2013'!$O$4:$O$1191,J$7)","v":0},{"$f":"COUNTIFS('база 2013'!$B$4:$B$1191,$B80,'база 2013'!$I$4:$I$1191,K$5,'база 2013'!$O$4:$O$1191,K$7)","v":0},{"$f":"COUNTIFS('база 2013'!$B$4:$B$1191,$B80,'база 2013'!$I$4:$I$1191,L$5,'база 2013'!$O$4:$O$1191,L$7)","v":0},{"$f":"COUNTIFS('база 2013'!$B$4:$B$1191,$B80,'база 2013'!$I$4:$I$1191,M$5,'база 2013'!$O$4:$O$1191,M$7)","v":0},{"$f":"COUNTIFS('база 2013'!$B$4:$B$1191,$B80,'база 2013'!$I$4:$I$1191,N$5,'база 2013'!$O$4:$O$1191,N$7)","v":0},{"$f":"COUNTIFS('база 2013'!$B$4:$B$1191,$B80,'база 2013'!$I$4:$I$1191,O$5,'база 2013'!$O$4:$O$1191,O$7)","v":0},{"$f":"COUNTIFS('база 2013'!$B$4:$B$1191,$B80,'база 2013'!$I$4:$I$1191,P$5,'база 2013'!$O$4:$O$1191,P$7)","v":0},{"$f":"COUNTIFS('база 2013'!$B$4:$B$1191,$B80,'база 2013'!$I$4:$I$1191,Q$5,'база 2013'!$O$4:$O$1191,Q$7)","v":0},{"$f":"SUMIF($F$7:$Q$7,$R$7,F80:Q80)","v":0},0,0,{"$f":"COUNTIFS('база 2013'!$B$4:$B$1191,$B80,'база 2013'!$I$4:$I$1191,U$5,'база 2013'!$O$4:$O$1191,U$7)","v":0},{"$f":"COUNTIFS('база 2013'!$B$4:$B$1191,$B80,'база 2013'!$I$4:$I$1191,V$5,'база 2013'!$O$4:$O$1191,V$7)","v":0},{"$f":"COUNTIFS('база 2013'!$B$4:$B$1191,$B80,'база 2013'!$I$4:$I$1191,W$5,'база 2013'!$O$4:$O$1191,W$7)","v":0},{"$f":"COUNTIFS('база 2013'!$B$4:$B$1191,$B80,'база 2013'!$I$4:$I$1191,X$5,'база 2013'!$O$4:$O$1191,X$7)","v":0},{"$f":"COUNTIFS('база 2013'!$B$4:$B$1191,$B80,'база 2013'!$I$4:$I$1191,Y$5,'база 2013'!$O$4:$O$1191,Y$7)","v":0},{"$f":"COUNTIFS('база 2013'!$B$4:$B$1191,$B80,'база 2013'!$I$4:$I$1191,Z$5,'база 2013'!$O$4:$O$1191,Z$7)","v":0},{"$f":"COUNTIFS('база 2013'!$B$4:$B$1191,$B80,'база 2013'!$I$4:$I$1191,AA$5,'база 2013'!$O$4:$O$1191,AA$7)","v":0},{"$f":"COUNTIFS('база 2013'!$B$4:$B$1191,$B80,'база 2013'!$I$4:$I$1191,AB$5,'база 2013'!$O$4:$O$1191,AB$7)","v":0},{"$f":"COUNTIFS('база 2013'!$B$4:$B$1191,$B80,'база 2013'!$I$4:$I$1191,AC$5,'база 2013'!$O$4:$O$1191,AC$7)","v":0},0,0,0,{"$f":"COUNTIFS('база 2013'!$B$4:$B$1191,$B80,'база 2013'!$I$4:$I$1191,AG$5,'база 2013'!$O$4:$O$1191,AG$7)","v":0},{"$f":"COUNTIFS('база 2013'!$B$4:$B$1191,$B80,'база 2013'!$I$4:$I$1191,AH$5,'база 2013'!$O$4:$O$1191,AH$7)","v":0},{"$f":"COUNTIFS('база 2013'!$B$4:$B$1191,$B80,'база 2013'!$I$4:$I$1191,AI$5,'база 2013'!$O$4:$O$1191,AI$7)","v":0},{"$f":"COUNTIFS('база 2013'!$B$4:$B$1191,$B80,'база 2013'!$I$4:$I$1191,AJ$5,'база 2013'!$O$4:$O$1191,AJ$7)","v":0},{"$f":"COUNTIFS('база 2013'!$B$4:$B$1191,$B80,'база 2013'!$I$4:$I$1191,AK$5,'база 2013'!$O$4:$O$1191,AK$7)","v":0},{"$f":"COUNTIFS('база 2013'!$B$4:$B$1191,$B80,'база 2013'!$I$4:$I$1191,AL$5,'база 2013'!$O$4:$O$1191,AL$7)","v":0},{"$f":"COUNTIFS('база 2013'!$B$4:$B$1191,$B80,'база 2013'!$I$4:$I$1191,AM$5,'база 2013'!$O$4:$O$1191,AM$7)","v":0},{"$f":"COUNTIFS('база 2013'!$B$4:$B$1191,$B80,'база 2013'!$I$4:$I$1191,AN$5,'база 2013'!$O$4:$O$1191,AN$7)","v":0},{"$f":"COUNTIFS('база 2013'!$B$4:$B$1191,$B80,'база 2013'!$I$4:$I$1191,AO$5,'база 2013'!$O$4:$O$1191,AO$7)","v":0},{"$f":"COUNTIFS('база 2013'!$B$4:$B$1191,$B80,'база 2013'!$I$4:$I$1191,AP$5,'база 2013'!$O$4:$O$1191,AP$7)","v":0},{"$f":"COUNTIFS('база 2013'!$B$4:$B$1191,$B80,'база 2013'!$I$4:$I$1191,AQ$5,'база 2013'!$O$4:$O$1191,AQ$7)","v":0},{"$f":"COUNTIFS('база 2013'!$B$4:$B$1191,$B80,'база 2013'!$I$4:$I$1191,AR$5,'база 2013'!$O$4:$O$1191,AR$7)","v":0},{"$f":"COUNTIFS('база 2013'!$B$4:$B$1191,$B80,'база 2013'!$I$4:$I$1191,AS$5,'база 2013'!$O$4:$O$1191,AS$7)","v":0},{"$f":"COUNTIFS('база 2013'!$B$4:$B$1191,$B80,'база 2013'!$I$4:$I$1191,AT$5,'база 2013'!$O$4:$O$1191,AT$7)","v":0},{"$f":"COUNTIFS('база 2013'!$B$4:$B$1191,$B80,'база 2013'!$I$4:$I$1191,AU$5,'база 2013'!$O$4:$O$1191,AU$7)","v":0},{"$f":"COUNTIFS('база 2013'!$B$4:$B$1191,$B80,'база 2013'!$I$4:$I$1191,AV$5,'база 2013'!$O$4:$O$1191,AV$7)","v":0},{"$f":"COUNTIFS('база 2013'!$B$4:$B$1191,$B80,'база 2013'!$I$4:$I$1191,AW$5,'база 2013'!$O$4:$O$1191,AW$7)","v":0},{"$f":"COUNTIFS('база 2013'!$B$4:$B$1191,$B80,'база 2013'!$I$4:$I$1191,AX$5,'база 2013'!$O$4:$O$1191,AX$7)","v":0},0,0,0,0,0,0,{"$f":"SUM(BB80:BD80)","v":0}]
[74,"Фристайл",{"$f":"COUNTIFS('база 2013'!$B$4:$B$1191,$B81,'база 2013'!$I$4:$I$1191,C$5,'база 2013'!$O$4:$O$1191,C$7)","v":0},{"$f":"COUNTIFS('база 2013'!$B$4:$B$1191,$B81,'база 2013'!$I$4:$I$1191,D$5,'база 2013'!$O$4:$O$1191,D$7)","v":0},{"$f":"COUNTIFS('база 2013'!$B$4:$B$1191,$B81,'база 2013'!$I$4:$I$1191,E$5,'база 2013'!$O$4:$O$1191,E$7)","v":0},{"$f":"COUNTIFS('база 2013'!$B$4:$B$1191,$B81,'база 2013'!$I$4:$I$1191,F$5,'база 2013'!$O$4:$O$1191,F$7)","v":0},{"$f":"COUNTIFS('база 2013'!$B$4:$B$1191,$B81,'база 2013'!$I$4:$I$1191,G$5,'база 2013'!$O$4:$O$1191,G$7)","v":0},{"$f":"COUNTIFS('база 2013'!$B$4:$B$1191,$B81,'база 2013'!$I$4:$I$1191,H$5,'база 2013'!$O$4:$O$1191,H$7)","v":0},{"$f":"COUNTIFS('база 2013'!$B$4:$B$1191,$B81,'база 2013'!$I$4:$I$1191,I$5,'база 2013'!$O$4:$O$1191,I$7)","v":0},{"$f":"COUNTIFS('база 2013'!$B$4:$B$1191,$B81,'база 2013'!$I$4:$I$1191,J$5,'база 2013'!$O$4:$O$1191,J$7)","v":0},{"$f":"COUNTIFS('база 2013'!$B$4:$B$1191,$B81,'база 2013'!$I$4:$I$1191,K$5,'база 2013'!$O$4:$O$1191,K$7)","v":0},{"$f":"COUNTIFS('база 2013'!$B$4:$B$1191,$B81,'база 2013'!$I$4:$I$1191,L$5,'база 2013'!$O$4:$O$1191,L$7)","v":0},{"$f":"COUNTIFS('база 2013'!$B$4:$B$1191,$B81,'база 2013'!$I$4:$I$1191,M$5,'база 2013'!$O$4:$O$1191,M$7)","v":0},{"$f":"COUNTIFS('база 2013'!$B$4:$B$1191,$B81,'база 2013'!$I$4:$I$1191,N$5,'база 2013'!$O$4:$O$1191,N$7)","v":0},{"$f":"COUNTIFS('база 2013'!$B$4:$B$1191,$B81,'база 2013'!$I$4:$I$1191,O$5,'база 2013'!$O$4:$O$1191,O$7)","v":0},{"$f":"COUNTIFS('база 2013'!$B$4:$B$1191,$B81,'база 2013'!$I$4:$I$1191,P$5,'база 2013'!$O$4:$O$1191,P$7)","v":0},{"$f":"COUNTIFS('база 2013'!$B$4:$B$1191,$B81,'база 2013'!$I$4:$I$1191,Q$5,'база 2013'!$O$4:$O$1191,Q$7)","v":0},0,0,0,{"$f":"COUNTIFS('база 2013'!$B$4:$B$1191,$B81,'база 2013'!$I$4:$I$1191,U$5,'база 2013'!$O$4:$O$1191,U$7)","v":0},{"$f":"COUNTIFS('база 2013'!$B$4:$B$1191,$B81,'база 2013'!$I$4:$I$1191,V$5,'база 2013'!$O$4:$O$1191,V$7)","v":0},{"$f":"COUNTIFS('база 2013'!$B$4:$B$1191,$B81,'база 2013'!$I$4:$I$1191,W$5,'база 2013'!$O$4:$O$1191,W$7)","v":0},{"$f":"COUNTIFS('база 2013'!$B$4:$B$1191,$B81,'база 2013'!$I$4:$I$1191,X$5,'база 2013'!$O$4:$O$1191,X$7)","v":0},{"$f":"COUNTIFS('база 2013'!$B$4:$B$1191,$B81,'база 2013'!$I$4:$I$1191,Y$5,'база 2013'!$O$4:$O$1191,Y$7)","v":0},{"$f":"COUNTIFS('база 2013'!$B$4:$B$1191,$B81,'база 2013'!$I$4:$I$1191,Z$5,'база 2013'!$O$4:$O$1191,Z$7)","v":0},{"$f":"COUNTIFS('база 2013'!$B$4:$B$1191,$B81,'база 2013'!$I$4:$I$1191,AA$5,'база 2013'!$O$4:$O$1191,AA$7)","v":0},{"$f":"COUNTIFS('база 2013'!$B$4:$B$1191,$B81,'база 2013'!$I$4:$I$1191,AB$5,'база 2013'!$O$4:$O$1191,AB$7)","v":0},{"$f":"COUNTIFS('база 2013'!$B$4:$B$1191,$B81,'база 2013'!$I$4:$I$1191,AC$5,'база 2013'!$O$4:$O$1191,AC$7)","v":0},0,0,0,{"$f":"COUNTIFS('база 2013'!$B$4:$B$1191,$B81,'база 2013'!$I$4:$I$1191,AG$5,'база 2013'!$O$4:$O$1191,AG$7)","v":0},{"$f":"COUNTIFS('база 2013'!$B$4:$B$1191,$B81,'база 2013'!$I$4:$I$1191,AH$5,'база 2013'!$O$4:$O$1191,AH$7)","v":0},{"$f":"COUNTIFS('база 2013'!$B$4:$B$1191,$B81,'база 2013'!$I$4:$I$1191,AI$5,'база 2013'!$O$4:$O$1191,AI$7)","v":0},{"$f":"COUNTIFS('база 2013'!$B$4:$B$1191,$B81,'база 2013'!$I$4:$I$1191,AJ$5,'база 2013'!$O$4:$O$1191,AJ$7)","v":0},{"$f":"COUNTIFS('база 2013'!$B$4:$B$1191,$B81,'база 2013'!$I$4:$I$1191,AK$5,'база 2013'!$O$4:$O$1191,AK$7)","v":0},{"$f":"COUNTIFS('база 2013'!$B$4:$B$1191,$B81,'база 2013'!$I$4:$I$1191,AL$5,'база 2013'!$O$4:$O$1191,AL$7)","v":0},{"$f":"COUNTIFS('база 2013'!$B$4:$B$1191,$B81,'база 2013'!$I$4:$I$1191,AM$5,'база 2013'!$O$4:$O$1191,AM$7)","v":0},{"$f":"COUNTIFS('база 2013'!$B$4:$B$1191,$B81,'база 2013'!$I$4:$I$1191,AN$5,'база 2013'!$O$4:$O$1191,AN$7)","v":0},{"$f":"COUNTIFS('база 2013'!$B$4:$B$1191,$B81,'база 2013'!$I$4:$I$1191,AO$5,'база 2013'!$O$4:$O$1191,AO$7)","v":0},{"$f":"COUNTIFS('база 2013'!$B$4:$B$1191,$B81,'база 2013'!$I$4:$I$1191,AP$5,'база 2013'!$O$4:$O$1191,AP$7)","v":0},{"$f":"COUNTIFS('база 2013'!$B$4:$B$1191,$B81,'база 2013'!$I$4:$I$1191,AQ$5,'база 2013'!$O$4:$O$1191,AQ$7)","v":0},{"$f":"COUNTIFS('база 2013'!$B$4:$B$1191,$B81,'база 2013'!$I$4:$I$1191,AR$5,'база 2013'!$O$4:$O$1191,AR$7)","v":0},{"$f":"COUNTIFS('база 2013'!$B$4:$B$1191,$B81,'база 2013'!$I$4:$I$1191,AS$5,'база 2013'!$O$4:$O$1191,AS$7)","v":0},{"$f":"COUNTIFS('база 2013'!$B$4:$B$1191,$B81,'база 2013'!$I$4:$I$1191,AT$5,'база 2013'!$O$4:$O$1191,AT$7)","v":0},{"$f":"COUNTIFS('база 2013'!$B$4:$B$1191,$B81,'база 2013'!$I$4:$I$1191,AU$5,'база 2013'!$O$4:$O$1191,AU$7)","v":0},{"$f":"COUNTIFS('база 2013'!$B$4:$B$1191,$B81,'база 2013'!$I$4:$I$1191,AV$5,'база 2013'!$O$4:$O$1191,AV$7)","v":0},{"$f":"COUNTIFS('база 2013'!$B$4:$B$1191,$B81,'база 2013'!$I$4:$I$1191,AW$5,'база 2013'!$O$4:$O$1191,AW$7)","v":0},{"$f":"COUNTIFS('база 2013'!$B$4:$B$1191,$B81,'база 2013'!$I$4:$I$1191,AX$5,'база 2013'!$O$4:$O$1191,AX$7)","v":0},0,0,0,0,0,0,{"$f":"SUM(BB81:BD81)","v":0}]
[75,"Футбол",{"$f":"COUNTIFS('база 2013'!$B$4:$B$1191,$B82,'база 2013'!$I$4:$I$1191,C$5,'база 2013'!$O$4:$O$1191,C$7)","v":0},{"$f":"COUNTIFS('база 2013'!$B$4:$B$1191,$B82,'база 2013'!$I$4:$I$1191,D$5,'база 2013'!$O$4:$O$1191,D$7)","v":0},{"$f":"COUNTIFS('база 2013'!$B$4:$B$1191,$B82,'база 2013'!$I$4:$I$1191,E$5,'база 2013'!$O$4:$O$1191,E$7)","v":0},{"$f":"COUNTIFS('база 2013'!$B$4:$B$1191,$B82,'база 2013'!$I$4:$I$1191,F$5,'база 2013'!$O$4:$O$1191,F$7)","v":0},{"$f":"COUNTIFS('база 2013'!$B$4:$B$1191,$B82,'база 2013'!$I$4:$I$1191,G$5,'база 2013'!$O$4:$O$1191,G$7)","v":0},{"$f":"COUNTIFS('база 2013'!$B$4:$B$1191,$B82,'база 2013'!$I$4:$I$1191,H$5,'база 2013'!$O$4:$O$1191,H$7)","v":0},{"$f":"COUNTIFS('база 2013'!$B$4:$B$1191,$B82,'база 2013'!$I$4:$I$1191,I$5,'база 2013'!$O$4:$O$1191,I$7)","v":0},{"$f":"COUNTIFS('база 2013'!$B$4:$B$1191,$B82,'база 2013'!$I$4:$I$1191,J$5,'база 2013'!$O$4:$O$1191,J$7)","v":0},{"$f":"COUNTIFS('база 2013'!$B$4:$B$1191,$B82,'база 2013'!$I$4:$I$1191,K$5,'база 2013'!$O$4:$O$1191,K$7)","v":0},{"$f":"COUNTIFS('база 2013'!$B$4:$B$1191,$B82,'база 2013'!$I$4:$I$1191,L$5,'база 2013'!$O$4:$O$1191,L$7)","v":0},{"$f":"COUNTIFS('база 2013'!$B$4:$B$1191,$B82,'база 2013'!$I$4:$I$1191,M$5,'база 2013'!$O$4:$O$1191,M$7)","v":0},{"$f":"COUNTIFS('база 2013'!$B$4:$B$1191,$B82,'база 2013'!$I$4:$I$1191,N$5,'база 2013'!$O$4:$O$1191,N$7)","v":0},{"$f":"COUNTIFS('база 2013'!$B$4:$B$1191,$B82,'база 2013'!$I$4:$I$1191,O$5,'база 2013'!$O$4:$O$1191,O$7)","v":0},{"$f":"COUNTIFS('база 2013'!$B$4:$B$1191,$B82,'база 2013'!$I$4:$I$1191,P$5,'база 2013'!$O$4:$O$1191,P$7)","v":0},{"$f":"COUNTIFS('база 2013'!$B$4:$B$1191,$B82,'база 2013'!$I$4:$I$1191,Q$5,'база 2013'!$O$4:$O$1191,Q$7)","v":0},0,0,0,{"$f":"COUNTIFS('база 2013'!$B$4:$B$1191,$B82,'база 2013'!$I$4:$I$1191,U$5,'база 2013'!$O$4:$O$1191,U$7)","v":0},{"$f":"COUNTIFS('база 2013'!$B$4:$B$1191,$B82,'база 2013'!$I$4:$I$1191,V$5,'база 2013'!$O$4:$O$1191,V$7)","v":0},{"$f":"COUNTIFS('база 2013'!$B$4:$B$1191,$B82,'база 2013'!$I$4:$I$1191,W$5,'база 2013'!$O$4:$O$1191,W$7)","v":0},{"$f":"COUNTIFS('база 2013'!$B$4:$B$1191,$B82,'база 2013'!$I$4:$I$1191,X$5,'база 2013'!$O$4:$O$1191,X$7)","v":0},{"$f":"COUNTIFS('база 2013'!$B$4:$B$1191,$B82,'база 2013'!$I$4:$I$1191,Y$5,'база 2013'!$O$4:$O$1191,Y$7)","v":0},{"$f":"COUNTIFS('база 2013'!$B$4:$B$1191,$B82,'база 2013'!$I$4:$I$1191,Z$5,'база 2013'!$O$4:$O$1191,Z$7)","v":0},{"$f":"COUNTIFS('база 2013'!$B$4:$B$1191,$B82,'база 2013'!$I$4:$I$1191,AA$5,'база 2013'!$O$4:$O$1191,AA$7)","v":0},{"$f":"COUNTIFS('база 2013'!$B$4:$B$1191,$B82,'база 2013'!$I$4:$I$1191,AB$5,'база 2013'!$O$4:$O$1191,AB$7)","v":0},{"$f":"COUNTIFS('база 2013'!$B$4:$B$1191,$B82,'база 2013'!$I$4:$I$1191,AC$5,'база 2013'!$O$4:$O$1191,AC$7)","v":0},0,0,0,{"$f":"COUNTIFS('база 2013'!$B$4:$B$1191,$B82,'база 2013'!$I$4:$I$1191,AG$5,'база 2013'!$O$4:$O$1191,AG$7)","v":0},{"$f":"COUNTIFS('база 2013'!$B$4:$B$1191,$B82,'база 2013'!$I$4:$I$1191,AH$5,'база 2013'!$O$4:$O$1191,AH$7)","v":0},{"$f":"COUNTIFS('база 2013'!$B$4:$B$1191,$B82,'база 2013'!$I$4:$I$1191,AI$5,'база 2013'!$O$4:$O$1191,AI$7)","v":0},{"$f":"COUNTIFS('база 2013'!$B$4:$B$1191,$B82,'база 2013'!$I$4:$I$1191,AJ$5,'база 2013'!$O$4:$O$1191,AJ$7)","v":0},{"$f":"COUNTIFS('база 2013'!$B$4:$B$1191,$B82,'база 2013'!$I$4:$I$1191,AK$5,'база 2013'!$O$4:$O$1191,AK$7)","v":0},{"$f":"COUNTIFS('база 2013'!$B$4:$B$1191,$B82,'база 2013'!$I$4:$I$1191,AL$5,'база 2013'!$O$4:$O$1191,AL$7)","v":0},{"$f":"COUNTIFS('база 2013'!$B$4:$B$1191,$B82,'база 2013'!$I$4:$I$1191,AM$5,'база 2013'!$O$4:$O$1191,AM$7)","v":0},{"$f":"COUNTIFS('база 2013'!$B$4:$B$1191,$B82,'база 2013'!$I$4:$I$1191,AN$5,'база 2013'!$O$4:$O$1191,AN$7)","v":0},{"$f":"COUNTIFS('база 2013'!$B$4:$B$1191,$B82,'база 2013'!$I$4:$I$1191,AO$5,'база 2013'!$O$4:$O$1191,AO$7)","v":0},{"$f":"COUNTIFS('база 2013'!$B$4:$B$1191,$B82,'база 2013'!$I$4:$I$1191,AP$5,'база 2013'!$O$4:$O$1191,AP$7)","v":0},{"$f":"COUNTIFS('база 2013'!$B$4:$B$1191,$B82,'база 2013'!$I$4:$I$1191,AQ$5,'база 2013'!$O$4:$O$1191,AQ$7)","v":0},{"$f":"COUNTIFS('база 2013'!$B$4:$B$1191,$B82,'база 2013'!$I$4:$I$1191,AR$5,'база 2013'!$O$4:$O$1191,AR$7)","v":0},{"$f":"COUNTIFS('база 2013'!$B$4:$B$1191,$B82,'база 2013'!$I$4:$I$1191,AS$5,'база 2013'!$O$4:$O$1191,AS$7)","v":0},{"$f":"COUNTIFS('база 2013'!$B$4:$B$1191,$B82,'база 2013'!$I$4:$I$1191,AT$5,'база 2013'!$O$4:$O$1191,AT$7)","v":0},{"$f":"COUNTIFS('база 2013'!$B$4:$B$1191,$B82,'база 2013'!$I$4:$I$1191,AU$5,'база 2013'!$O$4:$O$1191,AU$7)","v":0},{"$f":"COUNTIFS('база 2013'!$B$4:$B$1191,$B82,'база 2013'!$I$4:$I$1191,AV$5,'база 2013'!$O$4:$O$1191,AV$7)","v":0},{"$f":"COUNTIFS('база 2013'!$B$4:$B$1191,$B82,'база 2013'!$I$4:$I$1191,AW$5,'база 2013'!$O$4:$O$1191,AW$7)","v":0},{"$f":"COUNTIFS('база 2013'!$B$4:$B$1191,$B82,'база 2013'!$I$4:$I$1191,AX$5,'база 2013'!$O$4:$O$1191,AX$7)","v":0},0,0,0,0,0,0,{"$f":"SUM(BB82:BD82)","v":0}]
[76,"Шорт-трек",{"$f":"COUNTIFS('база 2013'!$B$4:$B$1191,$B83,'база 2013'!$I$4:$I$1191,C$5,'база 2013'!$O$4:$O$1191,C$7)","v":0},{"$f":"COUNTIFS('база 2013'!$B$4:$B$1191,$B83,'база 2013'!$I$4:$I$1191,D$5,'база 2013'!$O$4:$O$1191,D$7)","v":0},{"$f":"COUNTIFS('база 2013'!$B$4:$B$1191,$B83,'база 2013'!$I$4:$I$1191,E$5,'база 2013'!$O$4:$O$1191,E$7)","v":0},{"$f":"COUNTIFS('база 2013'!$B$4:$B$1191,$B83,'база 2013'!$I$4:$I$1191,F$5,'база 2013'!$O$4:$O$1191,F$7)","v":0},{"$f":"COUNTIFS('база 2013'!$B$4:$B$1191,$B83,'база 2013'!$I$4:$I$1191,G$5,'база 2013'!$O$4:$O$1191,G$7)","v":0},{"$f":"COUNTIFS('база 2013'!$B$4:$B$1191,$B83,'база 2013'!$I$4:$I$1191,H$5,'база 2013'!$O$4:$O$1191,H$7)","v":0},{"$f":"COUNTIFS('база 2013'!$B$4:$B$1191,$B83,'база 2013'!$I$4:$I$1191,I$5,'база 2013'!$O$4:$O$1191,I$7)","v":0},{"$f":"COUNTIFS('база 2013'!$B$4:$B$1191,$B83,'база 2013'!$I$4:$I$1191,J$5,'база 2013'!$O$4:$O$1191,J$7)","v":0},{"$f":"COUNTIFS('база 2013'!$B$4:$B$1191,$B83,'база 2013'!$I$4:$I$1191,K$5,'база 2013'!$O$4:$O$1191,K$7)","v":0},{"$f":"COUNTIFS('база 2013'!$B$4:$B$1191,$B83,'база 2013'!$I$4:$I$1191,L$5,'база 2013'!$O$4:$O$1191,L$7)","v":0},{"$f":"COUNTIFS('база 2013'!$B$4:$B$1191,$B83,'база 2013'!$I$4:$I$1191,M$5,'база 2013'!$O$4:$O$1191,M$7)","v":0},{"$f":"COUNTIFS('база 2013'!$B$4:$B$1191,$B83,'база 2013'!$I$4:$I$1191,N$5,'база 2013'!$O$4:$O$1191,N$7)","v":0},{"$f":"COUNTIFS('база 2013'!$B$4:$B$1191,$B83,'база 2013'!$I$4:$I$1191,O$5,'база 2013'!$O$4:$O$1191,O$7)","v":0},{"$f":"COUNTIFS('база 2013'!$B$4:$B$1191,$B83,'база 2013'!$I$4:$I$1191,P$5,'база 2013'!$O$4:$O$1191,P$7)","v":0},{"$f":"COUNTIFS('база 2013'!$B$4:$B$1191,$B83,'база 2013'!$I$4:$I$1191,Q$5,'база 2013'!$O$4:$O$1191,Q$7)","v":0},{"$f":"SUMIF($F$7:$Q$7,$R$7,F83:Q83)","v":0},0,0,{"$f":"COUNTIFS('база 2013'!$B$4:$B$1191,$B83,'база 2013'!$I$4:$I$1191,U$5,'база 2013'!$O$4:$O$1191,U$7)","v":0},{"$f":"COUNTIFS('база 2013'!$B$4:$B$1191,$B83,'база 2013'!$I$4:$I$1191,V$5,'база 2013'!$O$4:$O$1191,V$7)","v":0},{"$f":"COUNTIFS('база 2013'!$B$4:$B$1191,$B83,'база 2013'!$I$4:$I$1191,W$5,'база 2013'!$O$4:$O$1191,W$7)","v":0},{"$f":"COUNTIFS('база 2013'!$B$4:$B$1191,$B83,'база 2013'!$I$4:$I$1191,X$5,'база 2013'!$O$4:$O$1191,X$7)","v":0},{"$f":"COUNTIFS('база 2013'!$B$4:$B$1191,$B83,'база 2013'!$I$4:$I$1191,Y$5,'база 2013'!$O$4:$O$1191,Y$7)","v":0},{"$f":"COUNTIFS('база 2013'!$B$4:$B$1191,$B83,'база 2013'!$I$4:$I$1191,Z$5,'база 2013'!$O$4:$O$1191,Z$7)","v":0},{"$f":"COUNTIFS('база 2013'!$B$4:$B$1191,$B83,'база 2013'!$I$4:$I$1191,AA$5,'база 2013'!$O$4:$O$1191,AA$7)","v":0},{"$f":"COUNTIFS('база 2013'!$B$4:$B$1191,$B83,'база 2013'!$I$4:$I$1191,AB$5,'база 2013'!$O$4:$O$1191,AB$7)","v":0},{"$f":"COUNTIFS('база 2013'!$B$4:$B$1191,$B83,'база 2013'!$I$4:$I$1191,AC$5,'база 2013'!$O$4:$O$1191,AC$7)","v":0},0,0,0,{"$f":"COUNTIFS('база 2013'!$B$4:$B$1191,$B83,'база 2013'!$I$4:$I$1191,AG$5,'база 2013'!$O$4:$O$1191,AG$7)","v":0},{"$f":"COUNTIFS('база 2013'!$B$4:$B$1191,$B83,'база 2013'!$I$4:$I$1191,AH$5,'база 2013'!$O$4:$O$1191,AH$7)","v":0},{"$f":"COUNTIFS('база 2013'!$B$4:$B$1191,$B83,'база 2013'!$I$4:$I$1191,AI$5,'база 2013'!$O$4:$O$1191,AI$7)","v":0},{"$f":"COUNTIFS('база 2013'!$B$4:$B$1191,$B83,'база 2013'!$I$4:$I$1191,AJ$5,'база 2013'!$O$4:$O$1191,AJ$7)","v":0},{"$f":"COUNTIFS('база 2013'!$B$4:$B$1191,$B83,'база 2013'!$I$4:$I$1191,AK$5,'база 2013'!$O$4:$O$1191,AK$7)","v":0},{"$f":"COUNTIFS('база 2013'!$B$4:$B$1191,$B83,'база 2013'!$I$4:$I$1191,AL$5,'база 2013'!$O$4:$O$1191,AL$7)","v":0},{"$f":"COUNTIFS('база 2013'!$B$4:$B$1191,$B83,'база 2013'!$I$4:$I$1191,AM$5,'база 2013'!$O$4:$O$1191,AM$7)","v":0},{"$f":"COUNTIFS('база 2013'!$B$4:$B$1191,$B83,'база 2013'!$I$4:$I$1191,AN$5,'база 2013'!$O$4:$O$1191,AN$7)","v":0},{"$f":"COUNTIFS('база 2013'!$B$4:$B$1191,$B83,'база 2013'!$I$4:$I$1191,AO$5,'база 2013'!$O$4:$O$1191,AO$7)","v":0},{"$f":"COUNTIFS('база 2013'!$B$4:$B$1191,$B83,'база 2013'!$I$4:$I$1191,AP$5,'база 2013'!$O$4:$O$1191,AP$7)","v":0},{"$f":"COUNTIFS('база 2013'!$B$4:$B$1191,$B83,'база 2013'!$I$4:$I$1191,AQ$5,'база 2013'!$O$4:$O$1191,AQ$7)","v":0},{"$f":"COUNTIFS('база 2013'!$B$4:$B$1191,$B83,'база 2013'!$I$4:$I$1191,AR$5,'база 2013'!$O$4:$O$1191,AR$7)","v":0},{"$f":"COUNTIFS('база 2013'!$B$4:$B$1191,$B83,'база 2013'!$I$4:$I$1191,AS$5,'база 2013'!$O$4:$O$1191,AS$7)","v":0},{"$f":"COUNTIFS('база 2013'!$B$4:$B$1191,$B83,'база 2013'!$I$4:$I$1191,AT$5,'база 2013'!$O$4:$O$1191,AT$7)","v":0},{"$f":"COUNTIFS('база 2013'!$B$4:$B$1191,$B83,'база 2013'!$I$4:$I$1191,AU$5,'база 2013'!$O$4:$O$1191,AU$7)","v":0},{"$f":"COUNTIFS('база 2013'!$B$4:$B$1191,$B83,'база 2013'!$I$4:$I$1191,AV$5,'база 2013'!$O$4:$O$1191,AV$7)","v":0},{"$f":"COUNTIFS('база 2013'!$B$4:$B$1191,$B83,'база 2013'!$I$4:$I$1191,AW$5,'база 2013'!$O$4:$O$1191,AW$7)","v":0},{"$f":"COUNTIFS('база 2013'!$B$4:$B$1191,$B83,'база 2013'!$I$4:$I$1191,AX$5,'база 2013'!$O$4:$O$1191,AX$7)","v":0},0,0,0,0,0,0,{"$f":"SUM(BB83:BD83)","v":0}]
[77,"Шахматы",{"$f":"COUNTIFS('база 2013'!$B$4:$B$1191,$B84,'база 2013'!$I$4:$I$1191,C$5,'база 2013'!$O$4:$O$1191,C$7)","v":0},{"$f":"COUNTIFS('база 2013'!$B$4:$B$1191,$B84,'база 2013'!$I$4:$I$1191,D$5,'база 2013'!$O$4:$O$1191,D$7)","v":0},{"$f":"COUNTIFS('база 2013'!$B$4:$B$1191,$B84,'база 2013'!$I$4:$I$1191,E$5,'база 2013'!$O$4:$O$1191,E$7)","v":0},{"$f":"COUNTIFS('база 2013'!$B$4:$B$1191,$B84,'база 2013'!$I$4:$I$1191,F$5,'база 2013'!$O$4:$O$1191,F$7)","v":0},{"$f":"COUNTIFS('база 2013'!$B$4:$B$1191,$B84,'база 2013'!$I$4:$I$1191,G$5,'база 2013'!$O$4:$O$1191,G$7)","v":0},{"$f":"COUNTIFS('база 2013'!$B$4:$B$1191,$B84,'база 2013'!$I$4:$I$1191,H$5,'база 2013'!$O$4:$O$1191,H$7)","v":0},{"$f":"COUNTIFS('база 2013'!$B$4:$B$1191,$B84,'база 2013'!$I$4:$I$1191,I$5,'база 2013'!$O$4:$O$1191,I$7)","v":0},{"$f":"COUNTIFS('база 2013'!$B$4:$B$1191,$B84,'база 2013'!$I$4:$I$1191,J$5,'база 2013'!$O$4:$O$1191,J$7)","v":0},{"$f":"COUNTIFS('база 2013'!$B$4:$B$1191,$B84,'база 2013'!$I$4:$I$1191,K$5,'база 2013'!$O$4:$O$1191,K$7)","v":0},{"$f":"COUNTIFS('база 2013'!$B$4:$B$1191,$B84,'база 2013'!$I$4:$I$1191,L$5,'база 2013'!$O$4:$O$1191,L$7)","v":0},{"$f":"COUNTIFS('база 2013'!$B$4:$B$1191,$B84,'база 2013'!$I$4:$I$1191,M$5,'база 2013'!$O$4:$O$1191,M$7)","v":0},{"$f":"COUNTIFS('база 2013'!$B$4:$B$1191,$B84,'база 2013'!$I$4:$I$1191,N$5,'база 2013'!$O$4:$O$1191,N$7)","v":0},{"$f":"COUNTIFS('база 2013'!$B$4:$B$1191,$B84,'база 2013'!$I$4:$I$1191,O$5,'база 2013'!$O$4:$O$1191,O$7)","v":0},{"$f":"COUNTIFS('база 2013'!$B$4:$B$1191,$B84,'база 2013'!$I$4:$I$1191,P$5,'база 2013'!$O$4:$O$1191,P$7)","v":0},{"$f":"COUNTIFS('база 2013'!$B$4:$B$1191,$B84,'база 2013'!$I$4:$I$1191,Q$5,'база 2013'!$O$4:$O$1191,Q$7)","v":0},0,0,0,{"$f":"COUNTIFS('база 2013'!$B$4:$B$1191,$B84,'база 2013'!$I$4:$I$1191,U$5,'база 2013'!$O$4:$O$1191,U$7)","v":0},{"$f":"COUNTIFS('база 2013'!$B$4:$B$1191,$B84,'база 2013'!$I$4:$I$1191,V$5,'база 2013'!$O$4:$O$1191,V$7)","v":0},{"$f":"COUNTIFS('база 2013'!$B$4:$B$1191,$B84,'база 2013'!$I$4:$I$1191,W$5,'база 2013'!$O$4:$O$1191,W$7)","v":0},{"$f":"COUNTIFS('база 2013'!$B$4:$B$1191,$B84,'база 2013'!$I$4:$I$1191,X$5,'база 2013'!$O$4:$O$1191,X$7)","v":0},{"$f":"COUNTIFS('база 2013'!$B$4:$B$1191,$B84,'база 2013'!$I$4:$I$1191,Y$5,'база 2013'!$O$4:$O$1191,Y$7)","v":0},{"$f":"COUNTIFS('база 2013'!$B$4:$B$1191,$B84,'база 2013'!$I$4:$I$1191,Z$5,'база 2013'!$O$4:$O$1191,Z$7)","v":0},{"$f":"COUNTIFS('база 2013'!$B$4:$B$1191,$B84,'база 2013'!$I$4:$I$1191,AA$5,'база 2013'!$O$4:$O$1191,AA$7)","v":0},{"$f":"COUNTIFS('база 2013'!$B$4:$B$1191,$B84,'база 2013'!$I$4:$I$1191,AB$5,'база 2013'!$O$4:$O$1191,AB$7)","v":0},{"$f":"COUNTIFS('база 2013'!$B$4:$B$1191,$B84,'база 2013'!$I$4:$I$1191,AC$5,'база 2013'!$O$4:$O$1191,AC$7)","v":0},0,0,0,{"$f":"COUNTIFS('база 2013'!$B$4:$B$1191,$B84,'база 2013'!$I$4:$I$1191,AG$5,'база 2013'!$O$4:$O$1191,AG$7)","v":0},{"$f":"COUNTIFS('база 2013'!$B$4:$B$1191,$B84,'база 2013'!$I$4:$I$1191,AH$5,'база 2013'!$O$4:$O$1191,AH$7)","v":0},{"$f":"COUNTIFS('база 2013'!$B$4:$B$1191,$B84,'база 2013'!$I$4:$I$1191,AI$5,'база 2013'!$O$4:$O$1191,AI$7)","v":0},{"$f":"COUNTIFS('база 2013'!$B$4:$B$1191,$B84,'база 2013'!$I$4:$I$1191,AJ$5,'база 2013'!$O$4:$O$1191,AJ$7)","v":0},{"$f":"COUNTIFS('база 2013'!$B$4:$B$1191,$B84,'база 2013'!$I$4:$I$1191,AK$5,'база 2013'!$O$4:$O$1191,AK$7)","v":0},{"$f":"COUNTIFS('база 2013'!$B$4:$B$1191,$B84,'база 2013'!$I$4:$I$1191,AL$5,'база 2013'!$O$4:$O$1191,AL$7)","v":0},{"$f":"COUNTIFS('база 2013'!$B$4:$B$1191,$B84,'база 2013'!$I$4:$I$1191,AM$5,'база 2013'!$O$4:$O$1191,AM$7)","v":0},{"$f":"COUNTIFS('база 2013'!$B$4:$B$1191,$B84,'база 2013'!$I$4:$I$1191,AN$5,'база 2013'!$O$4:$O$1191,AN$7)","v":0},{"$f":"COUNTIFS('база 2013'!$B$4:$B$1191,$B84,'база 2013'!$I$4:$I$1191,AO$5,'база 2013'!$O$4:$O$1191,AO$7)","v":0},{"$f":"COUNTIFS('база 2013'!$B$4:$B$1191,$B84,'база 2013'!$I$4:$I$1191,AP$5,'база 2013'!$O$4:$O$1191,AP$7)","v":0},{"$f":"COUNTIFS('база 2013'!$B$4:$B$1191,$B84,'база 2013'!$I$4:$I$1191,AQ$5,'база 2013'!$O$4:$O$1191,AQ$7)","v":0},{"$f":"COUNTIFS('база 2013'!$B$4:$B$1191,$B84,'база 2013'!$I$4:$I$1191,AR$5,'база 2013'!$O$4:$O$1191,AR$7)","v":0},{"$f":"COUNTIFS('база 2013'!$B$4:$B$1191,$B84,'база 2013'!$I$4:$I$1191,AS$5,'база 2013'!$O$4:$O$1191,AS$7)","v":0},{"$f":"COUNTIFS('база 2013'!$B$4:$B$1191,$B84,'база 2013'!$I$4:$I$1191,AT$5,'база 2013'!$O$4:$O$1191,AT$7)","v":0},{"$f":"COUNTIFS('база 2013'!$B$4:$B$1191,$B84,'база 2013'!$I$4:$I$1191,AU$5,'база 2013'!$O$4:$O$1191,AU$7)","v":0},{"$f":"COUNTIFS('база 2013'!$B$4:$B$1191,$B84,'база 2013'!$I$4:$I$1191,AV$5,'база 2013'!$O$4:$O$1191,AV$7)","v":0},{"$f":"COUNTIFS('база 2013'!$B$4:$B$1191,$B84,'база 2013'!$I$4:$I$1191,AW$5,'база 2013'!$O$4:$O$1191,AW$7)","v":0},{"$f":"COUNTIFS('база 2013'!$B$4:$B$1191,$B84,'база 2013'!$I$4:$I$1191,AX$5,'база 2013'!$O$4:$O$1191,AX$7)","v":0},0,0,0,0,0,0,{"$f":"SUM(BB84:BD84)","v":0}]
[78,"Художественная гимнастика",{"$f":"COUNTIFS('база 2013'!$B$4:$B$1191,$B85,'база 2013'!$I$4:$I$1191,C$5,'база 2013'!$O$4:$O$1191,C$7)","v":0},{"$f":"COUNTIFS('база 2013'!$B$4:$B$1191,$B85,'база 2013'!$I$4:$I$1191,D$5,'база 2013'!$O$4:$O$1191,D$7)","v":0},{"$f":"COUNTIFS('база 2013'!$B$4:$B$1191,$B85,'база 2013'!$I$4:$I$1191,E$5,'база 2013'!$O$4:$O$1191,E$7)","v":0},{"$f":"COUNTIFS('база 2013'!$B$4:$B$1191,$B85,'база 2013'!$I$4:$I$1191,F$5,'база 2013'!$O$4:$O$1191,F$7)","v":0},{"$f":"COUNTIFS('база 2013'!$B$4:$B$1191,$B85,'база 2013'!$I$4:$I$1191,G$5,'база 2013'!$O$4:$O$1191,G$7)","v":0},{"$f":"COUNTIFS('база 2013'!$B$4:$B$1191,$B85,'база 2013'!$I$4:$I$1191,H$5,'база 2013'!$O$4:$O$1191,H$7)","v":0},{"$f":"COUNTIFS('база 2013'!$B$4:$B$1191,$B85,'база 2013'!$I$4:$I$1191,I$5,'база 2013'!$O$4:$O$1191,I$7)","v":0},{"$f":"COUNTIFS('база 2013'!$B$4:$B$1191,$B85,'база 2013'!$I$4:$I$1191,J$5,'база 2013'!$O$4:$O$1191,J$7)","v":0},{"$f":"COUNTIFS('база 2013'!$B$4:$B$1191,$B85,'база 2013'!$I$4:$I$1191,K$5,'база 2013'!$O$4:$O$1191,K$7)","v":0},{"$f":"COUNTIFS('база 2013'!$B$4:$B$1191,$B85,'база 2013'!$I$4:$I$1191,L$5,'база 2013'!$O$4:$O$1191,L$7)","v":0},{"$f":"COUNTIFS('база 2013'!$B$4:$B$1191,$B85,'база 2013'!$I$4:$I$1191,M$5,'база 2013'!$O$4:$O$1191,M$7)","v":0},{"$f":"COUNTIFS('база 2013'!$B$4:$B$1191,$B85,'база 2013'!$I$4:$I$1191,N$5,'база 2013'!$O$4:$O$1191,N$7)","v":0},{"$f":"COUNTIFS('база 2013'!$B$4:$B$1191,$B85,'база 2013'!$I$4:$I$1191,O$5,'база 2013'!$O$4:$O$1191,O$7)","v":0},{"$f":"COUNTIFS('база 2013'!$B$4:$B$1191,$B85,'база 2013'!$I$4:$I$1191,P$5,'база 2013'!$O$4:$O$1191,P$7)","v":0},{"$f":"COUNTIFS('база 2013'!$B$4:$B$1191,$B85,'база 2013'!$I$4:$I$1191,Q$5,'база 2013'!$O$4:$O$1191,Q$7)","v":0},0,0,0,{"$f":"COUNTIFS('база 2013'!$B$4:$B$1191,$B85,'база 2013'!$I$4:$I$1191,U$5,'база 2013'!$O$4:$O$1191,U$7)","v":0},{"$f":"COUNTIFS('база 2013'!$B$4:$B$1191,$B85,'база 2013'!$I$4:$I$1191,V$5,'база 2013'!$O$4:$O$1191,V$7)","v":0},{"$f":"COUNTIFS('база 2013'!$B$4:$B$1191,$B85,'база 2013'!$I$4:$I$1191,W$5,'база 2013'!$O$4:$O$1191,W$7)","v":0},{"$f":"COUNTIFS('база 2013'!$B$4:$B$1191,$B85,'база 2013'!$I$4:$I$1191,X$5,'база 2013'!$O$4:$O$1191,X$7)","v":0},{"$f":"COUNTIFS('база 2013'!$B$4:$B$1191,$B85,'база 2013'!$I$4:$I$1191,Y$5,'база 2013'!$O$4:$O$1191,Y$7)","v":0},{"$f":"COUNTIFS('база 2013'!$B$4:$B$1191,$B85,'база 2013'!$I$4:$I$1191,Z$5,'база 2013'!$O$4:$O$1191,Z$7)","v":0},{"$f":"COUNTIFS('база 2013'!$B$4:$B$1191,$B85,'база 2013'!$I$4:$I$1191,AA$5,'база 2013'!$O$4:$O$1191,AA$7)","v":0},{"$f":"COUNTIFS('база 2013'!$B$4:$B$1191,$B85,'база 2013'!$I$4:$I$1191,AB$5,'база 2013'!$O$4:$O$1191,AB$7)","v":0},{"$f":"COUNTIFS('база 2013'!$B$4:$B$1191,$B85,'база 2013'!$I$4:$I$1191,AC$5,'база 2013'!$O$4:$O$1191,AC$7)","v":0},0,0,0,{"$f":"COUNTIFS('база 2013'!$B$4:$B$1191,$B85,'база 2013'!$I$4:$I$1191,AG$5,'база 2013'!$O$4:$O$1191,AG$7)","v":0},{"$f":"COUNTIFS('база 2013'!$B$4:$B$1191,$B85,'база 2013'!$I$4:$I$1191,AH$5,'база 2013'!$O$4:$O$1191,AH$7)","v":0},{"$f":"COUNTIFS('база 2013'!$B$4:$B$1191,$B85,'база 2013'!$I$4:$I$1191,AI$5,'база 2013'!$O$4:$O$1191,AI$7)","v":0},{"$f":"COUNTIFS('база 2013'!$B$4:$B$1191,$B85,'база 2013'!$I$4:$I$1191,AJ$5,'база 2013'!$O$4:$O$1191,AJ$7)","v":0},{"$f":"COUNTIFS('база 2013'!$B$4:$B$1191,$B85,'база 2013'!$I$4:$I$1191,AK$5,'база 2013'!$O$4:$O$1191,AK$7)","v":0},{"$f":"COUNTIFS('база 2013'!$B$4:$B$1191,$B85,'база 2013'!$I$4:$I$1191,AL$5,'база 2013'!$O$4:$O$1191,AL$7)","v":0},{"$f":"COUNTIFS('база 2013'!$B$4:$B$1191,$B85,'база 2013'!$I$4:$I$1191,AM$5,'база 2013'!$O$4:$O$1191,AM$7)","v":0},{"$f":"COUNTIFS('база 2013'!$B$4:$B$1191,$B85,'база 2013'!$I$4:$I$1191,AN$5,'база 2013'!$O$4:$O$1191,AN$7)","v":0},{"$f":"COUNTIFS('база 2013'!$B$4:$B$1191,$B85,'база 2013'!$I$4:$I$1191,AO$5,'база 2013'!$O$4:$O$1191,AO$7)","v":0},{"$f":"COUNTIFS('база 2013'!$B$4:$B$1191,$B85,'база 2013'!$I$4:$I$1191,AP$5,'база 2013'!$O$4:$O$1191,AP$7)","v":0},{"$f":"COUNTIFS('база 2013'!$B$4:$B$1191,$B85,'база 2013'!$I$4:$I$1191,AQ$5,'база 2013'!$O$4:$O$1191,AQ$7)","v":0},{"$f":"COUNTIFS('база 2013'!$B$4:$B$1191,$B85,'база 2013'!$I$4:$I$1191,AR$5,'база 2013'!$O$4:$O$1191,AR$7)","v":0},{"$f":"COUNTIFS('база 2013'!$B$4:$B$1191,$B85,'база 2013'!$I$4:$I$1191,AS$5,'база 2013'!$O$4:$O$1191,AS$7)","v":0},{"$f":"COUNTIFS('база 2013'!$B$4:$B$1191,$B85,'база 2013'!$I$4:$I$1191,AT$5,'база 2013'!$O$4:$O$1191,AT$7)","v":0},{"$f":"COUNTIFS('база 2013'!$B$4:$B$1191,$B85,'база 2013'!$I$4:$I$1191,AU$5,'база 2013'!$O$4:$O$1191,AU$7)","v":0},{"$f":"COUNTIFS('база 2013'!$B$4:$B$1191,$B85,'база 2013'!$I$4:$I$1191,AV$5,'база 2013'!$O$4:$O$1191,AV$7)","v":0},{"$f":"COUNTIFS('база 2013'!$B$4:$B$1191,$B85,'база 2013'!$I$4:$I$1191,AW$5,'база 2013'!$O$4:$O$1191,AW$7)","v":0},{"$f":"COUNTIFS('база 2013'!$B$4:$B$1191,$B85,'база 2013'!$I$4:$I$1191,AX$5,'база 2013'!$O$4:$O$1191,AX$7)","v":0},0,0,0,0,0,0,0]
[79,"Эстетическая гимнастика",{"$f":"COUNTIFS('база 2013'!$B$4:$B$1191,$B86,'база 2013'!$I$4:$I$1191,C$5,'база 2013'!$O$4:$O$1191,C$7)","v":0},{"$f":"COUNTIFS('база 2013'!$B$4:$B$1191,$B86,'база 2013'!$I$4:$I$1191,D$5,'база 2013'!$O$4:$O$1191,D$7)","v":0},{"$f":"COUNTIFS('база 2013'!$B$4:$B$1191,$B86,'база 2013'!$I$4:$I$1191,E$5,'база 2013'!$O$4:$O$1191,E$7)","v":0},{"$f":"COUNTIFS('база 2013'!$B$4:$B$1191,$B86,'база 2013'!$I$4:$I$1191,F$5,'база 2013'!$O$4:$O$1191,F$7)","v":0},{"$f":"COUNTIFS('база 2013'!$B$4:$B$1191,$B86,'база 2013'!$I$4:$I$1191,G$5,'база 2013'!$O$4:$O$1191,G$7)","v":0},{"$f":"COUNTIFS('база 2013'!$B$4:$B$1191,$B86,'база 2013'!$I$4:$I$1191,H$5,'база 2013'!$O$4:$O$1191,H$7)","v":0},{"$f":"COUNTIFS('база 2013'!$B$4:$B$1191,$B86,'база 2013'!$I$4:$I$1191,I$5,'база 2013'!$O$4:$O$1191,I$7)","v":0},{"$f":"COUNTIFS('база 2013'!$B$4:$B$1191,$B86,'база 2013'!$I$4:$I$1191,J$5,'база 2013'!$O$4:$O$1191,J$7)","v":0},{"$f":"COUNTIFS('база 2013'!$B$4:$B$1191,$B86,'база 2013'!$I$4:$I$1191,K$5,'база 2013'!$O$4:$O$1191,K$7)","v":0},{"$f":"COUNTIFS('база 2013'!$B$4:$B$1191,$B86,'база 2013'!$I$4:$I$1191,L$5,'база 2013'!$O$4:$O$1191,L$7)","v":0},{"$f":"COUNTIFS('база 2013'!$B$4:$B$1191,$B86,'база 2013'!$I$4:$I$1191,M$5,'база 2013'!$O$4:$O$1191,M$7)","v":0},{"$f":"COUNTIFS('база 2013'!$B$4:$B$1191,$B86,'база 2013'!$I$4:$I$1191,N$5,'база 2013'!$O$4:$O$1191,N$7)","v":0},{"$f":"COUNTIFS('база 2013'!$B$4:$B$1191,$B86,'база 2013'!$I$4:$I$1191,O$5,'база 2013'!$O$4:$O$1191,O$7)","v":0},{"$f":"COUNTIFS('база 2013'!$B$4:$B$1191,$B86,'база 2013'!$I$4:$I$1191,P$5,'база 2013'!$O$4:$O$1191,P$7)","v":0},{"$f":"COUNTIFS('база 2013'!$B$4:$B$1191,$B86,'база 2013'!$I$4:$I$1191,Q$5,'база 2013'!$O$4:$O$1191,Q$7)","v":0},0,0,0,{"$f":"COUNTIFS('база 2013'!$B$4:$B$1191,$B86,'база 2013'!$I$4:$I$1191,U$5,'база 2013'!$O$4:$O$1191,U$7)","v":0},{"$f":"COUNTIFS('база 2013'!$B$4:$B$1191,$B86,'база 2013'!$I$4:$I$1191,V$5,'база 2013'!$O$4:$O$1191,V$7)","v":0},{"$f":"COUNTIFS('база 2013'!$B$4:$B$1191,$B86,'база 2013'!$I$4:$I$1191,W$5,'база 2013'!$O$4:$O$1191,W$7)","v":0},{"$f":"COUNTIFS('база 2013'!$B$4:$B$1191,$B86,'база 2013'!$I$4:$I$1191,X$5,'база 2013'!$O$4:$O$1191,X$7)","v":0},{"$f":"COUNTIFS('база 2013'!$B$4:$B$1191,$B86,'база 2013'!$I$4:$I$1191,Y$5,'база 2013'!$O$4:$O$1191,Y$7)","v":0},{"$f":"COUNTIFS('база 2013'!$B$4:$B$1191,$B86,'база 2013'!$I$4:$I$1191,Z$5,'база 2013'!$O$4:$O$1191,Z$7)","v":0},{"$f":"COUNTIFS('база 2013'!$B$4:$B$1191,$B86,'база 2013'!$I$4:$I$1191,AA$5,'база 2013'!$O$4:$O$1191,AA$7)","v":0},{"$f":"COUNTIFS('база 2013'!$B$4:$B$1191,$B86,'база 2013'!$I$4:$I$1191,AB$5,'база 2013'!$O$4:$O$1191,AB$7)","v":0},{"$f":"COUNTIFS('база 2013'!$B$4:$B$1191,$B86,'база 2013'!$I$4:$I$1191,AC$5,'база 2013'!$O$4:$O$1191,AC$7)","v":0},0,0,0,{"$f":"COUNTIFS('база 2013'!$B$4:$B$1191,$B86,'база 2013'!$I$4:$I$1191,AG$5,'база 2013'!$O$4:$O$1191,AG$7)","v":0},{"$f":"COUNTIFS('база 2013'!$B$4:$B$1191,$B86,'база 2013'!$I$4:$I$1191,AH$5,'база 2013'!$O$4:$O$1191,AH$7)","v":0},{"$f":"COUNTIFS('база 2013'!$B$4:$B$1191,$B86,'база 2013'!$I$4:$I$1191,AI$5,'база 2013'!$O$4:$O$1191,AI$7)","v":0},{"$f":"COUNTIFS('база 2013'!$B$4:$B$1191,$B86,'база 2013'!$I$4:$I$1191,AJ$5,'база 2013'!$O$4:$O$1191,AJ$7)","v":0},{"$f":"COUNTIFS('база 2013'!$B$4:$B$1191,$B86,'база 2013'!$I$4:$I$1191,AK$5,'база 2013'!$O$4:$O$1191,AK$7)","v":0},{"$f":"COUNTIFS('база 2013'!$B$4:$B$1191,$B86,'база 2013'!$I$4:$I$1191,AL$5,'база 2013'!$O$4:$O$1191,AL$7)","v":0},{"$f":"COUNTIFS('база 2013'!$B$4:$B$1191,$B86,'база 2013'!$I$4:$I$1191,AM$5,'база 2013'!$O$4:$O$1191,AM$7)","v":0},{"$f":"COUNTIFS('база 2013'!$B$4:$B$1191,$B86,'база 2013'!$I$4:$I$1191,AN$5,'база 2013'!$O$4:$O$1191,AN$7)","v":0},{"$f":"COUNTIFS('база 2013'!$B$4:$B$1191,$B86,'база 2013'!$I$4:$I$1191,AO$5,'база 2013'!$O$4:$O$1191,AO$7)","v":0},{"$f":"COUNTIFS('база 2013'!$B$4:$B$1191,$B86,'база 2013'!$I$4:$I$1191,AP$5,'база 2013'!$O$4:$O$1191,AP$7)","v":0},{"$f":"COUNTIFS('база 2013'!$B$4:$B$1191,$B86,'база 2013'!$I$4:$I$1191,AQ$5,'база 2013'!$O$4:$O$1191,AQ$7)","v":0},{"$f":"COUNTIFS('база 2013'!$B$4:$B$1191,$B86,'база 2013'!$I$4:$I$1191,AR$5,'база 2013'!$O$4:$O$1191,AR$7)","v":0},{"$f":"COUNTIFS('база 2013'!$B$4:$B$1191,$B86,'база 2013'!$I$4:$I$1191,AS$5,'база 2013'!$O$4:$O$1191,AS$7)","v":0},{"$f":"COUNTIFS('база 2013'!$B$4:$B$1191,$B86,'база 2013'!$I$4:$I$1191,AT$5,'база 2013'!$O$4:$O$1191,AT$7)","v":0},{"$f":"COUNTIFS('база 2013'!$B$4:$B$1191,$B86,'база 2013'!$I$4:$I$1191,AU$5,'база 2013'!$O$4:$O$1191,AU$7)","v":0},{"$f":"COUNTIFS('база 2013'!$B$4:$B$1191,$B86,'база 2013'!$I$4:$I$1191,AV$5,'база 2013'!$O$4:$O$1191,AV$7)","v":0},{"$f":"COUNTIFS('база 2013'!$B$4:$B$1191,$B86,'база 2013'!$I$4:$I$1191,AW$5,'база 2013'!$O$4:$O$1191,AW$7)","v":0},{"$f":"COUNTIFS('база 2013'!$B$4:$B$1191,$B86,'база 2013'!$I$4:$I$1191,AX$5,'база 2013'!$O$4:$O$1191,AX$7)","v":0},0,0,0,0,0,0,{"$f":"SUM(BB86:BD86)","v":0}]
["ИТОГО",null,{"$f":"SUM(C8:C86)","v":0},1,0,0,0,0,0,0,0,1,0,0,0,0,0,1,0,0,0,0,0,0,0,0,0,0,1,0,0,1,1,2,{"$f":"SUM(AI8:AI86)","v":5},{"$f":"SUM(AJ8:AJ86)","v":0},0,0,1,0,3,0,2,0,{"$f":"SUM(AS8:AS86)","v":0},0,4,0,0,0,1,2,7,3,5,13,21]

{"sheet":"Медали МО","index":7,"n_rows":52,"n_cols":59,"rows_kept":52,"cut":false,"hidden":false,"merged":[[1,0,1,56],[51,0,51,1],[52,53,52,55],[3,29,3,31],[3,32,3,34],[3,38,3,40],[3,41,3,43],[3,47,3,49],[3,50,3,52],[3,44,3,46],[3,2,3,4],[3,5,3,7],[3,8,3,10],[3,11,3,13],[3,14,3,16],[3,17,3,19],[3,20,3,22],[3,23,3,25],[3,26,3,28],[3,53,3,55],[3,56,6,56],[3,35,3,37]]}
[]
["Медали кубанских спортсменов, завоеванные на международных и всероссийских соревнованиях в 2014 году "]
[]
["№ п/п","Муниципальное образование","Олимпийские игры",null,null,"Чемпионат Мира",null,null,"Кубок Мира",null,null,"Первенство Мира",null,null,"Этап Кубка Мира",null,null,"всего",null,null,"Чемпионат Европы",null,null,"Кубок Европы",null,null,"Первенство Европы",null,null,"всего",null,null,"Международные соревнования",null,null,"Всемирная летняя Универсиада",null,null,"Чемпионат России",null,null,"Кубок России",null,null,"Первенство России",null,null,"Спартакиада молодежи России",null,null,"Всего",null,null,"Итого",null,null,"ВСЕГО"]
[null,null,"Олимпийские игры","Олимпийские игры","Олимпийские игры","Чемпионат Мира","Чемпионат Мира","Чемпионат Мира","Кубок Мира","Кубок Мира","Кубок Мира","Первенство Мира","Первенство Мира","Первенство Мира","Этап Кубка Мира","Этап Кубка Мира","Этап Кубка Мира","в","в","в","Чемпионат Европы","Чемпионат Европы","Чемпионат Европы","Кубок Европы","Кубок Европы","Кубок Европы","Первенство Европы","Первенство Европы","Первенство Европы","в","в","в","Международные соревнования","Международные соревнования","Международные соревнования","Всемирная летняя Универсиада","Всемирная летняя Универсиада","Всемирная летняя Универсиада","Чемпионат России","Чемпионат России","Чемпионат России","Кубок России","Кубок России","Кубок России","Первенство России","Первенство России","Первенство России","Спартакиада молодежи России","Спартакиада молодежи России","Спартакиада молодежи России","в","в","в","в","в","в"]
[null,null,null,null,null,null,null,null,null,null,null,null,null,null,null,null,null,"в","в","в",null,null,null,null,null,null,null,null,null,"в","в","в","в","в","в","в","в","в",null,null,null,null,null,null,null,null,null,null,null,null,"в","в","в","в","в","в"]
["№пп","Муниципальное образование",1,2,3,1,2,3,1,2,3,1,2,3,1,2,3,1,2,3,1,2,3,1,2,3,1,2,3,1,2,3,1,2,3,1,2,3,1,2,3,1,2,3,1,2,3,1,2,3,1,2,3,1,2,3]
[1,"город Армавир",{"$f":"COUNTIFS('база 2013'!$E$4:$E$1191,$B8,'база 2013'!$I$4:$I$1191,C$5,'база 2013'!$O$4:$O$1191,C$7)","v":0},{"$f":"COUNTIFS('база 2013'!$E$4:$E$1191,$B8,'база 2013'!$I$4:$I$1191,D$5,'база 2013'!$O$4:$O$1191,D$7)","v":0},{"$f":"COUNTIFS('база 2013'!$E$4:$E$1191,$B8,'база 2013'!$I$4:$I$1191,E$5,'база 2013'!$O$4:$O$1191,E$7)","v":0},{"$f":"COUNTIFS('база 2013'!$E$4:$E$1191,$B8,'база 2013'!$I$4:$I$1191,F$5,'база 2013'!$O$4:$O$1191,F$7)","v":0},{"$f":"COUNTIFS('база 2013'!$E$4:$E$1191,$B8,'база 2013'!$I$4:$I$1191,G$5,'база 2013'!$O$4:$O$1191,G$7)","v":0},{"$f":"COUNTIFS('база 2013'!$E$4:$E$1191,$B8,'база 2013'!$I$4:$I$1191,H$5,'база 2013'!$O$4:$O$1191,H$7)","v":0},{"$f":"COUNTIFS('база 2013'!$E$4:$E$1191,$B8,'база 2013'!$I$4:$I$1191,I$5,'база 2013'!$O$4:$O$1191,I$7)","v":0},{"$f":"COUNTIFS('база 2013'!$E$4:$E$1191,$B8,'база 2013'!$I$4:$I$1191,J$5,'база 2013'!$O$4:$O$1191,J$7)","v":0},{"$f":"COUNTIFS('база 2013'!$E$4:$E$1191,$B8,'база 2013'!$I$4:$I$1191,K$5,'база 2013'!$O$4:$O$1191,K$7)","v":0},{"$f":"COUNTIFS('база 2013'!$E$4:$E$1191,$B8,'база 2013'!$I$4:$I$1191,L$5,'база 2013'!$O$4:$O$1191,L$7)","v":0},{"$f":"COUNTIFS('база 2013'!$E$4:$E$1191,$B8,'база 2013'!$I$4:$I$1191,M$5,'база 2013'!$O$4:$O$1191,M$7)","v":0},{"$f":"COUNTIFS('база 2013'!$E$4:$E$1191,$B8,'база 2013'!$I$4:$I$1191,N$5,'база 2013'!$O$4:$O$1191,N$7)","v":0},{"$f":"COUNTIFS('база 2013'!$E$4:$E$1191,$B8,'база 2013'!$I$4:$I$1191,O$5,'база 2013'!$O$4:$O$1191,O$7)","v":0},{"$f":"COUNTIFS('база 2013'!$E$4:$E$1191,$B8,'база 2013'!$I$4:$I$1191,P$5,'база 2013'!$O$4:$O$1191,P$7)","v":0},{"$f":"COUNTIFS('база 2013'!$E$4:$E$1191,$B8,'база 2013'!$I$4:$I$1191,Q$5,'база 2013'!$O$4:$O$1191,Q$7)","v":0},{"$f":"SUMIF($C$7:$Q$7,$R$7,C8:Q8)","v":0},{"$f":"SUMIF($C$7:$Q$7,$S$7,$C8:$Q8)","v":0},{"$f":"SUMIF($C$7:$Q$7,$T$7,$C8:$Q8)","v":0},{"$f":"COUNTIFS('база 2013'!$E$4:$E$1191,$B8,'база 2013'!$I$4:$I$1191,U$5,'база 2013'!$O$4:$O$1191,U$7)","v":0},{"$f":"COUNTIFS('база 2013'!$E$4:$E$1191,$B8,'база 2013'!$I$4:$I$1191,V$5,'база 2013'!$O$4:$O$1191,V$7)","v":0},{"$f":"COUNTIFS('база 2013'!$E$4:$E$1191,$B8,'база 2013'!$I$4:$I$1191,W$5,'база 2013'!$O$4:$O$1191,W$7)","v":0},{"$f":"COUNTIFS('база 2013'!$E$4:$E$1191,$B8,'база 2013'!$I$4:$I$1191,X$5,'база 2013'!$O$4:$O$1191,X$7)","v":0},{"$f":"COUNTIFS('база 2013'!$E$4:$E$1191,$B8,'база 2013'!$I$4:$I$1191,Y$5,'база 2013'!$O$4:$O$1191,Y$7)","v":0},{"$f":"COUNTIFS('база 2013'!$E$4:$E$1191,$B8,'база 2013'!$I$4:$I$1191,Z$5,'база 2013'!$O$4:$O$1191,Z$7)","v":0},{"$f":"COUNTIFS('база 2013'!$E$4:$E$1191,$B8,'база 2013'!$I$4:$I$1191,AA$5,'база 2013'!$O$4:$O$1191,AA$7)","v":0},{"$f":"COUNTIFS('база 2013'!$E$4:$E$1191,$B8,'база 2013'!$I$4:$I$1191,AB$5,'база 2013'!$O$4:$O$1191,AB$7)","v":0},{"$f":"COUNTIFS('база 2013'!$E$4:$E$1191,$B8,'база 2013'!$I$4:$I$1191,AC$5,'база 2013'!$O$4:$O$1191,AC$7)","v":0},{"$f":"SUMIF($U$7:$AC$7,$AD$7,$U8:$AC8)","v":0},{"$f":"SUMIF($U$7:$AC$7,$AE$7,$U8:$AC8)","v":0},{"$f":"SUMIF($U$7:$AC$7,$AF$7,$U8:$AC8)","v":0},{"$f":"COUNTIFS('база 2013'!$E$4:$E$1191,$B8,'база 2013'!$I$4:$I$1191,AG$5,'база 2013'!$O$4:$O$1191,AG$7)","v":0},{"$f":"COUNTIFS('база 2013'!$E$4:$E$1191,$B8,'база 2013'!$I$4:$I$1191,AH$5,'база 2013'!$O$4:$O$1191,AH$7)","v":0},{"$f":"COUNTIFS('база 2013'!$E$4:$E$1191,$B8,'база 2013'!$I$4:$I$1191,AI$5,'база 2013'!$O$4:$O$1191,AI$7)","v":0},{"$f":"COUNTIFS('база 2013'!$E$4:$E$1191,$B8,'база 2013'!$I$4:$I$1191,AJ$5,'база 2013'!$O$4:$O$1191,AJ$7)","v":0},{"$f":"COUNTIFS('база 2013'!$E$4:$E$1191,$B8,'база 2013'!$I$4:$I$1191,AK$5,'база 2013'!$O$4:$O$1191,AK$7)","v":0},{"$f":"COUNTIFS('база 2013'!$E$4:$E$1191,$B8,'база 2013'!$I$4:$I$1191,AL$5,'база 2013'!$O$4:$O$1191,AL$7)","v":0},{"$f":"COUNTIFS('база 2013'!$E$4:$E$1191,$B8,'база 2013'!$I$4:$I$1191,AM$5,'база 2013'!$O$4:$O$1191,AM$7)","v":0},{"$f":"COUNTIFS('база 2013'!$E$4:$E$1191,$B8,'база 2013'!$I$4:$I$1191,AN$5,'база 2013'!$O$4:$O$1191,AN$7)","v":0},{"$f":"COUNTIFS('база 2013'!$E$4:$E$1191,$B8,'база 2013'!$I$4:$I$1191,AO$5,'база 2013'!$O$4:$O$1191,AO$7)","v":0},{"$f":"COUNTIFS('база 2013'!$E$4:$E$1191,$B8,'база 2013'!$I$4:$I$1191,AP$5,'база 2013'!$O$4:$O$1191,AP$7)","v":0},{"$f":"COUNTIFS('база 2013'!$E$4:$E$1191,$B8,'база 2013'!$I$4:$I$1191,AQ$5,'база 2013'!$O$4:$O$1191,AQ$7)","v":0},{"$f":"COUNTIFS('база 2013'!$E$4:$E$1191,$B8,'база 2013'!$I$4:$I$1191,AR$5,'база 2013'!$O$4:$O$1191,AR$7)","v":0},{"$f":"COUNTIFS('база 2013'!$E$4:$E$1191,$B8,'база 2013'!$I$4:$I$1191,AS$5,'база 2013'!$O$4:$O$1191,AS$7)","v":0},{"$f":"COUNTIFS('база 2013'!$E$4:$E$1191,$B8,'база 2013'!$I$4:$I$1191,AT$5,'база 2013'!$O$4:$O$1191,AT$7)","v":0},{"$f":"COUNTIFS('база 2013'!$E$4:$E$1191,$B8,'база 2013'!$I$4:$I$1191,AU$5,'база 2013'!$O$4:$O$1191,AU$7)","v":0},{"$f":"COUNTIFS('база 2013'!$E$4:$E$1191,$B8,'база 2013'!$I$4:$I$1191,AV$5,'база 2013'!$O$4:$O$1191,AV$7)","v":0},{"$f":"COUNTIFS('база 2013'!$E$4:$E$1191,$B8,'база 2013'!$I$4:$I$1191,AW$5,'база 2013'!$O$4:$O$1191,AW$7)","v":0},{"$f":"COUNTIFS('база 2013'!$E$4:$E$1191,$B8,'база 2013'!$I$4:$I$1191,AX$5,'база 2013'!$O$4:$O$1191,AX$7)","v":0},{"$f":"SUMIF($AM$7:$AX$7,$AY$7,$AM8:$AX8)","v":0},{"$f":"SUMIF($AM$7:$AX$7,$AZ$7,$AM8:$AX8)","v":0},{"$f":"SUMIF($AM$7:$AX$7,$BA$7,$AM8:$AX8)","v":0},{"$f":"SUMIFS($C8:$BA8,$C$6:$BA$6,BB$6,$C$7:$BA$7,BB$7)","v":0},0,0,{"$f":"SUM(BB8:BD8)","v":0},null,{"$f":"SUM(AV8:AX8)","v":0}]
[2,"город Горячий Ключ",{"$f":"COUNTIFS('база 2013'!$E$4:$E$1191,$B9,'база 2013'!$I$4:$I$1191,C$5,'база 2013'!$O$4:$O$1191,C$7)","v":0},{"$f":"COUNTIFS('база 2013'!$E$4:$E$1191,$B9,'база 2013'!$I$4:$I$1191,D$5,'база 2013'!$O$4:$O$1191,D$7)","v":0},{"$f":"COUNTIFS('база 2013'!$E$4:$E$1191,$B9,'база 2013'!$I$4:$I$1191,E$5,'база 2013'!$O$4:$O$1191,E$7)","v":0},{"$f":"COUNTIFS('база 2013'!$E$4:$E$1191,$B9,'база 2013'!$I$4:$I$1191,F$5,'база 2013'!$O$4:$O$1191,F$7)","v":0},{"$f":"COUNTIFS('база 2013'!$E$4:$E$1191,$B9,'база 2013'!$I$4:$I$1191,G$5,'база 2013'!$O$4:$O$1191,G$7)","v":0},{"$f":"COUNTIFS('база 2013'!$E$4:$E$1191,$B9,'база 2013'!$I$4:$I$1191,H$5,'база 2013'!$O$4:$O$1191,H$7)","v":0},{"$f":"COUNTIFS('база 2013'!$E$4:$E$1191,$B9,'база 2013'!$I$4:$I$1191,I$5,'база 2013'!$O$4:$O$1191,I$7)","v":0},{"$f":"COUNTIFS('база 2013'!$E$4:$E$1191,$B9,'база 2013'!$I$4:$I$1191,J$5,'база 2013'!$O$4:$O$1191,J$7)","v":0},{"$f":"COUNTIFS('база 2013'!$E$4:$E$1191,$B9,'база 2013'!$I$4:$I$1191,K$5,'база 2013'!$O$4:$O$1191,K$7)","v":0},{"$f":"COUNTIFS('база 2013'!$E$4:$E$1191,$B9,'база 2013'!$I$4:$I$1191,L$5,'база 2013'!$O$4:$O$1191,L$7)","v":0},{"$f":"COUNTIFS('база 2013'!$E$4:$E$1191,$B9,'база 2013'!$I$4:$I$1191,M$5,'база 2013'!$O$4:$O$1191,M$7)","v":0},{"$f":"COUNTIFS('база 2013'!$E$4:$E$1191,$B9,'база 2013'!$I$4:$I$1191,N$5,'база 2013'!$O$4:$O$1191,N$7)","v":0},{"$f":"COUNTIFS('база 2013'!$E$4:$E$1191,$B9,'база 2013'!$I$4:$I$1191,O$5,'база 2013'!$O$4:$O$1191,O$7)","v":0},{"$f":"COUNTIFS('база 2013'!$E$4:$E$1191,$B9,'база 2013'!$I$4:$I$1191,P$5,'база 2013'!$O$4:$O$1191,P$7)","v":0},{"$f":"COUNTIFS('база 2013'!$E$4:$E$1191,$B9,'база 2013'!$I$4:$I$1191,Q$5,'база 2013'!$O$4:$O$1191,Q$7)","v":0},0,0,0,{"$f":"COUNTIFS('база 2013'!$E$4:$E$1191,$B9,'база 2013'!$I$4:$I$1191,U$5,'база 2013'!$O$4:$O$1191,U$7)","v":0},{"$f":"COUNTIFS('база 2013'!$E$4:$E$1191,$B9,'база 2013'!$I$4:$I$1191,V$5,'база 2013'!$O$4:$O$1191,V$7)","v":0},{"$f":"COUNTIFS('база 2013'!$E$4:$E$1191,$B9,'база 2013'!$I$4:$I$1191,W$5,'база 2013'!$O$4:$O$1191,W$7)","v":0},{"$f":"COUNTIFS('база 2013'!$E$4:$E$1191,$B9,'база 2013'!$I$4:$I$1191,X$5,'база 2013'!$O$4:$O$1191,X$7)","v":0},{"$f":"COUNTIFS('база 2013'!$E$4:$E$1191,$B9,'база 2013'!$I$4:$I$1191,Y$5,'база 2013'!$O$4:$O$1191,Y$7)","v":0},{"$f":"COUNTIFS('база 2013'!$E$4:$E$1191,$B9,'база 2013'!$I$4:$I$1191,Z$5,'база 2013'!$O$4:$O$1191,Z$7)","v":0},{"$f":"COUNTIFS('база 2013'!$E$4:$E$1191,$B9,'база 2013'!$I$4:$I$1191,AA$5,'база 2013'!$O$4:$O$1191,AA$7)","v":0},{"$f":"COUNTIFS('база 2013'!$E$4:$E$1191,$B9,'база 2013'!$I$4:$I$1191,AB$5,'база 2013'!$O$4:$O$1191,AB$7)","v":0},{"$f":"COUNTIFS('база 2013'!$E$4:$E$1191,$B9,'база 2013'!$I$4:$I$1191,AC$5,'база 2013'!$O$4:$O$1191,AC$7)","v":0},{"$f":"SUMIF($U$7:$AC$7,$AD$7,$U9:$AC9)","v":0},{"$f":"SUMIF($U$7:$AC$7,$AE$7,$U9:$AC9)","v":0},{"$f":"SUMIF($U$7:$AC$7,$AF$7,$U9:$AC9)","v":0},{"$f":"COUNTIFS('база 2013'!$E$4:$E$1191,$B9,'база 2013'!$I$4:$I$1191,AG$5,'база 2013'!$O$4:$O$1191,AG$7)","v":0},{"$f":"COUNTIFS('база 2013'!$E$4:$E$1191,$B9,'база 2013'!$I$4:$I$1191,AH$5,'база 2013'!$O$4:$O$1191,AH$7)","v":0},{"$f":"COUNTIFS('база 2013'!$E$4:$E$1191,$B9,'база 2013'!$I$4:$I$1191,AI$5,'база 2013'!$O$4:$O$1191,AI$7)","v":0},{"$f":"COUNTIFS('база 2013'!$E$4:$E$1191,$B9,'база 2013'!$I$4:$I$1191,AJ$5,'база 2013'!$O$4:$O$1191,AJ$7)","v":0},{"$f":"COUNTIFS('база 2013'!$E$4:$E$1191,$B9,'база 2013'!$I$4:$I$1191,AK$5,'база 2013'!$O$4:$O$1191,AK$7)","v":0},{"$f":"COUNTIFS('база 2013'!$E$4:$E$1191,$B9,'база 2013'!$I$4:$I$1191,AL$5,'база 2013'!$O$4:$O$1191,AL$7)","v":0},{"$f":"COUNTIFS('база 2013'!$E$4:$E$1191,$B9,'база 2013'!$I$4:$I$1191,AM$5,'база 2013'!$O$4:$O$1191,AM$7)","v":0},{"$f":"COUNTIFS('база 2013'!$E$4:$E$1191,$B9,'база 2013'!$I$4:$I$1191,AN$5,'база 2013'!$O$4:$O$1191,AN$7)","v":0},{"$f":"COUNTIFS('база 2013'!$E$4:$E$1191,$B9,'база 2013'!$I$4:$I$1191,AO$5,'база 2013'!$O$4:$O$1191,AO$7)","v":0},{"$f":"COUNTIFS('база 2013'!$E$4:$E$1191,$B9,'база 2013'!$I$4:$I$1191,AP$5,'база 2013'!$O$4:$O$1191,AP$7)","v":0},{"$f":"COUNTIFS('база 2013'!$E$4:$E$1191,$B9,'база 2013'!$I$4:$I$1191,AQ$5,'база 2013'!$O$4:$O$1191,AQ$7)","v":0},{"$f":"COUNTIFS('база 2013'!$E$4:$E$1191,$B9,'база 2013'!$I$4:$I$1191,AR$5,'база 2013'!$O$4:$O$1191,AR$7)","v":0},{"$f":"COUNTIFS('база 2013'!$E$4:$E$1191,$B9,'база 2013'!$I$4:$I$1191,AS$5,'база 2013'!$O$4:$O$1191,AS$7)","v":0},{"$f":"COUNTIFS('база 2013'!$E$4:$E$1191,$B9,'база 2013'!$I$4:$I$1191,AT$5,'база 2013'!$O$4:$O$1191,AT$7)","v":0},{"$f":"COUNTIFS('база 2013'!$E$4:$E$1191,$B9,'база 2013'!$I$4:$I$1191,AU$5,'база 2013'!$O$4:$O$1191,AU$7)","v":0},{"$f":"COUNTIFS('база 2013'!$E$4:$E$1191,$B9,'база 2013'!$I$4:$I$1191,AV$5,'база 2013'!$O$4:$O$1191,AV$7)","v":0},{"$f":"COUNTIFS('база 2013'!$E$4:$E$1191,$B9,'база 2013'!$I$4:$I$1191,AW$5,'база 2013'!$O$4:$O$1191,AW$7)","v":0},{"$f":"COUNTIFS('база 2013'!$E$4:$E$1191,$B9,'база 2013'!$I$4:$I$1191,AX$5,'база 2013'!$O$4:$O$1191,AX$7)","v":0},{"$f":"SUMIF($AM$7:$AX$7,$AY$7,$AM9:$AX9)","v":0},{"$f":"SUMIF($AM$7:$AX$7,$AZ$7,$AM9:$AX9)","v":0},{"$f":"SUMIF($AM$7:$AX$7,$BA$7,$AM9:$AX9)","v":0},0,0,0,{"$f":"SUM(BB9:BD9)","v":0},null,{"$f":"SUM(AV9:AX9)","v":0}]
[3,"город Краснодар",{"$f":"COUNTIFS('база 2013'!$E$4:$E$1191,$B10,'база 2013'!$I$4:$I$1191,C$5,'база 2013'!$O$4:$O$1191,C$7)","v":0},{"$f":"COUNTIFS('база 2013'!$E$4:$E$1191,$B10,'база 2013'!$I$4:$I$1191,D$5,'база 2013'!$O$4:$O$1191,D$7)","v":1},{"$f":"COUNTIFS('база 2013'!$E$4:$E$1191,$B10,'база 2013'!$I$4:$I$1191,E$5,'база 2013'!$O$4:$O$1191,E$7)","v":0},{"$f":"COUNTIFS('база 2013'!$E$4:$E$1191,$B10,'база 2013'!$I$4:$I$1191,F$5,'база 2013'!$O$4:$O$1191,F$7)","v":0},{"$f":"COUNTIFS('база 2013'!$E$4:$E$1191,$B10,'база 2013'!$I$4:$I$1191,G$5,'база 2013'!$O$4:$O$1191,G$7)","v":0},{"$f":"COUNTIFS('база 2013'!$E$4:$E$1191,$B10,'база 2013'!$I$4:$I$1191,H$5,'база 2013'!$O$4:$O$1191,H$7)","v":0},{"$f":"COUNTIFS('база 2013'!$E$4:$E$1191,$B10,'база 2013'!$I$4:$I$1191,I$5,'база 2013'!$O$4:$O$1191,I$7)","v":0},{"$f":"COUNTIFS('база 2013'!$E$4:$E$1191,$B10,'база 2013'!$I$4:$I$1191,J$5,'база 2013'!$O$4:$O$1191,J$7)","v":0},{"$f":"COUNTIFS('база 2013'!$E$4:$E$1191,$B10,'база 2013'!$I$4:$I$1191,K$5,'база 2013'!$O$4:$O$1191,K$7)","v":0},{"$f":"COUNTIFS('база 2013'!$E$4:$E$1191,$B10,'база 2013'!$I$4:$I$1191,L$5,'база 2013'!$O$4:$O$1191,L$7)","v":0},{"$f":"COUNTIFS('база 2013'!$E$4:$E$1191,$B10,'база 2013'!$I$4:$I$1191,M$5,'база 2013'!$O$4:$O$1191,M$7)","v":0},{"$f":"COUNTIFS('база 2013'!$E$4:$E$1191,$B10,'база 2013'!$I$4:$I$1191,N$5,'база 2013'!$O$4:$O$1191,N$7)","v":0},{"$f":"COUNTIFS('база 2013'!$E$4:$E$1191,$B10,'база 2013'!$I$4:$I$1191,O$5,'база 2013'!$O$4:$O$1191,O$7)","v":0},{"$f":"COUNTIFS('база 2013'!$E$4:$E$1191,$B10,'база 2013'!$I$4:$I$1191,P$5,'база 2013'!$O$4:$O$1191,P$7)","v":0},{"$f":"COUNTIFS('база 2013'!$E$4:$E$1191,$B10,'база 2013'!$I$4:$I$1191,Q$5,'база 2013'!$O$4:$O$1191,Q$7)","v":0},0,1,0,{"$f":"COUNTIFS('база 2013'!$E$4:$E$1191,$B10,'база 2013'!$I$4:$I$1191,U$5,'база 2013'!$O$4:$O$1191,U$7)","v":0},{"$f":"COUNTIFS('база 2013'!$E$4:$E$1191,$B10,'база 2013'!$I$4:$I$1191,V$5,'база 2013'!$O$4:$O$1191,V$7)","v":0},{"$f":"COUNTIFS('база 2013'!$E$4:$E$1191,$B10,'база 2013'!$I$4:$I$1191,W$5,'база 2013'!$O$4:$O$1191,W$7)","v":0},{"$f":"COUNTIFS('база 2013'!$E$4:$E$1191,$B10,'база 2013'!$I$4:$I$1191,X$5,'база 2013'!$O$4:$O$1191,X$7)","v":0},{"$f":"COUNTIFS('база 2013'!$E$4:$E$1191,$B10,'база 2013'!$I$4:$I$1191,Y$5,'база 2013'!$O$4:$O$1191,Y$7)","v":0},{"$f":"COUNTIFS('база 2013'!$E$4:$E$1191,$B10,'база 2013'!$I$4:$I$1191,Z$5,'база 2013'!$O$4:$O$1191,Z$7)","v":0},{"$f":"COUNTIFS('база 2013'!$E$4:$E$1191,$B10,'база 2013'!$I$4:$I$1191,AA$5,'база 2013'!$O$4:$O$1191,AA$7)","v":0},{"$f":"COUNTIFS('база 2013'!$E$4:$E$1191,$B10,'база 2013'!$I$4:$I$1191,AB$5,'база 2013'!$O$4:$O$1191,AB$7)","v":0},{"$f":"COUNTIFS('база 2013'!$E$4:$E$1191,$B10,'база 2013'!$I$4:$I$1191,AC$5,'база 2013'!$O$4:$O$1191,AC$7)","v":0},0,0,0,{"$f":"COUNTIFS('база 2013'!$E$4:$E$1191,$B10,'база 2013'!$I$4:$I$1191,AG$5,'база 2013'!$O$4:$O$1191,AG$7)","v":0},{"$f":"COUNTIFS('база 2013'!$E$4:$E$1191,$B10,'база 2013'!$I$4:$I$1191,AH$5,'база 2013'!$O$4:$O$1191,AH$7)","v":0},{"$f":"COUNTIFS('база 2013'!$E$4:$E$1191,$B10,'база 2013'!$I$4:$I$1191,AI$5,'база 2013'!$O$4:$O$1191,AI$7)","v":0},{"$f":"COUNTIFS('база 2013'!$E$4:$E$1191,$B10,'база 2013'!$I$4:$I$1191,AJ$5,'база 2013'!$O$4:$O$1191,AJ$7)","v":0},{"$f":"COUNTIFS('база 2013'!$E$4:$E$1191,$B10,'база 2013'!$I$4:$I$1191,AK$5,'база 2013'!$O$4:$O$1191,AK$7)","v":0},{"$f":"COUNTIFS('база 2013'!$E$4:$E$1191,$B10,'база 2013'!$I$4:$I$1191,AL$5,'база 2013'!$O$4:$O$1191,AL$7)","v":0},{"$f":"COUNTIFS('база 2013'!$E$4:$E$1191,$B10,'база 2013'!$I$4:$I$1191,AM$5,'база 2013'!$O$4:$O$1191,AM$7)","v":1},{"$f":"COUNTIFS('база 2013'!$E$4:$E$1191,$B10,'база 2013'!$I$4:$I$1191,AN$5,'база 2013'!$O$4:$O$1191,AN$7)","v":0},{"$f":"COUNTIFS('база 2013'!$E$4:$E$1191,$B10,'база 2013'!$I$4:$I$1191,AO$5,'база 2013'!$O$4:$O$1191,AO$7)","v":0},{"$f":"COUNTIFS('база 2013'!$E$4:$E$1191,$B10,'база 2013'!$I$4:$I$1191,AP$5,'база 2013'!$O$4:$O$1191,AP$7)","v":0},{"$f":"COUNTIFS('база 2013'!$E$4:$E$1191,$B10,'база 2013'!$I$4:$I$1191,AQ$5,'база 2013'!$O$4:$O$1191,AQ$7)","v":0},{"$f":"COUNTIFS('база 2013'!$E$4:$E$1191,$B10,'база 2013'!$I$4:$I$1191,AR$5,'база 2013'!$O$4:$O$1191,AR$7)","v":0},{"$f":"COUNTIFS('база 2013'!$E$4:$E$1191,$B10,'база 2013'!$I$4:$I$1191,AS$5,'база 2013'!$O$4:$O$1191,AS$7)","v":0},{"$f":"COUNTIFS('база 2013'!$E$4:$E$1191,$B10,'база 2013'!$I$4:$I$1191,AT$5,'база 2013'!$O$4:$O$1191,AT$7)","v":0},{"$f":"COUNTIFS('база 2013'!$E$4:$E$1191,$B10,'база 2013'!$I$4:$I$1191,AU$5,'база 2013'!$O$4:$O$1191,AU$7)","v":0},{"$f":"COUNTIFS('база 2013'!$E$4:$E$1191,$B10,'база 2013'!$I$4:$I$1191,AV$5,'база 2013'!$O$4:$O$1191,AV$7)","v":0},{"$f":"COUNTIFS('база 2013'!$E$4:$E$1191,$B10,'база 2013'!$I$4:$I$1191,AW$5,'база 2013'!$O$4:$O$1191,AW$7)","v":0},{"$f":"COUNTIFS('база 2013'!$E$4:$E$1191,$B10,'база 2013'!$I$4:$I$1191,AX$5,'база 2013'!$O$4:$O$1191,AX$7)","v":0},1,0,0,1,1,0,2,null,0]
[4,"город Новороссийск",{"$f":"COUNTIFS('база 2013'!$E$4:$E$1191,$B11,'база 2013'!$I$4:$I$1191,C$5,'база 2013'!$O$4:$O$1191,C$7)","v":0},{"$f":"COUNTIFS('база 2013'!$E$4:$E$1191,$B11,'база 2013'!$I$4:$I$1191,D$5,'база 2013'!$O$4:$O$1191,D$7)","v":0},{"$f":"COUNTIFS('база 2013'!$E$4:$E$1191,$B11,'база 2013'!$I$4:$I$1191,E$5,'база 2013'!$O$4:$O$1191,E$7)","v":0},{"$f":"COUNTIFS('база 2013'!$E$4:$E$1191,$B11,'база 2013'!$I$4:$I$1191,F$5,'база 2013'!$O$4:$O$1191,F$7)","v":0},{"$f":"COUNTIFS('база 2013'!$E$4:$E$1191,$B11,'база 2013'!$I$4:$I$1191,G$5,'база 2013'!$O$4:$O$1191,G$7)","v":0},{"$f":"COUNTIFS('база 2013'!$E$4:$E$1191,$B11,'база 2013'!$I$4:$I$1191,H$5,'база 2013'!$O$4:$O$1191,H$7)","v":0},{"$f":"COUNTIFS('база 2013'!$E$4:$E$1191,$B11,'база 2013'!$I$4:$I$1191,I$5,'база 2013'!$O$4:$O$1191,I$7)","v":0},{"$f":"COUNTIFS('база 2013'!$E$4:$E$1191,$B11,'база 2013'!$I$4:$I$1191,J$5,'база 2013'!$O$4:$O$1191,J$7)","v":0},{"$f":"COUNTIFS('база 2013'!$E$4:$E$1191,$B11,'база 2013'!$I$4:$I$1191,K$5,'база 2013'!$O$4:$O$1191,K$7)","v":0},{"$f":"COUNTIFS('база 2013'!$E$4:$E$1191,$B11,'база 2013'!$I$4:$I$1191,L$5,'база 2013'!$O$4:$O$1191,L$7)","v":0},{"$f":"COUNTIFS('база 2013'!$E$4:$E$1191,$B11,'база 2013'!$I$4:$I$1191,M$5,'база 2013'!$O$4:$O$1191,M$7)","v":0},{"$f":"COUNTIFS('база 2013'!$E$4:$E$1191,$B11,'база 2013'!$I$4:$I$1191,N$5,'база 2013'!$O$4:$O$1191,N$7)","v":0},{"$f":"COUNTIFS('база 2013'!$E$4:$E$1191,$B11,'база 2013'!$I$4:$I$1191,O$5,'база 2013'!$O$4:$O$1191,O$7)","v":0},{"$f":"COUNTIFS('база 2013'!$E$4:$E$1191,$B11,'база 2013'!$I$4:$I$1191,P$5,'база 2013'!$O$4:$O$1191,P$7)","v":0},{"$f":"COUNTIFS('база 2013'!$E$4:$E$1191,$B11,'база 2013'!$I$4:$I$1191,Q$5,'база 2013'!$O$4:$O$1191,Q$7)","v":0},0,0,0,{"$f":"COUNTIFS('база 2013'!$E$4:$E$1191,$B11,'база 2013'!$I$4:$I$1191,U$5,'база 2013'!$O$4:$O$1191,U$7)","v":0},{"$f":"COUNTIFS('база 2013'!$E$4:$E$1191,$B11,'база 2013'!$I$4:$I$1191,V$5,'база 2013'!$O$4:$O$1191,V$7)","v":0},{"$f":"COUNTIFS('база 2013'!$E$4:$E$1191,$B11,'база 2013'!$I$4:$I$1191,W$5,'база 2013'!$O$4:$O$1191,W$7)","v":0},{"$f":"COUNTIFS('база 2013'!$E$4:$E$1191,$B11,'база 2013'!$I$4:$I$1191,X$5,'база 2013'!$O$4:$O$1191,X$7)","v":0},{"$f":"COUNTIFS('база 2013'!$E$4:$E$1191,$B11,'база 2013'!$I$4:$I$1191,Y$5,'база 2013'!$O$4:$O$1191,Y$7)","v":0},{"$f":"COUNTIFS('база 2013'!$E$4:$E$1191,$B11,'база 2013'!$I$4:$I$1191,Z$5,'база 2013'!$O$4:$O$1191,Z$7)","v":0},{"$f":"COUNTIFS('база 2013'!$E$4:$E$1191,$B11,'база 2013'!$I$4:$I$1191,AA$5,'база 2013'!$O$4:$O$1191,AA$7)","v":0},{"$f":"COUNTIFS('база 2013'!$E$4:$E$1191,$B11,'база 2013'!$I$4:$I$1191,AB$5,'база 2013'!$O$4:$O$1191,AB$7)","v":0},{"$f":"COUNTIFS('база 2013'!$E$4:$E$1191,$B11,'база 2013'!$I$4:$I$1191,AC$5,'база 2013'!$O$4:$O$1191,AC$7)","v":0},0,0,0,{"$f":"COUNTIFS('база 2013'!$E$4:$E$1191,$B11,'база 2013'!$I$4:$I$1191,AG$5,'база 2013'!$O$4:$O$1191,AG$7)","v":0},{"$f":"COUNTIFS('база 2013'!$E$4:$E$1191,$B11,'база 2013'!$I$4:$I$1191,AH$5,'база 2013'!$O$4:$O$1191,AH$7)","v":0},{"$f":"COUNTIFS('база 2013'!$E$4:$E$1191,$B11,'база 2013'!$I$4:$I$1191,AI$5,'база 2013'!$O$4:$O$1191,AI$7)","v":0},{"$f":"COUNTIFS('база 2013'!$E$4:$E$1191,$B11,'база 2013'!$I$4:$I$1191,AJ$5,'база 2013'!$O$4:$O$1191,AJ$7)","v":0},{"$f":"COUNTIFS('база 2013'!$E$4:$E$1191,$B11,'база 2013'!$I$4:$I$1191,AK$5,'база 2013'!$O$4:$O$1191,AK$7)","v":0},{"$f":"COUNTIFS('база 2013'!$E$4:$E$1191,$B11,'база 2013'!$I$4:$I$1191,AL$5,'база 2013'!$O$4:$O$1191,AL$7)","v":0},{"$f":"COUNTIFS('база 2013'!$E$4:$E$1191,$B11,'база 2013'!$I$4:$I$1191,AM$5,'база 2013'!$O$4:$O$1191,AM$7)","v":0},{"$f":"COUNTIFS('база 2013'!$E$4:$E$1191,$B11,'база 2013'!$I$4:$I$1191,AN$5,'база 2013'!$O$4:$O$1191,AN$7)","v":0},{"$f":"COUNTIFS('база 2013'!$E$4:$E$1191,$B11,'база 2013'!$I$4:$I$1191,AO$5,'база 2013'!$O$4:$O$1191,AO$7)","v":0},{"$f":"COUNTIFS('база 2013'!$E$4:$E$1191,$B11,'база 2013'!$I$4:$I$1191,AP$5,'база 2013'!$O$4:$O$1191,AP$7)","v":0},{"$f":"COUNTIFS('база 2013'!$E$4:$E$1191,$B11,'база 2013'!$I$4:$I$1191,AQ$5,'база 2013'!$O$4:$O$1191,AQ$7)","v":0},{"$f":"COUNTIFS('база 2013'!$E$4:$E$1191,$B11,'база 2013'!$I$4:$I$1191,AR$5,'база 2013'!$O$4:$O$1191,AR$7)","v":0},{"$f":"COUNTIFS('база 2013'!$E$4:$E$1191,$B11,'база 2013'!$I$4:$I$1191,AS$5,'база 2013'!$O$4:$O$1191,AS$7)","v":0},{"$f":"COUNTIFS('база 2013'!$E$4:$E$1191,$B11,'база 2013'!$I$4:$I$1191,AT$5,'база 2013'!$O$4:$O$1191,AT$7)","v":0},{"$f":"COUNTIFS('база 2013'!$E$4:$E$1191,$B11,'база 2013'!$I$4:$I$1191,AU$5,'база 2013'!$O$4:$O$1191,AU$7)","v":0},{"$f":"COUNTIFS('база 2013'!$E$4:$E$1191,$B11,'база 2013'!$I$4:$I$1191,AV$5,'база 2013'!$O$4:$O$1191,AV$7)","v":0},{"$f":"COUNTIFS('база 2013'!$E$4:$E$1191,$B11,'база 2013'!$I$4:$I$1191,AW$5,'база 2013'!$O$4:$O$1191,AW$7)","v":0},{"$f":"COUNTIFS('база 2013'!$E$4:$E$1191,$B11,'база 2013'!$I$4:$I$1191,AX$5,'база 2013'!$O$4:$O$1191,AX$7)","v":0},0,0,0,0,0,0,0,null,0]
[5,"город-курорт Анапа",{"$f":"COUNTIFS('база 2013'!$E$4:$E$1191,$B12,'база 2013'!$I$4:$I$1191,C$5,'база 2013'!$O$4:$O$1191,C$7)","v":0},{"$f":"COUNTIFS('база 2013'!$E$4:$E$1191,$B12,'база 2013'!$I$4:$I$1191,D$5,'база 2013'!$O$4:$O$1191,D$7)","v":0},{"$f":"COUNTIFS('база 2013'!$E$4:$E$1191,$B12,'база 2013'!$I$4:$I$1191,E$5,'база 2013'!$O$4:$O$1191,E$7)","v":0},{"$f":"COUNTIFS('база 2013'!$E$4:$E$1191,$B12,'база 2013'!$I$4:$I$1191,F$5,'база 2013'!$O$4:$O$1191,F$7)","v":0},{"$f":"COUNTIFS('база 2013'!$E$4:$E$1191,$B12,'база 2013'!$I$4:$I$1191,G$5,'база 2013'!$O$4:$O$1191,G$7)","v":0},{"$f":"COUNTIFS('база 2013'!$E$4:$E$1191,$B12,'база 2013'!$I$4:$I$1191,H$5,'база 2013'!$O$4:$O$1191,H$7)","v":0},{"$f":"COUNTIFS('база 2013'!$E$4:$E$1191,$B12,'база 2013'!$I$4:$I$1191,I$5,'база 2013'!$O$4:$O$1191,I$7)","v":0},{"$f":"COUNTIFS('база 2013'!$E$4:$E$1191,$B12,'база 2013'!$I$4:$I$1191,J$5,'база 2013'!$O$4:$O$1191,J$7)","v":0},{"$f":"COUNTIFS('база 2013'!$E$4:$E$1191,$B12,'база 2013'!$I$4:$I$1191,K$5,'база 2013'!$O$4:$O$1191,K$7)","v":0},{"$f":"COUNTIFS('база 2013'!$E$4:$E$1191,$B12,'база 2013'!$I$4:$I$1191,L$5,'база 2013'!$O$4:$O$1191,L$7)","v":0},{"$f":"COUNTIFS('база 2013'!$E$4:$E$1191,$B12,'база 2013'!$I$4:$I$1191,M$5,'база 2013'!$O$4:$O$1191,M$7)","v":0},{"$f":"COUNTIFS('база 2013'!$E$4:$E$1191,$B12,'база 2013'!$I$4:$I$1191,N$5,'база 2013'!$O$4:$O$1191,N$7)","v":0},{"$f":"COUNTIFS('база 2013'!$E$4:$E$1191,$B12,'база 2013'!$I$4:$I$1191,O$5,'база 2013'!$O$4:$O$1191,O$7)","v":0},{"$f":"COUNTIFS('база 2013'!$E$4:$E$1191,$B12,'база 2013'!$I$4:$I$1191,P$5,'база 2013'!$O$4:$O$1191,P$7)","v":0},{"$f":"COUNTIFS('база 2013'!$E$4:$E$1191,$B12,'база 2013'!$I$4:$I$1191,Q$5,'база 2013'!$O$4:$O$1191,Q$7)","v":0},0,0,0,{"$f":"COUNTIFS('база 2013'!$E$4:$E$1191,$B12,'база 2013'!$I$4:$I$1191,U$5,'база 2013'!$O$4:$O$1191,U$7)","v":0},{"$f":"COUNTIFS('база 2013'!$E$4:$E$1191,$B12,'база 2013'!$I$4:$I$1191,V$5,'база 2013'!$O$4:$O$1191,V$7)","v":0},{"$f":"COUNTIFS('база 2013'!$E$4:$E$1191,$B12,'база 2013'!$I$4:$I$1191,W$5,'база 2013'!$O$4:$O$1191,W$7)","v":0},{"$f":"COUNTIFS('база 2013'!$E$4:$E$1191,$B12,'база 2013'!$I$4:$I$1191,X$5,'база 2013'!$O$4:$O$1191,X$7)","v":0},{"$f":"COUNTIFS('база 2013'!$E$4:$E$1191,$B12,'база 2013'!$I$4:$I$1191,Y$5,'база 2013'!$O$4:$O$1191,Y$7)","v":0},{"$f":"COUNTIFS('база 2013'!$E$4:$E$1191,$B12,'база 2013'!$I$4:$I$1191,Z$5,'база 2013'!$O$4:$O$1191,Z$7)","v":0},{"$f":"COUNTIFS('база 2013'!$E$4:$E$1191,$B12,'база 2013'!$I$4:$I$1191,AA$5,'база 2013'!$O$4:$O$1191,AA$7)","v":0},{"$f":"COUNTIFS('база 2013'!$E$4:$E$1191,$B12,'база 2013'!$I$4:$I$1191,AB$5,'база 2013'!$O$4:$O$1191,AB$7)","v":0},{"$f":"COUNTIFS('база 2013'!$E$4:$E$1191,$B12,'база 2013'!$I$4:$I$1191,AC$5,'база 2013'!$O$4:$O$1191,AC$7)","v":0},0,0,0,{"$f":"COUNTIFS('база 2013'!$E$4:$E$1191,$B12,'база 2013'!$I$4:$I$1191,AG$5,'база 2013'!$O$4:$O$1191,AG$7)","v":0},{"$f":"COUNTIFS('база 2013'!$E$4:$E$1191,$B12,'база 2013'!$I$4:$I$1191,AH$5,'база 2013'!$O$4:$O$1191,AH$7)","v":0},{"$f":"COUNTIFS('база 2013'!$E$4:$E$1191,$B12,'база 2013'!$I$4:$I$1191,AI$5,'база 2013'!$O$4:$O$1191,AI$7)","v":0},{"$f":"COUNTIFS('база 2013'!$E$4:$E$1191,$B12,'база 2013'!$I$4:$I$1191,AJ$5,'база 2013'!$O$4:$O$1191,AJ$7)","v":0},{"$f":"COUNTIFS('база 2013'!$E$4:$E$1191,$B12,'база 2013'!$I$4:$I$1191,AK$5,'база 2013'!$O$4:$O$1191,AK$7)","v":0},{"$f":"COUNTIFS('база 2013'!$E$4:$E$1191,$B12,'база 2013'!$I$4:$I$1191,AL$5,'база 2013'!$O$4:$O$1191,AL$7)","v":0},{"$f":"COUNTIFS('база 2013'!$E$4:$E$1191,$B12,'база 2013'!$I$4:$I$1191,AM$5,'база 2013'!$O$4:$O$1191,AM$7)","v":0},{"$f":"COUNTIFS('база 2013'!$E$4:$E$1191,$B12,'база 2013'!$I$4:$I$1191,AN$5,'база 2013'!$O$4:$O$1191,AN$7)","v":0},{"$f":"COUNTIFS('база 2013'!$E$4:$E$1191,$B12,'база 2013'!$I$4:$I$1191,AO$5,'база 2013'!$O$4:$O$1191,AO$7)","v":0},{"$f":"COUNTIFS('база 2013'!$E$4:$E$1191,$B12,'база 2013'!$I$4:$I$1191,AP$5,'база 2013'!$O$4:$O$1191,AP$7)","v":0},{"$f":"COUNTIFS('база 2013'!$E$4:$E$1191,$B12,'база 2013'!$I$4:$I$1191,AQ$5,'база 2013'!$O$4:$O$1191,AQ$7)","v":0},{"$f":"COUNTIFS('база 2013'!$E$4:$E$1191,$B12,'база 2013'!$I$4:$I$1191,AR$5,'база 2013'!$O$4:$O$1191,AR$7)","v":0},{"$f":"COUNTIFS('база 2013'!$E$4:$E$1191,$B12,'база 2013'!$I$4:$I$1191,AS$5,'база 2013'!$O$4:$O$1191,AS$7)","v":0},{"$f":"COUNTIFS('база 2013'!$E$4:$E$1191,$B12,'база 2013'!$I$4:$I$1191,AT$5,'база 2013'!$O$4:$O$1191,AT$7)","v":0},{"$f":"COUNTIFS('база 2013'!$E$4:$E$1191,$B12,'база 2013'!$I$4:$I$1191,AU$5,'база 2013'!$O$4:$O$1191,AU$7)","v":0},{"$f":"COUNTIFS('база 2013'!$E$4:$E$1191,$B12,'база 2013'!$I$4:$I$1191,AV$5,'база 2013'!$O$4:$O$1191,AV$7)","v":0},{"$f":"COUNTIFS('база 2013'!$E$4:$E$1191,$B12,'база 2013'!$I$4:$I$1191,AW$5,'база 2013'!$O$4:$O$1191,AW$7)","v":0},{"$f":"COUNTIFS('база 2013'!$E$4:$E$1191,$B12,'база 2013'!$I$4:$I$1191,AX$5,'база 2013'!$O$4:$O$1191,AX$7)","v":0},0,0,0,0,0,0,0,null,0]
[6,"город-курорт Геленджик",{"$f":"COUNTIFS('база 2013'!$E$4:$E$1191,$B13,'база 2013'!$I$4:$I$1191,C$5,'база 2013'!$O$4:$O$1191,C$7)","v":0},{"$f":"COUNTIFS('база 2013'!$E$4:$E$1191,$B13,'база 2013'!$I$4:$I$1191,D$5,'база 2013'!$O$4:$O$1191,D$7)","v":0},{"$f":"COUNTIFS('база 2013'!$E$4:$E$1191,$B13,'база 2013'!$I$4:$I$1191,E$5,'база 2013'!$O$4:$O$1191,E$7)","v":0},{"$f":"COUNTIFS('база 2013'!$E$4:$E$1191,$B13,'база 2013'!$I$4:$I$1191,F$5,'база 2013'!$O$4:$O$1191,F$7)","v":0},{"$f":"COUNTIFS('база 2013'!$E$4:$E$1191,$B13,'база 2013'!$I$4:$I$1191,G$5,'база 2013'!$O$4:$O$1191,G$7)","v":0},{"$f":"COUNTIFS('база 2013'!$E$4:$E$1191,$B13,'база 2013'!$I$4:$I$1191,H$5,'база 2013'!$O$4:$O$1191,H$7)","v":0},{"$f":"COUNTIFS('база 2013'!$E$4:$E$1191,$B13,'база 2013'!$I$4:$I$1191,I$5,'база 2013'!$O$4:$O$1191,I$7)","v":0},{"$f":"COUNTIFS('база 2013'!$E$4:$E$1191,$B13,'база 2013'!$I$4:$I$1191,J$5,'база 2013'!$O$4:$O$1191,J$7)","v":0},{"$f":"COUNTIFS('база 2013'!$E$4:$E$1191,$B13,'база 2013'!$I$4:$I$1191,K$5,'база 2013'!$O$4:$O$1191,K$7)","v":0},{"$f":"COUNTIFS('база 2013'!$E$4:$E$1191,$B13,'база 2013'!$I$4:$I$1191,L$5,'база 2013'!$O$4:$O$1191,L$7)","v":0},{"$f":"COUNTIFS('база 2013'!$E$4:$E$1191,$B13,'база 2013'!$I$4:$I$1191,M$5,'база 2013'!$O$4:$O$1191,M$7)","v":0},{"$f":"COUNTIFS('база 2013'!$E$4:$E$1191,$B13,'база 2013'!$I$4:$I$1191,N$5,'база 2013'!$O$4:$O$1191,N$7)","v":0},{"$f":"COUNTIFS('база 2013'!$E$4:$E$1191,$B13,'база 2013'!$I$4:$I$1191,O$5,'база 2013'!$O$4:$O$1191,O$7)","v":0},{"$f":"COUNTIFS('база 2013'!$E$4:$E$1191,$B13,'база 2013'!$I$4:$I$1191,P$5,'база 2013'!$O$4:$O$1191,P$7)","v":0},{"$f":"COUNTIFS('база 2013'!$E$4:$E$1191,$B13,'база 2013'!$I$4:$I$1191,Q$5,'база 2013'!$O$4:$O$1191,Q$7)","v":0},0,0,0,{"$f":"COUNTIFS('база 2013'!$E$4:$E$1191,$B13,'база 2013'!$I$4:$I$1191,U$5,'база 2013'!$O$4:$O$1191,U$7)","v":0},{"$f":"COUNTIFS('база 2013'!$E$4:$E$1191,$B13,'база 2013'!$I$4:$I$1191,V$5,'база 2013'!$O$4:$O$1191,V$7)","v":0},{"$f":"COUNTIFS('база 2013'!$E$4:$E$1191,$B13,'база 2013'!$I$4:$I$1191,W$5,'база 2013'!$O$4:$O$1191,W$7)","v":0},{"$f":"COUNTIFS('база 2013'!$E$4:$E$1191,$B13,'база 2013'!$I$4:$I$1191,X$5,'база 2013'!$O$4:$O$1191,X$7)","v":0},{"$f":"COUNTIFS('база 2013'!$E$4:$E$1191,$B13,'база 2013'!$I$4:$I$1191,Y$5,'база 2013'!$O$4:$O$1191,Y$7)","v":0},{"$f":"COUNTIFS('база 2013'!$E$4:$E$1191,$B13,'база 2013'!$I$4:$I$1191,Z$5,'база 2013'!$O$4:$O$1191,Z$7)","v":0},{"$f":"COUNTIFS('база 2013'!$E$4:$E$1191,$B13,'база 2013'!$I$4:$I$1191,AA$5,'база 2013'!$O$4:$O$1191,AA$7)","v":0},{"$f":"COUNTIFS('база 2013'!$E$4:$E$1191,$B13,'база 2013'!$I$4:$I$1191,AB$5,'база 2013'!$O$4:$O$1191,AB$7)","v":0},{"$f":"COUNTIFS('база 2013'!$E$4:$E$1191,$B13,'база 2013'!$I$4:$I$1191,AC$5,'база 2013'!$O$4:$O$1191,AC$7)","v":0},0,0,0,{"$f":"COUNTIFS('база 2013'!$E$4:$E$1191,$B13,'база 2013'!$I$4:$I$1191,AG$5,'база 2013'!$O$4:$O$1191,AG$7)","v":0},{"$f":"COUNTIFS('база 2013'!$E$4:$E$1191,$B13,'база 2013'!$I$4:$I$1191,AH$5,'база 2013'!$O$4:$O$1191,AH$7)","v":0},{"$f":"COUNTIFS('база 2013'!$E$4:$E$1191,$B13,'база 2013'!$I$4:$I$1191,AI$5,'база 2013'!$O$4:$O$1191,AI$7)","v":0},{"$f":"COUNTIFS('база 2013'!$E$4:$E$1191,$B13,'база 2013'!$I$4:$I$1191,AJ$5,'база 2013'!$O$4:$O$1191,AJ$7)","v":0},{"$f":"COUNTIFS('база 2013'!$E$4:$E$1191,$B13,'база 2013'!$I$4:$I$1191,AK$5,'база 2013'!$O$4:$O$1191,AK$7)","v":0},{"$f":"COUNTIFS('база 2013'!$E$4:$E$1191,$B13,'база 2013'!$I$4:$I$1191,AL$5,'база 2013'!$O$4:$O$1191,AL$7)","v":0},{"$f":"COUNTIFS('база 2013'!$E$4:$E$1191,$B13,'база 2013'!$I$4:$I$1191,AM$5,'база 2013'!$O$4:$O$1191,AM$7)","v":0},{"$f":"COUNTIFS('база 2013'!$E$4:$E$1191,$B13,'база 2013'!$I$4:$I$1191,AN$5,'база 2013'!$O$4:$O$1191,AN$7)","v":0},{"$f":"COUNTIFS('база 2013'!$E$4:$E$1191,$B13,'база 2013'!$I$4:$I$1191,AO$5,'база 2013'!$O$4:$O$1191,AO$7)","v":0},{"$f":"COUNTIFS('база 2013'!$E$4:$E$1191,$B13,'база 2013'!$I$4:$I$1191,AP$5,'база 2013'!$O$4:$O$1191,AP$7)","v":0},{"$f":"COUNTIFS('база 2013'!$E$4:$E$1191,$B13,'база 2013'!$I$4:$I$1191,AQ$5,'база 2013'!$O$4:$O$1191,AQ$7)","v":0},{"$f":"COUNTIFS('база 2013'!$E$4:$E$1191,$B13,'база 2013'!$I$4:$I$1191,AR$5,'база 2013'!$O$4:$O$1191,AR$7)","v":0},{"$f":"COUNTIFS('база 2013'!$E$4:$E$1191,$B13,'база 2013'!$I$4:$I$1191,AS$5,'база 2013'!$O$4:$O$1191,AS$7)","v":0},{"$f":"COUNTIFS('база 2013'!$E$4:$E$1191,$B13,'база 2013'!$I$4:$I$1191,AT$5,'база 2013'!$O$4:$O$1191,AT$7)","v":0},{"$f":"COUNTIFS('база 2013'!$E$4:$E$1191,$B13,'база 2013'!$I$4:$I$1191,AU$5,'база 2013'!$O$4:$O$1191,AU$7)","v":0},{"$f":"COUNTIFS('база 2013'!$E$4:$E$1191,$B13,'база 2013'!$I$4:$I$1191,AV$5,'база 2013'!$O$4:$O$1191,AV$7)","v":0},{"$f":"COUNTIFS('база 2013'!$E$4:$E$1191,$B13,'база 2013'!$I$4:$I$1191,AW$5,'база 2013'!$O$4:$O$1191,AW$7)","v":0},{"$f":"COUNTIFS('база 2013'!$E$4:$E$1191,$B13,'база 2013'!$I$4:$I$1191,AX$5,'база 2013'!$O$4:$O$1191,AX$7)","v":0},0,0,0,0,0,0,0,null,0]
[7,"город-курорт Сочи",{"$f":"COUNTIFS('база 2013'!$E$4:$E$1191,$B14,'база 2013'!$I$4:$I$1191,C$5,'база 2013'!$O$4:$O$1191,C$7)","v":0},{"$f":"COUNTIFS('база 2013'!$E$4:$E$1191,$B14,'база 2013'!$I$4:$I$1191,D$5,'база 2013'!$O$4:$O$1191,D$7)","v":0},{"$f":"COUNTIFS('база 2013'!$E$4:$E$1191,$B14,'база 2013'!$I$4:$I$1191,E$5,'база 2013'!$O$4:$O$1191,E$7)","v":0},{"$f":"COUNTIFS('база 2013'!$E$4:$E$1191,$B14,'база 2013'!$I$4:$I$1191,F$5,'база 2013'!$O$4:$O$1191,F$7)","v":0},{"$f":"COUNTIFS('база 2013'!$E$4:$E$1191,$B14,'база 2013'!$I$4:$I$1191,G$5,'база 2013'!$O$4:$O$1191,G$7)","v":0},{"$f":"COUNTIFS('база 2013'!$E$4:$E$1191,$B14,'база 2013'!$I$4:$I$1191,H$5,'база 2013'!$O$4:$O$1191,H$7)","v":0},{"$f":"COUNTIFS('база 2013'!$E$4:$E$1191,$B14,'база 2013'!$I$4:$I$1191,I$5,'база 2013'!$O$4:$O$1191,I$7)","v":0},{"$f":"COUNTIFS('база 2013'!$E$4:$E$1191,$B14,'база 2013'!$I$4:$I$1191,J$5,'база 2013'!$O$4:$O$1191,J$7)","v":0},{"$f":"COUNTIFS('база 2013'!$E$4:$E$1191,$B14,'база 2013'!$I$4:$I$1191,K$5,'база 2013'!$O$4:$O$1191,K$7)","v":0},{"$f":"COUNTIFS('база 2013'!$E$4:$E$1191,$B14,'база 2013'!$I$4:$I$1191,L$5,'база 2013'!$O$4:$O$1191,L$7)","v":0},{"$f":"COUNTIFS('база 2013'!$E$4:$E$1191,$B14,'база 2013'!$I$4:$I$1191,M$5,'база 2013'!$O$4:$O$1191,M$7)","v":0},{"$f":"COUNTIFS('база 2013'!$E$4:$E$1191,$B14,'база 2013'!$I$4:$I$1191,N$5,'база 2013'!$O$4:$O$1191,N$7)","v":0},{"$f":"COUNTIFS('база 2013'!$E$4:$E$1191,$B14,'база 2013'!$I$4:$I$1191,O$5,'база 2013'!$O$4:$O$1191,O$7)","v":0},{"$f":"COUNTIFS('база 2013'!$E$4:$E$1191,$B14,'база 2013'!$I$4:$I$1191,P$5,'база 2013'!$O$4:$O$1191,P$7)","v":0},{"$f":"COUNTIFS('база 2013'!$E$4:$E$1191,$B14,'база 2013'!$I$4:$I$1191,Q$5,'база 2013'!$O$4:$O$1191,Q$7)","v":0},0,0,0,{"$f":"COUNTIFS('база 2013'!$E$4:$E$1191,$B14,'база 2013'!$I$4:$I$1191,U$5,'база 2013'!$O$4:$O$1191,U$7)","v":0},{"$f":"COUNTIFS('база 2013'!$E$4:$E$1191,$B14,'база 2013'!$I$4:$I$1191,V$5,'база 2013'!$O$4:$O$1191,V$7)","v":0},{"$f":"COUNTIFS('база 2013'!$E$4:$E$1191,$B14,'база 2013'!$I$4:$I$1191,W$5,'база 2013'!$O$4:$O$1191,W$7)","v":0},{"$f":"COUNTIFS('база 2013'!$E$4:$E$1191,$B14,'база 2013'!$I$4:$I$1191,X$5,'база 2013'!$O$4:$O$1191,X$7)","v":0},{"$f":"COUNTIFS('база 2013'!$E$4:$E$1191,$B14,'база 2013'!$I$4:$I$1191,Y$5,'база 2013'!$O$4:$O$1191,Y$7)","v":0},{"$f":"COUNTIFS('база 2013'!$E$4:$E$1191,$B14,'база 2013'!$I$4:$I$1191,Z$5,'база 2013'!$O$4:$O$1191,Z$7)","v":0},{"$f":"COUNTIFS('база 2013'!$E$4:$E$1191,$B14,'база 2013'!$I$4:$I$1191,AA$5,'база 2013'!$O$4:$O$1191,AA$7)","v":0},{"$f":"COUNTIFS('база 2013'!$E$4:$E$1191,$B14,'база 2013'!$I$4:$I$1191,AB$5,'база 2013'!$O$4:$O$1191,AB$7)","v":0},{"$f":"COUNTIFS('база 2013'!$E$4:$E$1191,$B14,'база 2013'!$I$4:$I$1191,AC$5,'база 2013'!$O$4:$O$1191,AC$7)","v":0},0,0,0,{"$f":"COUNTIFS('база 2013'!$E$4:$E$1191,$B14,'база 2013'!$I$4:$I$1191,AG$5,'база 2013'!$O$4:$O$1191,AG$7)","v":0},{"$f":"COUNTIFS('база 2013'!$E$4:$E$1191,$B14,'база 2013'!$I$4:$I$1191,AH$5,'база 2013'!$O$4:$O$1191,AH$7)","v":0},{"$f":"COUNTIFS('база 2013'!$E$4:$E$1191,$B14,'база 2013'!$I$4:$I$1191,AI$5,'база 2013'!$O$4:$O$1191,AI$7)","v":0},{"$f":"COUNTIFS('база 2013'!$E$4:$E$1191,$B14,'база 2013'!$I$4:$I$1191,AJ$5,'база 2013'!$O$4:$O$1191,AJ$7)","v":0},{"$f":"COUNTIFS('база 2013'!$E$4:$E$1191,$B14,'база 2013'!$I$4:$I$1191,AK$5,'база 2013'!$O$4:$O$1191,AK$7)","v":0},{"$f":"COUNTIFS('база 2013'!$E$4:$E$1191,$B14,'база 2013'!$I$4:$I$1191,AL$5,'база 2013'!$O$4:$O$1191,AL$7)","v":0},{"$f":"COUNTIFS('база 2013'!$E$4:$E$1191,$B14,'база 2013'!$I$4:$I$1191,AM$5,'база 2013'!$O$4:$O$1191,AM$7)","v":0},{"$f":"COUNTIFS('база 2013'!$E$4:$E$1191,$B14,'база 2013'!$I$4:$I$1191,AN$5,'база 2013'!$O$4:$O$1191,AN$7)","v":0},{"$f":"COUNTIFS('база 2013'!$E$4:$E$1191,$B14,'база 2013'!$I$4:$I$1191,AO$5,'база 2013'!$O$4:$O$1191,AO$7)","v":0},{"$f":"COUNTIFS('база 2013'!$E$4:$E$1191,$B14,'база 2013'!$I$4:$I$1191,AP$5,'база 2013'!$O$4:$O$1191,AP$7)","v":0},{"$f":"COUNTIFS('база 2013'!$E$4:$E$1191,$B14,'база 2013'!$I$4:$I$1191,AQ$5,'база 2013'!$O$4:$O$1191,AQ$7)","v":0},{"$f":"COUNTIFS('база 2013'!$E$4:$E$1191,$B14,'база 2013'!$I$4:$I$1191,AR$5,'база 2013'!$O$4:$O$1191,AR$7)","v":0},{"$f":"COUNTIFS('база 2013'!$E$4:$E$1191,$B14,'база 2013'!$I$4:$I$1191,AS$5,'база 2013'!$O$4:$O$1191,AS$7)","v":0},{"$f":"COUNTIFS('база 2013'!$E$4:$E$1191,$B14,'база 2013'!$I$4:$I$1191,AT$5,'база 2013'!$O$4:$O$1191,AT$7)","v":0},{"$f":"COUNTIFS('база 2013'!$E$4:$E$1191,$B14,'база 2013'!$I$4:$I$1191,AU$5,'база 2013'!$O$4:$O$1191,AU$7)","v":0},{"$f":"COUNTIFS('база 2013'!$E$4:$E$1191,$B14,'база 2013'!$I$4:$I$1191,AV$5,'база 2013'!$O$4:$O$1191,AV$7)","v":0},{"$f":"COUNTIFS('база 2013'!$E$4:$E$1191,$B14,'база 2013'!$I$4:$I$1191,AW$5,'база 2013'!$O$4:$O$1191,AW$7)","v":0},{"$f":"COUNTIFS('база 2013'!$E$4:$E$1191,$B14,'база 2013'!$I$4:$I$1191,AX$5,'база 2013'!$O$4:$O$1191,AX$7)","v":0},0,0,0,0,0,0,0,null,0]
[8,"Абинский район",{"$f":"COUNTIFS('база 2013'!$E$4:$E$1191,$B15,'база 2013'!$I$4:$I$1191,C$5,'база 2013'!$O$4:$O$1191,C$7)","v":0},{"$f":"COUNTIFS('база 2013'!$E$4:$E$1191,$B15,'база 2013'!$I$4:$I$1191,D$5,'база 2013'!$O$4:$O$1191,D$7)","v":0},{"$f":"COUNTIFS('база 2013'!$E$4:$E$1191,$B15,'база 2013'!$I$4:$I$1191,E$5,'база 2013'!$O$4:$O$1191,E$7)","v":0},{"$f":"COUNTIFS('база 2013'!$E$4:$E$1191,$B15,'база 2013'!$I$4:$I$1191,F$5,'база 2013'!$O$4:$O$1191,F$7)","v":0},{"$f":"COUNTIFS('база 2013'!$E$4:$E$1191,$B15,'база 2013'!$I$4:$I$1191,G$5,'база 2013'!$O$4:$O$1191,G$7)","v":0},{"$f":"COUNTIFS('база 2013'!$E$4:$E$1191,$B15,'база 2013'!$I$4:$I$1191,H$5,'база 2013'!$O$4:$O$1191,H$7)","v":0},{"$f":"COUNTIFS('база 2013'!$E$4:$E$1191,$B15,'база 2013'!$I$4:$I$1191,I$5,'база 2013'!$O$4:$O$1191,I$7)","v":0},{"$f":"COUNTIFS('база 2013'!$E$4:$E$1191,$B15,'база 2013'!$I$4:$I$1191,J$5,'база 2013'!$O$4:$O$1191,J$7)","v":0},{"$f":"COUNTIFS('база 2013'!$E$4:$E$1191,$B15,'база 2013'!$I$4:$I$1191,K$5,'база 2013'!$O$4:$O$1191,K$7)","v":0},{"$f":"COUNTIFS('база 2013'!$E$4:$E$1191,$B15,'база 2013'!$I$4:$I$1191,L$5,'база 2013'!$O$4:$O$1191,L$7)","v":0},{"$f":"COUNTIFS('база 2013'!$E$4:$E$1191,$B15,'база 2013'!$I$4:$I$1191,M$5,'база 2013'!$O$4:$O$1191,M$7)","v":0},{"$f":"COUNTIFS('база 2013'!$E$4:$E$1191,$B15,'база 2013'!$I$4:$I$1191,N$5,'база 2013'!$O$4:$O$1191,N$7)","v":0},{"$f":"COUNTIFS('база 2013'!$E$4:$E$1191,$B15,'база 2013'!$I$4:$I$1191,O$5,'база 2013'!$O$4:$O$1191,O$7)","v":0},{"$f":"COUNTIFS('база 2013'!$E$4:$E$1191,$B15,'база 2013'!$I$4:$I$1191,P$5,'база 2013'!$O$4:$O$1191,P$7)","v":0},{"$f":"COUNTIFS('база 2013'!$E$4:$E$1191,$B15,'база 2013'!$I$4:$I$1191,Q$5,'база 2013'!$O$4:$O$1191,Q$7)","v":0},0,0,0,{"$f":"COUNTIFS('база 2013'!$E$4:$E$1191,$B15,'база 2013'!$I$4:$I$1191,U$5,'база 2013'!$O$4:$O$1191,U$7)","v":0},{"$f":"COUNTIFS('база 2013'!$E$4:$E$1191,$B15,'база 2013'!$I$4:$I$1191,V$5,'база 2013'!$O$4:$O$1191,V$7)","v":0},{"$f":"COUNTIFS('база 2013'!$E$4:$E$1191,$B15,'база 2013'!$I$4:$I$1191,W$5,'база 2013'!$O$4:$O$1191,W$7)","v":0},{"$f":"COUNTIFS('база 2013'!$E$4:$E$1191,$B15,'база 2013'!$I$4:$I$1191,X$5,'база 2013'!$O$4:$O$1191,X$7)","v":0},{"$f":"COUNTIFS('база 2013'!$E$4:$E$1191,$B15,'база 2013'!$I$4:$I$1191,Y$5,'база 2013'!$O$4:$O$1191,Y$7)","v":0},{"$f":"COUNTIFS('база 2013'!$E$4:$E$1191,$B15,'база 2013'!$I$4:$I$1191,Z$5,'база 2013'!$O$4:$O$1191,Z$7)","v":0},{"$f":"COUNTIFS('база 2013'!$E$4:$E$1191,$B15,'база 2013'!$I$4:$I$1191,AA$5,'база 2013'!$O$4:$O$1191,AA$7)","v":0},{"$f":"COUNTIFS('база 2013'!$E$4:$E$1191,$B15,'база 2013'!$I$4:$I$1191,AB$5,'база 2013'!$O$4:$O$1191,AB$7)","v":0},{"$f":"COUNTIFS('база 2013'!$E$4:$E$1191,$B15,'база 2013'!$I$4:$I$1191,AC$5,'база 2013'!$O$4:$O$1191,AC$7)","v":0},0,0,0,{"$f":"COUNTIFS('база 2013'!$E$4:$E$1191,$B15,'база 2013'!$I$4:$I$1191,AG$5,'база 2013'!$O$4:$O$1191,AG$7)","v":0},{"$f":"COUNTIFS('база 2013'!$E$4:$E$1191,$B15,'база 2013'!$I$4:$I$1191,AH$5,'база 2013'!$O$4:$O$1191,AH$7)","v":0},{"$f":"COUNTIFS('база 2013'!$E$4:$E$1191,$B15,'база 2013'!$I$4:$I$1191,AI$5,'база 2013'!$O$4:$O$1191,AI$7)","v":0},{"$f":"COUNTIFS('база 2013'!$E$4:$E$1191,$B15,'база 2013'!$I$4:$I$1191,AJ$5,'база 2013'!$O$4:$O$1191,AJ$7)","v":0},{"$f":"COUNTIFS('база 2013'!$E$4:$E$1191,$B15,'база 2013'!$I$4:$I$1191,AK$5,'база 2013'!$O$4:$O$1191,AK$7)","v":0},{"$f":"COUNTIFS('база 2013'!$E$4:$E$1191,$B15,'база 2013'!$I$4:$I$1191,AL$5,'база 2013'!$O$4:$O$1191,AL$7)","v":0},{"$f":"COUNTIFS('база 2013'!$E$4:$E$1191,$B15,'база 2013'!$I$4:$I$1191,AM$5,'база 2013'!$O$4:$O$1191,AM$7)","v":0},{"$f":"COUNTIFS('база 2013'!$E$4:$E$1191,$B15,'база 2013'!$I$4:$I$1191,AN$5,'база 2013'!$O$4:$O$1191,AN$7)","v":0},{"$f":"COUNTIFS('база 2013'!$E$4:$E$1191,$B15,'база 2013'!$I$4:$I$1191,AO$5,'база 2013'!$O$4:$O$1191,AO$7)","v":0},{"$f":"COUNTIFS('база 2013'!$E$4:$E$1191,$B15,'база 2013'!$I$4:$I$1191,AP$5,'база 2013'!$O$4:$O$1191,AP$7)","v":0},{"$f":"COUNTIFS('база 2013'!$E$4:$E$1191,$B15,'база 2013'!$I$4:$I$1191,AQ$5,'база 2013'!$O$4:$O$1191,AQ$7)","v":0},{"$f":"COUNTIFS('база 2013'!$E$4:$E$1191,$B15,'база 2013'!$I$4:$I$1191,AR$5,'база 2013'!$O$4:$O$1191,AR$7)","v":0},{"$f":"COUNTIFS('база 2013'!$E$4:$E$1191,$B15,'база 2013'!$I$4:$I$1191,AS$5,'база 2013'!$O$4:$O$1191,AS$7)","v":0},{"$f":"COUNTIFS('база 2013'!$E$4:$E$1191,$B15,'база 2013'!$I$4:$I$1191,AT$5,'база 2013'!$O$4:$O$1191,AT$7)","v":0},{"$f":"COUNTIFS('база 2013'!$E$4:$E$1191,$B15,'база 2013'!$I$4:$I$1191,AU$5,'база 2013'!$O$4:$O$1191,AU$7)","v":0},{"$f":"COUNTIFS('база 2013'!$E$4:$E$1191,$B15,'база 2013'!$I$4:$I$1191,AV$5,'база 2013'!$O$4:$O$1191,AV$7)","v":0},{"$f":"COUNTIFS('база 2013'!$E$4:$E$1191,$B15,'база 2013'!$I$4:$I$1191,AW$5,'база 2013'!$O$4:$O$1191,AW$7)","v":0},{"$f":"COUNTIFS('база 2013'!$E$4:$E$1191,$B15,'база 2013'!$I$4:$I$1191,AX$5,'база 2013'!$O$4:$O$1191,AX$7)","v":0},0,0,0,0,0,0,0,null,0]
[9,"Апшеронский район",{"$f":"COUNTIFS('база 2013'!$E$4:$E$1191,$B16,'база 2013'!$I$4:$I$1191,C$5,'база 2013'!$O$4:$O$1191,C$7)","v":0},{"$f":"COUNTIFS('база 2013'!$E$4:$E$1191,$B16,'база 2013'!$I$4:$I$1191,D$5,'база 2013'!$O$4:$O$1191,D$7)","v":0},{"$f":"COUNTIFS('база 2013'!$E$4:$E$1191,$B16,'база 2013'!$I$4:$I$1191,E$5,'база 2013'!$O$4:$O$1191,E$7)","v":0},{"$f":"COUNTIFS('база 2013'!$E$4:$E$1191,$B16,'база 2013'!$I$4:$I$1191,F$5,'база 2013'!$O$4:$O$1191,F$7)","v":0},{"$f":"COUNTIFS('база 2013'!$E$4:$E$1191,$B16,'база 2013'!$I$4:$I$1191,G$5,'база 2013'!$O$4:$O$1191,G$7)","v":0},{"$f":"COUNTIFS('база 2013'!$E$4:$E$1191,$B16,'база 2013'!$I$4:$I$1191,H$5,'база 2013'!$O$4:$O$1191,H$7)","v":0},{"$f":"COUNTIFS('база 2013'!$E$4:$E$1191,$B16,'база 2013'!$I$4:$I$1191,I$5,'база 2013'!$O$4:$O$1191,I$7)","v":0},{"$f":"COUNTIFS('база 2013'!$E$4:$E$1191,$B16,'база 2013'!$I$4:$I$1191,J$5,'база 2013'!$O$4:$O$1191,J$7)","v":0},{"$f":"COUNTIFS('база 2013'!$E$4:$E$1191,$B16,'база 2013'!$I$4:$I$1191,K$5,'база 2013'!$O$4:$O$1191,K$7)","v":0},{"$f":"COUNTIFS('база 2013'!$E$4:$E$1191,$B16,'база 2013'!$I$4:$I$1191,L$5,'база 2013'!$O$4:$O$1191,L$7)","v":0},{"$f":"COUNTIFS('база 2013'!$E$4:$E$1191,$B16,'база 2013'!$I$4:$I$1191,M$5,'база 2013'!$O$4:$O$1191,M$7)","v":0},{"$f":"COUNTIFS('база 2013'!$E$4:$E$1191,$B16,'база 2013'!$I$4:$I$1191,N$5,'база 2013'!$O$4:$O$1191,N$7)","v":0},{"$f":"COUNTIFS('база 2013'!$E$4:$E$1191,$B16,'база 2013'!$I$4:$I$1191,O$5,'база 2013'!$O$4:$O$1191,O$7)","v":0},{"$f":"COUNTIFS('база 2013'!$E$4:$E$1191,$B16,'база 2013'!$I$4:$I$1191,P$5,'база 2013'!$O$4:$O$1191,P$7)","v":0},{"$f":"COUNTIFS('база 2013'!$E$4:$E$1191,$B16,'база 2013'!$I$4:$I$1191,Q$5,'база 2013'!$O$4:$O$1191,Q$7)","v":0},0,0,0,{"$f":"COUNTIFS('база 2013'!$E$4:$E$1191,$B16,'база 2013'!$I$4:$I$1191,U$5,'база 2013'!$O$4:$O$1191,U$7)","v":0},{"$f":"COUNTIFS('база 2013'!$E$4:$E$1191,$B16,'база 2013'!$I$4:$I$1191,V$5,'база 2013'!$O$4:$O$1191,V$7)","v":0},{"$f":"COUNTIFS('база 2013'!$E$4:$E$1191,$B16,'база 2013'!$I$4:$I$1191,W$5,'база 2013'!$O$4:$O$1191,W$7)","v":0},{"$f":"COUNTIFS('база 2013'!$E$4:$E$1191,$B16,'база 2013'!$I$4:$I$1191,X$5,'база 2013'!$O$4:$O$1191,X$7)","v":0},{"$f":"COUNTIFS('база 2013'!$E$4:$E$1191,$B16,'база 2013'!$I$4:$I$1191,Y$5,'база 2013'!$O$4:$O$1191,Y$7)","v":0},{"$f":"COUNTIFS('база 2013'!$E$4:$E$1191,$B16,'база 2013'!$I$4:$I$1191,Z$5,'база 2013'!$O$4:$O$1191,Z$7)","v":0},{"$f":"COUNTIFS('база 2013'!$E$4:$E$1191,$B16,'база 2013'!$I$4:$I$1191,AA$5,'база 2013'!$O$4:$O$1191,AA$7)","v":0},{"$f":"COUNTIFS('база 2013'!$E$4:$E$1191,$B16,'база 2013'!$I$4:$I$1191,AB$5,'база 2013'!$O$4:$O$1191,AB$7)","v":0},{"$f":"COUNTIFS('база 2013'!$E$4:$E$1191,$B16,'база 2013'!$I$4:$I$1191,AC$5,'база 2013'!$O$4:$O$1191,AC$7)","v":0},0,0,0,{"$f":"COUNTIFS('база 2013'!$E$4:$E$1191,$B16,'база 2013'!$I$4:$I$1191,AG$5,'база 2013'!$O$4:$O$1191,AG$7)","v":0},{"$f":"COUNTIFS('база 2013'!$E$4:$E$1191,$B16,'база 2013'!$I$4:$I$1191,AH$5,'база 2013'!$O$4:$O$1191,AH$7)","v":0},{"$f":"COUNTIFS('база 2013'!$E$4:$E$1191,$B16,'база 2013'!$I$4:$I$1191,AI$5,'база 2013'!$O$4:$O$1191,AI$7)","v":0},{"$f":"COUNTIFS('база 2013'!$E$4:$E$1191,$B16,'база 2013'!$I$4:$I$1191,AJ$5,'база 2013'!$O$4:$O$1191,AJ$7)","v":0},{"$f":"COUNTIFS('база 2013'!$E$4:$E$1191,$B16,'база 2013'!$I$4:$I$1191,AK$5,'база 2013'!$O$4:$O$1191,AK$7)","v":0},{"$f":"COUNTIFS('база 2013'!$E$4:$E$1191,$B16,'база 2013'!$I$4:$I$1191,AL$5,'база 2013'!$O$4:$O$1191,AL$7)","v":0},{"$f":"COUNTIFS('база 2013'!$E$4:$E$1191,$B16,'база 2013'!$I$4:$I$1191,AM$5,'база 2013'!$O$4:$O$1191,AM$7)","v":0},{"$f":"COUNTIFS('база 2013'!$E$4:$E$1191,$B16,'база 2013'!$I$4:$I$1191,AN$5,'база 2013'!$O$4:$O$1191,AN$7)","v":0},{"$f":"COUNTIFS('база 2013'!$E$4:$E$1191,$B16,'база 2013'!$I$4:$I$1191,AO$5,'база 2013'!$O$4:$O$1191,AO$7)","v":0},{"$f":"COUNTIFS('база 2013'!$E$4:$E$1191,$B16,'база 2013'!$I$4:$I$1191,AP$5,'база 2013'!$O$4:$O$1191,AP$7)","v":0},{"$f":"COUNTIFS('база 2013'!$E$4:$E$1191,$B16,'база 2013'!$I$4:$I$1191,AQ$5,'база 2013'!$O$4:$O$1191,AQ$7)","v":0},{"$f":"COUNTIFS('база 2013'!$E$4:$E$1191,$B16,'база 2013'!$I$4:$I$1191,AR$5,'база 2013'!$O$4:$O$1191,AR$7)","v":0},{"$f":"COUNTIFS('база 2013'!$E$4:$E$1191,$B16,'база 2013'!$I$4:$I$1191,AS$5,'база 2013'!$O$4:$O$1191,AS$7)","v":0},{"$f":"COUNTIFS('база 2013'!$E$4:$E$1191,$B16,'база 2013'!$I$4:$I$1191,AT$5,'база 2013'!$O$4:$O$1191,AT$7)","v":0},{"$f":"COUNTIFS('база 2013'!$E$4:$E$1191,$B16,'база 2013'!$I$4:$I$1191,AU$5,'база 2013'!$O$4:$O$1191,AU$7)","v":0},{"$f":"COUNTIFS('база 2013'!$E$4:$E$1191,$B16,'база 2013'!$I$4:$I$1191,AV$5,'база 2013'!$O$4:$O$1191,AV$7)","v":0},{"$f":"COUNTIFS('база 2013'!$E$4:$E$1191,$B16,'база 2013'!$I$4:$I$1191,AW$5,'база 2013'!$O$4:$O$1191,AW$7)","v":0},{"$f":"COUNTIFS('база 2013'!$E$4:$E$1191,$B16,'база 2013'!$I$4:$I$1191,AX$5,'база 2013'!$O$4:$O$1191,AX$7)","v":0},0,0,0,0,0,0,0,null,0]
[10,"Белоглинский район",{"$f":"COUNTIFS('база 2013'!$E$4:$E$1191,$B17,'база 2013'!$I$4:$I$1191,C$5,'база 2013'!$O$4:$O$1191,C$7)","v":0},{"$f":"COUNTIFS('база 2013'!$E$4:$E$1191,$B17,'база 2013'!$I$4:$I$1191,D$5,'база 2013'!$O$4:$O$1191,D$7)","v":0},{"$f":"COUNTIFS('база 2013'!$E$4:$E$1191,$B17,'база 2013'!$I$4:$I$1191,E$5,'база 2013'!$O$4:$O$1191,E$7)","v":0},{"$f":"COUNTIFS('база 2013'!$E$4:$E$1191,$B17,'база 2013'!$I$4:$I$1191,F$5,'база 2013'!$O$4:$O$1191,F$7)","v":0},{"$f":"COUNTIFS('база 2013'!$E$4:$E$1191,$B17,'база 2013'!$I$4:$I$1191,G$5,'база 2013'!$O$4:$O$1191,G$7)","v":0},{"$f":"COUNTIFS('база 2013'!$E$4:$E$1191,$B17,'база 2013'!$I$4:$I$1191,H$5,'база 2013'!$O$4:$O$1191,H$7)","v":0},{"$f":"COUNTIFS('база 2013'!$E$4:$E$1191,$B17,'база 2013'!$I$4:$I$1191,I$5,'база 2013'!$O$4:$O$1191,I$7)","v":0},{"$f":"COUNTIFS('база 2013'!$E$4:$E$1191,$B17,'база 2013'!$I$4:$I$1191,J$5,'база 2013'!$O$4:$O$1191,J$7)","v":0},{"$f":"COUNTIFS('база 2013'!$E$4:$E$1191,$B17,'база 2013'!$I$4:$I$1191,K$5,'база 2013'!$O$4:$O$1191,K$7)","v":0},{"$f":"COUNTIFS('база 2013'!$E$4:$E$1191,$B17,'база 2013'!$I$4:$I$1191,L$5,'база 2013'!$O$4:$O$1191,L$7)","v":0},{"$f":"COUNTIFS('база 2013'!$E$4:$E$1191,$B17,'база 2013'!$I$4:$I$1191,M$5,'база 2013'!$O$4:$O$1191,M$7)","v":0},{"$f":"COUNTIFS('база 2013'!$E$4:$E$1191,$B17,'база 2013'!$I$4:$I$1191,N$5,'база 2013'!$O$4:$O$1191,N$7)","v":0},{"$f":"COUNTIFS('база 2013'!$E$4:$E$1191,$B17,'база 2013'!$I$4:$I$1191,O$5,'база 2013'!$O$4:$O$1191,O$7)","v":0},{"$f":"COUNTIFS('база 2013'!$E$4:$E$1191,$B17,'база 2013'!$I$4:$I$1191,P$5,'база 2013'!$O$4:$O$1191,P$7)","v":0},{"$f":"COUNTIFS('база 2013'!$E$4:$E$1191,$B17,'база 2013'!$I$4:$I$1191,Q$5,'база 2013'!$O$4:$O$1191,Q$7)","v":0},0,0,0,{"$f":"COUNTIFS('база 2013'!$E$4:$E$1191,$B17,'база 2013'!$I$4:$I$1191,U$5,'база 2013'!$O$4:$O$1191,U$7)","v":0},{"$f":"COUNTIFS('база 2013'!$E$4:$E$1191,$B17,'база 2013'!$I$4:$I$1191,V$5,'база 2013'!$O$4:$O$1191,V$7)","v":0},{"$f":"COUNTIFS('база 2013'!$E$4:$E$1191,$B17,'база 2013'!$I$4:$I$1191,W$5,'база 2013'!$O$4:$O$1191,W$7)","v":0},{"$f":"COUNTIFS('база 2013'!$E$4:$E$1191,$B17,'база 2013'!$I$4:$I$1191,X$5,'база 2013'!$O$4:$O$1191,X$7)","v":0},{"$f":"COUNTIFS('база 2013'!$E$4:$E$1191,$B17,'база 2013'!$I$4:$I$1191,Y$5,'база 2013'!$O$4:$O$1191,Y$7)","v":0},{"$f":"COUNTIFS('база 2013'!$E$4:$E$1191,$B17,'база 2013'!$I$4:$I$1191,Z$5,'база 2013'!$O$4:$O$1191,Z$7)","v":0},{"$f":"COUNTIFS('база 2013'!$E$4:$E$1191,$B17,'база 2013'!$I$4:$I$1191,AA$5,'база 2013'!$O$4:$O$1191,AA$7)","v":0},{"$f":"COUNTIFS('база 2013'!$E$4:$E$1191,$B17,'база 2013'!$I$4:$I$1191,AB$5,'база 2013'!$O$4:$O$1191,AB$7)","v":0},{"$f":"COUNTIFS('база 2013'!$E$4:$E$1191,$B17,'база 2013'!$I$4:$I$1191,AC$5,'база 2013'!$O$4:$O$1191,AC$7)","v":0},0,0,0,{"$f":"COUNTIFS('база 2013'!$E$4:$E$1191,$B17,'база 2013'!$I$4:$I$1191,AG$5,'база 2013'!$O$4:$O$1191,AG$7)","v":0},{"$f":"COUNTIFS('база 2013'!$E$4:$E$1191,$B17,'база 2013'!$I$4:$I$1191,AH$5,'база 2013'!$O$4:$O$1191,AH$7)","v":0},{"$f":"COUNTIFS('база 2013'!$E$4:$E$1191,$B17,'база 2013'!$I$4:$I$1191,AI$5,'база 2013'!$O$4:$O$1191,AI$7)","v":0},{"$f":"COUNTIFS('база 2013'!$E$4:$E$1191,$B17,'база 2013'!$I$4:$I$1191,AJ$5,'база 2013'!$O$4:$O$1191,AJ$7)","v":0},{"$f":"COUNTIFS('база 2013'!$E$4:$E$1191,$B17,'база 2013'!$I$4:$I$1191,AK$5,'база 2013'!$O$4:$O$1191,AK$7)","v":0},{"$f":"COUNTIFS('база 2013'!$E$4:$E$1191,$B17,'база 2013'!$I$4:$I$1191,AL$5,'база 2013'!$O$4:$O$1191,AL$7)","v":0},{"$f":"COUNTIFS('база 2013'!$E$4:$E$1191,$B17,'база 2013'!$I$4:$I$1191,AM$5,'база 2013'!$O$4:$O$1191,AM$7)","v":0},{"$f":"COUNTIFS('база 2013'!$E$4:$E$1191,$B17,'база 2013'!$I$4:$I$1191,AN$5,'база 2013'!$O$4:$O$1191,AN$7)","v":0},{"$f":"COUNTIFS('база 2013'!$E$4:$E$1191,$B17,'база 2013'!$I$4:$I$1191,AO$5,'база 2013'!$O$4:$O$1191,AO$7)","v":0},{"$f":"COUNTIFS('база 2013'!$E$4:$E$1191,$B17,'база 2013'!$I$4:$I$1191,AP$5,'база 2013'!$O$4:$O$1191,AP$7)","v":0},{"$f":"COUNTIFS('база 2013'!$E$4:$E$1191,$B17,'база 2013'!$I$4:$I$1191,AQ$5,'база 2013'!$O$4:$O$1191,AQ$7)","v":0},{"$f":"COUNTIFS('база 2013'!$E$4:$E$1191,$B17,'база 2013'!$I$4:$I$1191,AR$5,'база 2013'!$O$4:$O$1191,AR$7)","v":0},{"$f":"COUNTIFS('база 2013'!$E$4:$E$1191,$B17,'база 2013'!$I$4:$I$1191,AS$5,'база 2013'!$O$4:$O$1191,AS$7)","v":0},{"$f":"COUNTIFS('база 2013'!$E$4:$E$1191,$B17,'база 2013'!$I$4:$I$1191,AT$5,'база 2013'!$O$4:$O$1191,AT$7)","v":0},{"$f":"COUNTIFS('база 2013'!$E$4:$E$1191,$B17,'база 2013'!$I$4:$I$1191,AU$5,'база 2013'!$O$4:$O$1191,AU$7)","v":0},{"$f":"COUNTIFS('база 2013'!$E$4:$E$1191,$B17,'база 2013'!$I$4:$I$1191,AV$5,'база 2013'!$O$4:$O$1191,AV$7)","v":0},{"$f":"COUNTIFS('база 2013'!$E$4:$E$1191,$B17,'база 2013'!$I$4:$I$1191,AW$5,'база 2013'!$O$4:$O$1191,AW$7)","v":0},{"$f":"COUNTIFS('база 2013'!$E$4:$E$1191,$B17,'база 2013'!$I$4:$I$1191,AX$5,'база 2013'!$O$4:$O$1191,AX$7)","v":0},0,0,0,0,0,0,0,null,0]
[11,"Белореченский район",{"$f":"COUNTIFS('база 2013'!$E$4:$E$1191,$B18,'база 2013'!$I$4:$I$1191,C$5,'база 2013'!$O$4:$O$1191,C$7)","v":0},{"$f":"COUNTIFS('база 2013'!$E$4:$E$1191,$B18,'база 2013'!$I$4:$I$1191,D$5,'база 2013'!$O$4:$O$1191,D$7)","v":0},{"$f":"COUNTIFS('база 2013'!$E$4:$E$1191,$B18,'база 2013'!$I$4:$I$1191,E$5,'база 2013'!$O$4:$O$1191,E$7)","v":0},{"$f":"COUNTIFS('база 2013'!$E$4:$E$1191,$B18,'база 2013'!$I$4:$I$1191,F$5,'база 2013'!$O$4:$O$1191,F$7)","v":0},{"$f":"COUNTIFS('база 2013'!$E$4:$E$1191,$B18,'база 2013'!$I$4:$I$1191,G$5,'база 2013'!$O$4:$O$1191,G$7)","v":0},{"$f":"COUNTIFS('база 2013'!$E$4:$E$1191,$B18,'база 2013'!$I$4:$I$1191,H$5,'база 2013'!$O$4:$O$1191,H$7)","v":0},{"$f":"COUNTIFS('база 2013'!$E$4:$E$1191,$B18,'база 2013'!$I$4:$I$1191,I$5,'база 2013'!$O$4:$O$1191,I$7)","v":0},{"$f":"COUNTIFS('база 2013'!$E$4:$E$1191,$B18,'база 2013'!$I$4:$I$1191,J$5,'база 2013'!$O$4:$O$1191,J$7)","v":0},{"$f":"COUNTIFS('база 2013'!$E$4:$E$1191,$B18,'база 2013'!$I$4:$I$1191,K$5,'база 2013'!$O$4:$O$1191,K$7)","v":0},{"$f":"COUNTIFS('база 2013'!$E$4:$E$1191,$B18,'база 2013'!$I$4:$I$1191,L$5,'база 2013'!$O$4:$O$1191,L$7)","v":0},{"$f":"COUNTIFS('база 2013'!$E$4:$E$1191,$B18,'база 2013'!$I$4:$I$1191,M$5,'база 2013'!$O$4:$O$1191,M$7)","v":0},{"$f":"COUNTIFS('база 2013'!$E$4:$E$1191,$B18,'база 2013'!$I$4:$I$1191,N$5,'база 2013'!$O$4:$O$1191,N$7)","v":0},{"$f":"COUNTIFS('база 2013'!$E$4:$E$1191,$B18,'база 2013'!$I$4:$I$1191,O$5,'база 2013'!$O$4:$O$1191,O$7)","v":0},{"$f":"COUNTIFS('база 2013'!$E$4:$E$1191,$B18,'база 2013'!$I$4:$I$1191,P$5,'база 2013'!$O$4:$O$1191,P$7)","v":0},{"$f":"COUNTIFS('база 2013'!$E$4:$E$1191,$B18,'база 2013'!$I$4:$I$1191,Q$5,'база 2013'!$O$4:$O$1191,Q$7)","v":0},0,0,0,{"$f":"COUNTIFS('база 2013'!$E$4:$E$1191,$B18,'база 2013'!$I$4:$I$1191,U$5,'база 2013'!$O$4:$O$1191,U$7)","v":0},{"$f":"COUNTIFS('база 2013'!$E$4:$E$1191,$B18,'база 2013'!$I$4:$I$1191,V$5,'база 2013'!$O$4:$O$1191,V$7)","v":0},{"$f":"COUNTIFS('база 2013'!$E$4:$E$1191,$B18,'база 2013'!$I$4:$I$1191,W$5,'база 2013'!$O$4:$O$1191,W$7)","v":0},{"$f":"COUNTIFS('база 2013'!$E$4:$E$1191,$B18,'база 2013'!$I$4:$I$1191,X$5,'база 2013'!$O$4:$O$1191,X$7)","v":0},{"$f":"COUNTIFS('база 2013'!$E$4:$E$1191,$B18,'база 2013'!$I$4:$I$1191,Y$5,'база 2013'!$O$4:$O$1191,Y$7)","v":0},{"$f":"COUNTIFS('база 2013'!$E$4:$E$1191,$B18,'база 2013'!$I$4:$I$1191,Z$5,'база 2013'!$O$4:$O$1191,Z$7)","v":0},{"$f":"COUNTIFS('база 2013'!$E$4:$E$1191,$B18,'база 2013'!$I$4:$I$1191,AA$5,'база 2013'!$O$4:$O$1191,AA$7)","v":0},{"$f":"COUNTIFS('база 2013'!$E$4:$E$1191,$B18,'база 2013'!$I$4:$I$1191,AB$5,'база 2013'!$O$4:$O$1191,AB$7)","v":0},{"$f":"COUNTIFS('база 2013'!$E$4:$E$1191,$B18,'база 2013'!$I$4:$I$1191,AC$5,'база 2013'!$O$4:$O$1191,AC$7)","v":0},0,0,0,{"$f":"COUNTIFS('база 2013'!$E$4:$E$1191,$B18,'база 2013'!$I$4:$I$1191,AG$5,'база 2013'!$O$4:$O$1191,AG$7)","v":0},{"$f":"COUNTIFS('база 2013'!$E$4:$E$1191,$B18,'база 2013'!$I$4:$I$1191,AH$5,'база 2013'!$O$4:$O$1191,AH$7)","v":1},{"$f":"COUNTIFS('база 2013'!$E$4:$E$1191,$B18,'база 2013'!$I$4:$I$1191,AI$5,'база 2013'!$O$4:$O$1191,AI$7)","v":2},{"$f":"COUNTIFS('база 2013'!$E$4:$E$1191,$B18,'база 2013'!$I$4:$I$1191,AJ$5,'база 2013'!$O$4:$O$1191,AJ$7)","v":0},{"$f":"COUNTIFS('база 2013'!$E$4:$E$1191,$B18,'база 2013'!$I$4:$I$1191,AK$5,'база 2013'!$O$4:$O$1191,AK$7)","v":0},{"$f":"COUNTIFS('база 2013'!$E$4:$E$1191,$B18,'база 2013'!$I$4:$I$1191,AL$5,'база 2013'!$O$4:$O$1191,AL$7)","v":0},{"$f":"COUNTIFS('база 2013'!$E$4:$E$1191,$B18,'база 2013'!$I$4:$I$1191,AM$5,'база 2013'!$O$4:$O$1191,AM$7)","v":0},{"$f":"COUNTIFS('база 2013'!$E$4:$E$1191,$B18,'база 2013'!$I$4:$I$1191,AN$5,'база 2013'!$O$4:$O$1191,AN$7)","v":0},{"$f":"COUNTIFS('база 2013'!$E$4:$E$1191,$B18,'база 2013'!$I$4:$I$1191,AO$5,'база 2013'!$O$4:$O$1191,AO$7)","v":1},{"$f":"COUNTIFS('база 2013'!$E$4:$E$1191,$B18,'база 2013'!$I$4:$I$1191,AP$5,'база 2013'!$O$4:$O$1191,AP$7)","v":0},{"$f":"COUNTIFS('база 2013'!$E$4:$E$1191,$B18,'база 2013'!$I$4:$I$1191,AQ$5,'база 2013'!$O$4:$O$1191,AQ$7)","v":0},{"$f":"COUNTIFS('база 2013'!$E$4:$E$1191,$B18,'база 2013'!$I$4:$I$1191,AR$5,'база 2013'!$O$4:$O$1191,AR$7)","v":0},{"$f":"COUNTIFS('база 2013'!$E$4:$E$1191,$B18,'база 2013'!$I$4:$I$1191,AS$5,'база 2013'!$O$4:$O$1191,AS$7)","v":0},{"$f":"COUNTIFS('база 2013'!$E$4:$E$1191,$B18,'база 2013'!$I$4:$I$1191,AT$5,'база 2013'!$O$4:$O$1191,AT$7)","v":0},{"$f":"COUNTIFS('база 2013'!$E$4:$E$1191,$B18,'база 2013'!$I$4:$I$1191,AU$5,'база 2013'!$O$4:$O$1191,AU$7)","v":0},{"$f":"COUNTIFS('база 2013'!$E$4:$E$1191,$B18,'база 2013'!$I$4:$I$1191,AV$5,'база 2013'!$O$4:$O$1191,AV$7)","v":0},{"$f":"COUNTIFS('база 2013'!$E$4:$E$1191,$B18,'база 2013'!$I$4:$I$1191,AW$5,'база 2013'!$O$4:$O$1191,AW$7)","v":0},{"$f":"COUNTIFS('база 2013'!$E$4:$E$1191,$B18,'база 2013'!$I$4:$I$1191,AX$5,'база 2013'!$O$4:$O$1191,AX$7)","v":0},0,0,1,0,1,3,4,null,0]
[12,"Брюховецкий район",{"$f":"COUNTIFS('база 2013'!$E$4:$E$1191,$B19,'база 2013'!$I$4:$I$1191,C$5,'база 2013'!$O$4:$O$1191,C$7)","v":0},{"$f":"COUNTIFS('база 2013'!$E$4:$E$1191,$B19,'база 2013'!$I$4:$I$1191,D$5,'база 2013'!$O$4:$O$1191,D$7)","v":0},{"$f":"COUNTIFS('база 2013'!$E$4:$E$1191,$B19,'база 2013'!$I$4:$I$1191,E$5,'база 2013'!$O$4:$O$1191,E$7)","v":0},{"$f":"COUNTIFS('база 2013'!$E$4:$E$1191,$B19,'база 2013'!$I$4:$I$1191,F$5,'база 2013'!$O$4:$O$1191,F$7)","v":0},{"$f":"COUNTIFS('база 2013'!$E$4:$E$1191,$B19,'база 2013'!$I$4:$I$1191,G$5,'база 2013'!$O$4:$O$1191,G$7)","v":0},{"$f":"COUNTIFS('база 2013'!$E$4:$E$1191,$B19,'база 2013'!$I$4:$I$1191,H$5,'база 2013'!$O$4:$O$1191,H$7)","v":0},{"$f":"COUNTIFS('база 2013'!$E$4:$E$1191,$B19,'база 2013'!$I$4:$I$1191,I$5,'база 2013'!$O$4:$O$1191,I$7)","v":0},{"$f":"COUNTIFS('база 2013'!$E$4:$E$1191,$B19,'база 2013'!$I$4:$I$1191,J$5,'база 2013'!$O$4:$O$1191,J$7)","v":0},{"$f":"COUNTIFS('база 2013'!$E$4:$E$1191,$B19,'база 2013'!$I$4:$I$1191,K$5,'база 2013'!$O$4:$O$1191,K$7)","v":0},{"$f":"COUNTIFS('база 2013'!$E$4:$E$1191,$B19,'база 2013'!$I$4:$I$1191,L$5,'база 2013'!$O$4:$O$1191,L$7)","v":0},{"$f":"COUNTIFS('база 2013'!$E$4:$E$1191,$B19,'база 2013'!$I$4:$I$1191,M$5,'база 2013'!$O$4:$O$1191,M$7)","v":0},{"$f":"COUNTIFS('база 2013'!$E$4:$E$1191,$B19,'база 2013'!$I$4:$I$1191,N$5,'база 2013'!$O$4:$O$1191,N$7)","v":0},{"$f":"COUNTIFS('база 2013'!$E$4:$E$1191,$B19,'база 2013'!$I$4:$I$1191,O$5,'база 2013'!$O$4:$O$1191,O$7)","v":0},{"$f":"COUNTIFS('база 2013'!$E$4:$E$1191,$B19,'база 2013'!$I$4:$I$1191,P$5,'база 2013'!$O$4:$O$1191,P$7)","v":0},{"$f":"COUNTIFS('база 2013'!$E$4:$E$1191,$B19,'база 2013'!$I$4:$I$1191,Q$5,'база 2013'!$O$4:$O$1191,Q$7)","v":0},0,0,0,{"$f":"COUNTIFS('база 2013'!$E$4:$E$1191,$B19,'база 2013'!$I$4:$I$1191,U$5,'база 2013'!$O$4:$O$1191,U$7)","v":0},{"$f":"COUNTIFS('база 2013'!$E$4:$E$1191,$B19,'база 2013'!$I$4:$I$1191,V$5,'база 2013'!$O$4:$O$1191,V$7)","v":0},{"$f":"COUNTIFS('база 2013'!$E$4:$E$1191,$B19,'база 2013'!$I$4:$I$1191,W$5,'база 2013'!$O$4:$O$1191,W$7)","v":0},{"$f":"COUNTIFS('база 2013'!$E$4:$E$1191,$B19,'база 2013'!$I$4:$I$1191,X$5,'база 2013'!$O$4:$O$1191,X$7)","v":0},{"$f":"COUNTIFS('база 2013'!$E$4:$E$1191,$B19,'база 2013'!$I$4:$I$1191,Y$5,'база 2013'!$O$4:$O$1191,Y$7)","v":0},{"$f":"COUNTIFS('база 2013'!$E$4:$E$1191,$B19,'база 2013'!$I$4:$I$1191,Z$5,'база 2013'!$O$4:$O$1191,Z$7)","v":0},{"$f":"COUNTIFS('база 2013'!$E$4:$E$1191,$B19,'база 2013'!$I$4:$I$1191,AA$5,'база 2013'!$O$4:$O$1191,AA$7)","v":0},{"$f":"COUNTIFS('база 2013'!$E$4:$E$1191,$B19,'база 2013'!$I$4:$I$1191,AB$5,'база 2013'!$O$4:$O$1191,AB$7)","v":0},{"$f":"COUNTIFS('база 2013'!$E$4:$E$1191,$B19,'база 2013'!$I$4:$I$1191,AC$5,'база 2013'!$O$4:$O$1191,AC$7)","v":0},0,0,0,{"$f":"COUNTIFS('база 2013'!$E$4:$E$1191,$B19,'база 2013'!$I$4:$I$1191,AG$5,'база 2013'!$O$4:$O$1191,AG$7)","v":0},{"$f":"COUNTIFS('база 2013'!$E$4:$E$1191,$B19,'база 2013'!$I$4:$I$1191,AH$5,'база 2013'!$O$4:$O$1191,AH$7)","v":0},{"$f":"COUNTIFS('база 2013'!$E$4:$E$1191,$B19,'база 2013'!$I$4:$I$1191,AI$5,'база 2013'!$O$4:$O$1191,AI$7)","v":0},{"$f":"COUNTIFS('база 2013'!$E$4:$E$1191,$B19,'база 2013'!$I$4:$I$1191,AJ$5,'база 2013'!$O$4:$O$1191,AJ$7)","v":0},{"$f":"COUNTIFS('база 2013'!$E$4:$E$1191,$B19,'база 2013'!$I$4:$I$1191,AK$5,'база 2013'!$O$4:$O$1191,AK$7)","v":0},{"$f":"COUNTIFS('база 2013'!$E$4:$E$1191,$B19,'база 2013'!$I$4:$I$1191,AL$5,'база 2013'!$O$4:$O$1191,AL$7)","v":0},{"$f":"COUNTIFS('база 2013'!$E$4:$E$1191,$B19,'база 2013'!$I$4:$I$1191,AM$5,'база 2013'!$O$4:$O$1191,AM$7)","v":0},{"$f":"COUNTIFS('база 2013'!$E$4:$E$1191,$B19,'база 2013'!$I$4:$I$1191,AN$5,'база 2013'!$O$4:$O$1191,AN$7)","v":0},{"$f":"COUNTIFS('база 2013'!$E$4:$E$1191,$B19,'база 2013'!$I$4:$I$1191,AO$5,'база 2013'!$O$4:$O$1191,AO$7)","v":0},{"$f":"COUNTIFS('база 2013'!$E$4:$E$1191,$B19,'база 2013'!$I$4:$I$1191,AP$5,'база 2013'!$O$4:$O$1191,AP$7)","v":0},{"$f":"COUNTIFS('база 2013'!$E$4:$E$1191,$B19,'база 2013'!$I$4:$I$1191,AQ$5,'база 2013'!$O$4:$O$1191,AQ$7)","v":0},{"$f":"COUNTIFS('база 2013'!$E$4:$E$1191,$B19,'база 2013'!$I$4:$I$1191,AR$5,'база 2013'!$O$4:$O$1191,AR$7)","v":0},{"$f":"COUNTIFS('база 2013'!$E$4:$E$1191,$B19,'база 2013'!$I$4:$I$1191,AS$5,'база 2013'!$O$4:$O$1191,AS$7)","v":0},{"$f":"COUNTIFS('база 2013'!$E$4:$E$1191,$B19,'база 2013'!$I$4:$I$1191,AT$5,'база 2013'!$O$4:$O$1191,AT$7)","v":0},{"$f":"COUNTIFS('база 2013'!$E$4:$E$1191,$B19,'база 2013'!$I$4:$I$1191,AU$5,'база 2013'!$O$4:$O$1191,AU$7)","v":0},{"$f":"COUNTIFS('база 2013'!$E$4:$E$1191,$B19,'база 2013'!$I$4:$I$1191,AV$5,'база 2013'!$O$4:$O$1191,AV$7)","v":0},{"$f":"COUNTIFS('база 2013'!$E$4:$E$1191,$B19,'база 2013'!$I$4:$I$1191,AW$5,'база 2013'!$O$4:$O$1191,AW$7)","v":0},{"$f":"COUNTIFS('база 2013'!$E$4:$E$1191,$B19,'база 2013'!$I$4:$I$1191,AX$5,'база 2013'!$O$4:$O$1191,AX$7)","v":0},0,0,0,0,0,0,0,null,0]
[13,"Выселковский район",{"$f":"COUNTIFS('база 2013'!$E$4:$E$1191,$B20,'база 2013'!$I$4:$I$1191,C$5,'база 2013'!$O$4:$O$1191,C$7)","v":0},{"$f":"COUNTIFS('база 2013'!$E$4:$E$1191,$B20,'база 2013'!$I$4:$I$1191,D$5,'база 2013'!$O$4:$O$1191,D$7)","v":0},{"$f":"COUNTIFS('база 2013'!$E$4:$E$1191,$B20,'база 2013'!$I$4:$I$1191,E$5,'база 2013'!$O$4:$O$1191,E$7)","v":0},{"$f":"COUNTIFS('база 2013'!$E$4:$E$1191,$B20,'база 2013'!$I$4:$I$1191,F$5,'база 2013'!$O$4:$O$1191,F$7)","v":0},{"$f":"COUNTIFS('база 2013'!$E$4:$E$1191,$B20,'база 2013'!$I$4:$I$1191,G$5,'база 2013'!$O$4:$O$1191,G$7)","v":0},{"$f":"COUNTIFS('база 2013'!$E$4:$E$1191,$B20,'база 2013'!$I$4:$I$1191,H$5,'база 2013'!$O$4:$O$1191,H$7)","v":0},{"$f":"COUNTIFS('база 2013'!$E$4:$E$1191,$B20,'база 2013'!$I$4:$I$1191,I$5,'база 2013'!$O$4:$O$1191,I$7)","v":0},{"$f":"COUNTIFS('база 2013'!$E$4:$E$1191,$B20,'база 2013'!$I$4:$I$1191,J$5,'база 2013'!$O$4:$O$1191,J$7)","v":0},{"$f":"COUNTIFS('база 2013'!$E$4:$E$1191,$B20,'база 2013'!$I$4:$I$1191,K$5,'база 2013'!$O$4:$O$1191,K$7)","v":0},{"$f":"COUNTIFS('база 2013'!$E$4:$E$1191,$B20,'база 2013'!$I$4:$I$1191,L$5,'база 2013'!$O$4:$O$1191,L$7)","v":0},{"$f":"COUNTIFS('база 2013'!$E$4:$E$1191,$B20,'база 2013'!$I$4:$I$1191,M$5,'база 2013'!$O$4:$O$1191,M$7)","v":0},{"$f":"COUNTIFS('база 2013'!$E$4:$E$1191,$B20,'база 2013'!$I$4:$I$1191,N$5,'база 2013'!$O$4:$O$1191,N$7)","v":0},{"$f":"COUNTIFS('база 2013'!$E$4:$E$1191,$B20,'база 2013'!$I$4:$I$1191,O$5,'база 2013'!$O$4:$O$1191,O$7)","v":0},{"$f":"COUNTIFS('база 2013'!$E$4:$E$1191,$B20,'база 2013'!$I$4:$I$1191,P$5,'база 2013'!$O$4:$O$1191,P$7)","v":0},{"$f":"COUNTIFS('база 2013'!$E$4:$E$1191,$B20,'база 2013'!$I$4:$I$1191,Q$5,'база 2013'!$O$4:$O$1191,Q$7)","v":0},0,0,0,{"$f":"COUNTIFS('база 2013'!$E$4:$E$1191,$B20,'база 2013'!$I$4:$I$1191,U$5,'база 2013'!$O$4:$O$1191,U$7)","v":0},{"$f":"COUNTIFS('база 2013'!$E$4:$E$1191,$B20,'база 2013'!$I$4:$I$1191,V$5,'база 2013'!$O$4:$O$1191,V$7)","v":0},{"$f":"COUNTIFS('база 2013'!$E$4:$E$1191,$B20,'база 2013'!$I$4:$I$1191,W$5,'база 2013'!$O$4:$O$1191,W$7)","v":0},{"$f":"COUNTIFS('база 2013'!$E$4:$E$1191,$B20,'база 2013'!$I$4:$I$1191,X$5,'база 2013'!$O$4:$O$1191,X$7)","v":0},{"$f":"COUNTIFS('база 2013'!$E$4:$E$1191,$B20,'база 2013'!$I$4:$I$1191,Y$5,'база 2013'!$O$4:$O$1191,Y$7)","v":0},{"$f":"COUNTIFS('база 2013'!$E$4:$E$1191,$B20,'база 2013'!$I$4:$I$1191,Z$5,'база 2013'!$O$4:$O$1191,Z$7)","v":0},{"$f":"COUNTIFS('база 2013'!$E$4:$E$1191,$B20,'база 2013'!$I$4:$I$1191,AA$5,'база 2013'!$O$4:$O$1191,AA$7)","v":0},{"$f":"COUNTIFS('база 2013'!$E$4:$E$1191,$B20,'база 2013'!$I$4:$I$1191,AB$5,'база 2013'!$O$4:$O$1191,AB$7)","v":0},{"$f":"COUNTIFS('база 2013'!$E$4:$E$1191,$B20,'база 2013'!$I$4:$I$1191,AC$5,'база 2013'!$O$4:$O$1191,AC$7)","v":0},0,0,0,{"$f":"COUNTIFS('база 2013'!$E$4:$E$1191,$B20,'база 2013'!$I$4:$I$1191,AG$5,'база 2013'!$O$4:$O$1191,AG$7)","v":0},{"$f":"COUNTIFS('база 2013'!$E$4:$E$1191,$B20,'база 2013'!$I$4:$I$1191,AH$5,'база 2013'!$O$4:$O$1191,AH$7)","v":0},{"$f":"COUNTIFS('база 2013'!$E$4:$E$1191,$B20,'база 2013'!$I$4:$I$1191,AI$5,'база 2013'!$O$4:$O$1191,AI$7)","v":0},{"$f":"COUNTIFS('база 2013'!$E$4:$E$1191,$B20,'база 2013'!$I$4:$I$1191,AJ$5,'база 2013'!$O$4:$O$1191,AJ$7)","v":0},{"$f":"COUNTIFS('база 2013'!$E$4:$E$1191,$B20,'база 2013'!$I$4:$I$1191,AK$5,'база 2013'!$O$4:$O$1191,AK$7)","v":0},{"$f":"COUNTIFS('база 2013'!$E$4:$E$1191,$B20,'база 2013'!$I$4:$I$1191,AL$5,'база 2013'!$O$4:$O$1191,AL$7)","v":0},{"$f":"COUNTIFS('база 2013'!$E$4:$E$1191,$B20,'база 2013'!$I$4:$I$1191,AM$5,'база 2013'!$O$4:$O$1191,AM$7)","v":0},{"$f":"COUNTIFS('база 2013'!$E$4:$E$1191,$B20,'база 2013'!$I$4:$I$1191,AN$5,'база 2013'!$O$4:$O$1191,AN$7)","v":0},{"$f":"COUNTIFS('база 2013'!$E$4:$E$1191,$B20,'база 2013'!$I$4:$I$1191,AO$5,'база 2013'!$O$4:$O$1191,AO$7)","v":0},{"$f":"COUNTIFS('база 2013'!$E$4:$E$1191,$B20,'база 2013'!$I$4:$I$1191,AP$5,'база 2013'!$O$4:$O$1191,AP$7)","v":0},{"$f":"COUNTIFS('база 2013'!$E$4:$E$1191,$B20,'база 2013'!$I$4:$I$1191,AQ$5,'база 2013'!$O$4:$O$1191,AQ$7)","v":0},{"$f":"COUNTIFS('база 2013'!$E$4:$E$1191,$B20,'база 2013'!$I$4:$I$1191,AR$5,'база 2013'!$O$4:$O$1191,AR$7)","v":0},{"$f":"COUNTIFS('база 2013'!$E$4:$E$1191,$B20,'база 2013'!$I$4:$I$1191,AS$5,'база 2013'!$O$4:$O$1191,AS$7)","v":0},{"$f":"COUNTIFS('база 2013'!$E$4:$E$1191,$B20,'база 2013'!$I$4:$I$1191,AT$5,'база 2013'!$O$4:$O$1191,AT$7)","v":0},{"$f":"COUNTIFS('база 2013'!$E$4:$E$1191,$B20,'база 2013'!$I$4:$I$1191,AU$5,'база 2013'!$O$4:$O$1191,AU$7)","v":0},{"$f":"COUNTIFS('база 2013'!$E$4:$E$1191,$B20,'база 2013'!$I$4:$I$1191,AV$5,'база 2013'!$O$4:$O$1191,AV$7)","v":0},{"$f":"COUNTIFS('база 2013'!$E$4:$E$1191,$B20,'база 2013'!$I$4:$I$1191,AW$5,'база 2013'!$O$4:$O$1191,AW$7)","v":0},{"$f":"COUNTIFS('база 2013'!$E$4:$E$1191,$B20,'база 2013'!$I$4:$I$1191,AX$5,'база 2013'!$O$4:$O$1191,AX$7)","v":0},0,0,0,0,0,0,0,null,0]
[14,"Гулькевичский район ",{"$f":"COUNTIFS('база 2013'!$E$4:$E$1191,$B21,'база 2013'!$I$4:$I$1191,C$5,'база 2013'!$O$4:$O$1191,C$7)","v":0},{"$f":"COUNTIFS('база 2013'!$E$4:$E$1191,$B21,'база 2013'!$I$4:$I$1191,D$5,'база 2013'!$O$4:$O$1191,D$7)","v":0},{"$f":"COUNTIFS('база 2013'!$E$4:$E$1191,$B21,'база 2013'!$I$4:$I$1191,E$5,'база 2013'!$O$4:$O$1191,E$7)","v":0},{"$f":"COUNTIFS('база 2013'!$E$4:$E$1191,$B21,'база 2013'!$I$4:$I$1191,F$5,'база 2013'!$O$4:$O$1191,F$7)","v":0},{"$f":"COUNTIFS('база 2013'!$E$4:$E$1191,$B21,'база 2013'!$I$4:$I$1191,G$5,'база 2013'!$O$4:$O$1191,G$7)","v":0},{"$f":"COUNTIFS('база 2013'!$E$4:$E$1191,$B21,'база 2013'!$I$4:$I$1191,H$5,'база 2013'!$O$4:$O$1191,H$7)","v":0},{"$f":"COUNTIFS('база 2013'!$E$4:$E$1191,$B21,'база 2013'!$I$4:$I$1191,I$5,'база 2013'!$O$4:$O$1191,I$7)","v":0},{"$f":"COUNTIFS('база 2013'!$E$4:$E$1191,$B21,'база 2013'!$I$4:$I$1191,J$5,'база 2013'!$O$4:$O$1191,J$7)","v":0},{"$f":"COUNTIFS('база 2013'!$E$4:$E$1191,$B21,'база 2013'!$I$4:$I$1191,K$5,'база 2013'!$O$4:$O$1191,K$7)","v":0},{"$f":"COUNTIFS('база 2013'!$E$4:$E$1191,$B21,'база 2013'!$I$4:$I$1191,L$5,'база 2013'!$O$4:$O$1191,L$7)","v":1},{"$f":"COUNTIFS('база 2013'!$E$4:$E$1191,$B21,'база 2013'!$I$4:$I$1191,M$5,'база 2013'!$O$4:$O$1191,M$7)","v":0},{"$f":"COUNTIFS('база 2013'!$E$4:$E$1191,$B21,'база 2013'!$I$4:$I$1191,N$5,'база 2013'!$O$4:$O$1191,N$7)","v":0},{"$f":"COUNTIFS('база 2013'!$E$4:$E$1191,$B21,'база 2013'!$I$4:$I$1191,O$5,'база 2013'!$O$4:$O$1191,O$7)","v":0},{"$f":"COUNTIFS('база 2013'!$E$4:$E$1191,$B21,'база 2013'!$I$4:$I$1191,P$5,'база 2013'!$O$4:$O$1191,P$7)","v":0},{"$f":"COUNTIFS('база 2013'!$E$4:$E$1191,$B21,'база 2013'!$I$4:$I$1191,Q$5,'база 2013'!$O$4:$O$1191,Q$7)","v":0},1,0,0,{"$f":"COUNTIFS('база 2013'!$E$4:$E$1191,$B21,'база 2013'!$I$4:$I$1191,U$5,'база 2013'!$O$4:$O$1191,U$7)","v":0},{"$f":"COUNTIFS('база 2013'!$E$4:$E$1191,$B21,'база 2013'!$I$4:$I$1191,V$5,'база 2013'!$O$4:$O$1191,V$7)","v":0},{"$f":"COUNTIFS('база 2013'!$E$4:$E$1191,$B21,'база 2013'!$I$4:$I$1191,W$5,'база 2013'!$O$4:$O$1191,W$7)","v":0},{"$f":"COUNTIFS('база 2013'!$E$4:$E$1191,$B21,'база 2013'!$I$4:$I$1191,X$5,'база 2013'!$O$4:$O$1191,X$7)","v":0},{"$f":"COUNTIFS('база 2013'!$E$4:$E$1191,$B21,'база 2013'!$I$4:$I$1191,Y$5,'база 2013'!$O$4:$O$1191,Y$7)","v":0},{"$f":"COUNTIFS('база 2013'!$E$4:$E$1191,$B21,'база 2013'!$I$4:$I$1191,Z$5,'база 2013'!$O$4:$O$1191,Z$7)","v":0},{"$f":"COUNTIFS('база 2013'!$E$4:$E$1191,$B21,'база 2013'!$I$4:$I$1191,AA$5,'база 2013'!$O$4:$O$1191,AA$7)","v":0},{"$f":"COUNTIFS('база 2013'!$E$4:$E$1191,$B21,'база 2013'!$I$4:$I$1191,AB$5,'база 2013'!$O$4:$O$1191,AB$7)","v":0},{"$f":"COUNTIFS('база 2013'!$E$4:$E$1191,$B21,'база 2013'!$I$4:$I$1191,AC$5,'база 2013'!$O$4:$O$1191,AC$7)","v":1},0,0,1,{"$f":"COUNTIFS('база 2013'!$E$4:$E$1191,$B21,'база 2013'!$I$4:$I$1191,AG$5,'база 2013'!$O$4:$O$1191,AG$7)","v":1},{"$f":"COUNTIFS('база 2013'!$E$4:$E$1191,$B21,'база 2013'!$I$4:$I$1191,AH$5,'база 2013'!$O$4:$O$1191,AH$7)","v":1},{"$f":"COUNTIFS('база 2013'!$E$4:$E$1191,$B21,'база 2013'!$I$4:$I$1191,AI$5,'база 2013'!$O$4:$O$1191,AI$7)","v":3},{"$f":"COUNTIFS('база 2013'!$E$4:$E$1191,$B21,'база 2013'!$I$4:$I$1191,AJ$5,'база 2013'!$O$4:$O$1191,AJ$7)","v":0},{"$f":"COUNTIFS('база 2013'!$E$4:$E$1191,$B21,'база 2013'!$I$4:$I$1191,AK$5,'база 2013'!$O$4:$O$1191,AK$7)","v":0},{"$f":"COUNTIFS('база 2013'!$E$4:$E$1191,$B21,'база 2013'!$I$4:$I$1191,AL$5,'база 2013'!$O$4:$O$1191,AL$7)","v":0},{"$f":"COUNTIFS('база 2013'!$E$4:$E$1191,$B21,'база 2013'!$I$4:$I$1191,AM$5,'база 2013'!$O$4:$O$1191,AM$7)","v":0},{"$f":"COUNTIFS('база 2013'!$E$4:$E$1191,$B21,'база 2013'!$I$4:$I$1191,AN$5,'база 2013'!$O$4:$O$1191,AN$7)","v":0},{"$f":"COUNTIFS('база 2013'!$E$4:$E$1191,$B21,'база 2013'!$I$4:$I$1191,AO$5,'база 2013'!$O$4:$O$1191,AO$7)","v":2},{"$f":"COUNTIFS('база 2013'!$E$4:$E$1191,$B21,'база 2013'!$I$4:$I$1191,AP$5,'база 2013'!$O$4:$O$1191,AP$7)","v":0},{"$f":"COUNTIFS('база 2013'!$E$4:$E$1191,$B21,'база 2013'!$I$4:$I$1191,AQ$5,'база 2013'!$O$4:$O$1191,AQ$7)","v":2},{"$f":"COUNTIFS('база 2013'!$E$4:$E$1191,$B21,'база 2013'!$I$4:$I$1191,AR$5,'база 2013'!$O$4:$O$1191,AR$7)","v":0},{"$f":"COUNTIFS('база 2013'!$E$4:$E$1191,$B21,'база 2013'!$I$4:$I$1191,AS$5,'база 2013'!$O$4:$O$1191,AS$7)","v":0},{"$f":"COUNTIFS('база 2013'!$E$4:$E$1191,$B21,'база 2013'!$I$4:$I$1191,AT$5,'база 2013'!$O$4:$O$1191,AT$7)","v":0},{"$f":"COUNTIFS('база 2013'!$E$4:$E$1191,$B21,'база 2013'!$I$4:$I$1191,AU$5,'база 2013'!$O$4:$O$1191,AU$7)","v":4},{"$f":"COUNTIFS('база 2013'!$E$4:$E$1191,$B21,'база 2013'!$I$4:$I$1191,AV$5,'база 2013'!$O$4:$O$1191,AV$7)","v":0},{"$f":"COUNTIFS('база 2013'!$E$4:$E$1191,$B21,'база 2013'!$I$4:$I$1191,AW$5,'база 2013'!$O$4:$O$1191,AW$7)","v":0},{"$f":"COUNTIFS('база 2013'!$E$4:$E$1191,$B21,'база 2013'!$I$4:$I$1191,AX$5,'база 2013'!$O$4:$O$1191,AX$7)","v":0},0,2,6,2,3,10,15,null,0]
[15,"Динской район",{"$f":"COUNTIFS('база 2013'!$E$4:$E$1191,$B22,'база 2013'!$I$4:$I$1191,C$5,'база 2013'!$O$4:$O$1191,C$7)","v":0},{"$f":"COUNTIFS('база 2013'!$E$4:$E$1191,$B22,'база 2013'!$I$4:$I$1191,D$5,'база 2013'!$O$4:$O$1191,D$7)","v":0},{"$f":"COUNTIFS('база 2013'!$E$4:$E$1191,$B22,'база 2013'!$I$4:$I$1191,E$5,'база 2013'!$O$4:$O$1191,E$7)","v":0},{"$f":"COUNTIFS('база 2013'!$E$4:$E$1191,$B22,'база 2013'!$I$4:$I$1191,F$5,'база 2013'!$O$4:$O$1191,F$7)","v":0},{"$f":"COUNTIFS('база 2013'!$E$4:$E$1191,$B22,'база 2013'!$I$4:$I$1191,G$5,'база 2013'!$O$4:$O$1191,G$7)","v":0},{"$f":"COUNTIFS('база 2013'!$E$4:$E$1191,$B22,'база 2013'!$I$4:$I$1191,H$5,'база 2013'!$O$4:$O$1191,H$7)","v":0},{"$f":"COUNTIFS('база 2013'!$E$4:$E$1191,$B22,'база 2013'!$I$4:$I$1191,I$5,'база 2013'!$O$4:$O$1191,I$7)","v":0},{"$f":"COUNTIFS('база 2013'!$E$4:$E$1191,$B22,'база 2013'!$I$4:$I$1191,J$5,'база 2013'!$O$4:$O$1191,J$7)","v":0},{"$f":"COUNTIFS('база 2013'!$E$4:$E$1191,$B22,'база 2013'!$I$4:$I$1191,K$5,'база 2013'!$O$4:$O$1191,K$7)","v":0},{"$f":"COUNTIFS('база 2013'!$E$4:$E$1191,$B22,'база 2013'!$I$4:$I$1191,L$5,'база 2013'!$O$4:$O$1191,L$7)","v":0},{"$f":"COUNTIFS('база 2013'!$E$4:$E$1191,$B22,'база 2013'!$I$4:$I$1191,M$5,'база 2013'!$O$4:$O$1191,M$7)","v":0},{"$f":"COUNTIFS('база 2013'!$E$4:$E$1191,$B22,'база 2013'!$I$4:$I$1191,N$5,'база 2013'!$O$4:$O$1191,N$7)","v":0},{"$f":"COUNTIFS('база 2013'!$E$4:$E$1191,$B22,'база 2013'!$I$4:$I$1191,O$5,'база 2013'!$O$4:$O$1191,O$7)","v":0},{"$f":"COUNTIFS('база 2013'!$E$4:$E$1191,$B22,'база 2013'!$I$4:$I$1191,P$5,'база 2013'!$O$4:$O$1191,P$7)","v":0},{"$f":"COUNTIFS('база 2013'!$E$4:$E$1191,$B22,'база 2013'!$I$4:$I$1191,Q$5,'база 2013'!$O$4:$O$1191,Q$7)","v":0},0,0,0,{"$f":"COUNTIFS('база 2013'!$E$4:$E$1191,$B22,'база 2013'!$I$4:$I$1191,U$5,'база 2013'!$O$4:$O$1191,U$7)","v":0},{"$f":"COUNTIFS('база 2013'!$E$4:$E$1191,$B22,'база 2013'!$I$4:$I$1191,V$5,'база 2013'!$O$4:$O$1191,V$7)","v":0},{"$f":"COUNTIFS('база 2013'!$E$4:$E$1191,$B22,'база 2013'!$I$4:$I$1191,W$5,'база 2013'!$O$4:$O$1191,W$7)","v":0},{"$f":"COUNTIFS('база 2013'!$E$4:$E$1191,$B22,'база 2013'!$I$4:$I$1191,X$5,'база 2013'!$O$4:$O$1191,X$7)","v":0},{"$f":"COUNTIFS('база 2013'!$E$4:$E$1191,$B22,'база 2013'!$I$4:$I$1191,Y$5,'база 2013'!$O$4:$O$1191,Y$7)","v":0},{"$f":"COUNTIFS('база 2013'!$E$4:$E$1191,$B22,'база 2013'!$I$4:$I$1191,Z$5,'база 2013'!$O$4:$O$1191,Z$7)","v":0},{"$f":"COUNTIFS('база 2013'!$E$4:$E$1191,$B22,'база 2013'!$I$4:$I$1191,AA$5,'база 2013'!$O$4:$O$1191,AA$7)","v":0},{"$f":"COUNTIFS('база 2013'!$E$4:$E$1191,$B22,'база 2013'!$I$4:$I$1191,AB$5,'база 2013'!$O$4:$O$1191,AB$7)","v":0},{"$f":"COUNTIFS('база 2013'!$E$4:$E$1191,$B22,'база 2013'!$I$4:$I$1191,AC$5,'база 2013'!$O$4:$O$1191,AC$7)","v":0},0,0,0,{"$f":"COUNTIFS('база 2013'!$E$4:$E$1191,$B22,'база 2013'!$I$4:$I$1191,AG$5,'база 2013'!$O$4:$O$1191,AG$7)","v":0},{"$f":"COUNTIFS('база 2013'!$E$4:$E$1191,$B22,'база 2013'!$I$4:$I$1191,AH$5,'база 2013'!$O$4:$O$1191,AH$7)","v":0},{"$f":"COUNTIFS('база 2013'!$E$4:$E$1191,$B22,'база 2013'!$I$4:$I$1191,AI$5,'база 2013'!$O$4:$O$1191,AI$7)","v":0},{"$f":"COUNTIFS('база 2013'!$E$4:$E$1191,$B22,'база 2013'!$I$4:$I$1191,AJ$5,'база 2013'!$O$4:$O$1191,AJ$7)","v":0},{"$f":"COUNTIFS('база 2013'!$E$4:$E$1191,$B22,'база 2013'!$I$4:$I$1191,AK$5,'база 2013'!$O$4:$O$1191,AK$7)","v":0},{"$f":"COUNTIFS('база 2013'!$E$4:$E$1191,$B22,'база 2013'!$I$4:$I$1191,AL$5,'база 2013'!$O$4:$O$1191,AL$7)","v":0},{"$f":"COUNTIFS('база 2013'!$E$4:$E$1191,$B22,'база 2013'!$I$4:$I$1191,AM$5,'база 2013'!$O$4:$O$1191,AM$7)","v":0},{"$f":"COUNTIFS('база 2013'!$E$4:$E$1191,$B22,'база 2013'!$I$4:$I$1191,AN$5,'база 2013'!$O$4:$O$1191,AN$7)","v":0},{"$f":"COUNTIFS('база 2013'!$E$4:$E$1191,$B22,'база 2013'!$I$4:$I$1191,AO$5,'база 2013'!$O$4:$O$1191,AO$7)","v":0},{"$f":"COUNTIFS('база 2013'!$E$4:$E$1191,$B22,'база 2013'!$I$4:$I$1191,AP$5,'база 2013'!$O$4:$O$1191,AP$7)","v":0},{"$f":"COUNTIFS('база 2013'!$E$4:$E$1191,$B22,'база 2013'!$I$4:$I$1191,AQ$5,'база 2013'!$O$4:$O$1191,AQ$7)","v":0},{"$f":"COUNTIFS('база 2013'!$E$4:$E$1191,$B22,'база 2013'!$I$4:$I$1191,AR$5,'база 2013'!$O$4:$O$1191,AR$7)","v":0},{"$f":"COUNTIFS('база 2013'!$E$4:$E$1191,$B22,'база 2013'!$I$4:$I$1191,AS$5,'база 2013'!$O$4:$O$1191,AS$7)","v":0},{"$f":"COUNTIFS('база 2013'!$E$4:$E$1191,$B22,'база 2013'!$I$4:$I$1191,AT$5,'база 2013'!$O$4:$O$1191,AT$7)","v":0},{"$f":"COUNTIFS('база 2013'!$E$4:$E$1191,$B22,'база 2013'!$I$4:$I$1191,AU$5,'база 2013'!$O$4:$O$1191,AU$7)","v":0},{"$f":"COUNTIFS('база 2013'!$E$4:$E$1191,$B22,'база 2013'!$I$4:$I$1191,AV$5,'база 2013'!$O$4:$O$1191,AV$7)","v":0},{"$f":"COUNTIFS('база 2013'!$E$4:$E$1191,$B22,'база 2013'!$I$4:$I$1191,AW$5,'база 2013'!$O$4:$O$1191,AW$7)","v":0},{"$f":"COUNTIFS('база 2013'!$E$4:$E$1191,$B22,'база 2013'!$I$4:$I$1191,AX$5,'база 2013'!$O$4:$O$1191,AX$7)","v":0},0,0,0,0,0,0,0,null,0]
[16,"Ейский район",{"$f":"COUNTIFS('база 2013'!$E$4:$E$1191,$B23,'база 2013'!$I$4:$I$1191,C$5,'база 2013'!$O$4:$O$1191,C$7)","v":0},{"$f":"COUNTIFS('база 2013'!$E$4:$E$1191,$B23,'база 2013'!$I$4:$I$1191,D$5,'база 2013'!$O$4:$O$1191,D$7)","v":0},{"$f":"COUNTIFS('база 2013'!$E$4:$E$1191,$B23,'база 2013'!$I$4:$I$1191,E$5,'база 2013'!$O$4:$O$1191,E$7)","v":0},{"$f":"COUNTIFS('база 2013'!$E$4:$E$1191,$B23,'база 2013'!$I$4:$I$1191,F$5,'база 2013'!$O$4:$O$1191,F$7)","v":0},{"$f":"COUNTIFS('база 2013'!$E$4:$E$1191,$B23,'база 2013'!$I$4:$I$1191,G$5,'база 2013'!$O$4:$O$1191,G$7)","v":0},{"$f":"COUNTIFS('база 2013'!$E$4:$E$1191,$B23,'база 2013'!$I$4:$I$1191,H$5,'база 2013'!$O$4:$O$1191,H$7)","v":0},{"$f":"COUNTIFS('база 2013'!$E$4:$E$1191,$B23,'база 2013'!$I$4:$I$1191,I$5,'база 2013'!$O$4:$O$1191,I$7)","v":0},{"$f":"COUNTIFS('база 2013'!$E$4:$E$1191,$B23,'база 2013'!$I$4:$I$1191,J$5,'база 2013'!$O$4:$O$1191,J$7)","v":0},{"$f":"COUNTIFS('база 2013'!$E$4:$E$1191,$B23,'база 2013'!$I$4:$I$1191,K$5,'база 2013'!$O$4:$O$1191,K$7)","v":0},{"$f":"COUNTIFS('база 2013'!$E$4:$E$1191,$B23,'база 2013'!$I$4:$I$1191,L$5,'база 2013'!$O$4:$O$1191,L$7)","v":0},{"$f":"COUNTIFS('база 2013'!$E$4:$E$1191,$B23,'база 2013'!$I$4:$I$1191,M$5,'база 2013'!$O$4:$O$1191,M$7)","v":0},{"$f":"COUNTIFS('база 2013'!$E$4:$E$1191,$B23,'база 2013'!$I$4:$I$1191,N$5,'база 2013'!$O$4:$O$1191,N$7)","v":0},{"$f":"COUNTIFS('база 2013'!$E$4:$E$1191,$B23,'база 2013'!$I$4:$I$1191,O$5,'база 2013'!$O$4:$O$1191,O$7)","v":0},{"$f":"COUNTIFS('база 2013'!$E$4:$E$1191,$B23,'база 2013'!$I$4:$I$1191,P$5,'база 2013'!$O$4:$O$1191,P$7)","v":0},{"$f":"COUNTIFS('база 2013'!$E$4:$E$1191,$B23,'база 2013'!$I$4:$I$1191,Q$5,'база 2013'!$O$4:$O$1191,Q$7)","v":0},0,0,0,{"$f":"COUNTIFS('база 2013'!$E$4:$E$1191,$B23,'база 2013'!$I$4:$I$1191,U$5,'база 2013'!$O$4:$O$1191,U$7)","v":0},{"$f":"COUNTIFS('база 2013'!$E$4:$E$1191,$B23,'база 2013'!$I$4:$I$1191,V$5,'база 2013'!$O$4:$O$1191,V$7)","v":0},{"$f":"COUNTIFS('база 2013'!$E$4:$E$1191,$B23,'база 2013'!$I$4:$I$1191,W$5,'база 2013'!$O$4:$O$1191,W$7)","v":0},{"$f":"COUNTIFS('база 2013'!$E$4:$E$1191,$B23,'база 2013'!$I$4:$I$1191,X$5,'база 2013'!$O$4:$O$1191,X$7)","v":0},{"$f":"COUNTIFS('база 2013'!$E$4:$E$1191,$B23,'база 2013'!$I$4:$I$1191,Y$5,'база 2013'!$O$4:$O$1191,Y$7)","v":0},{"$f":"COUNTIFS('база 2013'!$E$4:$E$1191,$B23,'база 2013'!$I$4:$I$1191,Z$5,'база 2013'!$O$4:$O$1191,Z$7)","v":0},{"$f":"COUNTIFS('база 2013'!$E$4:$E$1191,$B23,'база 2013'!$I$4:$I$1191,AA$5,'база 2013'!$O$4:$O$1191,AA$7)","v":0},{"$f":"COUNTIFS('база 2013'!$E$4:$E$1191,$B23,'база 2013'!$I$4:$I$1191,AB$5,'база 2013'!$O$4:$O$1191,AB$7)","v":0},{"$f":"COUNTIFS('база 2013'!$E$4:$E$1191,$B23,'база 2013'!$I$4:$I$1191,AC$5,'база 2013'!$O$4:$O$1191,AC$7)","v":0},0,0,0,{"$f":"COUNTIFS('база 2013'!$E$4:$E$1191,$B23,'база 2013'!$I$4:$I$1191,AG$5,'база 2013'!$O$4:$O$1191,AG$7)","v":0},{"$f":"COUNTIFS('база 2013'!$E$4:$E$1191,$B23,'база 2013'!$I$4:$I$1191,AH$5,'база 2013'!$O$4:$O$1191,AH$7)","v":0},{"$f":"COUNTIFS('база 2013'!$E$4:$E$1191,$B23,'база 2013'!$I$4:$I$1191,AI$5,'база 2013'!$O$4:$O$1191,AI$7)","v":0},{"$f":"COUNTIFS('база 2013'!$E$4:$E$1191,$B23,'база 2013'!$I$4:$I$1191,AJ$5,'база 2013'!$O$4:$O$1191,AJ$7)","v":0},{"$f":"COUNTIFS('база 2013'!$E$4:$E$1191,$B23,'база 2013'!$I$4:$I$1191,AK$5,'база 2013'!$O$4:$O$1191,AK$7)","v":0},{"$f":"COUNTIFS('база 2013'!$E$4:$E$1191,$B23,'база 2013'!$I$4:$I$1191,AL$5,'база 2013'!$O$4:$O$1191,AL$7)","v":0},{"$f":"COUNTIFS('база 2013'!$E$4:$E$1191,$B23,'база 2013'!$I$4:$I$1191,AM$5,'база 2013'!$O$4:$O$1191,AM$7)","v":0},{"$f":"COUNTIFS('база 2013'!$E$4:$E$1191,$B23,'база 2013'!$I$4:$I$1191,AN$5,'база 2013'!$O$4:$O$1191,AN$7)","v":0},{"$f":"COUNTIFS('база 2013'!$E$4:$E$1191,$B23,'база 2013'!$I$4:$I$1191,AO$5,'база 2013'!$O$4:$O$1191,AO$7)","v":0},{"$f":"COUNTIFS('база 2013'!$E$4:$E$1191,$B23,'база 2013'!$I$4:$I$1191,AP$5,'база 2013'!$O$4:$O$1191,AP$7)","v":0},{"$f":"COUNTIFS('база 2013'!$E$4:$E$1191,$B23,'база 2013'!$I$4:$I$1191,AQ$5,'база 2013'!$O$4:$O$1191,AQ$7)","v":0},{"$f":"COUNTIFS('база 2013'!$E$4:$E$1191,$B23,'база 2013'!$I$4:$I$1191,AR$5,'база 2013'!$O$4:$O$1191,AR$7)","v":0},{"$f":"COUNTIFS('база 2013'!$E$4:$E$1191,$B23,'база 2013'!$I$4:$I$1191,AS$5,'база 2013'!$O$4:$O$1191,AS$7)","v":0},{"$f":"COUNTIFS('база 2013'!$E$4:$E$1191,$B23,'база 2013'!$I$4:$I$1191,AT$5,'база 2013'!$O$4:$O$1191,AT$7)","v":0},{"$f":"COUNTIFS('база 2013'!$E$4:$E$1191,$B23,'база 2013'!$I$4:$I$1191,AU$5,'база 2013'!$O$4:$O$1191,AU$7)","v":0},{"$f":"COUNTIFS('база 2013'!$E$4:$E$1191,$B23,'база 2013'!$I$4:$I$1191,AV$5,'база 2013'!$O$4:$O$1191,AV$7)","v":0},{"$f":"COUNTIFS('база 2013'!$E$4:$E$1191,$B23,'база 2013'!$I$4:$I$1191,AW$5,'база 2013'!$O$4:$O$1191,AW$7)","v":0},{"$f":"COUNTIFS('база 2013'!$E$4:$E$1191,$B23,'база 2013'!$I$4:$I$1191,AX$5,'база 2013'!$O$4:$O$1191,AX$7)","v":0},0,0,0,0,0,0,0,null,0]
[17,"Кавказский район",{"$f":"COUNTIFS('база 2013'!$E$4:$E$1191,$B24,'база 2013'!$I$4:$I$1191,C$5,'база 2013'!$O$4:$O$1191,C$7)","v":0},{"$f":"COUNTIFS('база 2013'!$E$4:$E$1191,$B24,'база 2013'!$I$4:$I$1191,D$5,'база 2013'!$O$4:$O$1191,D$7)","v":0},{"$f":"COUNTIFS('база 2013'!$E$4:$E$1191,$B24,'база 2013'!$I$4:$I$1191,E$5,'база 2013'!$O$4:$O$1191,E$7)","v":0},{"$f":"COUNTIFS('база 2013'!$E$4:$E$1191,$B24,'база 2013'!$I$4:$I$1191,F$5,'база 2013'!$O$4:$O$1191,F$7)","v":0},{"$f":"COUNTIFS('база 2013'!$E$4:$E$1191,$B24,'база 2013'!$I$4:$I$1191,G$5,'база 2013'!$O$4:$O$1191,G$7)","v":0},{"$f":"COUNTIFS('база 2013'!$E$4:$E$1191,$B24,'база 2013'!$I$4:$I$1191,H$5,'база 2013'!$O$4:$O$1191,H$7)","v":0},{"$f":"COUNTIFS('база 2013'!$E$4:$E$1191,$B24,'база 2013'!$I$4:$I$1191,I$5,'база 2013'!$O$4:$O$1191,I$7)","v":0},{"$f":"COUNTIFS('база 2013'!$E$4:$E$1191,$B24,'база 2013'!$I$4:$I$1191,J$5,'база 2013'!$O$4:$O$1191,J$7)","v":0},{"$f":"COUNTIFS('база 2013'!$E$4:$E$1191,$B24,'база 2013'!$I$4:$I$1191,K$5,'база 2013'!$O$4:$O$1191,K$7)","v":0},{"$f":"COUNTIFS('база 2013'!$E$4:$E$1191,$B24,'база 2013'!$I$4:$I$1191,L$5,'база 2013'!$O$4:$O$1191,L$7)","v":0},{"$f":"COUNTIFS('база 2013'!$E$4:$E$1191,$B24,'база 2013'!$I$4:$I$1191,M$5,'база 2013'!$O$4:$O$1191,M$7)","v":0},{"$f":"COUNTIFS('база 2013'!$E$4:$E$1191,$B24,'база 2013'!$I$4:$I$1191,N$5,'база 2013'!$O$4:$O$1191,N$7)","v":0},{"$f":"COUNTIFS('база 2013'!$E$4:$E$1191,$B24,'база 2013'!$I$4:$I$1191,O$5,'база 2013'!$O$4:$O$1191,O$7)","v":0},{"$f":"COUNTIFS('база 2013'!$E$4:$E$1191,$B24,'база 2013'!$I$4:$I$1191,P$5,'база 2013'!$O$4:$O$1191,P$7)","v":0},{"$f":"COUNTIFS('база 2013'!$E$4:$E$1191,$B24,'база 2013'!$I$4:$I$1191,Q$5,'база 2013'!$O$4:$O$1191,Q$7)","v":0},0,0,0,{"$f":"COUNTIFS('база 2013'!$E$4:$E$1191,$B24,'база 2013'!$I$4:$I$1191,U$5,'база 2013'!$O$4:$O$1191,U$7)","v":0},{"$f":"COUNTIFS('база 2013'!$E$4:$E$1191,$B24,'база 2013'!$I$4:$I$1191,V$5,'база 2013'!$O$4:$O$1191,V$7)","v":0},{"$f":"COUNTIFS('база 2013'!$E$4:$E$1191,$B24,'база 2013'!$I$4:$I$1191,W$5,'база 2013'!$O$4:$O$1191,W$7)","v":0},{"$f":"COUNTIFS('база 2013'!$E$4:$E$1191,$B24,'база 2013'!$I$4:$I$1191,X$5,'база 2013'!$O$4:$O$1191,X$7)","v":0},{"$f":"COUNTIFS('база 2013'!$E$4:$E$1191,$B24,'база 2013'!$I$4:$I$1191,Y$5,'база 2013'!$O$4:$O$1191,Y$7)","v":0},{"$f":"COUNTIFS('база 2013'!$E$4:$E$1191,$B24,'база 2013'!$I$4:$I$1191,Z$5,'база 2013'!$O$4:$O$1191,Z$7)","v":0},{"$f":"COUNTIFS('база 2013'!$E$4:$E$1191,$B24,'база 2013'!$I$4:$I$1191,AA$5,'база 2013'!$O$4:$O$1191,AA$7)","v":0},{"$f":"COUNTIFS('база 2013'!$E$4:$E$1191,$B24,'база 2013'!$I$4:$I$1191,AB$5,'база 2013'!$O$4:$O$1191,AB$7)","v":0},{"$f":"COUNTIFS('база 2013'!$E$4:$E$1191,$B24,'база 2013'!$I$4:$I$1191,AC$5,'база 2013'!$O$4:$O$1191,AC$7)","v":0},0,0,0,{"$f":"COUNTIFS('база 2013'!$E$4:$E$1191,$B24,'база 2013'!$I$4:$I$1191,AG$5,'база 2013'!$O$4:$O$1191,AG$7)","v":0},{"$f":"COUNTIFS('база 2013'!$E$4:$E$1191,$B24,'база 2013'!$I$4:$I$1191,AH$5,'база 2013'!$O$4:$O$1191,AH$7)","v":0},{"$f":"COUNTIFS('база 2013'!$E$4:$E$1191,$B24,'база 2013'!$I$4:$I$1191,AI$5,'база 2013'!$O$4:$O$1191,AI$7)","v":0},{"$f":"COUNTIFS('база 2013'!$E$4:$E$1191,$B24,'база 2013'!$I$4:$I$1191,AJ$5,'база 2013'!$O$4:$O$1191,AJ$7)","v":0},{"$f":"COUNTIFS('база 2013'!$E$4:$E$1191,$B24,'база 2013'!$I$4:$I$1191,AK$5,'база 2013'!$O$4:$O$1191,AK$7)","v":0},{"$f":"COUNTIFS('база 2013'!$E$4:$E$1191,$B24,'база 2013'!$I$4:$I$1191,AL$5,'база 2013'!$O$4:$O$1191,AL$7)","v":0},{"$f":"COUNTIFS('база 2013'!$E$4:$E$1191,$B24,'база 2013'!$I$4:$I$1191,AM$5,'база 2013'!$O$4:$O$1191,AM$7)","v":0},{"$f":"COUNTIFS('база 2013'!$E$4:$E$1191,$B24,'база 2013'!$I$4:$I$1191,AN$5,'база 2013'!$O$4:$O$1191,AN$7)","v":0},{"$f":"COUNTIFS('база 2013'!$E$4:$E$1191,$B24,'база 2013'!$I$4:$I$1191,AO$5,'база 2013'!$O$4:$O$1191,AO$7)","v":0},{"$f":"COUNTIFS('база 2013'!$E$4:$E$1191,$B24,'база 2013'!$I$4:$I$1191,AP$5,'база 2013'!$O$4:$O$1191,AP$7)","v":0},{"$f":"COUNTIFS('база 2013'!$E$4:$E$1191,$B24,'база 2013'!$I$4:$I$1191,AQ$5,'база 2013'!$O$4:$O$1191,AQ$7)","v":0},{"$f":"COUNTIFS('база 2013'!$E$4:$E$1191,$B24,'база 2013'!$I$4:$I$1191,AR$5,'база 2013'!$O$4:$O$1191,AR$7)","v":0},{"$f":"COUNTIFS('база 2013'!$E$4:$E$1191,$B24,'база 2013'!$I$4:$I$1191,AS$5,'база 2013'!$O$4:$O$1191,AS$7)","v":0},{"$f":"COUNTIFS('база 2013'!$E$4:$E$1191,$B24,'база 2013'!$I$4:$I$1191,AT$5,'база 2013'!$O$4:$O$1191,AT$7)","v":0},{"$f":"COUNTIFS('база 2013'!$E$4:$E$1191,$B24,'база 2013'!$I$4:$I$1191,AU$5,'база 2013'!$O$4:$O$1191,AU$7)","v":0},{"$f":"COUNTIFS('база 2013'!$E$4:$E$1191,$B24,'база 2013'!$I$4:$I$1191,AV$5,'база 2013'!$O$4:$O$1191,AV$7)","v":0},{"$f":"COUNTIFS('база 2013'!$E$4:$E$1191,$B24,'база 2013'!$I$4:$I$1191,AW$5,'база 2013'!$O$4:$O$1191,AW$7)","v":0},{"$f":"COUNTIFS('база 2013'!$E$4:$E$1191,$B24,'база 2013'!$I$4:$I$1191,AX$5,'база 2013'!$O$4:$O$1191,AX$7)","v":0},0,0,0,0,0,0,0,null,0]
[18,"Калининский район",{"$f":"COUNTIFS('база 2013'!$E$4:$E$1191,$B25,'база 2013'!$I$4:$I$1191,C$5,'база 2013'!$O$4:$O$1191,C$7)","v":0},{"$f":"COUNTIFS('база 2013'!$E$4:$E$1191,$B25,'база 2013'!$I$4:$I$1191,D$5,'база 2013'!$O$4:$O$1191,D$7)","v":0},{"$f":"COUNTIFS('база 2013'!$E$4:$E$1191,$B25,'база 2013'!$I$4:$I$1191,E$5,'база 2013'!$O$4:$O$1191,E$7)","v":0},{"$f":"COUNTIFS('база 2013'!$E$4:$E$1191,$B25,'база 2013'!$I$4:$I$1191,F$5,'база 2013'!$O$4:$O$1191,F$7)","v":0},{"$f":"COUNTIFS('база 2013'!$E$4:$E$1191,$B25,'база 2013'!$I$4:$I$1191,G$5,'база 2013'!$O$4:$O$1191,G$7)","v":0},{"$f":"COUNTIFS('база 2013'!$E$4:$E$1191,$B25,'база 2013'!$I$4:$I$1191,H$5,'база 2013'!$O$4:$O$1191,H$7)","v":0},{"$f":"COUNTIFS('база 2013'!$E$4:$E$1191,$B25,'база 2013'!$I$4:$I$1191,I$5,'база 2013'!$O$4:$O$1191,I$7)","v":0},{"$f":"COUNTIFS('база 2013'!$E$4:$E$1191,$B25,'база 2013'!$I$4:$I$1191,J$5,'база 2013'!$O$4:$O$1191,J$7)","v":0},{"$f":"COUNTIFS('база 2013'!$E$4:$E$1191,$B25,'база 2013'!$I$4:$I$1191,K$5,'база 2013'!$O$4:$O$1191,K$7)","v":0},{"$f":"COUNTIFS('база 2013'!$E$4:$E$1191,$B25,'база 2013'!$I$4:$I$1191,L$5,'база 2013'!$O$4:$O$1191,L$7)","v":0},{"$f":"COUNTIFS('база 2013'!$E$4:$E$1191,$B25,'база 2013'!$I$4:$I$1191,M$5,'база 2013'!$O$4:$O$1191,M$7)","v":0},{"$f":"COUNTIFS('база 2013'!$E$4:$E$1191,$B25,'база 2013'!$I$4:$I$1191,N$5,'база 2013'!$O$4:$O$1191,N$7)","v":0},{"$f":"COUNTIFS('база 2013'!$E$4:$E$1191,$B25,'база 2013'!$I$4:$I$1191,O$5,'база 2013'!$O$4:$O$1191,O$7)","v":0},{"$f":"COUNTIFS('база 2013'!$E$4:$E$1191,$B25,'база 2013'!$I$4:$I$1191,P$5,'база 2013'!$O$4:$O$1191,P$7)","v":0},{"$f":"COUNTIFS('база 2013'!$E$4:$E$1191,$B25,'база 2013'!$I$4:$I$1191,Q$5,'база 2013'!$O$4:$O$1191,Q$7)","v":0},0,0,0,{"$f":"COUNTIFS('база 2013'!$E$4:$E$1191,$B25,'база 2013'!$I$4:$I$1191,U$5,'база 2013'!$O$4:$O$1191,U$7)","v":0},{"$f":"COUNTIFS('база 2013'!$E$4:$E$1191,$B25,'база 2013'!$I$4:$I$1191,V$5,'база 2013'!$O$4:$O$1191,V$7)","v":0},{"$f":"COUNTIFS('база 2013'!$E$4:$E$1191,$B25,'база 2013'!$I$4:$I$1191,W$5,'база 2013'!$O$4:$O$1191,W$7)","v":0},{"$f":"COUNTIFS('база 2013'!$E$4:$E$1191,$B25,'база 2013'!$I$4:$I$1191,X$5,'база 2013'!$O$4:$O$1191,X$7)","v":0},{"$f":"COUNTIFS('база 2013'!$E$4:$E$1191,$B25,'база 2013'!$I$4:$I$1191,Y$5,'база 2013'!$O$4:$O$1191,Y$7)","v":0},{"$f":"COUNTIFS('база 2013'!$E$4:$E$1191,$B25,'база 2013'!$I$4:$I$1191,Z$5,'база 2013'!$O$4:$O$1191,Z$7)","v":0},{"$f":"COUNTIFS('база 2013'!$E$4:$E$1191,$B25,'база 2013'!$I$4:$I$1191,AA$5,'база 2013'!$O$4:$O$1191,AA$7)","v":0},{"$f":"COUNTIFS('база 2013'!$E$4:$E$1191,$B25,'база 2013'!$I$4:$I$1191,AB$5,'база 2013'!$O$4:$O$1191,AB$7)","v":0},{"$f":"COUNTIFS('база 2013'!$E$4:$E$1191,$B25,'база 2013'!$I$4:$I$1191,AC$5,'база 2013'!$O$4:$O$1191,AC$7)","v":0},0,0,0,{"$f":"COUNTIFS('база 2013'!$E$4:$E$1191,$B25,'база 2013'!$I$4:$I$1191,AG$5,'база 2013'!$O$4:$O$1191,AG$7)","v":0},{"$f":"COUNTIFS('база 2013'!$E$4:$E$1191,$B25,'база 2013'!$I$4:$I$1191,AH$5,'база 2013'!$O$4:$O$1191,AH$7)","v":0},{"$f":"COUNTIFS('база 2013'!$E$4:$E$1191,$B25,'база 2013'!$I$4:$I$1191,AI$5,'база 2013'!$O$4:$O$1191,AI$7)","v":0},{"$f":"COUNTIFS('база 2013'!$E$4:$E$1191,$B25,'база 2013'!$I$4:$I$1191,AJ$5,'база 2013'!$O$4:$O$1191,AJ$7)","v":0},{"$f":"COUNTIFS('база 2013'!$E$4:$E$1191,$B25,'база 2013'!$I$4:$I$1191,AK$5,'база 2013'!$O$4:$O$1191,AK$7)","v":0},{"$f":"COUNTIFS('база 2013'!$E$4:$E$1191,$B25,'база 2013'!$I$4:$I$1191,AL$5,'база 2013'!$O$4:$O$1191,AL$7)","v":0},{"$f":"COUNTIFS('база 2013'!$E$4:$E$1191,$B25,'база 2013'!$I$4:$I$1191,AM$5,'база 2013'!$O$4:$O$1191,AM$7)","v":0},{"$f":"COUNTIFS('база 2013'!$E$4:$E$1191,$B25,'база 2013'!$I$4:$I$1191,AN$5,'база 2013'!$O$4:$O$1191,AN$7)","v":0},{"$f":"COUNTIFS('база 2013'!$E$4:$E$1191,$B25,'база 2013'!$I$4:$I$1191,AO$5,'база 2013'!$O$4:$O$1191,AO$7)","v":0},{"$f":"COUNTIFS('база 2013'!$E$4:$E$1191,$B25,'база 2013'!$I$4:$I$1191,AP$5,'база 2013'!$O$4:$O$1191,AP$7)","v":0},{"$f":"COUNTIFS('база 2013'!$E$4:$E$1191,$B25,'база 2013'!$I$4:$I$1191,AQ$5,'база 2013'!$O$4:$O$1191,AQ$7)","v":0},{"$f":"COUNTIFS('база 2013'!$E$4:$E$1191,$B25,'база 2013'!$I$4:$I$1191,AR$5,'база 2013'!$O$4:$O$1191,AR$7)","v":0},{"$f":"COUNTIFS('база 2013'!$E$4:$E$1191,$B25,'база 2013'!$I$4:$I$1191,AS$5,'база 2013'!$O$4:$O$1191,AS$7)","v":0},{"$f":"COUNTIFS('база 2013'!$E$4:$E$1191,$B25,'база 2013'!$I$4:$I$1191,AT$5,'база 2013'!$O$4:$O$1191,AT$7)","v":0},{"$f":"COUNTIFS('база 2013'!$E$4:$E$1191,$B25,'база 2013'!$I$4:$I$1191,AU$5,'база 2013'!$O$4:$O$1191,AU$7)","v":0},{"$f":"COUNTIFS('база 2013'!$E$4:$E$1191,$B25,'база 2013'!$I$4:$I$1191,AV$5,'база 2013'!$O$4:$O$1191,AV$7)","v":0},{"$f":"COUNTIFS('база 2013'!$E$4:$E$1191,$B25,'база 2013'!$I$4:$I$1191,AW$5,'база 2013'!$O$4:$O$1191,AW$7)","v":0},{"$f":"COUNTIFS('база 2013'!$E$4:$E$1191,$B25,'база 2013'!$I$4:$I$1191,AX$5,'база 2013'!$O$4:$O$1191,AX$7)","v":0},0,0,0,0,0,0,0,null,0]
[19,"Каневской район",{"$f":"COUNTIFS('база 2013'!$E$4:$E$1191,$B26,'база 2013'!$I$4:$I$1191,C$5,'база 2013'!$O$4:$O$1191,C$7)","v":0},{"$f":"COUNTIFS('база 2013'!$E$4:$E$1191,$B26,'база 2013'!$I$4:$I$1191,D$5,'база 2013'!$O$4:$O$1191,D$7)","v":0},{"$f":"COUNTIFS('база 2013'!$E$4:$E$1191,$B26,'база 2013'!$I$4:$I$1191,E$5,'база 2013'!$O$4:$O$1191,E$7)","v":0},{"$f":"COUNTIFS('база 2013'!$E$4:$E$1191,$B26,'база 2013'!$I$4:$I$1191,F$5,'база 2013'!$O$4:$O$1191,F$7)","v":0},{"$f":"COUNTIFS('база 2013'!$E$4:$E$1191,$B26,'база 2013'!$I$4:$I$1191,G$5,'база 2013'!$O$4:$O$1191,G$7)","v":0},{"$f":"COUNTIFS('база 2013'!$E$4:$E$1191,$B26,'база 2013'!$I$4:$I$1191,H$5,'база 2013'!$O$4:$O$1191,H$7)","v":0},{"$f":"COUNTIFS('база 2013'!$E$4:$E$1191,$B26,'база 2013'!$I$4:$I$1191,I$5,'база 2013'!$O$4:$O$1191,I$7)","v":0},{"$f":"COUNTIFS('база 2013'!$E$4:$E$1191,$B26,'база 2013'!$I$4:$I$1191,J$5,'база 2013'!$O$4:$O$1191,J$7)","v":0},{"$f":"COUNTIFS('база 2013'!$E$4:$E$1191,$B26,'база 2013'!$I$4:$I$1191,K$5,'база 2013'!$O$4:$O$1191,K$7)","v":0},{"$f":"COUNTIFS('база 2013'!$E$4:$E$1191,$B26,'база 2013'!$I$4:$I$1191,L$5,'база 2013'!$O$4:$O$1191,L$7)","v":0},{"$f":"COUNTIFS('база 2013'!$E$4:$E$1191,$B26,'база 2013'!$I$4:$I$1191,M$5,'база 2013'!$O$4:$O$1191,M$7)","v":0},{"$f":"COUNTIFS('база 2013'!$E$4:$E$1191,$B26,'база 2013'!$I$4:$I$1191,N$5,'база 2013'!$O$4:$O$1191,N$7)","v":0},{"$f":"COUNTIFS('база 2013'!$E$4:$E$1191,$B26,'база 2013'!$I$4:$I$1191,O$5,'база 2013'!$O$4:$O$1191,O$7)","v":0},{"$f":"COUNTIFS('база 2013'!$E$4:$E$1191,$B26,'база 2013'!$I$4:$I$1191,P$5,'база 2013'!$O$4:$O$1191,P$7)","v":0},{"$f":"COUNTIFS('база 2013'!$E$4:$E$1191,$B26,'база 2013'!$I$4:$I$1191,Q$5,'база 2013'!$O$4:$O$1191,Q$7)","v":0},0,0,0,{"$f":"COUNTIFS('база 2013'!$E$4:$E$1191,$B26,'база 2013'!$I$4:$I$1191,U$5,'база 2013'!$O$4:$O$1191,U$7)","v":0},{"$f":"COUNTIFS('база 2013'!$E$4:$E$1191,$B26,'база 2013'!$I$4:$I$1191,V$5,'база 2013'!$O$4:$O$1191,V$7)","v":0},{"$f":"COUNTIFS('база 2013'!$E$4:$E$1191,$B26,'база 2013'!$I$4:$I$1191,W$5,'база 2013'!$O$4:$O$1191,W$7)","v":0},{"$f":"COUNTIFS('база 2013'!$E$4:$E$1191,$B26,'база 2013'!$I$4:$I$1191,X$5,'база 2013'!$O$4:$O$1191,X$7)","v":0},{"$f":"COUNTIFS('база 2013'!$E$4:$E$1191,$B26,'база 2013'!$I$4:$I$1191,Y$5,'база 2013'!$O$4:$O$1191,Y$7)","v":0},{"$f":"COUNTIFS('база 2013'!$E$4:$E$1191,$B26,'база 2013'!$I$4:$I$1191,Z$5,'база 2013'!$O$4:$O$1191,Z$7)","v":0},{"$f":"COUNTIFS('база 2013'!$E$4:$E$1191,$B26,'база 2013'!$I$4:$I$1191,AA$5,'база 2013'!$O$4:$O$1191,AA$7)","v":0},{"$f":"COUNTIFS('база 2013'!$E$4:$E$1191,$B26,'база 2013'!$I$4:$I$1191,AB$5,'база 2013'!$O$4:$O$1191,AB$7)","v":0},{"$f":"COUNTIFS('база 2013'!$E$4:$E$1191,$B26,'база 2013'!$I$4:$I$1191,AC$5,'база 2013'!$O$4:$O$1191,AC$7)","v":0},0,0,0,{"$f":"COUNTIFS('база 2013'!$E$4:$E$1191,$B26,'база 2013'!$I$4:$I$1191,AG$5,'база 2013'!$O$4:$O$1191,AG$7)","v":0},{"$f":"COUNTIFS('база 2013'!$E$4:$E$1191,$B26,'база 2013'!$I$4:$I$1191,AH$5,'база 2013'!$O$4:$O$1191,AH$7)","v":0},{"$f":"COUNTIFS('база 2013'!$E$4:$E$1191,$B26,'база 2013'!$I$4:$I$1191,AI$5,'база 2013'!$O$4:$O$1191,AI$7)","v":0},{"$f":"COUNTIFS('база 2013'!$E$4:$E$1191,$B26,'база 2013'!$I$4:$I$1191,AJ$5,'база 2013'!$O$4:$O$1191,AJ$7)","v":0},{"$f":"COUNTIFS('база 2013'!$E$4:$E$1191,$B26,'база 2013'!$I$4:$I$1191,AK$5,'база 2013'!$O$4:$O$1191,AK$7)","v":0},{"$f":"COUNTIFS('база 2013'!$E$4:$E$1191,$B26,'база 2013'!$I$4:$I$1191,AL$5,'база 2013'!$O$4:$O$1191,AL$7)","v":0},{"$f":"COUNTIFS('база 2013'!$E$4:$E$1191,$B26,'база 2013'!$I$4:$I$1191,AM$5,'база 2013'!$O$4:$O$1191,AM$7)","v":0},{"$f":"COUNTIFS('база 2013'!$E$4:$E$1191,$B26,'база 2013'!$I$4:$I$1191,AN$5,'база 2013'!$O$4:$O$1191,AN$7)","v":0},{"$f":"COUNTIFS('база 2013'!$E$4:$E$1191,$B26,'база 2013'!$I$4:$I$1191,AO$5,'база 2013'!$O$4:$O$1191,AO$7)","v":0},{"$f":"COUNTIFS('база 2013'!$E$4:$E$1191,$B26,'база 2013'!$I$4:$I$1191,AP$5,'база 2013'!$O$4:$O$1191,AP$7)","v":0},{"$f":"COUNTIFS('база 2013'!$E$4:$E$1191,$B26,'база 2013'!$I$4:$I$1191,AQ$5,'база 2013'!$O$4:$O$1191,AQ$7)","v":0},{"$f":"COUNTIFS('база 2013'!$E$4:$E$1191,$B26,'база 2013'!$I$4:$I$1191,AR$5,'база 2013'!$O$4:$O$1191,AR$7)","v":0},{"$f":"COUNTIFS('база 2013'!$E$4:$E$1191,$B26,'база 2013'!$I$4:$I$1191,AS$5,'база 2013'!$O$4:$O$1191,AS$7)","v":0},{"$f":"COUNTIFS('база 2013'!$E$4:$E$1191,$B26,'база 2013'!$I$4:$I$1191,AT$5,'база 2013'!$O$4:$O$1191,AT$7)","v":0},{"$f":"COUNTIFS('база 2013'!$E$4:$E$1191,$B26,'база 2013'!$I$4:$I$1191,AU$5,'база 2013'!$O$4:$O$1191,AU$7)","v":0},{"$f":"COUNTIFS('база 2013'!$E$4:$E$1191,$B26,'база 2013'!$I$4:$I$1191,AV$5,'база 2013'!$O$4:$O$1191,AV$7)","v":0},{"$f":"COUNTIFS('база 2013'!$E$4:$E$1191,$B26,'база 2013'!$I$4:$I$1191,AW$5,'база 2013'!$O$4:$O$1191,AW$7)","v":0},{"$f":"COUNTIFS('база 2013'!$E$4:$E$1191,$B26,'база 2013'!$I$4:$I$1191,AX$5,'база 2013'!$O$4:$O$1191,AX$7)","v":0},0,0,0,0,0,0,0,null,0]
[20,"Кореновский район",{"$f":"COUNTIFS('база 2013'!$E$4:$E$1191,$B27,'база 2013'!$I$4:$I$1191,C$5,'база 2013'!$O$4:$O$1191,C$7)","v":0},{"$f":"COUNTIFS('база 2013'!$E$4:$E$1191,$B27,'база 2013'!$I$4:$I$1191,D$5,'база 2013'!$O$4:$O$1191,D$7)","v":0},{"$f":"COUNTIFS('база 2013'!$E$4:$E$1191,$B27,'база 2013'!$I$4:$I$1191,E$5,'база 2013'!$O$4:$O$1191,E$7)","v":0},{"$f":"COUNTIFS('база 2013'!$E$4:$E$1191,$B27,'база 2013'!$I$4:$I$1191,F$5,'база 2013'!$O$4:$O$1191,F$7)","v":0},{"$f":"COUNTIFS('база 2013'!$E$4:$E$1191,$B27,'база 2013'!$I$4:$I$1191,G$5,'база 2013'!$O$4:$O$1191,G$7)","v":0},{"$f":"COUNTIFS('база 2013'!$E$4:$E$1191,$B27,'база 2013'!$I$4:$I$1191,H$5,'база 2013'!$O$4:$O$1191,H$7)","v":0},{"$f":"COUNTIFS('база 2013'!$E$4:$E$1191,$B27,'база 2013'!$I$4:$I$1191,I$5,'база 2013'!$O$4:$O$1191,I$7)","v":0},{"$f":"COUNTIFS('база 2013'!$E$4:$E$1191,$B27,'база 2013'!$I$4:$I$1191,J$5,'база 2013'!$O$4:$O$1191,J$7)","v":0},{"$f":"COUNTIFS('база 2013'!$E$4:$E$1191,$B27,'база 2013'!$I$4:$I$1191,K$5,'база 2013'!$O$4:$O$1191,K$7)","v":0},{"$f":"COUNTIFS('база 2013'!$E$4:$E$1191,$B27,'база 2013'!$I$4:$I$1191,L$5,'база 2013'!$O$4:$O$1191,L$7)","v":0},{"$f":"COUNTIFS('база 2013'!$E$4:$E$1191,$B27,'база 2013'!$I$4:$I$1191,M$5,'база 2013'!$O$4:$O$1191,M$7)","v":0},{"$f":"COUNTIFS('база 2013'!$E$4:$E$1191,$B27,'база 2013'!$I$4:$I$1191,N$5,'база 2013'!$O$4:$O$1191,N$7)","v":0},{"$f":"COUNTIFS('база 2013'!$E$4:$E$1191,$B27,'база 2013'!$I$4:$I$1191,O$5,'база 2013'!$O$4:$O$1191,O$7)","v":0},{"$f":"COUNTIFS('база 2013'!$E$4:$E$1191,$B27,'база 2013'!$I$4:$I$1191,P$5,'база 2013'!$O$4:$O$1191,P$7)","v":0},{"$f":"COUNTIFS('база 2013'!$E$4:$E$1191,$B27,'база 2013'!$I$4:$I$1191,Q$5,'база 2013'!$O$4:$O$1191,Q$7)","v":0},0,0,0,{"$f":"COUNTIFS('база 2013'!$E$4:$E$1191,$B27,'база 2013'!$I$4:$I$1191,U$5,'база 2013'!$O$4:$O$1191,U$7)","v":0},{"$f":"COUNTIFS('база 2013'!$E$4:$E$1191,$B27,'база 2013'!$I$4:$I$1191,V$5,'база 2013'!$O$4:$O$1191,V$7)","v":0},{"$f":"COUNTIFS('база 2013'!$E$4:$E$1191,$B27,'база 2013'!$I$4:$I$1191,W$5,'база 2013'!$O$4:$O$1191,W$7)","v":0},{"$f":"COUNTIFS('база 2013'!$E$4:$E$1191,$B27,'база 2013'!$I$4:$I$1191,X$5,'база 2013'!$O$4:$O$1191,X$7)","v":0},{"$f":"COUNTIFS('база 2013'!$E$4:$E$1191,$B27,'база 2013'!$I$4:$I$1191,Y$5,'база 2013'!$O$4:$O$1191,Y$7)","v":0},{"$f":"COUNTIFS('база 2013'!$E$4:$E$1191,$B27,'база 2013'!$I$4:$I$1191,Z$5,'база 2013'!$O$4:$O$1191,Z$7)","v":0},{"$f":"COUNTIFS('база 2013'!$E$4:$E$1191,$B27,'база 2013'!$I$4:$I$1191,AA$5,'база 2013'!$O$4:$O$1191,AA$7)","v":0},{"$f":"COUNTIFS('база 2013'!$E$4:$E$1191,$B27,'база 2013'!$I$4:$I$1191,AB$5,'база 2013'!$O$4:$O$1191,AB$7)","v":0},{"$f":"COUNTIFS('база 2013'!$E$4:$E$1191,$B27,'база 2013'!$I$4:$I$1191,AC$5,'база 2013'!$O$4:$O$1191,AC$7)","v":0},0,0,0,{"$f":"COUNTIFS('база 2013'!$E$4:$E$1191,$B27,'база 2013'!$I$4:$I$1191,AG$5,'база 2013'!$O$4:$O$1191,AG$7)","v":0},{"$f":"COUNTIFS('база 2013'!$E$4:$E$1191,$B27,'база 2013'!$I$4:$I$1191,AH$5,'база 2013'!$O$4:$O$1191,AH$7)","v":0},{"$f":"COUNTIFS('база 2013'!$E$4:$E$1191,$B27,'база 2013'!$I$4:$I$1191,AI$5,'база 2013'!$O$4:$O$1191,AI$7)","v":0},{"$f":"COUNTIFS('база 2013'!$E$4:$E$1191,$B27,'база 2013'!$I$4:$I$1191,AJ$5,'база 2013'!$O$4:$O$1191,AJ$7)","v":0},{"$f":"COUNTIFS('база 2013'!$E$4:$E$1191,$B27,'база 2013'!$I$4:$I$1191,AK$5,'база 2013'!$O$4:$O$1191,AK$7)","v":0},{"$f":"COUNTIFS('база 2013'!$E$4:$E$1191,$B27,'база 2013'!$I$4:$I$1191,AL$5,'база 2013'!$O$4:$O$1191,AL$7)","v":0},{"$f":"COUNTIFS('база 2013'!$E$4:$E$1191,$B27,'база 2013'!$I$4:$I$1191,AM$5,'база 2013'!$O$4:$O$1191,AM$7)","v":0},{"$f":"COUNTIFS('база 2013'!$E$4:$E$1191,$B27,'база 2013'!$I$4:$I$1191,AN$5,'база 2013'!$O$4:$O$1191,AN$7)","v":0},{"$f":"COUNTIFS('база 2013'!$E$4:$E$1191,$B27,'база 2013'!$I$4:$I$1191,AO$5,'база 2013'!$O$4:$O$1191,AO$7)","v":0},{"$f":"COUNTIFS('база 2013'!$E$4:$E$1191,$B27,'база 2013'!$I$4:$I$1191,AP$5,'база 2013'!$O$4:$O$1191,AP$7)","v":0},{"$f":"COUNTIFS('база 2013'!$E$4:$E$1191,$B27,'база 2013'!$I$4:$I$1191,AQ$5,'база 2013'!$O$4:$O$1191,AQ$7)","v":0},{"$f":"COUNTIFS('база 2013'!$E$4:$E$1191,$B27,'база 2013'!$I$4:$I$1191,AR$5,'база 2013'!$O$4:$O$1191,AR$7)","v":0},{"$f":"COUNTIFS('база 2013'!$E$4:$E$1191,$B27,'база 2013'!$I$4:$I$1191,AS$5,'база 2013'!$O$4:$O$1191,AS$7)","v":0},{"$f":"COUNTIFS('база 2013'!$E$4:$E$1191,$B27,'база 2013'!$I$4:$I$1191,AT$5,'база 2013'!$O$4:$O$1191,AT$7)","v":0},{"$f":"COUNTIFS('база 2013'!$E$4:$E$1191,$B27,'база 2013'!$I$4:$I$1191,AU$5,'база 2013'!$O$4:$O$1191,AU$7)","v":0},{"$f":"COUNTIFS('база 2013'!$E$4:$E$1191,$B27,'база 2013'!$I$4:$I$1191,AV$5,'база 2013'!$O$4:$O$1191,AV$7)","v":0},{"$f":"COUNTIFS('база 2013'!$E$4:$E$1191,$B27,'база 2013'!$I$4:$I$1191,AW$5,'база 2013'!$O$4:$O$1191,AW$7)","v":0},{"$f":"COUNTIFS('база 2013'!$E$4:$E$1191,$B27,'база 2013'!$I$4:$I$1191,AX$5,'база 2013'!$O$4:$O$1191,AX$7)","v":0},0,0,0,0,0,0,0,null,0]
[21,"Красноармейский район",{"$f":"COUNTIFS('база 2013'!$E$4:$E$1191,$B28,'база 2013'!$I$4:$I$1191,C$5,'база 2013'!$O$4:$O$1191,C$7)","v":0},{"$f":"COUNTIFS('база 2013'!$E$4:$E$1191,$B28,'база 2013'!$I$4:$I$1191,D$5,'база 2013'!$O$4:$O$1191,D$7)","v":0},{"$f":"COUNTIFS('база 2013'!$E$4:$E$1191,$B28,'база 2013'!$I$4:$I$1191,E$5,'база 2013'!$O$4:$O$1191,E$7)","v":0},{"$f":"COUNTIFS('база 2013'!$E$4:$E$1191,$B28,'база 2013'!$I$4:$I$1191,F$5,'база 2013'!$O$4:$O$1191,F$7)","v":0},{"$f":"COUNTIFS('база 2013'!$E$4:$E$1191,$B28,'база 2013'!$I$4:$I$1191,G$5,'база 2013'!$O$4:$O$1191,G$7)","v":0},{"$f":"COUNTIFS('база 2013'!$E$4:$E$1191,$B28,'база 2013'!$I$4:$I$1191,H$5,'база 2013'!$O$4:$O$1191,H$7)","v":0},{"$f":"COUNTIFS('база 2013'!$E$4:$E$1191,$B28,'база 2013'!$I$4:$I$1191,I$5,'база 2013'!$O$4:$O$1191,I$7)","v":0},{"$f":"COUNTIFS('база 2013'!$E$4:$E$1191,$B28,'база 2013'!$I$4:$I$1191,J$5,'база 2013'!$O$4:$O$1191,J$7)","v":0},{"$f":"COUNTIFS('база 2013'!$E$4:$E$1191,$B28,'база 2013'!$I$4:$I$1191,K$5,'база 2013'!$O$4:$O$1191,K$7)","v":0},{"$f":"COUNTIFS('база 2013'!$E$4:$E$1191,$B28,'база 2013'!$I$4:$I$1191,L$5,'база 2013'!$O$4:$O$1191,L$7)","v":0},{"$f":"COUNTIFS('база 2013'!$E$4:$E$1191,$B28,'база 2013'!$I$4:$I$1191,M$5,'база 2013'!$O$4:$O$1191,M$7)","v":0},{"$f":"COUNTIFS('база 2013'!$E$4:$E$1191,$B28,'база 2013'!$I$4:$I$1191,N$5,'база 2013'!$O$4:$O$1191,N$7)","v":0},{"$f":"COUNTIFS('база 2013'!$E$4:$E$1191,$B28,'база 2013'!$I$4:$I$1191,O$5,'база 2013'!$O$4:$O$1191,O$7)","v":0},{"$f":"COUNTIFS('база 2013'!$E$4:$E$1191,$B28,'база 2013'!$I$4:$I$1191,P$5,'база 2013'!$O$4:$O$1191,P$7)","v":0},{"$f":"COUNTIFS('база 2013'!$E$4:$E$1191,$B28,'база 2013'!$I$4:$I$1191,Q$5,'база 2013'!$O$4:$O$1191,Q$7)","v":0},0,0,0,{"$f":"COUNTIFS('база 2013'!$E$4:$E$1191,$B28,'база 2013'!$I$4:$I$1191,U$5,'база 2013'!$O$4:$O$1191,U$7)","v":0},{"$f":"COUNTIFS('база 2013'!$E$4:$E$1191,$B28,'база 2013'!$I$4:$I$1191,V$5,'база 2013'!$O$4:$O$1191,V$7)","v":0},{"$f":"COUNTIFS('база 2013'!$E$4:$E$1191,$B28,'база 2013'!$I$4:$I$1191,W$5,'база 2013'!$O$4:$O$1191,W$7)","v":0},{"$f":"COUNTIFS('база 2013'!$E$4:$E$1191,$B28,'база 2013'!$I$4:$I$1191,X$5,'база 2013'!$O$4:$O$1191,X$7)","v":0},{"$f":"COUNTIFS('база 2013'!$E$4:$E$1191,$B28,'база 2013'!$I$4:$I$1191,Y$5,'база 2013'!$O$4:$O$1191,Y$7)","v":0},{"$f":"COUNTIFS('база 2013'!$E$4:$E$1191,$B28,'база 2013'!$I$4:$I$1191,Z$5,'база 2013'!$O$4:$O$1191,Z$7)","v":0},{"$f":"COUNTIFS('база 2013'!$E$4:$E$1191,$B28,'база 2013'!$I$4:$I$1191,AA$5,'база 2013'!$O$4:$O$1191,AA$7)","v":0},{"$f":"COUNTIFS('база 2013'!$E$4:$E$1191,$B28,'база 2013'!$I$4:$I$1191,AB$5,'база 2013'!$O$4:$O$1191,AB$7)","v":0},{"$f":"COUNTIFS('база 2013'!$E$4:$E$1191,$B28,'база 2013'!$I$4:$I$1191,AC$5,'база 2013'!$O$4:$O$1191,AC$7)","v":0},0,0,0,{"$f":"COUNTIFS('база 2013'!$E$4:$E$1191,$B28,'база 2013'!$I$4:$I$1191,AG$5,'база 2013'!$O$4:$O$1191,AG$7)","v":0},{"$f":"COUNTIFS('база 2013'!$E$4:$E$1191,$B28,'база 2013'!$I$4:$I$1191,AH$5,'база 2013'!$O$4:$O$1191,AH$7)","v":0},{"$f":"COUNTIFS('база 2013'!$E$4:$E$1191,$B28,'база 2013'!$I$4:$I$1191,AI$5,'база 2013'!$O$4:$O$1191,AI$7)","v":0},{"$f":"COUNTIFS('база 2013'!$E$4:$E$1191,$B28,'база 2013'!$I$4:$I$1191,AJ$5,'база 2013'!$O$4:$O$1191,AJ$7)","v":0},{"$f":"COUNTIFS('база 2013'!$E$4:$E$1191,$B28,'база 2013'!$I$4:$I$1191,AK$5,'база 2013'!$O$4:$O$1191,AK$7)","v":0},{"$f":"COUNTIFS('база 2013'!$E$4:$E$1191,$B28,'база 2013'!$I$4:$I$1191,AL$5,'база 2013'!$O$4:$O$1191,AL$7)","v":0},{"$f":"COUNTIFS('база 2013'!$E$4:$E$1191,$B28,'база 2013'!$I$4:$I$1191,AM$5,'база 2013'!$O$4:$O$1191,AM$7)","v":0},{"$f":"COUNTIFS('база 2013'!$E$4:$E$1191,$B28,'база 2013'!$I$4:$I$1191,AN$5,'база 2013'!$O$4:$O$1191,AN$7)","v":0},{"$f":"COUNTIFS('база 2013'!$E$4:$E$1191,$B28,'база 2013'!$I$4:$I$1191,AO$5,'база 2013'!$O$4:$O$1191,AO$7)","v":0},{"$f":"COUNTIFS('база 2013'!$E$4:$E$1191,$B28,'база 2013'!$I$4:$I$1191,AP$5,'база 2013'!$O$4:$O$1191,AP$7)","v":0},{"$f":"COUNTIFS('база 2013'!$E$4:$E$1191,$B28,'база 2013'!$I$4:$I$1191,AQ$5,'база 2013'!$O$4:$O$1191,AQ$7)","v":0},{"$f":"COUNTIFS('база 2013'!$E$4:$E$1191,$B28,'база 2013'!$I$4:$I$1191,AR$5,'база 2013'!$O$4:$O$1191,AR$7)","v":0},{"$f":"COUNTIFS('база 2013'!$E$4:$E$1191,$B28,'база 2013'!$I$4:$I$1191,AS$5,'база 2013'!$O$4:$O$1191,AS$7)","v":0},{"$f":"COUNTIFS('база 2013'!$E$4:$E$1191,$B28,'база 2013'!$I$4:$I$1191,AT$5,'база 2013'!$O$4:$O$1191,AT$7)","v":0},{"$f":"COUNTIFS('база 2013'!$E$4:$E$1191,$B28,'база 2013'!$I$4:$I$1191,AU$5,'база 2013'!$O$4:$O$1191,AU$7)","v":0},{"$f":"COUNTIFS('база 2013'!$E$4:$E$1191,$B28,'база 2013'!$I$4:$I$1191,AV$5,'база 2013'!$O$4:$O$1191,AV$7)","v":0},{"$f":"COUNTIFS('база 2013'!$E$4:$E$1191,$B28,'база 2013'!$I$4:$I$1191,AW$5,'база 2013'!$O$4:$O$1191,AW$7)","v":0},{"$f":"COUNTIFS('база 2013'!$E$4:$E$1191,$B28,'база 2013'!$I$4:$I$1191,AX$5,'база 2013'!$O$4:$O$1191,AX$7)","v":0},0,0,0,{"$f":"SUMIFS($C28:$BA28,$C$6:$BA$6,BB$6,$C$7:$BA$7,BB$7)","v":0},0,0,0,null,0]
[22,"Крыловский район",{"$f":"COUNTIFS('база 2013'!$E$4:$E$1191,$B29,'база 2013'!$I$4:$I$1191,C$5,'база 2013'!$O$4:$O$1191,C$7)","v":0},{"$f":"COUNTIFS('база 2013'!$E$4:$E$1191,$B29,'база 2013'!$I$4:$I$1191,D$5,'база 2013'!$O$4:$O$1191,D$7)","v":0},{"$f":"COUNTIFS('база 2013'!$E$4:$E$1191,$B29,'база 2013'!$I$4:$I$1191,E$5,'база 2013'!$O$4:$O$1191,E$7)","v":0},{"$f":"COUNTIFS('база 2013'!$E$4:$E$1191,$B29,'база 2013'!$I$4:$I$1191,F$5,'база 2013'!$O$4:$O$1191,F$7)","v":0},{"$f":"COUNTIFS('база 2013'!$E$4:$E$1191,$B29,'база 2013'!$I$4:$I$1191,G$5,'база 2013'!$O$4:$O$1191,G$7)","v":0},{"$f":"COUNTIFS('база 2013'!$E$4:$E$1191,$B29,'база 2013'!$I$4:$I$1191,H$5,'база 2013'!$O$4:$O$1191,H$7)","v":0},{"$f":"COUNTIFS('база 2013'!$E$4:$E$1191,$B29,'база 2013'!$I$4:$I$1191,I$5,'база 2013'!$O$4:$O$1191,I$7)","v":0},{"$f":"COUNTIFS('база 2013'!$E$4:$E$1191,$B29,'база 2013'!$I$4:$I$1191,J$5,'база 2013'!$O$4:$O$1191,J$7)","v":0},{"$f":"COUNTIFS('база 2013'!$E$4:$E$1191,$B29,'база 2013'!$I$4:$I$1191,K$5,'база 2013'!$O$4:$O$1191,K$7)","v":0},{"$f":"COUNTIFS('база 2013'!$E$4:$E$1191,$B29,'база 2013'!$I$4:$I$1191,L$5,'база 2013'!$O$4:$O$1191,L$7)","v":0},{"$f":"COUNTIFS('база 2013'!$E$4:$E$1191,$B29,'база 2013'!$I$4:$I$1191,M$5,'база 2013'!$O$4:$O$1191,M$7)","v":0},{"$f":"COUNTIFS('база 2013'!$E$4:$E$1191,$B29,'база 2013'!$I$4:$I$1191,N$5,'база 2013'!$O$4:$O$1191,N$7)","v":0},{"$f":"COUNTIFS('база 2013'!$E$4:$E$1191,$B29,'база 2013'!$I$4:$I$1191,O$5,'база 2013'!$O$4:$O$1191,O$7)","v":0},{"$f":"COUNTIFS('база 2013'!$E$4:$E$1191,$B29,'база 2013'!$I$4:$I$1191,P$5,'база 2013'!$O$4:$O$1191,P$7)","v":0},{"$f":"COUNTIFS('база 2013'!$E$4:$E$1191,$B29,'база 2013'!$I$4:$I$1191,Q$5,'база 2013'!$O$4:$O$1191,Q$7)","v":0},0,0,0,{"$f":"COUNTIFS('база 2013'!$E$4:$E$1191,$B29,'база 2013'!$I$4:$I$1191,U$5,'база 2013'!$O$4:$O$1191,U$7)","v":0},{"$f":"COUNTIFS('база 2013'!$E$4:$E$1191,$B29,'база 2013'!$I$4:$I$1191,V$5,'база 2013'!$O$4:$O$1191,V$7)","v":0},{"$f":"COUNTIFS('база 2013'!$E$4:$E$1191,$B29,'база 2013'!$I$4:$I$1191,W$5,'база 2013'!$O$4:$O$1191,W$7)","v":0},{"$f":"COUNTIFS('база 2013'!$E$4:$E$1191,$B29,'база 2013'!$I$4:$I$1191,X$5,'база 2013'!$O$4:$O$1191,X$7)","v":0},{"$f":"COUNTIFS('база 2013'!$E$4:$E$1191,$B29,'база 2013'!$I$4:$I$1191,Y$5,'база 2013'!$O$4:$O$1191,Y$7)","v":0},{"$f":"COUNTIFS('база 2013'!$E$4:$E$1191,$B29,'база 2013'!$I$4:$I$1191,Z$5,'база 2013'!$O$4:$O$1191,Z$7)","v":0},{"$f":"COUNTIFS('база 2013'!$E$4:$E$1191,$B29,'база 2013'!$I$4:$I$1191,AA$5,'база 2013'!$O$4:$O$1191,AA$7)","v":0},{"$f":"COUNTIFS('база 2013'!$E$4:$E$1191,$B29,'база 2013'!$I$4:$I$1191,AB$5,'база 2013'!$O$4:$O$1191,AB$7)","v":0},{"$f":"COUNTIFS('база 2013'!$E$4:$E$1191,$B29,'база 2013'!$I$4:$I$1191,AC$5,'база 2013'!$O$4:$O$1191,AC$7)","v":0},0,0,0,{"$f":"COUNTIFS('база 2013'!$E$4:$E$1191,$B29,'база 2013'!$I$4:$I$1191,AG$5,'база 2013'!$O$4:$O$1191,AG$7)","v":0},{"$f":"COUNTIFS('база 2013'!$E$4:$E$1191,$B29,'база 2013'!$I$4:$I$1191,AH$5,'база 2013'!$O$4:$O$1191,AH$7)","v":0},{"$f":"COUNTIFS('база 2013'!$E$4:$E$1191,$B29,'база 2013'!$I$4:$I$1191,AI$5,'база 2013'!$O$4:$O$1191,AI$7)","v":0},{"$f":"COUNTIFS('база 2013'!$E$4:$E$1191,$B29,'база 2013'!$I$4:$I$1191,AJ$5,'база 2013'!$O$4:$O$1191,AJ$7)","v":0},{"$f":"COUNTIFS('база 2013'!$E$4:$E$1191,$B29,'база 2013'!$I$4:$I$1191,AK$5,'база 2013'!$O$4:$O$1191,AK$7)","v":0},{"$f":"COUNTIFS('база 2013'!$E$4:$E$1191,$B29,'база 2013'!$I$4:$I$1191,AL$5,'база 2013'!$O$4:$O$1191,AL$7)","v":0},{"$f":"COUNTIFS('база 2013'!$E$4:$E$1191,$B29,'база 2013'!$I$4:$I$1191,AM$5,'база 2013'!$O$4:$O$1191,AM$7)","v":0},{"$f":"COUNTIFS('база 2013'!$E$4:$E$1191,$B29,'база 2013'!$I$4:$I$1191,AN$5,'база 2013'!$O$4:$O$1191,AN$7)","v":0},{"$f":"COUNTIFS('база 2013'!$E$4:$E$1191,$B29,'база 2013'!$I$4:$I$1191,AO$5,'база 2013'!$O$4:$O$1191,AO$7)","v":0},{"$f":"COUNTIFS('база 2013'!$E$4:$E$1191,$B29,'база 2013'!$I$4:$I$1191,AP$5,'база 2013'!$O$4:$O$1191,AP$7)","v":0},{"$f":"COUNTIFS('база 2013'!$E$4:$E$1191,$B29,'база 2013'!$I$4:$I$1191,AQ$5,'база 2013'!$O$4:$O$1191,AQ$7)","v":0},{"$f":"COUNTIFS('база 2013'!$E$4:$E$1191,$B29,'база 2013'!$I$4:$I$1191,AR$5,'база 2013'!$O$4:$O$1191,AR$7)","v":0},{"$f":"COUNTIFS('база 2013'!$E$4:$E$1191,$B29,'база 2013'!$I$4:$I$1191,AS$5,'база 2013'!$O$4:$O$1191,AS$7)","v":0},{"$f":"COUNTIFS('база 2013'!$E$4:$E$1191,$B29,'база 2013'!$I$4:$I$1191,AT$5,'база 2013'!$O$4:$O$1191,AT$7)","v":0},{"$f":"COUNTIFS('база 2013'!$E$4:$E$1191,$B29,'база 2013'!$I$4:$I$1191,AU$5,'база 2013'!$O$4:$O$1191,AU$7)","v":0},{"$f":"COUNTIFS('база 2013'!$E$4:$E$1191,$B29,'база 2013'!$I$4:$I$1191,AV$5,'база 2013'!$O$4:$O$1191,AV$7)","v":0},{"$f":"COUNTIFS('база 2013'!$E$4:$E$1191,$B29,'база 2013'!$I$4:$I$1191,AW$5,'база 2013'!$O$4:$O$1191,AW$7)","v":0},{"$f":"COUNTIFS('база 2013'!$E$4:$E$1191,$B29,'база 2013'!$I$4:$I$1191,AX$5,'база 2013'!$O$4:$O$1191,AX$7)","v":0},0,0,0,0,0,0,0,null,0]
[23,"Крымский район",{"$f":"COUNTIFS('база 2013'!$E$4:$E$1191,$B30,'база 2013'!$I$4:$I$1191,C$5,'база 2013'!$O$4:$O$1191,C$7)","v":0},{"$f":"COUNTIFS('база 2013'!$E$4:$E$1191,$B30,'база 2013'!$I$4:$I$1191,D$5,'база 2013'!$O$4:$O$1191,D$7)","v":0},{"$f":"COUNTIFS('база 2013'!$E$4:$E$1191,$B30,'база 2013'!$I$4:$I$1191,E$5,'база 2013'!$O$4:$O$1191,E$7)","v":0},{"$f":"COUNTIFS('база 2013'!$E$4:$E$1191,$B30,'база 2013'!$I$4:$I$1191,F$5,'база 2013'!$O$4:$O$1191,F$7)","v":0},{"$f":"COUNTIFS('база 2013'!$E$4:$E$1191,$B30,'база 2013'!$I$4:$I$1191,G$5,'база 2013'!$O$4:$O$1191,G$7)","v":0},{"$f":"COUNTIFS('база 2013'!$E$4:$E$1191,$B30,'база 2013'!$I$4:$I$1191,H$5,'база 2013'!$O$4:$O$1191,H$7)","v":0},{"$f":"COUNTIFS('база 2013'!$E$4:$E$1191,$B30,'база 2013'!$I$4:$I$1191,I$5,'база 2013'!$O$4:$O$1191,I$7)","v":0},{"$f":"COUNTIFS('база 2013'!$E$4:$E$1191,$B30,'база 2013'!$I$4:$I$1191,J$5,'база 2013'!$O$4:$O$1191,J$7)","v":0},{"$f":"COUNTIFS('база 2013'!$E$4:$E$1191,$B30,'база 2013'!$I$4:$I$1191,K$5,'база 2013'!$O$4:$O$1191,K$7)","v":0},{"$f":"COUNTIFS('база 2013'!$E$4:$E$1191,$B30,'база 2013'!$I$4:$I$1191,L$5,'база 2013'!$O$4:$O$1191,L$7)","v":0},{"$f":"COUNTIFS('база 2013'!$E$4:$E$1191,$B30,'база 2013'!$I$4:$I$1191,M$5,'база 2013'!$O$4:$O$1191,M$7)","v":0},{"$f":"COUNTIFS('база 2013'!$E$4:$E$1191,$B30,'база 2013'!$I$4:$I$1191,N$5,'база 2013'!$O$4:$O$1191,N$7)","v":0},{"$f":"COUNTIFS('база 2013'!$E$4:$E$1191,$B30,'база 2013'!$I$4:$I$1191,O$5,'база 2013'!$O$4:$O$1191,O$7)","v":0},{"$f":"COUNTIFS('база 2013'!$E$4:$E$1191,$B30,'база 2013'!$I$4:$I$1191,P$5,'база 2013'!$O$4:$O$1191,P$7)","v":0},{"$f":"COUNTIFS('база 2013'!$E$4:$E$1191,$B30,'база 2013'!$I$4:$I$1191,Q$5,'база 2013'!$O$4:$O$1191,Q$7)","v":0},0,0,0,{"$f":"COUNTIFS('база 2013'!$E$4:$E$1191,$B30,'база 2013'!$I$4:$I$1191,U$5,'база 2013'!$O$4:$O$1191,U$7)","v":0},{"$f":"COUNTIFS('база 2013'!$E$4:$E$1191,$B30,'база 2013'!$I$4:$I$1191,V$5,'база 2013'!$O$4:$O$1191,V$7)","v":0},{"$f":"COUNTIFS('база 2013'!$E$4:$E$1191,$B30,'база 2013'!$I$4:$I$1191,W$5,'база 2013'!$O$4:$O$1191,W$7)","v":0},{"$f":"COUNTIFS('база 2013'!$E$4:$E$1191,$B30,'база 2013'!$I$4:$I$1191,X$5,'база 2013'!$O$4:$O$1191,X$7)","v":0},{"$f":"COUNTIFS('база 2013'!$E$4:$E$1191,$B30,'база 2013'!$I$4:$I$1191,Y$5,'база 2013'!$O$4:$O$1191,Y$7)","v":0},{"$f":"COUNTIFS('база 2013'!$E$4:$E$1191,$B30,'база 2013'!$I$4:$I$1191,Z$5,'база 2013'!$O$4:$O$1191,Z$7)","v":0},{"$f":"COUNTIFS('база 2013'!$E$4:$E$1191,$B30,'база 2013'!$I$4:$I$1191,AA$5,'база 2013'!$O$4:$O$1191,AA$7)","v":0},{"$f":"COUNTIFS('база 2013'!$E$4:$E$1191,$B30,'база 2013'!$I$4:$I$1191,AB$5,'база 2013'!$O$4:$O$1191,AB$7)","v":0},{"$f":"COUNTIFS('база 2013'!$E$4:$E$1191,$B30,'база 2013'!$I$4:$I$1191,AC$5,'база 2013'!$O$4:$O$1191,AC$7)","v":0},0,0,0,{"$f":"COUNTIFS('база 2013'!$E$4:$E$1191,$B30,'база 2013'!$I$4:$I$1191,AG$5,'база 2013'!$O$4:$O$1191,AG$7)","v":0},{"$f":"COUNTIFS('база 2013'!$E$4:$E$1191,$B30,'база 2013'!$I$4:$I$1191,AH$5,'база 2013'!$O$4:$O$1191,AH$7)","v":0},{"$f":"COUNTIFS('база 2013'!$E$4:$E$1191,$B30,'база 2013'!$I$4:$I$1191,AI$5,'база 2013'!$O$4:$O$1191,AI$7)","v":0},{"$f":"COUNTIFS('база 2013'!$E$4:$E$1191,$B30,'база 2013'!$I$4:$I$1191,AJ$5,'база 2013'!$O$4:$O$1191,AJ$7)","v":0},{"$f":"COUNTIFS('база 2013'!$E$4:$E$1191,$B30,'база 2013'!$I$4:$I$1191,AK$5,'база 2013'!$O$4:$O$1191,AK$7)","v":0},{"$f":"COUNTIFS('база 2013'!$E$4:$E$1191,$B30,'база 2013'!$I$4:$I$1191,AL$5,'база 2013'!$O$4:$O$1191,AL$7)","v":0},{"$f":"COUNTIFS('база 2013'!$E$4:$E$1191,$B30,'база 2013'!$I$4:$I$1191,AM$5,'база 2013'!$O$4:$O$1191,AM$7)","v":0},{"$f":"COUNTIFS('база 2013'!$E$4:$E$1191,$B30,'база 2013'!$I$4:$I$1191,AN$5,'база 2013'!$O$4:$O$1191,AN$7)","v":0},{"$f":"COUNTIFS('база 2013'!$E$4:$E$1191,$B30,'база 2013'!$I$4:$I$1191,AO$5,'база 2013'!$O$4:$O$1191,AO$7)","v":0},{"$f":"COUNTIFS('база 2013'!$E$4:$E$1191,$B30,'база 2013'!$I$4:$I$1191,AP$5,'база 2013'!$O$4:$O$1191,AP$7)","v":0},{"$f":"COUNTIFS('база 2013'!$E$4:$E$1191,$B30,'база 2013'!$I$4:$I$1191,AQ$5,'база 2013'!$O$4:$O$1191,AQ$7)","v":0},{"$f":"COUNTIFS('база 2013'!$E$4:$E$1191,$B30,'база 2013'!$I$4:$I$1191,AR$5,'база 2013'!$O$4:$O$1191,AR$7)","v":0},{"$f":"COUNTIFS('база 2013'!$E$4:$E$1191,$B30,'база 2013'!$I$4:$I$1191,AS$5,'база 2013'!$O$4:$O$1191,AS$7)","v":0},{"$f":"COUNTIFS('база 2013'!$E$4:$E$1191,$B30,'база 2013'!$I$4:$I$1191,AT$5,'база 2013'!$O$4:$O$1191,AT$7)","v":0},{"$f":"COUNTIFS('база 2013'!$E$4:$E$1191,$B30,'база 2013'!$I$4:$I$1191,AU$5,'база 2013'!$O$4:$O$1191,AU$7)","v":0},{"$f":"COUNTIFS('база 2013'!$E$4:$E$1191,$B30,'база 2013'!$I$4:$I$1191,AV$5,'база 2013'!$O$4:$O$1191,AV$7)","v":0},{"$f":"COUNTIFS('база 2013'!$E$4:$E$1191,$B30,'база 2013'!$I$4:$I$1191,AW$5,'база 2013'!$O$4:$O$1191,AW$7)","v":0},{"$f":"COUNTIFS('база 2013'!$E$4:$E$1191,$B30,'база 2013'!$I$4:$I$1191,AX$5,'база 2013'!$O$4:$O$1191,AX$7)","v":0},0,0,0,0,0,0,0,null,0]
[24,"Курганинский район",{"$f":"COUNTIFS('база 2013'!$E$4:$E$1191,$B31,'база 2013'!$I$4:$I$1191,C$5,'база 2013'!$O$4:$O$1191,C$7)","v":0},{"$f":"COUNTIFS('база 2013'!$E$4:$E$1191,$B31,'база 2013'!$I$4:$I$1191,D$5,'база 2013'!$O$4:$O$1191,D$7)","v":0},{"$f":"COUNTIFS('база 2013'!$E$4:$E$1191,$B31,'база 2013'!$I$4:$I$1191,E$5,'база 2013'!$O$4:$O$1191,E$7)","v":0},{"$f":"COUNTIFS('база 2013'!$E$4:$E$1191,$B31,'база 2013'!$I$4:$I$1191,F$5,'база 2013'!$O$4:$O$1191,F$7)","v":0},{"$f":"COUNTIFS('база 2013'!$E$4:$E$1191,$B31,'база 2013'!$I$4:$I$1191,G$5,'база 2013'!$O$4:$O$1191,G$7)","v":0},{"$f":"COUNTIFS('база 2013'!$E$4:$E$1191,$B31,'база 2013'!$I$4:$I$1191,H$5,'база 2013'!$O$4:$O$1191,H$7)","v":0},{"$f":"COUNTIFS('база 2013'!$E$4:$E$1191,$B31,'база 2013'!$I$4:$I$1191,I$5,'база 2013'!$O$4:$O$1191,I$7)","v":0},{"$f":"COUNTIFS('база 2013'!$E$4:$E$1191,$B31,'база 2013'!$I$4:$I$1191,J$5,'база 2013'!$O$4:$O$1191,J$7)","v":0},{"$f":"COUNTIFS('база 2013'!$E$4:$E$1191,$B31,'база 2013'!$I$4:$I$1191,K$5,'база 2013'!$O$4:$O$1191,K$7)","v":0},{"$f":"COUNTIFS('база 2013'!$E$4:$E$1191,$B31,'база 2013'!$I$4:$I$1191,L$5,'база 2013'!$O$4:$O$1191,L$7)","v":0},{"$f":"COUNTIFS('база 2013'!$E$4:$E$1191,$B31,'база 2013'!$I$4:$I$1191,M$5,'база 2013'!$O$4:$O$1191,M$7)","v":0},{"$f":"COUNTIFS('база 2013'!$E$4:$E$1191,$B31,'база 2013'!$I$4:$I$1191,N$5,'база 2013'!$O$4:$O$1191,N$7)","v":0},{"$f":"COUNTIFS('база 2013'!$E$4:$E$1191,$B31,'база 2013'!$I$4:$I$1191,O$5,'база 2013'!$O$4:$O$1191,O$7)","v":0},{"$f":"COUNTIFS('база 2013'!$E$4:$E$1191,$B31,'база 2013'!$I$4:$I$1191,P$5,'база 2013'!$O$4:$O$1191,P$7)","v":0},{"$f":"COUNTIFS('база 2013'!$E$4:$E$1191,$B31,'база 2013'!$I$4:$I$1191,Q$5,'база 2013'!$O$4:$O$1191,Q$7)","v":0},0,0,0,{"$f":"COUNTIFS('база 2013'!$E$4:$E$1191,$B31,'база 2013'!$I$4:$I$1191,U$5,'база 2013'!$O$4:$O$1191,U$7)","v":0},{"$f":"COUNTIFS('база 2013'!$E$4:$E$1191,$B31,'база 2013'!$I$4:$I$1191,V$5,'база 2013'!$O$4:$O$1191,V$7)","v":0},{"$f":"COUNTIFS('база 2013'!$E$4:$E$1191,$B31,'база 2013'!$I$4:$I$1191,W$5,'база 2013'!$O$4:$O$1191,W$7)","v":0},{"$f":"COUNTIFS('база 2013'!$E$4:$E$1191,$B31,'база 2013'!$I$4:$I$1191,X$5,'база 2013'!$O$4:$O$1191,X$7)","v":0},{"$f":"COUNTIFS('база 2013'!$E$4:$E$1191,$B31,'база 2013'!$I$4:$I$1191,Y$5,'база 2013'!$O$4:$O$1191,Y$7)","v":0},{"$f":"COUNTIFS('база 2013'!$E$4:$E$1191,$B31,'база 2013'!$I$4:$I$1191,Z$5,'база 2013'!$O$4:$O$1191,Z$7)","v":0},{"$f":"COUNTIFS('база 2013'!$E$4:$E$1191,$B31,'база 2013'!$I$4:$I$1191,AA$5,'база 2013'!$O$4:$O$1191,AA$7)","v":0},{"$f":"COUNTIFS('база 2013'!$E$4:$E$1191,$B31,'база 2013'!$I$4:$I$1191,AB$5,'база 2013'!$O$4:$O$1191,AB$7)","v":0},{"$f":"COUNTIFS('база 2013'!$E$4:$E$1191,$B31,'база 2013'!$I$4:$I$1191,AC$5,'база 2013'!$O$4:$O$1191,AC$7)","v":0},0,0,0,{"$f":"COUNTIFS('база 2013'!$E$4:$E$1191,$B31,'база 2013'!$I$4:$I$1191,AG$5,'база 2013'!$O$4:$O$1191,AG$7)","v":0},{"$f":"COUNTIFS('база 2013'!$E$4:$E$1191,$B31,'база 2013'!$I$4:$I$1191,AH$5,'база 2013'!$O$4:$O$1191,AH$7)","v":0},{"$f":"COUNTIFS('база 2013'!$E$4:$E$1191,$B31,'база 2013'!$I$4:$I$1191,AI$5,'база 2013'!$O$4:$O$1191,AI$7)","v":0},{"$f":"COUNTIFS('база 2013'!$E$4:$E$1191,$B31,'база 2013'!$I$4:$I$1191,AJ$5,'база 2013'!$O$4:$O$1191,AJ$7)","v":0},{"$f":"COUNTIFS('база 2013'!$E$4:$E$1191,$B31,'база 2013'!$I$4:$I$1191,AK$5,'база 2013'!$O$4:$O$1191,AK$7)","v":0},{"$f":"COUNTIFS('база 2013'!$E$4:$E$1191,$B31,'база 2013'!$I$4:$I$1191,AL$5,'база 2013'!$O$4:$O$1191,AL$7)","v":0},{"$f":"COUNTIFS('база 2013'!$E$4:$E$1191,$B31,'база 2013'!$I$4:$I$1191,AM$5,'база 2013'!$O$4:$O$1191,AM$7)","v":0},{"$f":"COUNTIFS('база 2013'!$E$4:$E$1191,$B31,'база 2013'!$I$4:$I$1191,AN$5,'база 2013'!$O$4:$O$1191,AN$7)","v":0},{"$f":"COUNTIFS('база 2013'!$E$4:$E$1191,$B31,'база 2013'!$I$4:$I$1191,AO$5,'база 2013'!$O$4:$O$1191,AO$7)","v":0},{"$f":"COUNTIFS('база 2013'!$E$4:$E$1191,$B31,'база 2013'!$I$4:$I$1191,AP$5,'база 2013'!$O$4:$O$1191,AP$7)","v":0},{"$f":"COUNTIFS('база 2013'!$E$4:$E$1191,$B31,'база 2013'!$I$4:$I$1191,AQ$5,'база 2013'!$O$4:$O$1191,AQ$7)","v":0},{"$f":"COUNTIFS('база 2013'!$E$4:$E$1191,$B31,'база 2013'!$I$4:$I$1191,AR$5,'база 2013'!$O$4:$O$1191,AR$7)","v":0},{"$f":"COUNTIFS('база 2013'!$E$4:$E$1191,$B31,'база 2013'!$I$4:$I$1191,AS$5,'база 2013'!$O$4:$O$1191,AS$7)","v":0},{"$f":"COUNTIFS('база 2013'!$E$4:$E$1191,$B31,'база 2013'!$I$4:$I$1191,AT$5,'база 2013'!$O$4:$O$1191,AT$7)","v":0},{"$f":"COUNTIFS('база 2013'!$E$4:$E$1191,$B31,'база 2013'!$I$4:$I$1191,AU$5,'база 2013'!$O$4:$O$1191,AU$7)","v":0},{"$f":"COUNTIFS('база 2013'!$E$4:$E$1191,$B31,'база 2013'!$I$4:$I$1191,AV$5,'база 2013'!$O$4:$O$1191,AV$7)","v":0},{"$f":"COUNTIFS('база 2013'!$E$4:$E$1191,$B31,'база 2013'!$I$4:$I$1191,AW$5,'база 2013'!$O$4:$O$1191,AW$7)","v":0},{"$f":"COUNTIFS('база 2013'!$E$4:$E$1191,$B31,'база 2013'!$I$4:$I$1191,AX$5,'база 2013'!$O$4:$O$1191,AX$7)","v":0},0,0,0,0,0,0,0,null,0]
[25,"Кущевский район",{"$f":"COUNTIFS('база 2013'!$E$4:$E$1191,$B32,'база 2013'!$I$4:$I$1191,C$5,'база 2013'!$O$4:$O$1191,C$7)","v":0},{"$f":"COUNTIFS('база 2013'!$E$4:$E$1191,$B32,'база 2013'!$I$4:$I$1191,D$5,'база 2013'!$O$4:$O$1191,D$7)","v":0},{"$f":"COUNTIFS('база 2013'!$E$4:$E$1191,$B32,'база 2013'!$I$4:$I$1191,E$5,'база 2013'!$O$4:$O$1191,E$7)","v":0},{"$f":"COUNTIFS('база 2013'!$E$4:$E$1191,$B32,'база 2013'!$I$4:$I$1191,F$5,'база 2013'!$O$4:$O$1191,F$7)","v":0},{"$f":"COUNTIFS('база 2013'!$E$4:$E$1191,$B32,'база 2013'!$I$4:$I$1191,G$5,'база 2013'!$O$4:$O$1191,G$7)","v":0},{"$f":"COUNTIFS('база 2013'!$E$4:$E$1191,$B32,'база 2013'!$I$4:$I$1191,H$5,'база 2013'!$O$4:$O$1191,H$7)","v":0},{"$f":"COUNTIFS('база 2013'!$E$4:$E$1191,$B32,'база 2013'!$I$4:$I$1191,I$5,'база 2013'!$O$4:$O$1191,I$7)","v":0},{"$f":"COUNTIFS('база 2013'!$E$4:$E$1191,$B32,'база 2013'!$I$4:$I$1191,J$5,'база 2013'!$O$4:$O$1191,J$7)","v":0},{"$f":"COUNTIFS('база 2013'!$E$4:$E$1191,$B32,'база 2013'!$I$4:$I$1191,K$5,'база 2013'!$O$4:$O$1191,K$7)","v":0},{"$f":"COUNTIFS('база 2013'!$E$4:$E$1191,$B32,'база 2013'!$I$4:$I$1191,L$5,'база 2013'!$O$4:$O$1191,L$7)","v":0},{"$f":"COUNTIFS('база 2013'!$E$4:$E$1191,$B32,'база 2013'!$I$4:$I$1191,M$5,'база 2013'!$O$4:$O$1191,M$7)","v":0},{"$f":"COUNTIFS('база 2013'!$E$4:$E$1191,$B32,'база 2013'!$I$4:$I$1191,N$5,'база 2013'!$O$4:$O$1191,N$7)","v":0},{"$f":"COUNTIFS('база 2013'!$E$4:$E$1191,$B32,'база 2013'!$I$4:$I$1191,O$5,'база 2013'!$O$4:$O$1191,O$7)","v":0},{"$f":"COUNTIFS('база 2013'!$E$4:$E$1191,$B32,'база 2013'!$I$4:$I$1191,P$5,'база 2013'!$O$4:$O$1191,P$7)","v":0},{"$f":"COUNTIFS('база 2013'!$E$4:$E$1191,$B32,'база 2013'!$I$4:$I$1191,Q$5,'база 2013'!$O$4:$O$1191,Q$7)","v":0},0,0,0,{"$f":"COUNTIFS('база 2013'!$E$4:$E$1191,$B32,'база 2013'!$I$4:$I$1191,U$5,'база 2013'!$O$4:$O$1191,U$7)","v":0},{"$f":"COUNTIFS('база 2013'!$E$4:$E$1191,$B32,'база 2013'!$I$4:$I$1191,V$5,'база 2013'!$O$4:$O$1191,V$7)","v":0},{"$f":"COUNTIFS('база 2013'!$E$4:$E$1191,$B32,'база 2013'!$I$4:$I$1191,W$5,'база 2013'!$O$4:$O$1191,W$7)","v":0},{"$f":"COUNTIFS('база 2013'!$E$4:$E$1191,$B32,'база 2013'!$I$4:$I$1191,X$5,'база 2013'!$O$4:$O$1191,X$7)","v":0},{"$f":"COUNTIFS('база 2013'!$E$4:$E$1191,$B32,'база 2013'!$I$4:$I$1191,Y$5,'база 2013'!$O$4:$O$1191,Y$7)","v":0},{"$f":"COUNTIFS('база 2013'!$E$4:$E$1191,$B32,'база 2013'!$I$4:$I$1191,Z$5,'база 2013'!$O$4:$O$1191,Z$7)","v":0},{"$f":"COUNTIFS('база 2013'!$E$4:$E$1191,$B32,'база 2013'!$I$4:$I$1191,AA$5,'база 2013'!$O$4:$O$1191,AA$7)","v":0},{"$f":"COUNTIFS('база 2013'!$E$4:$E$1191,$B32,'база 2013'!$I$4:$I$1191,AB$5,'база 2013'!$O$4:$O$1191,AB$7)","v":0},{"$f":"COUNTIFS('база 2013'!$E$4:$E$1191,$B32,'база 2013'!$I$4:$I$1191,AC$5,'база 2013'!$O$4:$O$1191,AC$7)","v":0},0,0,0,{"$f":"COUNTIFS('база 2013'!$E$4:$E$1191,$B32,'база 2013'!$I$4:$I$1191,AG$5,'база 2013'!$O$4:$O$1191,AG$7)","v":0},{"$f":"COUNTIFS('база 2013'!$E$4:$E$1191,$B32,'база 2013'!$I$4:$I$1191,AH$5,'база 2013'!$O$4:$O$1191,AH$7)","v":0},{"$f":"COUNTIFS('база 2013'!$E$4:$E$1191,$B32,'база 2013'!$I$4:$I$1191,AI$5,'база 2013'!$O$4:$O$1191,AI$7)","v":0},{"$f":"COUNTIFS('база 2013'!$E$4:$E$1191,$B32,'база 2013'!$I$4:$I$1191,AJ$5,'база 2013'!$O$4:$O$1191,AJ$7)","v":0},{"$f":"COUNTIFS('база 2013'!$E$4:$E$1191,$B32,'база 2013'!$I$4:$I$1191,AK$5,'база 2013'!$O$4:$O$1191,AK$7)","v":0},{"$f":"COUNTIFS('база 2013'!$E$4:$E$1191,$B32,'база 2013'!$I$4:$I$1191,AL$5,'база 2013'!$O$4:$O$1191,AL$7)","v":0},{"$f":"COUNTIFS('база 2013'!$E$4:$E$1191,$B32,'база 2013'!$I$4:$I$1191,AM$5,'база 2013'!$O$4:$O$1191,AM$7)","v":0},{"$f":"COUNTIFS('база 2013'!$E$4:$E$1191,$B32,'база 2013'!$I$4:$I$1191,AN$5,'база 2013'!$O$4:$O$1191,AN$7)","v":0},{"$f":"COUNTIFS('база 2013'!$E$4:$E$1191,$B32,'база 2013'!$I$4:$I$1191,AO$5,'база 2013'!$O$4:$O$1191,AO$7)","v":0},{"$f":"COUNTIFS('база 2013'!$E$4:$E$1191,$B32,'база 2013'!$I$4:$I$1191,AP$5,'база 2013'!$O$4:$O$1191,AP$7)","v":0},{"$f":"COUNTIFS('база 2013'!$E$4:$E$1191,$B32,'база 2013'!$I$4:$I$1191,AQ$5,'база 2013'!$O$4:$O$1191,AQ$7)","v":0},{"$f":"COUNTIFS('база 2013'!$E$4:$E$1191,$B32,'база 2013'!$I$4:$I$1191,AR$5,'база 2013'!$O$4:$O$1191,AR$7)","v":0},{"$f":"COUNTIFS('база 2013'!$E$4:$E$1191,$B32,'база 2013'!$I$4:$I$1191,AS$5,'база 2013'!$O$4:$O$1191,AS$7)","v":0},{"$f":"COUNTIFS('база 2013'!$E$4:$E$1191,$B32,'база 2013'!$I$4:$I$1191,AT$5,'база 2013'!$O$4:$O$1191,AT$7)","v":0},{"$f":"COUNTIFS('база 2013'!$E$4:$E$1191,$B32,'база 2013'!$I$4:$I$1191,AU$5,'база 2013'!$O$4:$O$1191,AU$7)","v":0},{"$f":"COUNTIFS('база 2013'!$E$4:$E$1191,$B32,'база 2013'!$I$4:$I$1191,AV$5,'база 2013'!$O$4:$O$1191,AV$7)","v":0},{"$f":"COUNTIFS('база 2013'!$E$4:$E$1191,$B32,'база 2013'!$I$4:$I$1191,AW$5,'база 2013'!$O$4:$O$1191,AW$7)","v":0},{"$f":"COUNTIFS('база 2013'!$E$4:$E$1191,$B32,'база 2013'!$I$4:$I$1191,AX$5,'база 2013'!$O$4:$O$1191,AX$7)","v":0},0,0,0,0,0,0,0,null,0]
[26,"Лабинский район",{"$f":"COUNTIFS('база 2013'!$E$4:$E$1191,$B33,'база 2013'!$I$4:$I$1191,C$5,'база 2013'!$O$4:$O$1191,C$7)","v":0},{"$f":"COUNTIFS('база 2013'!$E$4:$E$1191,$B33,'база 2013'!$I$4:$I$1191,D$5,'база 2013'!$O$4:$O$1191,D$7)","v":0},{"$f":"COUNTIFS('база 2013'!$E$4:$E$1191,$B33,'база 2013'!$I$4:$I$1191,E$5,'база 2013'!$O$4:$O$1191,E$7)","v":0},{"$f":"COUNTIFS('база 2013'!$E$4:$E$1191,$B33,'база 2013'!$I$4:$I$1191,F$5,'база 2013'!$O$4:$O$1191,F$7)","v":0},{"$f":"COUNTIFS('база 2013'!$E$4:$E$1191,$B33,'база 2013'!$I$4:$I$1191,G$5,'база 2013'!$O$4:$O$1191,G$7)","v":0},{"$f":"COUNTIFS('база 2013'!$E$4:$E$1191,$B33,'база 2013'!$I$4:$I$1191,H$5,'база 2013'!$O$4:$O$1191,H$7)","v":0},{"$f":"COUNTIFS('база 2013'!$E$4:$E$1191,$B33,'база 2013'!$I$4:$I$1191,I$5,'база 2013'!$O$4:$O$1191,I$7)","v":0},{"$f":"COUNTIFS('база 2013'!$E$4:$E$1191,$B33,'база 2013'!$I$4:$I$1191,J$5,'база 2013'!$O$4:$O$1191,J$7)","v":0},{"$f":"COUNTIFS('база 2013'!$E$4:$E$1191,$B33,'база 2013'!$I$4:$I$1191,K$5,'база 2013'!$O$4:$O$1191,K$7)","v":0},{"$f":"COUNTIFS('база 2013'!$E$4:$E$1191,$B33,'база 2013'!$I$4:$I$1191,L$5,'база 2013'!$O$4:$O$1191,L$7)","v":0},{"$f":"COUNTIFS('база 2013'!$E$4:$E$1191,$B33,'база 2013'!$I$4:$I$1191,M$5,'база 2013'!$O$4:$O$1191,M$7)","v":0},{"$f":"COUNTIFS('база 2013'!$E$4:$E$1191,$B33,'база 2013'!$I$4:$I$1191,N$5,'база 2013'!$O$4:$O$1191,N$7)","v":0},{"$f":"COUNTIFS('база 2013'!$E$4:$E$1191,$B33,'база 2013'!$I$4:$I$1191,O$5,'база 2013'!$O$4:$O$1191,O$7)","v":0},{"$f":"COUNTIFS('база 2013'!$E$4:$E$1191,$B33,'база 2013'!$I$4:$I$1191,P$5,'база 2013'!$O$4:$O$1191,P$7)","v":0},{"$f":"COUNTIFS('база 2013'!$E$4:$E$1191,$B33,'база 2013'!$I$4:$I$1191,Q$5,'база 2013'!$O$4:$O$1191,Q$7)","v":0},0,0,0,{"$f":"COUNTIFS('база 2013'!$E$4:$E$1191,$B33,'база 2013'!$I$4:$I$1191,U$5,'база 2013'!$O$4:$O$1191,U$7)","v":0},{"$f":"COUNTIFS('база 2013'!$E$4:$E$1191,$B33,'база 2013'!$I$4:$I$1191,V$5,'база 2013'!$O$4:$O$1191,V$7)","v":0},{"$f":"COUNTIFS('база 2013'!$E$4:$E$1191,$B33,'база 2013'!$I$4:$I$1191,W$5,'база 2013'!$O$4:$O$1191,W$7)","v":0},{"$f":"COUNTIFS('база 2013'!$E$4:$E$1191,$B33,'база 2013'!$I$4:$I$1191,X$5,'база 2013'!$O$4:$O$1191,X$7)","v":0},{"$f":"COUNTIFS('база 2013'!$E$4:$E$1191,$B33,'база 2013'!$I$4:$I$1191,Y$5,'база 2013'!$O$4:$O$1191,Y$7)","v":0},{"$f":"COUNTIFS('база 2013'!$E$4:$E$1191,$B33,'база 2013'!$I$4:$I$1191,Z$5,'база 2013'!$O$4:$O$1191,Z$7)","v":0},{"$f":"COUNTIFS('база 2013'!$E$4:$E$1191,$B33,'база 2013'!$I$4:$I$1191,AA$5,'база 2013'!$O$4:$O$1191,AA$7)","v":0},{"$f":"COUNTIFS('база 2013'!$E$4:$E$1191,$B33,'база 2013'!$I$4:$I$1191,AB$5,'база 2013'!$O$4:$O$1191,AB$7)","v":0},{"$f":"COUNTIFS('база 2013'!$E$4:$E$1191,$B33,'база 2013'!$I$4:$I$1191,AC$5,'база 2013'!$O$4:$O$1191,AC$7)","v":0},0,0,0,{"$f":"COUNTIFS('база 2013'!$E$4:$E$1191,$B33,'база 2013'!$I$4:$I$1191,AG$5,'база 2013'!$O$4:$O$1191,AG$7)","v":0},{"$f":"COUNTIFS('база 2013'!$E$4:$E$1191,$B33,'база 2013'!$I$4:$I$1191,AH$5,'база 2013'!$O$4:$O$1191,AH$7)","v":0},{"$f":"COUNTIFS('база 2013'!$E$4:$E$1191,$B33,'база 2013'!$I$4:$I$1191,AI$5,'база 2013'!$O$4:$O$1191,AI$7)","v":0},{"$f":"COUNTIFS('база 2013'!$E$4:$E$1191,$B33,'база 2013'!$I$4:$I$1191,AJ$5,'база 2013'!$O$4:$O$1191,AJ$7)","v":0},{"$f":"COUNTIFS('база 2013'!$E$4:$E$1191,$B33,'база 2013'!$I$4:$I$1191,AK$5,'база 2013'!$O$4:$O$1191,AK$7)","v":0},{"$f":"COUNTIFS('база 2013'!$E$4:$E$1191,$B33,'база 2013'!$I$4:$I$1191,AL$5,'база 2013'!$O$4:$O$1191,AL$7)","v":0},{"$f":"COUNTIFS('база 2013'!$E$4:$E$1191,$B33,'база 2013'!$I$4:$I$1191,AM$5,'база 2013'!$O$4:$O$1191,AM$7)","v":0},{"$f":"COUNTIFS('база 2013'!$E$4:$E$1191,$B33,'база 2013'!$I$4:$I$1191,AN$5,'база 2013'!$O$4:$O$1191,AN$7)","v":0},{"$f":"COUNTIFS('база 2013'!$E$4:$E$1191,$B33,'база 2013'!$I$4:$I$1191,AO$5,'база 2013'!$O$4:$O$1191,AO$7)","v":0},{"$f":"COUNTIFS('база 2013'!$E$4:$E$1191,$B33,'база 2013'!$I$4:$I$1191,AP$5,'база 2013'!$O$4:$O$1191,AP$7)","v":0},{"$f":"COUNTIFS('база 2013'!$E$4:$E$1191,$B33,'база 2013'!$I$4:$I$1191,AQ$5,'база 2013'!$O$4:$O$1191,AQ$7)","v":0},{"$f":"COUNTIFS('база 2013'!$E$4:$E$1191,$B33,'база 2013'!$I$4:$I$1191,AR$5,'база 2013'!$O$4:$O$1191,AR$7)","v":0},{"$f":"COUNTIFS('база 2013'!$E$4:$E$1191,$B33,'база 2013'!$I$4:$I$1191,AS$5,'база 2013'!$O$4:$O$1191,AS$7)","v":0},{"$f":"COUNTIFS('база 2013'!$E$4:$E$1191,$B33,'база 2013'!$I$4:$I$1191,AT$5,'база 2013'!$O$4:$O$1191,AT$7)","v":0},{"$f":"COUNTIFS('база 2013'!$E$4:$E$1191,$B33,'база 2013'!$I$4:$I$1191,AU$5,'база 2013'!$O$4:$O$1191,AU$7)","v":0},{"$f":"COUNTIFS('база 2013'!$E$4:$E$1191,$B33,'база 2013'!$I$4:$I$1191,AV$5,'база 2013'!$O$4:$O$1191,AV$7)","v":0},{"$f":"COUNTIFS('база 2013'!$E$4:$E$1191,$B33,'база 2013'!$I$4:$I$1191,AW$5,'база 2013'!$O$4:$O$1191,AW$7)","v":0},{"$f":"COUNTIFS('база 2013'!$E$4:$E$1191,$B33,'база 2013'!$I$4:$I$1191,AX$5,'база 2013'!$O$4:$O$1191,AX$7)","v":0},0,0,0,0,0,0,0,null,0]
[27,"Ленинградский район",{"$f":"COUNTIFS('база 2013'!$E$4:$E$1191,$B34,'база 2013'!$I$4:$I$1191,C$5,'база 2013'!$O$4:$O$1191,C$7)","v":0},{"$f":"COUNTIFS('база 2013'!$E$4:$E$1191,$B34,'база 2013'!$I$4:$I$1191,D$5,'база 2013'!$O$4:$O$1191,D$7)","v":0},{"$f":"COUNTIFS('база 2013'!$E$4:$E$1191,$B34,'база 2013'!$I$4:$I$1191,E$5,'база 2013'!$O$4:$O$1191,E$7)","v":0},{"$f":"COUNTIFS('база 2013'!$E$4:$E$1191,$B34,'база 2013'!$I$4:$I$1191,F$5,'база 2013'!$O$4:$O$1191,F$7)","v":0},{"$f":"COUNTIFS('база 2013'!$E$4:$E$1191,$B34,'база 2013'!$I$4:$I$1191,G$5,'база 2013'!$O$4:$O$1191,G$7)","v":0},{"$f":"COUNTIFS('база 2013'!$E$4:$E$1191,$B34,'база 2013'!$I$4:$I$1191,H$5,'база 2013'!$O$4:$O$1191,H$7)","v":0},{"$f":"COUNTIFS('база 2013'!$E$4:$E$1191,$B34,'база 2013'!$I$4:$I$1191,I$5,'база 2013'!$O$4:$O$1191,I$7)","v":0},{"$f":"COUNTIFS('база 2013'!$E$4:$E$1191,$B34,'база 2013'!$I$4:$I$1191,J$5,'база 2013'!$O$4:$O$1191,J$7)","v":0},{"$f":"COUNTIFS('база 2013'!$E$4:$E$1191,$B34,'база 2013'!$I$4:$I$1191,K$5,'база 2013'!$O$4:$O$1191,K$7)","v":0},{"$f":"COUNTIFS('база 2013'!$E$4:$E$1191,$B34,'база 2013'!$I$4:$I$1191,L$5,'база 2013'!$O$4:$O$1191,L$7)","v":0},{"$f":"COUNTIFS('база 2013'!$E$4:$E$1191,$B34,'база 2013'!$I$4:$I$1191,M$5,'база 2013'!$O$4:$O$1191,M$7)","v":0},{"$f":"COUNTIFS('база 2013'!$E$4:$E$1191,$B34,'база 2013'!$I$4:$I$1191,N$5,'база 2013'!$O$4:$O$1191,N$7)","v":0},{"$f":"COUNTIFS('база 2013'!$E$4:$E$1191,$B34,'база 2013'!$I$4:$I$1191,O$5,'база 2013'!$O$4:$O$1191,O$7)","v":0},{"$f":"COUNTIFS('база 2013'!$E$4:$E$1191,$B34,'база 2013'!$I$4:$I$1191,P$5,'база 2013'!$O$4:$O$1191,P$7)","v":0},{"$f":"COUNTIFS('база 2013'!$E$4:$E$1191,$B34,'база 2013'!$I$4:$I$1191,Q$5,'база 2013'!$O$4:$O$1191,Q$7)","v":0},0,0,0,{"$f":"COUNTIFS('база 2013'!$E$4:$E$1191,$B34,'база 2013'!$I$4:$I$1191,U$5,'база 2013'!$O$4:$O$1191,U$7)","v":0},{"$f":"COUNTIFS('база 2013'!$E$4:$E$1191,$B34,'база 2013'!$I$4:$I$1191,V$5,'база 2013'!$O$4:$O$1191,V$7)","v":0},{"$f":"COUNTIFS('база 2013'!$E$4:$E$1191,$B34,'база 2013'!$I$4:$I$1191,W$5,'база 2013'!$O$4:$O$1191,W$7)","v":0},{"$f":"COUNTIFS('база 2013'!$E$4:$E$1191,$B34,'база 2013'!$I$4:$I$1191,X$5,'база 2013'!$O$4:$O$1191,X$7)","v":0},{"$f":"COUNTIFS('база 2013'!$E$4:$E$1191,$B34,'база 2013'!$I$4:$I$1191,Y$5,'база 2013'!$O$4:$O$1191,Y$7)","v":0},{"$f":"COUNTIFS('база 2013'!$E$4:$E$1191,$B34,'база 2013'!$I$4:$I$1191,Z$5,'база 2013'!$O$4:$O$1191,Z$7)","v":0},{"$f":"COUNTIFS('база 2013'!$E$4:$E$1191,$B34,'база 2013'!$I$4:$I$1191,AA$5,'база 2013'!$O$4:$O$1191,AA$7)","v":0},{"$f":"COUNTIFS('база 2013'!$E$4:$E$1191,$B34,'база 2013'!$I$4:$I$1191,AB$5,'база 2013'!$O$4:$O$1191,AB$7)","v":0},{"$f":"COUNTIFS('база 2013'!$E$4:$E$1191,$B34,'база 2013'!$I$4:$I$1191,AC$5,'база 2013'!$O$4:$O$1191,AC$7)","v":0},0,0,0,{"$f":"COUNTIFS('база 2013'!$E$4:$E$1191,$B34,'база 2013'!$I$4:$I$1191,AG$5,'база 2013'!$O$4:$O$1191,AG$7)","v":0},{"$f":"COUNTIFS('база 2013'!$E$4:$E$1191,$B34,'база 2013'!$I$4:$I$1191,AH$5,'база 2013'!$O$4:$O$1191,AH$7)","v":0},{"$f":"COUNTIFS('база 2013'!$E$4:$E$1191,$B34,'база 2013'!$I$4:$I$1191,AI$5,'база 2013'!$O$4:$O$1191,AI$7)","v":0},{"$f":"COUNTIFS('база 2013'!$E$4:$E$1191,$B34,'база 2013'!$I$4:$I$1191,AJ$5,'база 2013'!$O$4:$O$1191,AJ$7)","v":0},{"$f":"COUNTIFS('база 2013'!$E$4:$E$1191,$B34,'база 2013'!$I$4:$I$1191,AK$5,'база 2013'!$O$4:$O$1191,AK$7)","v":0},{"$f":"COUNTIFS('база 2013'!$E$4:$E$1191,$B34,'база 2013'!$I$4:$I$1191,AL$5,'база 2013'!$O$4:$O$1191,AL$7)","v":0},{"$f":"COUNTIFS('база 2013'!$E$4:$E$1191,$B34,'база 2013'!$I$4:$I$1191,AM$5,'база 2013'!$O$4:$O$1191,AM$7)","v":0},{"$f":"COUNTIFS('база 2013'!$E$4:$E$1191,$B34,'база 2013'!$I$4:$I$1191,AN$5,'база 2013'!$O$4:$O$1191,AN$7)","v":0},{"$f":"COUNTIFS('база 2013'!$E$4:$E$1191,$B34,'база 2013'!$I$4:$I$1191,AO$5,'база 2013'!$O$4:$O$1191,AO$7)","v":0},{"$f":"COUNTIFS('база 2013'!$E$4:$E$1191,$B34,'база 2013'!$I$4:$I$1191,AP$5,'база 2013'!$O$4:$O$1191,AP$7)","v":0},{"$f":"COUNTIFS('база 2013'!$E$4:$E$1191,$B34,'база 2013'!$I$4:$I$1191,AQ$5,'база 2013'!$O$4:$O$1191,AQ$7)","v":0},{"$f":"COUNTIFS('база 2013'!$E$4:$E$1191,$B34,'база 2013'!$I$4:$I$1191,AR$5,'база 2013'!$O$4:$O$1191,AR$7)","v":0},{"$f":"COUNTIFS('база 2013'!$E$4:$E$1191,$B34,'база 2013'!$I$4:$I$1191,AS$5,'база 2013'!$O$4:$O$1191,AS$7)","v":0},{"$f":"COUNTIFS('база 2013'!$E$4:$E$1191,$B34,'база 2013'!$I$4:$I$1191,AT$5,'база 2013'!$O$4:$O$1191,AT$7)","v":0},{"$f":"COUNTIFS('база 2013'!$E$4:$E$1191,$B34,'база 2013'!$I$4:$I$1191,AU$5,'база 2013'!$O$4:$O$1191,AU$7)","v":0},{"$f":"COUNTIFS('база 2013'!$E$4:$E$1191,$B34,'база 2013'!$I$4:$I$1191,AV$5,'база 2013'!$O$4:$O$1191,AV$7)","v":0},{"$f":"COUNTIFS('база 2013'!$E$4:$E$1191,$B34,'база 2013'!$I$4:$I$1191,AW$5,'база 2013'!$O$4:$O$1191,AW$7)","v":0},{"$f":"COUNTIFS('база 2013'!$E$4:$E$1191,$B34,'база 2013'!$I$4:$I$1191,AX$5,'база 2013'!$O$4:$O$1191,AX$7)","v":0},0,0,0,0,0,0,0,null,0]
[28,"Мостовский район",{"$f":"COUNTIFS('база 2013'!$E$4:$E$1191,$B35,'база 2013'!$I$4:$I$1191,C$5,'база 2013'!$O$4:$O$1191,C$7)","v":0},{"$f":"COUNTIFS('база 2013'!$E$4:$E$1191,$B35,'база 2013'!$I$4:$I$1191,D$5,'база 2013'!$O$4:$O$1191,D$7)","v":0},{"$f":"COUNTIFS('база 2013'!$E$4:$E$1191,$B35,'база 2013'!$I$4:$I$1191,E$5,'база 2013'!$O$4:$O$1191,E$7)","v":0},{"$f":"COUNTIFS('база 2013'!$E$4:$E$1191,$B35,'база 2013'!$I$4:$I$1191,F$5,'база 2013'!$O$4:$O$1191,F$7)","v":0},{"$f":"COUNTIFS('база 2013'!$E$4:$E$1191,$B35,'база 2013'!$I$4:$I$1191,G$5,'база 2013'!$O$4:$O$1191,G$7)","v":0},{"$f":"COUNTIFS('база 2013'!$E$4:$E$1191,$B35,'база 2013'!$I$4:$I$1191,H$5,'база 2013'!$O$4:$O$1191,H$7)","v":0},{"$f":"COUNTIFS('база 2013'!$E$4:$E$1191,$B35,'база 2013'!$I$4:$I$1191,I$5,'база 2013'!$O$4:$O$1191,I$7)","v":0},{"$f":"COUNTIFS('база 2013'!$E$4:$E$1191,$B35,'база 2013'!$I$4:$I$1191,J$5,'база 2013'!$O$4:$O$1191,J$7)","v":0},{"$f":"COUNTIFS('база 2013'!$E$4:$E$1191,$B35,'база 2013'!$I$4:$I$1191,K$5,'база 2013'!$O$4:$O$1191,K$7)","v":0},{"$f":"COUNTIFS('база 2013'!$E$4:$E$1191,$B35,'база 2013'!$I$4:$I$1191,L$5,'база 2013'!$O$4:$O$1191,L$7)","v":0},{"$f":"COUNTIFS('база 2013'!$E$4:$E$1191,$B35,'база 2013'!$I$4:$I$1191,M$5,'база 2013'!$O$4:$O$1191,M$7)","v":0},{"$f":"COUNTIFS('база 2013'!$E$4:$E$1191,$B35,'база 2013'!$I$4:$I$1191,N$5,'база 2013'!$O$4:$O$1191,N$7)","v":0},{"$f":"COUNTIFS('база 2013'!$E$4:$E$1191,$B35,'база 2013'!$I$4:$I$1191,O$5,'база 2013'!$O$4:$O$1191,O$7)","v":0},{"$f":"COUNTIFS('база 2013'!$E$4:$E$1191,$B35,'база 2013'!$I$4:$I$1191,P$5,'база 2013'!$O$4:$O$1191,P$7)","v":0},{"$f":"COUNTIFS('база 2013'!$E$4:$E$1191,$B35,'база 2013'!$I$4:$I$1191,Q$5,'база 2013'!$O$4:$O$1191,Q$7)","v":0},0,0,0,{"$f":"COUNTIFS('база 2013'!$E$4:$E$1191,$B35,'база 2013'!$I$4:$I$1191,U$5,'база 2013'!$O$4:$O$1191,U$7)","v":0},{"$f":"COUNTIFS('база 2013'!$E$4:$E$1191,$B35,'база 2013'!$I$4:$I$1191,V$5,'база 2013'!$O$4:$O$1191,V$7)","v":0},{"$f":"COUNTIFS('база 2013'!$E$4:$E$1191,$B35,'база 2013'!$I$4:$I$1191,W$5,'база 2013'!$O$4:$O$1191,W$7)","v":0},{"$f":"COUNTIFS('база 2013'!$E$4:$E$1191,$B35,'база 2013'!$I$4:$I$1191,X$5,'база 2013'!$O$4:$O$1191,X$7)","v":0},{"$f":"COUNTIFS('база 2013'!$E$4:$E$1191,$B35,'база 2013'!$I$4:$I$1191,Y$5,'база 2013'!$O$4:$O$1191,Y$7)","v":0},{"$f":"COUNTIFS('база 2013'!$E$4:$E$1191,$B35,'база 2013'!$I$4:$I$1191,Z$5,'база 2013'!$O$4:$O$1191,Z$7)","v":0},{"$f":"COUNTIFS('база 2013'!$E$4:$E$1191,$B35,'база 2013'!$I$4:$I$1191,AA$5,'база 2013'!$O$4:$O$1191,AA$7)","v":0},{"$f":"COUNTIFS('база 2013'!$E$4:$E$1191,$B35,'база 2013'!$I$4:$I$1191,AB$5,'база 2013'!$O$4:$O$1191,AB$7)","v":0},{"$f":"COUNTIFS('база 2013'!$E$4:$E$1191,$B35,'база 2013'!$I$4:$I$1191,AC$5,'база 2013'!$O$4:$O$1191,AC$7)","v":0},0,0,0,{"$f":"COUNTIFS('база 2013'!$E$4:$E$1191,$B35,'база 2013'!$I$4:$I$1191,AG$5,'база 2013'!$O$4:$O$1191,AG$7)","v":0},{"$f":"COUNTIFS('база 2013'!$E$4:$E$1191,$B35,'база 2013'!$I$4:$I$1191,AH$5,'база 2013'!$O$4:$O$1191,AH$7)","v":0},{"$f":"COUNTIFS('база 2013'!$E$4:$E$1191,$B35,'база 2013'!$I$4:$I$1191,AI$5,'база 2013'!$O$4:$O$1191,AI$7)","v":0},{"$f":"COUNTIFS('база 2013'!$E$4:$E$1191,$B35,'база 2013'!$I$4:$I$1191,AJ$5,'база 2013'!$O$4:$O$1191,AJ$7)","v":0},{"$f":"COUNTIFS('база 2013'!$E$4:$E$1191,$B35,'база 2013'!$I$4:$I$1191,AK$5,'база 2013'!$O$4:$O$1191,AK$7)","v":0},{"$f":"COUNTIFS('база 2013'!$E$4:$E$1191,$B35,'база 2013'!$I$4:$I$1191,AL$5,'база 2013'!$O$4:$O$1191,AL$7)","v":0},{"$f":"COUNTIFS('база 2013'!$E$4:$E$1191,$B35,'база 2013'!$I$4:$I$1191,AM$5,'база 2013'!$O$4:$O$1191,AM$7)","v":0},{"$f":"COUNTIFS('база 2013'!$E$4:$E$1191,$B35,'база 2013'!$I$4:$I$1191,AN$5,'база 2013'!$O$4:$O$1191,AN$7)","v":0},{"$f":"COUNTIFS('база 2013'!$E$4:$E$1191,$B35,'база 2013'!$I$4:$I$1191,AO$5,'база 2013'!$O$4:$O$1191,AO$7)","v":0},{"$f":"COUNTIFS('база 2013'!$E$4:$E$1191,$B35,'база 2013'!$I$4:$I$1191,AP$5,'база 2013'!$O$4:$O$1191,AP$7)","v":0},{"$f":"COUNTIFS('база 2013'!$E$4:$E$1191,$B35,'база 2013'!$I$4:$I$1191,AQ$5,'база 2013'!$O$4:$O$1191,AQ$7)","v":0},{"$f":"COUNTIFS('база 2013'!$E$4:$E$1191,$B35,'база 2013'!$I$4:$I$1191,AR$5,'база 2013'!$O$4:$O$1191,AR$7)","v":0},{"$f":"COUNTIFS('база 2013'!$E$4:$E$1191,$B35,'база 2013'!$I$4:$I$1191,AS$5,'база 2013'!$O$4:$O$1191,AS$7)","v":0},{"$f":"COUNTIFS('база 2013'!$E$4:$E$1191,$B35,'база 2013'!$I$4:$I$1191,AT$5,'база 2013'!$O$4:$O$1191,AT$7)","v":0},{"$f":"COUNTIFS('база 2013'!$E$4:$E$1191,$B35,'база 2013'!$I$4:$I$1191,AU$5,'база 2013'!$O$4:$O$1191,AU$7)","v":0},{"$f":"COUNTIFS('база 2013'!$E$4:$E$1191,$B35,'база 2013'!$I$4:$I$1191,AV$5,'база 2013'!$O$4:$O$1191,AV$7)","v":0},{"$f":"COUNTIFS('база 2013'!$E$4:$E$1191,$B35,'база 2013'!$I$4:$I$1191,AW$5,'база 2013'!$O$4:$O$1191,AW$7)","v":0},{"$f":"COUNTIFS('база 2013'!$E$4:$E$1191,$B35,'база 2013'!$I$4:$I$1191,AX$5,'база 2013'!$O$4:$O$1191,AX$7)","v":0},0,0,0,0,0,0,0,null,0]
[29,"Новокубанский район",{"$f":"COUNTIFS('база 2013'!$E$4:$E$1191,$B36,'база 2013'!$I$4:$I$1191,C$5,'база 2013'!$O$4:$O$1191,C$7)","v":0},{"$f":"COUNTIFS('база 2013'!$E$4:$E$1191,$B36,'база 2013'!$I$4:$I$1191,D$5,'база 2013'!$O$4:$O$1191,D$7)","v":0},{"$f":"COUNTIFS('база 2013'!$E$4:$E$1191,$B36,'база 2013'!$I$4:$I$1191,E$5,'база 2013'!$O$4:$O$1191,E$7)","v":0},{"$f":"COUNTIFS('база 2013'!$E$4:$E$1191,$B36,'база 2013'!$I$4:$I$1191,F$5,'база 2013'!$O$4:$O$1191,F$7)","v":0},{"$f":"COUNTIFS('база 2013'!$E$4:$E$1191,$B36,'база 2013'!$I$4:$I$1191,G$5,'база 2013'!$O$4:$O$1191,G$7)","v":0},{"$f":"COUNTIFS('база 2013'!$E$4:$E$1191,$B36,'база 2013'!$I$4:$I$1191,H$5,'база 2013'!$O$4:$O$1191,H$7)","v":0},{"$f":"COUNTIFS('база 2013'!$E$4:$E$1191,$B36,'база 2013'!$I$4:$I$1191,I$5,'база 2013'!$O$4:$O$1191,I$7)","v":0},{"$f":"COUNTIFS('база 2013'!$E$4:$E$1191,$B36,'база 2013'!$I$4:$I$1191,J$5,'база 2013'!$O$4:$O$1191,J$7)","v":0},{"$f":"COUNTIFS('база 2013'!$E$4:$E$1191,$B36,'база 2013'!$I$4:$I$1191,K$5,'база 2013'!$O$4:$O$1191,K$7)","v":0},{"$f":"COUNTIFS('база 2013'!$E$4:$E$1191,$B36,'база 2013'!$I$4:$I$1191,L$5,'база 2013'!$O$4:$O$1191,L$7)","v":0},{"$f":"COUNTIFS('база 2013'!$E$4:$E$1191,$B36,'база 2013'!$I$4:$I$1191,M$5,'база 2013'!$O$4:$O$1191,M$7)","v":0},{"$f":"COUNTIFS('база 2013'!$E$4:$E$1191,$B36,'база 2013'!$I$4:$I$1191,N$5,'база 2013'!$O$4:$O$1191,N$7)","v":0},{"$f":"COUNTIFS('база 2013'!$E$4:$E$1191,$B36,'база 2013'!$I$4:$I$1191,O$5,'база 2013'!$O$4:$O$1191,O$7)","v":0},{"$f":"COUNTIFS('база 2013'!$E$4:$E$1191,$B36,'база 2013'!$I$4:$I$1191,P$5,'база 2013'!$O$4:$O$1191,P$7)","v":0},{"$f":"COUNTIFS('база 2013'!$E$4:$E$1191,$B36,'база 2013'!$I$4:$I$1191,Q$5,'база 2013'!$O$4:$O$1191,Q$7)","v":0},0,0,0,{"$f":"COUNTIFS('база 2013'!$E$4:$E$1191,$B36,'база 2013'!$I$4:$I$1191,U$5,'база 2013'!$O$4:$O$1191,U$7)","v":0},{"$f":"COUNTIFS('база 2013'!$E$4:$E$1191,$B36,'база 2013'!$I$4:$I$1191,V$5,'база 2013'!$O$4:$O$1191,V$7)","v":0},{"$f":"COUNTIFS('база 2013'!$E$4:$E$1191,$B36,'база 2013'!$I$4:$I$1191,W$5,'база 2013'!$O$4:$O$1191,W$7)","v":0},{"$f":"COUNTIFS('база 2013'!$E$4:$E$1191,$B36,'база 2013'!$I$4:$I$1191,X$5,'база 2013'!$O$4:$O$1191,X$7)","v":0},{"$f":"COUNTIFS('база 2013'!$E$4:$E$1191,$B36,'база 2013'!$I$4:$I$1191,Y$5,'база 2013'!$O$4:$O$1191,Y$7)","v":0},{"$f":"COUNTIFS('база 2013'!$E$4:$E$1191,$B36,'база 2013'!$I$4:$I$1191,Z$5,'база 2013'!$O$4:$O$1191,Z$7)","v":0},{"$f":"COUNTIFS('база 2013'!$E$4:$E$1191,$B36,'база 2013'!$I$4:$I$1191,AA$5,'база 2013'!$O$4:$O$1191,AA$7)","v":0},{"$f":"COUNTIFS('база 2013'!$E$4:$E$1191,$B36,'база 2013'!$I$4:$I$1191,AB$5,'база 2013'!$O$4:$O$1191,AB$7)","v":0},{"$f":"COUNTIFS('база 2013'!$E$4:$E$1191,$B36,'база 2013'!$I$4:$I$1191,AC$5,'база 2013'!$O$4:$O$1191,AC$7)","v":0},0,0,0,{"$f":"COUNTIFS('база 2013'!$E$4:$E$1191,$B36,'база 2013'!$I$4:$I$1191,AG$5,'база 2013'!$O$4:$O$1191,AG$7)","v":0},{"$f":"COUNTIFS('база 2013'!$E$4:$E$1191,$B36,'база 2013'!$I$4:$I$1191,AH$5,'база 2013'!$O$4:$O$1191,AH$7)","v":0},{"$f":"COUNTIFS('база 2013'!$E$4:$E$1191,$B36,'база 2013'!$I$4:$I$1191,AI$5,'база 2013'!$O$4:$O$1191,AI$7)","v":0},{"$f":"COUNTIFS('база 2013'!$E$4:$E$1191,$B36,'база 2013'!$I$4:$I$1191,AJ$5,'база 2013'!$O$4:$O$1191,AJ$7)","v":0},{"$f":"COUNTIFS('база 2013'!$E$4:$E$1191,$B36,'база 2013'!$I$4:$I$1191,AK$5,'база 2013'!$O$4:$O$1191,AK$7)","v":0},{"$f":"COUNTIFS('база 2013'!$E$4:$E$1191,$B36,'база 2013'!$I$4:$I$1191,AL$5,'база 2013'!$O$4:$O$1191,AL$7)","v":0},{"$f":"COUNTIFS('база 2013'!$E$4:$E$1191,$B36,'база 2013'!$I$4:$I$1191,AM$5,'база 2013'!$O$4:$O$1191,AM$7)","v":0},{"$f":"COUNTIFS('база 2013'!$E$4:$E$1191,$B36,'база 2013'!$I$4:$I$1191,AN$5,'база 2013'!$O$4:$O$1191,AN$7)","v":0},{"$f":"COUNTIFS('база 2013'!$E$4:$E$1191,$B36,'база 2013'!$I$4:$I$1191,AO$5,'база 2013'!$O$4:$O$1191,AO$7)","v":0},{"$f":"COUNTIFS('база 2013'!$E$4:$E$1191,$B36,'база 2013'!$I$4:$I$1191,AP$5,'база 2013'!$O$4:$O$1191,AP$7)","v":0},{"$f":"COUNTIFS('база 2013'!$E$4:$E$1191,$B36,'база 2013'!$I$4:$I$1191,AQ$5,'база 2013'!$O$4:$O$1191,AQ$7)","v":0},{"$f":"COUNTIFS('база 2013'!$E$4:$E$1191,$B36,'база 2013'!$I$4:$I$1191,AR$5,'база 2013'!$O$4:$O$1191,AR$7)","v":0},{"$f":"COUNTIFS('база 2013'!$E$4:$E$1191,$B36,'база 2013'!$I$4:$I$1191,AS$5,'база 2013'!$O$4:$O$1191,AS$7)","v":0},{"$f":"COUNTIFS('база 2013'!$E$4:$E$1191,$B36,'база 2013'!$I$4:$I$1191,AT$5,'база 2013'!$O$4:$O$1191,AT$7)","v":0},{"$f":"COUNTIFS('база 2013'!$E$4:$E$1191,$B36,'база 2013'!$I$4:$I$1191,AU$5,'база 2013'!$O$4:$O$1191,AU$7)","v":0},{"$f":"COUNTIFS('база 2013'!$E$4:$E$1191,$B36,'база 2013'!$I$4:$I$1191,AV$5,'база 2013'!$O$4:$O$1191,AV$7)","v":0},{"$f":"COUNTIFS('база 2013'!$E$4:$E$1191,$B36,'база 2013'!$I$4:$I$1191,AW$5,'база 2013'!$O$4:$O$1191,AW$7)","v":0},{"$f":"COUNTIFS('база 2013'!$E$4:$E$1191,$B36,'база 2013'!$I$4:$I$1191,AX$5,'база 2013'!$O$4:$O$1191,AX$7)","v":0},0,0,0,0,0,0,0,null,0]
[30,"Новопокровский район",{"$f":"COUNTIFS('база 2013'!$E$4:$E$1191,$B37,'база 2013'!$I$4:$I$1191,C$5,'база 2013'!$O$4:$O$1191,C$7)","v":0},{"$f":"COUNTIFS('база 2013'!$E$4:$E$1191,$B37,'база 2013'!$I$4:$I$1191,D$5,'база 2013'!$O$4:$O$1191,D$7)","v":0},{"$f":"COUNTIFS('база 2013'!$E$4:$E$1191,$B37,'база 2013'!$I$4:$I$1191,E$5,'база 2013'!$O$4:$O$1191,E$7)","v":0},{"$f":"COUNTIFS('база 2013'!$E$4:$E$1191,$B37,'база 2013'!$I$4:$I$1191,F$5,'база 2013'!$O$4:$O$1191,F$7)","v":0},{"$f":"COUNTIFS('база 2013'!$E$4:$E$1191,$B37,'база 2013'!$I$4:$I$1191,G$5,'база 2013'!$O$4:$O$1191,G$7)","v":0},{"$f":"COUNTIFS('база 2013'!$E$4:$E$1191,$B37,'база 2013'!$I$4:$I$1191,H$5,'база 2013'!$O$4:$O$1191,H$7)","v":0},{"$f":"COUNTIFS('база 2013'!$E$4:$E$1191,$B37,'база 2013'!$I$4:$I$1191,I$5,'база 2013'!$O$4:$O$1191,I$7)","v":0},{"$f":"COUNTIFS('база 2013'!$E$4:$E$1191,$B37,'база 2013'!$I$4:$I$1191,J$5,'база 2013'!$O$4:$O$1191,J$7)","v":0},{"$f":"COUNTIFS('база 2013'!$E$4:$E$1191,$B37,'база 2013'!$I$4:$I$1191,K$5,'база 2013'!$O$4:$O$1191,K$7)","v":0},{"$f":"COUNTIFS('база 2013'!$E$4:$E$1191,$B37,'база 2013'!$I$4:$I$1191,L$5,'база 2013'!$O$4:$O$1191,L$7)","v":0},{"$f":"COUNTIFS('база 2013'!$E$4:$E$1191,$B37,'база 2013'!$I$4:$I$1191,M$5,'база 2013'!$O$4:$O$1191,M$7)","v":0},{"$f":"COUNTIFS('база 2013'!$E$4:$E$1191,$B37,'база 2013'!$I$4:$I$1191,N$5,'база 2013'!$O$4:$O$1191,N$7)","v":0},{"$f":"COUNTIFS('база 2013'!$E$4:$E$1191,$B37,'база 2013'!$I$4:$I$1191,O$5,'база 2013'!$O$4:$O$1191,O$7)","v":0},{"$f":"COUNTIFS('база 2013'!$E$4:$E$1191,$B37,'база 2013'!$I$4:$I$1191,P$5,'база 2013'!$O$4:$O$1191,P$7)","v":0},{"$f":"COUNTIFS('база 2013'!$E$4:$E$1191,$B37,'база 2013'!$I$4:$I$1191,Q$5,'база 2013'!$O$4:$O$1191,Q$7)","v":0},0,0,0,{"$f":"COUNTIFS('база 2013'!$E$4:$E$1191,$B37,'база 2013'!$I$4:$I$1191,U$5,'база 2013'!$O$4:$O$1191,U$7)","v":0},{"$f":"COUNTIFS('база 2013'!$E$4:$E$1191,$B37,'база 2013'!$I$4:$I$1191,V$5,'база 2013'!$O$4:$O$1191,V$7)","v":0},{"$f":"COUNTIFS('база 2013'!$E$4:$E$1191,$B37,'база 2013'!$I$4:$I$1191,W$5,'база 2013'!$O$4:$O$1191,W$7)","v":0},{"$f":"COUNTIFS('база 2013'!$E$4:$E$1191,$B37,'база 2013'!$I$4:$I$1191,X$5,'база 2013'!$O$4:$O$1191,X$7)","v":0},{"$f":"COUNTIFS('база 2013'!$E$4:$E$1191,$B37,'база 2013'!$I$4:$I$1191,Y$5,'база 2013'!$O$4:$O$1191,Y$7)","v":0},{"$f":"COUNTIFS('база 2013'!$E$4:$E$1191,$B37,'база 2013'!$I$4:$I$1191,Z$5,'база 2013'!$O$4:$O$1191,Z$7)","v":0},{"$f":"COUNTIFS('база 2013'!$E$4:$E$1191,$B37,'база 2013'!$I$4:$I$1191,AA$5,'база 2013'!$O$4:$O$1191,AA$7)","v":0},{"$f":"COUNTIFS('база 2013'!$E$4:$E$1191,$B37,'база 2013'!$I$4:$I$1191,AB$5,'база 2013'!$O$4:$O$1191,AB$7)","v":0},{"$f":"COUNTIFS('база 2013'!$E$4:$E$1191,$B37,'база 2013'!$I$4:$I$1191,AC$5,'база 2013'!$O$4:$O$1191,AC$7)","v":0},0,0,0,{"$f":"COUNTIFS('база 2013'!$E$4:$E$1191,$B37,'база 2013'!$I$4:$I$1191,AG$5,'база 2013'!$O$4:$O$1191,AG$7)","v":0},{"$f":"COUNTIFS('база 2013'!$E$4:$E$1191,$B37,'база 2013'!$I$4:$I$1191,AH$5,'база 2013'!$O$4:$O$1191,AH$7)","v":0},{"$f":"COUNTIFS('база 2013'!$E$4:$E$1191,$B37,'база 2013'!$I$4:$I$1191,AI$5,'база 2013'!$O$4:$O$1191,AI$7)","v":0},{"$f":"COUNTIFS('база 2013'!$E$4:$E$1191,$B37,'база 2013'!$I$4:$I$1191,AJ$5,'база 2013'!$O$4:$O$1191,AJ$7)","v":0},{"$f":"COUNTIFS('база 2013'!$E$4:$E$1191,$B37,'база 2013'!$I$4:$I$1191,AK$5,'база 2013'!$O$4:$O$1191,AK$7)","v":0},{"$f":"COUNTIFS('база 2013'!$E$4:$E$1191,$B37,'база 2013'!$I$4:$I$1191,AL$5,'база 2013'!$O$4:$O$1191,AL$7)","v":0},{"$f":"COUNTIFS('база 2013'!$E$4:$E$1191,$B37,'база 2013'!$I$4:$I$1191,AM$5,'база 2013'!$O$4:$O$1191,AM$7)","v":0},{"$f":"COUNTIFS('база 2013'!$E$4:$E$1191,$B37,'база 2013'!$I$4:$I$1191,AN$5,'база 2013'!$O$4:$O$1191,AN$7)","v":0},{"$f":"COUNTIFS('база 2013'!$E$4:$E$1191,$B37,'база 2013'!$I$4:$I$1191,AO$5,'база 2013'!$O$4:$O$1191,AO$7)","v":0},{"$f":"COUNTIFS('база 2013'!$E$4:$E$1191,$B37,'база 2013'!$I$4:$I$1191,AP$5,'база 2013'!$O$4:$O$1191,AP$7)","v":0},{"$f":"COUNTIFS('база 2013'!$E$4:$E$1191,$B37,'база 2013'!$I$4:$I$1191,AQ$5,'база 2013'!$O$4:$O$1191,AQ$7)","v":0},{"$f":"COUNTIFS('база 2013'!$E$4:$E$1191,$B37,'база 2013'!$I$4:$I$1191,AR$5,'база 2013'!$O$4:$O$1191,AR$7)","v":0},{"$f":"COUNTIFS('база 2013'!$E$4:$E$1191,$B37,'база 2013'!$I$4:$I$1191,AS$5,'база 2013'!$O$4:$O$1191,AS$7)","v":0},{"$f":"COUNTIFS('база 2013'!$E$4:$E$1191,$B37,'база 2013'!$I$4:$I$1191,AT$5,'база 2013'!$O$4:$O$1191,AT$7)","v":0},{"$f":"COUNTIFS('база 2013'!$E$4:$E$1191,$B37,'база 2013'!$I$4:$I$1191,AU$5,'база 2013'!$O$4:$O$1191,AU$7)","v":0},{"$f":"COUNTIFS('база 2013'!$E$4:$E$1191,$B37,'база 2013'!$I$4:$I$1191,AV$5,'база 2013'!$O$4:$O$1191,AV$7)","v":0},{"$f":"COUNTIFS('база 2013'!$E$4:$E$1191,$B37,'база 2013'!$I$4:$I$1191,AW$5,'база 2013'!$O$4:$O$1191,AW$7)","v":0},{"$f":"COUNTIFS('база 2013'!$E$4:$E$1191,$B37,'база 2013'!$I$4:$I$1191,AX$5,'база 2013'!$O$4:$O$1191,AX$7)","v":0},0,0,0,0,0,0,0,null,0]
[31,"Отрадненский район",{"$f":"COUNTIFS('база 2013'!$E$4:$E$1191,$B38,'база 2013'!$I$4:$I$1191,C$5,'база 2013'!$O$4:$O$1191,C$7)","v":0},{"$f":"COUNTIFS('база 2013'!$E$4:$E$1191,$B38,'база 2013'!$I$4:$I$1191,D$5,'база 2013'!$O$4:$O$1191,D$7)","v":0},{"$f":"COUNTIFS('база 2013'!$E$4:$E$1191,$B38,'база 2013'!$I$4:$I$1191,E$5,'база 2013'!$O$4:$O$1191,E$7)","v":0},{"$f":"COUNTIFS('база 2013'!$E$4:$E$1191,$B38,'база 2013'!$I$4:$I$1191,F$5,'база 2013'!$O$4:$O$1191,F$7)","v":0},{"$f":"COUNTIFS('база 2013'!$E$4:$E$1191,$B38,'база 2013'!$I$4:$I$1191,G$5,'база 2013'!$O$4:$O$1191,G$7)","v":0},{"$f":"COUNTIFS('база 2013'!$E$4:$E$1191,$B38,'база 2013'!$I$4:$I$1191,H$5,'база 2013'!$O$4:$O$1191,H$7)","v":0},{"$f":"COUNTIFS('база 2013'!$E$4:$E$1191,$B38,'база 2013'!$I$4:$I$1191,I$5,'база 2013'!$O$4:$O$1191,I$7)","v":0},{"$f":"COUNTIFS('база 2013'!$E$4:$E$1191,$B38,'база 2013'!$I$4:$I$1191,J$5,'база 2013'!$O$4:$O$1191,J$7)","v":0},{"$f":"COUNTIFS('база 2013'!$E$4:$E$1191,$B38,'база 2013'!$I$4:$I$1191,K$5,'база 2013'!$O$4:$O$1191,K$7)","v":0},{"$f":"COUNTIFS('база 2013'!$E$4:$E$1191,$B38,'база 2013'!$I$4:$I$1191,L$5,'база 2013'!$O$4:$O$1191,L$7)","v":0},{"$f":"COUNTIFS('база 2013'!$E$4:$E$1191,$B38,'база 2013'!$I$4:$I$1191,M$5,'база 2013'!$O$4:$O$1191,M$7)","v":0},{"$f":"COUNTIFS('база 2013'!$E$4:$E$1191,$B38,'база 2013'!$I$4:$I$1191,N$5,'база 2013'!$O$4:$O$1191,N$7)","v":0},{"$f":"COUNTIFS('база 2013'!$E$4:$E$1191,$B38,'база 2013'!$I$4:$I$1191,O$5,'база 2013'!$O$4:$O$1191,O$7)","v":0},{"$f":"COUNTIFS('база 2013'!$E$4:$E$1191,$B38,'база 2013'!$I$4:$I$1191,P$5,'база 2013'!$O$4:$O$1191,P$7)","v":0},{"$f":"COUNTIFS('база 2013'!$E$4:$E$1191,$B38,'база 2013'!$I$4:$I$1191,Q$5,'база 2013'!$O$4:$O$1191,Q$7)","v":0},0,0,0,{"$f":"COUNTIFS('база 2013'!$E$4:$E$1191,$B38,'база 2013'!$I$4:$I$1191,U$5,'база 2013'!$O$4:$O$1191,U$7)","v":0},{"$f":"COUNTIFS('база 2013'!$E$4:$E$1191,$B38,'база 2013'!$I$4:$I$1191,V$5,'база 2013'!$O$4:$O$1191,V$7)","v":0},{"$f":"COUNTIFS('база 2013'!$E$4:$E$1191,$B38,'база 2013'!$I$4:$I$1191,W$5,'база 2013'!$O$4:$O$1191,W$7)","v":0},{"$f":"COUNTIFS('база 2013'!$E$4:$E$1191,$B38,'база 2013'!$I$4:$I$1191,X$5,'база 2013'!$O$4:$O$1191,X$7)","v":0},{"$f":"COUNTIFS('база 2013'!$E$4:$E$1191,$B38,'база 2013'!$I$4:$I$1191,Y$5,'база 2013'!$O$4:$O$1191,Y$7)","v":0},{"$f":"COUNTIFS('база 2013'!$E$4:$E$1191,$B38,'база 2013'!$I$4:$I$1191,Z$5,'база 2013'!$O$4:$O$1191,Z$7)","v":0},{"$f":"COUNTIFS('база 2013'!$E$4:$E$1191,$B38,'база 2013'!$I$4:$I$1191,AA$5,'база 2013'!$O$4:$O$1191,AA$7)","v":0},{"$f":"COUNTIFS('база 2013'!$E$4:$E$1191,$B38,'база 2013'!$I$4:$I$1191,AB$5,'база 2013'!$O$4:$O$1191,AB$7)","v":0},{"$f":"COUNTIFS('база 2013'!$E$4:$E$1191,$B38,'база 2013'!$I$4:$I$1191,AC$5,'база 2013'!$O$4:$O$1191,AC$7)","v":0},0,0,0,{"$f":"COUNTIFS('база 2013'!$E$4:$E$1191,$B38,'база 2013'!$I$4:$I$1191,AG$5,'база 2013'!$O$4:$O$1191,AG$7)","v":0},{"$f":"COUNTIFS('база 2013'!$E$4:$E$1191,$B38,'база 2013'!$I$4:$I$1191,AH$5,'база 2013'!$O$4:$O$1191,AH$7)","v":0},{"$f":"COUNTIFS('база 2013'!$E$4:$E$1191,$B38,'база 2013'!$I$4:$I$1191,AI$5,'база 2013'!$O$4:$O$1191,AI$7)","v":0},{"$f":"COUNTIFS('база 2013'!$E$4:$E$1191,$B38,'база 2013'!$I$4:$I$1191,AJ$5,'база 2013'!$O$4:$O$1191,AJ$7)","v":0},{"$f":"COUNTIFS('база 2013'!$E$4:$E$1191,$B38,'база 2013'!$I$4:$I$1191,AK$5,'база 2013'!$O$4:$O$1191,AK$7)","v":0},{"$f":"COUNTIFS('база 2013'!$E$4:$E$1191,$B38,'база 2013'!$I$4:$I$1191,AL$5,'база 2013'!$O$4:$O$1191,AL$7)","v":0},{"$f":"COUNTIFS('база 2013'!$E$4:$E$1191,$B38,'база 2013'!$I$4:$I$1191,AM$5,'база 2013'!$O$4:$O$1191,AM$7)","v":0},{"$f":"COUNTIFS('база 2013'!$E$4:$E$1191,$B38,'база 2013'!$I$4:$I$1191,AN$5,'база 2013'!$O$4:$O$1191,AN$7)","v":0},{"$f":"COUNTIFS('база 2013'!$E$4:$E$1191,$B38,'база 2013'!$I$4:$I$1191,AO$5,'база 2013'!$O$4:$O$1191,AO$7)","v":0},{"$f":"COUNTIFS('база 2013'!$E$4:$E$1191,$B38,'база 2013'!$I$4:$I$1191,AP$5,'база 2013'!$O$4:$O$1191,AP$7)","v":0},{"$f":"COUNTIFS('база 2013'!$E$4:$E$1191,$B38,'база 2013'!$I$4:$I$1191,AQ$5,'база 2013'!$O$4:$O$1191,AQ$7)","v":0},{"$f":"COUNTIFS('база 2013'!$E$4:$E$1191,$B38,'база 2013'!$I$4:$I$1191,AR$5,'база 2013'!$O$4:$O$1191,AR$7)","v":0},{"$f":"COUNTIFS('база 2013'!$E$4:$E$1191,$B38,'база 2013'!$I$4:$I$1191,AS$5,'база 2013'!$O$4:$O$1191,AS$7)","v":0},{"$f":"COUNTIFS('база 2013'!$E$4:$E$1191,$B38,'база 2013'!$I$4:$I$1191,AT$5,'база 2013'!$O$4:$O$1191,AT$7)","v":0},{"$f":"COUNTIFS('база 2013'!$E$4:$E$1191,$B38,'база 2013'!$I$4:$I$1191,AU$5,'база 2013'!$O$4:$O$1191,AU$7)","v":0},{"$f":"COUNTIFS('база 2013'!$E$4:$E$1191,$B38,'база 2013'!$I$4:$I$1191,AV$5,'база 2013'!$O$4:$O$1191,AV$7)","v":0},{"$f":"COUNTIFS('база 2013'!$E$4:$E$1191,$B38,'база 2013'!$I$4:$I$1191,AW$5,'база 2013'!$O$4:$O$1191,AW$7)","v":0},{"$f":"COUNTIFS('база 2013'!$E$4:$E$1191,$B38,'база 2013'!$I$4:$I$1191,AX$5,'база 2013'!$O$4:$O$1191,AX$7)","v":0},0,0,0,0,0,0,0,null,0]
[32,"Павловский район",{"$f":"COUNTIFS('база 2013'!$E$4:$E$1191,$B39,'база 2013'!$I$4:$I$1191,C$5,'база 2013'!$O$4:$O$1191,C$7)","v":0},{"$f":"COUNTIFS('база 2013'!$E$4:$E$1191,$B39,'база 2013'!$I$4:$I$1191,D$5,'база 2013'!$O$4:$O$1191,D$7)","v":0},{"$f":"COUNTIFS('база 2013'!$E$4:$E$1191,$B39,'база 2013'!$I$4:$I$1191,E$5,'база 2013'!$O$4:$O$1191,E$7)","v":0},{"$f":"COUNTIFS('база 2013'!$E$4:$E$1191,$B39,'база 2013'!$I$4:$I$1191,F$5,'база 2013'!$O$4:$O$1191,F$7)","v":0},{"$f":"COUNTIFS('база 2013'!$E$4:$E$1191,$B39,'база 2013'!$I$4:$I$1191,G$5,'база 2013'!$O$4:$O$1191,G$7)","v":0},{"$f":"COUNTIFS('база 2013'!$E$4:$E$1191,$B39,'база 2013'!$I$4:$I$1191,H$5,'база 2013'!$O$4:$O$1191,H$7)","v":0},{"$f":"COUNTIFS('база 2013'!$E$4:$E$1191,$B39,'база 2013'!$I$4:$I$1191,I$5,'база 2013'!$O$4:$O$1191,I$7)","v":0},{"$f":"COUNTIFS('база 2013'!$E$4:$E$1191,$B39,'база 2013'!$I$4:$I$1191,J$5,'база 2013'!$O$4:$O$1191,J$7)","v":0},{"$f":"COUNTIFS('база 2013'!$E$4:$E$1191,$B39,'база 2013'!$I$4:$I$1191,K$5,'база 2013'!$O$4:$O$1191,K$7)","v":0},{"$f":"COUNTIFS('база 2013'!$E$4:$E$1191,$B39,'база 2013'!$I$4:$I$1191,L$5,'база 2013'!$O$4:$O$1191,L$7)","v":0},{"$f":"COUNTIFS('база 2013'!$E$4:$E$1191,$B39,'база 2013'!$I$4:$I$1191,M$5,'база 2013'!$O$4:$O$1191,M$7)","v":0},{"$f":"COUNTIFS('база 2013'!$E$4:$E$1191,$B39,'база 2013'!$I$4:$I$1191,N$5,'база 2013'!$O$4:$O$1191,N$7)","v":0},{"$f":"COUNTIFS('база 2013'!$E$4:$E$1191,$B39,'база 2013'!$I$4:$I$1191,O$5,'база 2013'!$O$4:$O$1191,O$7)","v":0},{"$f":"COUNTIFS('база 2013'!$E$4:$E$1191,$B39,'база 2013'!$I$4:$I$1191,P$5,'база 2013'!$O$4:$O$1191,P$7)","v":0},{"$f":"COUNTIFS('база 2013'!$E$4:$E$1191,$B39,'база 2013'!$I$4:$I$1191,Q$5,'база 2013'!$O$4:$O$1191,Q$7)","v":0},0,0,0,{"$f":"COUNTIFS('база 2013'!$E$4:$E$1191,$B39,'база 2013'!$I$4:$I$1191,U$5,'база 2013'!$O$4:$O$1191,U$7)","v":0},{"$f":"COUNTIFS('база 2013'!$E$4:$E$1191,$B39,'база 2013'!$I$4:$I$1191,V$5,'база 2013'!$O$4:$O$1191,V$7)","v":0},{"$f":"COUNTIFS('база 2013'!$E$4:$E$1191,$B39,'база 2013'!$I$4:$I$1191,W$5,'база 2013'!$O$4:$O$1191,W$7)","v":0},{"$f":"COUNTIFS('база 2013'!$E$4:$E$1191,$B39,'база 2013'!$I$4:$I$1191,X$5,'база 2013'!$O$4:$O$1191,X$7)","v":0},{"$f":"COUNTIFS('база 2013'!$E$4:$E$1191,$B39,'база 2013'!$I$4:$I$1191,Y$5,'база 2013'!$O$4:$O$1191,Y$7)","v":0},{"$f":"COUNTIFS('база 2013'!$E$4:$E$1191,$B39,'база 2013'!$I$4:$I$1191,Z$5,'база 2013'!$O$4:$O$1191,Z$7)","v":0},{"$f":"COUNTIFS('база 2013'!$E$4:$E$1191,$B39,'база 2013'!$I$4:$I$1191,AA$5,'база 2013'!$O$4:$O$1191,AA$7)","v":0},{"$f":"COUNTIFS('база 2013'!$E$4:$E$1191,$B39,'база 2013'!$I$4:$I$1191,AB$5,'база 2013'!$O$4:$O$1191,AB$7)","v":0},{"$f":"COUNTIFS('база 2013'!$E$4:$E$1191,$B39,'база 2013'!$I$4:$I$1191,AC$5,'база 2013'!$O$4:$O$1191,AC$7)","v":0},0,0,0,{"$f":"COUNTIFS('база 2013'!$E$4:$E$1191,$B39,'база 2013'!$I$4:$I$1191,AG$5,'база 2013'!$O$4:$O$1191,AG$7)","v":0},{"$f":"COUNTIFS('база 2013'!$E$4:$E$1191,$B39,'база 2013'!$I$4:$I$1191,AH$5,'база 2013'!$O$4:$O$1191,AH$7)","v":0},{"$f":"COUNTIFS('база 2013'!$E$4:$E$1191,$B39,'база 2013'!$I$4:$I$1191,AI$5,'база 2013'!$O$4:$O$1191,AI$7)","v":0},{"$f":"COUNTIFS('база 2013'!$E$4:$E$1191,$B39,'база 2013'!$I$4:$I$1191,AJ$5,'база 2013'!$O$4:$O$1191,AJ$7)","v":0},{"$f":"COUNTIFS('база 2013'!$E$4:$E$1191,$B39,'база 2013'!$I$4:$I$1191,AK$5,'база 2013'!$O$4:$O$1191,AK$7)","v":0},{"$f":"COUNTIFS('база 2013'!$E$4:$E$1191,$B39,'база 2013'!$I$4:$I$1191,AL$5,'база 2013'!$O$4:$O$1191,AL$7)","v":0},{"$f":"COUNTIFS('база 2013'!$E$4:$E$1191,$B39,'база 2013'!$I$4:$I$1191,AM$5,'база 2013'!$O$4:$O$1191,AM$7)","v":0},{"$f":"COUNTIFS('база 2013'!$E$4:$E$1191,$B39,'база 2013'!$I$4:$I$1191,AN$5,'база 2013'!$O$4:$O$1191,AN$7)","v":0},{"$f":"COUNTIFS('база 2013'!$E$4:$E$1191,$B39,'база 2013'!$I$4:$I$1191,AO$5,'база 2013'!$O$4:$O$1191,AO$7)","v":0},{"$f":"COUNTIFS('база 2013'!$E$4:$E$1191,$B39,'база 2013'!$I$4:$I$1191,AP$5,'база 2013'!$O$4:$O$1191,AP$7)","v":0},{"$f":"COUNTIFS('база 2013'!$E$4:$E$1191,$B39,'база 2013'!$I$4:$I$1191,AQ$5,'база 2013'!$O$4:$O$1191,AQ$7)","v":0},{"$f":"COUNTIFS('база 2013'!$E$4:$E$1191,$B39,'база 2013'!$I$4:$I$1191,AR$5,'база 2013'!$O$4:$O$1191,AR$7)","v":0},{"$f":"COUNTIFS('база 2013'!$E$4:$E$1191,$B39,'база 2013'!$I$4:$I$1191,AS$5,'база 2013'!$O$4:$O$1191,AS$7)","v":0},{"$f":"COUNTIFS('база 2013'!$E$4:$E$1191,$B39,'база 2013'!$I$4:$I$1191,AT$5,'база 2013'!$O$4:$O$1191,AT$7)","v":0},{"$f":"COUNTIFS('база 2013'!$E$4:$E$1191,$B39,'база 2013'!$I$4:$I$1191,AU$5,'база 2013'!$O$4:$O$1191,AU$7)","v":0},{"$f":"COUNTIFS('база 2013'!$E$4:$E$1191,$B39,'база 2013'!$I$4:$I$1191,AV$5,'база 2013'!$O$4:$O$1191,AV$7)","v":0},{"$f":"COUNTIFS('база 2013'!$E$4:$E$1191,$B39,'база 2013'!$I$4:$I$1191,AW$5,'база 2013'!$O$4:$O$1191,AW$7)","v":0},{"$f":"COUNTIFS('база 2013'!$E$4:$E$1191,$B39,'база 2013'!$I$4:$I$1191,AX$5,'база 2013'!$O$4:$O$1191,AX$7)","v":0},0,0,0,0,0,0,0,null,0]
[33,"Приморско-Ахтарский район",{"$f":"COUNTIFS('база 2013'!$E$4:$E$1191,$B40,'база 2013'!$I$4:$I$1191,C$5,'база 2013'!$O$4:$O$1191,C$7)","v":0},{"$f":"COUNTIFS('база 2013'!$E$4:$E$1191,$B40,'база 2013'!$I$4:$I$1191,D$5,'база 2013'!$O$4:$O$1191,D$7)","v":0},{"$f":"COUNTIFS('база 2013'!$E$4:$E$1191,$B40,'база 2013'!$I$4:$I$1191,E$5,'база 2013'!$O$4:$O$1191,E$7)","v":0},{"$f":"COUNTIFS('база 2013'!$E$4:$E$1191,$B40,'база 2013'!$I$4:$I$1191,F$5,'база 2013'!$O$4:$O$1191,F$7)","v":0},{"$f":"COUNTIFS('база 2013'!$E$4:$E$1191,$B40,'база 2013'!$I$4:$I$1191,G$5,'база 2013'!$O$4:$O$1191,G$7)","v":0},{"$f":"COUNTIFS('база 2013'!$E$4:$E$1191,$B40,'база 2013'!$I$4:$I$1191,H$5,'база 2013'!$O$4:$O$1191,H$7)","v":0},{"$f":"COUNTIFS('база 2013'!$E$4:$E$1191,$B40,'база 2013'!$I$4:$I$1191,I$5,'база 2013'!$O$4:$O$1191,I$7)","v":0},{"$f":"COUNTIFS('база 2013'!$E$4:$E$1191,$B40,'база 2013'!$I$4:$I$1191,J$5,'база 2013'!$O$4:$O$1191,J$7)","v":0},{"$f":"COUNTIFS('база 2013'!$E$4:$E$1191,$B40,'база 2013'!$I$4:$I$1191,K$5,'база 2013'!$O$4:$O$1191,K$7)","v":0},{"$f":"COUNTIFS('база 2013'!$E$4:$E$1191,$B40,'база 2013'!$I$4:$I$1191,L$5,'база 2013'!$O$4:$O$1191,L$7)","v":0},{"$f":"COUNTIFS('база 2013'!$E$4:$E$1191,$B40,'база 2013'!$I$4:$I$1191,M$5,'база 2013'!$O$4:$O$1191,M$7)","v":0},{"$f":"COUNTIFS('база 2013'!$E$4:$E$1191,$B40,'база 2013'!$I$4:$I$1191,N$5,'база 2013'!$O$4:$O$1191,N$7)","v":0},{"$f":"COUNTIFS('база 2013'!$E$4:$E$1191,$B40,'база 2013'!$I$4:$I$1191,O$5,'база 2013'!$O$4:$O$1191,O$7)","v":0},{"$f":"COUNTIFS('база 2013'!$E$4:$E$1191,$B40,'база 2013'!$I$4:$I$1191,P$5,'база 2013'!$O$4:$O$1191,P$7)","v":0},{"$f":"COUNTIFS('база 2013'!$E$4:$E$1191,$B40,'база 2013'!$I$4:$I$1191,Q$5,'база 2013'!$O$4:$O$1191,Q$7)","v":0},0,0,0,{"$f":"COUNTIFS('база 2013'!$E$4:$E$1191,$B40,'база 2013'!$I$4:$I$1191,U$5,'база 2013'!$O$4:$O$1191,U$7)","v":0},{"$f":"COUNTIFS('база 2013'!$E$4:$E$1191,$B40,'база 2013'!$I$4:$I$1191,V$5,'база 2013'!$O$4:$O$1191,V$7)","v":0},{"$f":"COUNTIFS('база 2013'!$E$4:$E$1191,$B40,'база 2013'!$I$4:$I$1191,W$5,'база 2013'!$O$4:$O$1191,W$7)","v":0},{"$f":"COUNTIFS('база 2013'!$E$4:$E$1191,$B40,'база 2013'!$I$4:$I$1191,X$5,'база 2013'!$O$4:$O$1191,X$7)","v":0},{"$f":"COUNTIFS('база 2013'!$E$4:$E$1191,$B40,'база 2013'!$I$4:$I$1191,Y$5,'база 2013'!$O$4:$O$1191,Y$7)","v":0},{"$f":"COUNTIFS('база 2013'!$E$4:$E$1191,$B40,'база 2013'!$I$4:$I$1191,Z$5,'база 2013'!$O$4:$O$1191,Z$7)","v":0},{"$f":"COUNTIFS('база 2013'!$E$4:$E$1191,$B40,'база 2013'!$I$4:$I$1191,AA$5,'база 2013'!$O$4:$O$1191,AA$7)","v":0},{"$f":"COUNTIFS('база 2013'!$E$4:$E$1191,$B40,'база 2013'!$I$4:$I$1191,AB$5,'база 2013'!$O$4:$O$1191,AB$7)","v":0},{"$f":"COUNTIFS('база 2013'!$E$4:$E$1191,$B40,'база 2013'!$I$4:$I$1191,AC$5,'база 2013'!$O$4:$O$1191,AC$7)","v":0},0,0,0,{"$f":"COUNTIFS('база 2013'!$E$4:$E$1191,$B40,'база 2013'!$I$4:$I$1191,AG$5,'база 2013'!$O$4:$O$1191,AG$7)","v":0},{"$f":"COUNTIFS('база 2013'!$E$4:$E$1191,$B40,'база 2013'!$I$4:$I$1191,AH$5,'база 2013'!$O$4:$O$1191,AH$7)","v":0},{"$f":"COUNTIFS('база 2013'!$E$4:$E$1191,$B40,'база 2013'!$I$4:$I$1191,AI$5,'база 2013'!$O$4:$O$1191,AI$7)","v":0},{"$f":"COUNTIFS('база 2013'!$E$4:$E$1191,$B40,'база 2013'!$I$4:$I$1191,AJ$5,'база 2013'!$O$4:$O$1191,AJ$7)","v":0},{"$f":"COUNTIFS('база 2013'!$E$4:$E$1191,$B40,'база 2013'!$I$4:$I$1191,AK$5,'база 2013'!$O$4:$O$1191,AK$7)","v":0},{"$f":"COUNTIFS('база 2013'!$E$4:$E$1191,$B40,'база 2013'!$I$4:$I$1191,AL$5,'база 2013'!$O$4:$O$1191,AL$7)","v":0},{"$f":"COUNTIFS('база 2013'!$E$4:$E$1191,$B40,'база 2013'!$I$4:$I$1191,AM$5,'база 2013'!$O$4:$O$1191,AM$7)","v":0},{"$f":"COUNTIFS('база 2013'!$E$4:$E$1191,$B40,'база 2013'!$I$4:$I$1191,AN$5,'база 2013'!$O$4:$O$1191,AN$7)","v":0},{"$f":"COUNTIFS('база 2013'!$E$4:$E$1191,$B40,'база 2013'!$I$4:$I$1191,AO$5,'база 2013'!$O$4:$O$1191,AO$7)","v":0},{"$f":"COUNTIFS('база 2013'!$E$4:$E$1191,$B40,'база 2013'!$I$4:$I$1191,AP$5,'база 2013'!$O$4:$O$1191,AP$7)","v":0},{"$f":"COUNTIFS('база 2013'!$E$4:$E$1191,$B40,'база 2013'!$I$4:$I$1191,AQ$5,'база 2013'!$O$4:$O$1191,AQ$7)","v":0},{"$f":"COUNTIFS('база 2013'!$E$4:$E$1191,$B40,'база 2013'!$I$4:$I$1191,AR$5,'база 2013'!$O$4:$O$1191,AR$7)","v":0},{"$f":"COUNTIFS('база 2013'!$E$4:$E$1191,$B40,'база 2013'!$I$4:$I$1191,AS$5,'база 2013'!$O$4:$O$1191,AS$7)","v":0},{"$f":"COUNTIFS('база 2013'!$E$4:$E$1191,$B40,'база 2013'!$I$4:$I$1191,AT$5,'база 2013'!$O$4:$O$1191,AT$7)","v":0},{"$f":"COUNTIFS('база 2013'!$E$4:$E$1191,$B40,'база 2013'!$I$4:$I$1191,AU$5,'база 2013'!$O$4:$O$1191,AU$7)","v":0},{"$f":"COUNTIFS('база 2013'!$E$4:$E$1191,$B40,'база 2013'!$I$4:$I$1191,AV$5,'база 2013'!$O$4:$O$1191,AV$7)","v":0},{"$f":"COUNTIFS('база 2013'!$E$4:$E$1191,$B40,'база 2013'!$I$4:$I$1191,AW$5,'база 2013'!$O$4:$O$1191,AW$7)","v":0},{"$f":"COUNTIFS('база 2013'!$E$4:$E$1191,$B40,'база 2013'!$I$4:$I$1191,AX$5,'база 2013'!$O$4:$O$1191,AX$7)","v":0},0,0,0,0,0,0,0,null,0]
[34,"Северский район",{"$f":"COUNTIFS('база 2013'!$E$4:$E$1191,$B41,'база 2013'!$I$4:$I$1191,C$5,'база 2013'!$O$4:$O$1191,C$7)","v":0},{"$f":"COUNTIFS('база 2013'!$E$4:$E$1191,$B41,'база 2013'!$I$4:$I$1191,D$5,'база 2013'!$O$4:$O$1191,D$7)","v":0},{"$f":"COUNTIFS('база 2013'!$E$4:$E$1191,$B41,'база 2013'!$I$4:$I$1191,E$5,'база 2013'!$O$4:$O$1191,E$7)","v":0},{"$f":"COUNTIFS('база 2013'!$E$4:$E$1191,$B41,'база 2013'!$I$4:$I$1191,F$5,'база 2013'!$O$4:$O$1191,F$7)","v":0},{"$f":"COUNTIFS('база 2013'!$E$4:$E$1191,$B41,'база 2013'!$I$4:$I$1191,G$5,'база 2013'!$O$4:$O$1191,G$7)","v":0},{"$f":"COUNTIFS('база 2013'!$E$4:$E$1191,$B41,'база 2013'!$I$4:$I$1191,H$5,'база 2013'!$O$4:$O$1191,H$7)","v":0},{"$f":"COUNTIFS('база 2013'!$E$4:$E$1191,$B41,'база 2013'!$I$4:$I$1191,I$5,'база 2013'!$O$4:$O$1191,I$7)","v":0},{"$f":"COUNTIFS('база 2013'!$E$4:$E$1191,$B41,'база 2013'!$I$4:$I$1191,J$5,'база 2013'!$O$4:$O$1191,J$7)","v":0},{"$f":"COUNTIFS('база 2013'!$E$4:$E$1191,$B41,'база 2013'!$I$4:$I$1191,K$5,'база 2013'!$O$4:$O$1191,K$7)","v":0},{"$f":"COUNTIFS('база 2013'!$E$4:$E$1191,$B41,'база 2013'!$I$4:$I$1191,L$5,'база 2013'!$O$4:$O$1191,L$7)","v":0},{"$f":"COUNTIFS('база 2013'!$E$4:$E$1191,$B41,'база 2013'!$I$4:$I$1191,M$5,'база 2013'!$O$4:$O$1191,M$7)","v":0},{"$f":"COUNTIFS('база 2013'!$E$4:$E$1191,$B41,'база 2013'!$I$4:$I$1191,N$5,'база 2013'!$O$4:$O$1191,N$7)","v":0},{"$f":"COUNTIFS('база 2013'!$E$4:$E$1191,$B41,'база 2013'!$I$4:$I$1191,O$5,'база 2013'!$O$4:$O$1191,O$7)","v":0},{"$f":"COUNTIFS('база 2013'!$E$4:$E$1191,$B41,'база 2013'!$I$4:$I$1191,P$5,'база 2013'!$O$4:$O$1191,P$7)","v":0},{"$f":"COUNTIFS('база 2013'!$E$4:$E$1191,$B41,'база 2013'!$I$4:$I$1191,Q$5,'база 2013'!$O$4:$O$1191,Q$7)","v":0},0,0,0,{"$f":"COUNTIFS('база 2013'!$E$4:$E$1191,$B41,'база 2013'!$I$4:$I$1191,U$5,'база 2013'!$O$4:$O$1191,U$7)","v":0},{"$f":"COUNTIFS('база 2013'!$E$4:$E$1191,$B41,'база 2013'!$I$4:$I$1191,V$5,'база 2013'!$O$4:$O$1191,V$7)","v":0},{"$f":"COUNTIFS('база 2013'!$E$4:$E$1191,$B41,'база 2013'!$I$4:$I$1191,W$5,'база 2013'!$O$4:$O$1191,W$7)","v":0},{"$f":"COUNTIFS('база 2013'!$E$4:$E$1191,$B41,'база 2013'!$I$4:$I$1191,X$5,'база 2013'!$O$4:$O$1191,X$7)","v":0},{"$f":"COUNTIFS('база 2013'!$E$4:$E$1191,$B41,'база 2013'!$I$4:$I$1191,Y$5,'база 2013'!$O$4:$O$1191,Y$7)","v":0},{"$f":"COUNTIFS('база 2013'!$E$4:$E$1191,$B41,'база 2013'!$I$4:$I$1191,Z$5,'база 2013'!$O$4:$O$1191,Z$7)","v":0},{"$f":"COUNTIFS('база 2013'!$E$4:$E$1191,$B41,'база 2013'!$I$4:$I$1191,AA$5,'база 2013'!$O$4:$O$1191,AA$7)","v":0},{"$f":"COUNTIFS('база 2013'!$E$4:$E$1191,$B41,'база 2013'!$I$4:$I$1191,AB$5,'база 2013'!$O$4:$O$1191,AB$7)","v":0},{"$f":"COUNTIFS('база 2013'!$E$4:$E$1191,$B41,'база 2013'!$I$4:$I$1191,AC$5,'база 2013'!$O$4:$O$1191,AC$7)","v":0},0,0,0,{"$f":"COUNTIFS('база 2013'!$E$4:$E$1191,$B41,'база 2013'!$I$4:$I$1191,AG$5,'база 2013'!$O$4:$O$1191,AG$7)","v":0},{"$f":"COUNTIFS('база 2013'!$E$4:$E$1191,$B41,'база 2013'!$I$4:$I$1191,AH$5,'база 2013'!$O$4:$O$1191,AH$7)","v":0},{"$f":"COUNTIFS('база 2013'!$E$4:$E$1191,$B41,'база 2013'!$I$4:$I$1191,AI$5,'база 2013'!$O$4:$O$1191,AI$7)","v":0},{"$f":"COUNTIFS('база 2013'!$E$4:$E$1191,$B41,'база 2013'!$I$4:$I$1191,AJ$5,'база 2013'!$O$4:$O$1191,AJ$7)","v":0},{"$f":"COUNTIFS('база 2013'!$E$4:$E$1191,$B41,'база 2013'!$I$4:$I$1191,AK$5,'база 2013'!$O$4:$O$1191,AK$7)","v":0},{"$f":"COUNTIFS('база 2013'!$E$4:$E$1191,$B41,'база 2013'!$I$4:$I$1191,AL$5,'база 2013'!$O$4:$O$1191,AL$7)","v":0},{"$f":"COUNTIFS('база 2013'!$E$4:$E$1191,$B41,'база 2013'!$I$4:$I$1191,AM$5,'база 2013'!$O$4:$O$1191,AM$7)","v":0},{"$f":"COUNTIFS('база 2013'!$E$4:$E$1191,$B41,'база 2013'!$I$4:$I$1191,AN$5,'база 2013'!$O$4:$O$1191,AN$7)","v":0},{"$f":"COUNTIFS('база 2013'!$E$4:$E$1191,$B41,'база 2013'!$I$4:$I$1191,AO$5,'база 2013'!$O$4:$O$1191,AO$7)","v":0},{"$f":"COUNTIFS('база 2013'!$E$4:$E$1191,$B41,'база 2013'!$I$4:$I$1191,AP$5,'база 2013'!$O$4:$O$1191,AP$7)","v":0},{"$f":"COUNTIFS('база 2013'!$E$4:$E$1191,$B41,'база 2013'!$I$4:$I$1191,AQ$5,'база 2013'!$O$4:$O$1191,AQ$7)","v":0},{"$f":"COUNTIFS('база 2013'!$E$4:$E$1191,$B41,'база 2013'!$I$4:$I$1191,AR$5,'база 2013'!$O$4:$O$1191,AR$7)","v":0},{"$f":"COUNTIFS('база 2013'!$E$4:$E$1191,$B41,'база 2013'!$I$4:$I$1191,AS$5,'база 2013'!$O$4:$O$1191,AS$7)","v":0},{"$f":"COUNTIFS('база 2013'!$E$4:$E$1191,$B41,'база 2013'!$I$4:$I$1191,AT$5,'база 2013'!$O$4:$O$1191,AT$7)","v":0},{"$f":"COUNTIFS('база 2013'!$E$4:$E$1191,$B41,'база 2013'!$I$4:$I$1191,AU$5,'база 2013'!$O$4:$O$1191,AU$7)","v":0},{"$f":"COUNTIFS('база 2013'!$E$4:$E$1191,$B41,'база 2013'!$I$4:$I$1191,AV$5,'база 2013'!$O$4:$O$1191,AV$7)","v":0},{"$f":"COUNTIFS('база 2013'!$E$4:$E$1191,$B41,'база 2013'!$I$4:$I$1191,AW$5,'база 2013'!$O$4:$O$1191,AW$7)","v":0},{"$f":"COUNTIFS('база 2013'!$E$4:$E$1191,$B41,'база 2013'!$I$4:$I$1191,AX$5,'база 2013'!$O$4:$O$1191,AX$7)","v":0},0,0,0,0,0,0,0,null,0]
[35,"Славянский район",{"$f":"COUNTIFS('база 2013'!$E$4:$E$1191,$B42,'база 2013'!$I$4:$I$1191,C$5,'база 2013'!$O$4:$O$1191,C$7)","v":0},{"$f":"COUNTIFS('база 2013'!$E$4:$E$1191,$B42,'база 2013'!$I$4:$I$1191,D$5,'база 2013'!$O$4:$O$1191,D$7)","v":0},{"$f":"COUNTIFS('база 2013'!$E$4:$E$1191,$B42,'база 2013'!$I$4:$I$1191,E$5,'база 2013'!$O$4:$O$1191,E$7)","v":0},{"$f":"COUNTIFS('база 2013'!$E$4:$E$1191,$B42,'база 2013'!$I$4:$I$1191,F$5,'база 2013'!$O$4:$O$1191,F$7)","v":0},{"$f":"COUNTIFS('база 2013'!$E$4:$E$1191,$B42,'база 2013'!$I$4:$I$1191,G$5,'база 2013'!$O$4:$O$1191,G$7)","v":0},{"$f":"COUNTIFS('база 2013'!$E$4:$E$1191,$B42,'база 2013'!$I$4:$I$1191,H$5,'база 2013'!$O$4:$O$1191,H$7)","v":0},{"$f":"COUNTIFS('база 2013'!$E$4:$E$1191,$B42,'база 2013'!$I$4:$I$1191,I$5,'база 2013'!$O$4:$O$1191,I$7)","v":0},{"$f":"COUNTIFS('база 2013'!$E$4:$E$1191,$B42,'база 2013'!$I$4:$I$1191,J$5,'база 2013'!$O$4:$O$1191,J$7)","v":0},{"$f":"COUNTIFS('база 2013'!$E$4:$E$1191,$B42,'база 2013'!$I$4:$I$1191,K$5,'база 2013'!$O$4:$O$1191,K$7)","v":0},{"$f":"COUNTIFS('база 2013'!$E$4:$E$1191,$B42,'база 2013'!$I$4:$I$1191,L$5,'база 2013'!$O$4:$O$1191,L$7)","v":0},{"$f":"COUNTIFS('база 2013'!$E$4:$E$1191,$B42,'база 2013'!$I$4:$I$1191,M$5,'база 2013'!$O$4:$O$1191,M$7)","v":0},{"$f":"COUNTIFS('база 2013'!$E$4:$E$1191,$B42,'база 2013'!$I$4:$I$1191,N$5,'база 2013'!$O$4:$O$1191,N$7)","v":0},{"$f":"COUNTIFS('база 2013'!$E$4:$E$1191,$B42,'база 2013'!$I$4:$I$1191,O$5,'база 2013'!$O$4:$O$1191,O$7)","v":0},{"$f":"COUNTIFS('база 2013'!$E$4:$E$1191,$B42,'база 2013'!$I$4:$I$1191,P$5,'база 2013'!$O$4:$O$1191,P$7)","v":0},{"$f":"COUNTIFS('база 2013'!$E$4:$E$1191,$B42,'база 2013'!$I$4:$I$1191,Q$5,'база 2013'!$O$4:$O$1191,Q$7)","v":0},0,0,0,{"$f":"COUNTIFS('база 2013'!$E$4:$E$1191,$B42,'база 2013'!$I$4:$I$1191,U$5,'база 2013'!$O$4:$O$1191,U$7)","v":0},{"$f":"COUNTIFS('база 2013'!$E$4:$E$1191,$B42,'база 2013'!$I$4:$I$1191,V$5,'база 2013'!$O$4:$O$1191,V$7)","v":0},{"$f":"COUNTIFS('база 2013'!$E$4:$E$1191,$B42,'база 2013'!$I$4:$I$1191,W$5,'база 2013'!$O$4:$O$1191,W$7)","v":0},{"$f":"COUNTIFS('база 2013'!$E$4:$E$1191,$B42,'база 2013'!$I$4:$I$1191,X$5,'база 2013'!$O$4:$O$1191,X$7)","v":0},{"$f":"COUNTIFS('база 2013'!$E$4:$E$1191,$B42,'база 2013'!$I$4:$I$1191,Y$5,'база 2013'!$O$4:$O$1191,Y$7)","v":0},{"$f":"COUNTIFS('база 2013'!$E$4:$E$1191,$B42,'база 2013'!$I$4:$I$1191,Z$5,'база 2013'!$O$4:$O$1191,Z$7)","v":0},{"$f":"COUNTIFS('база 2013'!$E$4:$E$1191,$B42,'база 2013'!$I$4:$I$1191,AA$5,'база 2013'!$O$4:$O$1191,AA$7)","v":0},{"$f":"COUNTIFS('база 2013'!$E$4:$E$1191,$B42,'база 2013'!$I$4:$I$1191,AB$5,'база 2013'!$O$4:$O$1191,AB$7)","v":0},{"$f":"COUNTIFS('база 2013'!$E$4:$E$1191,$B42,'база 2013'!$I$4:$I$1191,AC$5,'база 2013'!$O$4:$O$1191,AC$7)","v":0},0,0,0,{"$f":"COUNTIFS('база 2013'!$E$4:$E$1191,$B42,'база 2013'!$I$4:$I$1191,AG$5,'база 2013'!$O$4:$O$1191,AG$7)","v":0},{"$f":"COUNTIFS('база 2013'!$E$4:$E$1191,$B42,'база 2013'!$I$4:$I$1191,AH$5,'база 2013'!$O$4:$O$1191,AH$7)","v":0},{"$f":"COUNTIFS('база 2013'!$E$4:$E$1191,$B42,'база 2013'!$I$4:$I$1191,AI$5,'база 2013'!$O$4:$O$1191,AI$7)","v":0},{"$f":"COUNTIFS('база 2013'!$E$4:$E$1191,$B42,'база 2013'!$I$4:$I$1191,AJ$5,'база 2013'!$O$4:$O$1191,AJ$7)","v":0},{"$f":"COUNTIFS('база 2013'!$E$4:$E$1191,$B42,'база 2013'!$I$4:$I$1191,AK$5,'база 2013'!$O$4:$O$1191,AK$7)","v":0},{"$f":"COUNTIFS('база 2013'!$E$4:$E$1191,$B42,'база 2013'!$I$4:$I$1191,AL$5,'база 2013'!$O$4:$O$1191,AL$7)","v":0},{"$f":"COUNTIFS('база 2013'!$E$4:$E$1191,$B42,'база 2013'!$I$4:$I$1191,AM$5,'база 2013'!$O$4:$O$1191,AM$7)","v":0},{"$f":"COUNTIFS('база 2013'!$E$4:$E$1191,$B42,'база 2013'!$I$4:$I$1191,AN$5,'база 2013'!$O$4:$O$1191,AN$7)","v":0},{"$f":"COUNTIFS('база 2013'!$E$4:$E$1191,$B42,'база 2013'!$I$4:$I$1191,AO$5,'база 2013'!$O$4:$O$1191,AO$7)","v":0},{"$f":"COUNTIFS('база 2013'!$E$4:$E$1191,$B42,'база 2013'!$I$4:$I$1191,AP$5,'база 2013'!$O$4:$O$1191,AP$7)","v":0},{"$f":"COUNTIFS('база 2013'!$E$4:$E$1191,$B42,'база 2013'!$I$4:$I$1191,AQ$5,'база 2013'!$O$4:$O$1191,AQ$7)","v":0},{"$f":"COUNTIFS('база 2013'!$E$4:$E$1191,$B42,'база 2013'!$I$4:$I$1191,AR$5,'база 2013'!$O$4:$O$1191,AR$7)","v":0},{"$f":"COUNTIFS('база 2013'!$E$4:$E$1191,$B42,'база 2013'!$I$4:$I$1191,AS$5,'база 2013'!$O$4:$O$1191,AS$7)","v":0},{"$f":"COUNTIFS('база 2013'!$E$4:$E$1191,$B42,'база 2013'!$I$4:$I$1191,AT$5,'база 2013'!$O$4:$O$1191,AT$7)","v":0},{"$f":"COUNTIFS('база 2013'!$E$4:$E$1191,$B42,'база 2013'!$I$4:$I$1191,AU$5,'база 2013'!$O$4:$O$1191,AU$7)","v":0},{"$f":"COUNTIFS('база 2013'!$E$4:$E$1191,$B42,'база 2013'!$I$4:$I$1191,AV$5,'база 2013'!$O$4:$O$1191,AV$7)","v":0},{"$f":"COUNTIFS('база 2013'!$E$4:$E$1191,$B42,'база 2013'!$I$4:$I$1191,AW$5,'база 2013'!$O$4:$O$1191,AW$7)","v":0},{"$f":"COUNTIFS('база 2013'!$E$4:$E$1191,$B42,'база 2013'!$I$4:$I$1191,AX$5,'база 2013'!$O$4:$O$1191,AX$7)","v":0},0,0,0,0,0,0,0,null,0]
[36,"Староминский район",{"$f":"COUNTIFS('база 2013'!$E$4:$E$1191,$B43,'база 2013'!$I$4:$I$1191,C$5,'база 2013'!$O$4:$O$1191,C$7)","v":0},{"$f":"COUNTIFS('база 2013'!$E$4:$E$1191,$B43,'база 2013'!$I$4:$I$1191,D$5,'база 2013'!$O$4:$O$1191,D$7)","v":0},{"$f":"COUNTIFS('база 2013'!$E$4:$E$1191,$B43,'база 2013'!$I$4:$I$1191,E$5,'база 2013'!$O$4:$O$1191,E$7)","v":0},{"$f":"COUNTIFS('база 2013'!$E$4:$E$1191,$B43,'база 2013'!$I$4:$I$1191,F$5,'база 2013'!$O$4:$O$1191,F$7)","v":0},{"$f":"COUNTIFS('база 2013'!$E$4:$E$1191,$B43,'база 2013'!$I$4:$I$1191,G$5,'база 2013'!$O$4:$O$1191,G$7)","v":0},{"$f":"COUNTIFS('база 2013'!$E$4:$E$1191,$B43,'база 2013'!$I$4:$I$1191,H$5,'база 2013'!$O$4:$O$1191,H$7)","v":0},{"$f":"COUNTIFS('база 2013'!$E$4:$E$1191,$B43,'база 2013'!$I$4:$I$1191,I$5,'база 2013'!$O$4:$O$1191,I$7)","v":0},{"$f":"COUNTIFS('база 2013'!$E$4:$E$1191,$B43,'база 2013'!$I$4:$I$1191,J$5,'база 2013'!$O$4:$O$1191,J$7)","v":0},{"$f":"COUNTIFS('база 2013'!$E$4:$E$1191,$B43,'база 2013'!$I$4:$I$1191,K$5,'база 2013'!$O$4:$O$1191,K$7)","v":0},{"$f":"COUNTIFS('база 2013'!$E$4:$E$1191,$B43,'база 2013'!$I$4:$I$1191,L$5,'база 2013'!$O$4:$O$1191,L$7)","v":0},{"$f":"COUNTIFS('база 2013'!$E$4:$E$1191,$B43,'база 2013'!$I$4:$I$1191,M$5,'база 2013'!$O$4:$O$1191,M$7)","v":0},{"$f":"COUNTIFS('база 2013'!$E$4:$E$1191,$B43,'база 2013'!$I$4:$I$1191,N$5,'база 2013'!$O$4:$O$1191,N$7)","v":0},{"$f":"COUNTIFS('база 2013'!$E$4:$E$1191,$B43,'база 2013'!$I$4:$I$1191,O$5,'база 2013'!$O$4:$O$1191,O$7)","v":0},{"$f":"COUNTIFS('база 2013'!$E$4:$E$1191,$B43,'база 2013'!$I$4:$I$1191,P$5,'база 2013'!$O$4:$O$1191,P$7)","v":0},{"$f":"COUNTIFS('база 2013'!$E$4:$E$1191,$B43,'база 2013'!$I$4:$I$1191,Q$5,'база 2013'!$O$4:$O$1191,Q$7)","v":0},0,0,0,{"$f":"COUNTIFS('база 2013'!$E$4:$E$1191,$B43,'база 2013'!$I$4:$I$1191,U$5,'база 2013'!$O$4:$O$1191,U$7)","v":0},{"$f":"COUNTIFS('база 2013'!$E$4:$E$1191,$B43,'база 2013'!$I$4:$I$1191,V$5,'база 2013'!$O$4:$O$1191,V$7)","v":0},{"$f":"COUNTIFS('база 2013'!$E$4:$E$1191,$B43,'база 2013'!$I$4:$I$1191,W$5,'база 2013'!$O$4:$O$1191,W$7)","v":0},{"$f":"COUNTIFS('база 2013'!$E$4:$E$1191,$B43,'база 2013'!$I$4:$I$1191,X$5,'база 2013'!$O$4:$O$1191,X$7)","v":0},{"$f":"COUNTIFS('база 2013'!$E$4:$E$1191,$B43,'база 2013'!$I$4:$I$1191,Y$5,'база 2013'!$O$4:$O$1191,Y$7)","v":0},{"$f":"COUNTIFS('база 2013'!$E$4:$E$1191,$B43,'база 2013'!$I$4:$I$1191,Z$5,'база 2013'!$O$4:$O$1191,Z$7)","v":0},{"$f":"COUNTIFS('база 2013'!$E$4:$E$1191,$B43,'база 2013'!$I$4:$I$1191,AA$5,'база 2013'!$O$4:$O$1191,AA$7)","v":0},{"$f":"COUNTIFS('база 2013'!$E$4:$E$1191,$B43,'база 2013'!$I$4:$I$1191,AB$5,'база 2013'!$O$4:$O$1191,AB$7)","v":0},{"$f":"COUNTIFS('база 2013'!$E$4:$E$1191,$B43,'база 2013'!$I$4:$I$1191,AC$5,'база 2013'!$O$4:$O$1191,AC$7)","v":0},0,0,0,{"$f":"COUNTIFS('база 2013'!$E$4:$E$1191,$B43,'база 2013'!$I$4:$I$1191,AG$5,'база 2013'!$O$4:$O$1191,AG$7)","v":0},{"$f":"COUNTIFS('база 2013'!$E$4:$E$1191,$B43,'база 2013'!$I$4:$I$1191,AH$5,'база 2013'!$O$4:$O$1191,AH$7)","v":0},{"$f":"COUNTIFS('база 2013'!$E$4:$E$1191,$B43,'база 2013'!$I$4:$I$1191,AI$5,'база 2013'!$O$4:$O$1191,AI$7)","v":0},{"$f":"COUNTIFS('база 2013'!$E$4:$E$1191,$B43,'база 2013'!$I$4:$I$1191,AJ$5,'база 2013'!$O$4:$O$1191,AJ$7)","v":0},{"$f":"COUNTIFS('база 2013'!$E$4:$E$1191,$B43,'база 2013'!$I$4:$I$1191,AK$5,'база 2013'!$O$4:$O$1191,AK$7)","v":0},{"$f":"COUNTIFS('база 2013'!$E$4:$E$1191,$B43,'база 2013'!$I$4:$I$1191,AL$5,'база 2013'!$O$4:$O$1191,AL$7)","v":0},{"$f":"COUNTIFS('база 2013'!$E$4:$E$1191,$B43,'база 2013'!$I$4:$I$1191,AM$5,'база 2013'!$O$4:$O$1191,AM$7)","v":0},{"$f":"COUNTIFS('база 2013'!$E$4:$E$1191,$B43,'база 2013'!$I$4:$I$1191,AN$5,'база 2013'!$O$4:$O$1191,AN$7)","v":0},{"$f":"COUNTIFS('база 2013'!$E$4:$E$1191,$B43,'база 2013'!$I$4:$I$1191,AO$5,'база 2013'!$O$4:$O$1191,AO$7)","v":0},{"$f":"COUNTIFS('база 2013'!$E$4:$E$1191,$B43,'база 2013'!$I$4:$I$1191,AP$5,'база 2013'!$O$4:$O$1191,AP$7)","v":0},{"$f":"COUNTIFS('база 2013'!$E$4:$E$1191,$B43,'база 2013'!$I$4:$I$1191,AQ$5,'база 2013'!$O$4:$O$1191,AQ$7)","v":0},{"$f":"COUNTIFS('база 2013'!$E$4:$E$1191,$B43,'база 2013'!$I$4:$I$1191,AR$5,'база 2013'!$O$4:$O$1191,AR$7)","v":0},{"$f":"COUNTIFS('база 2013'!$E$4:$E$1191,$B43,'база 2013'!$I$4:$I$1191,AS$5,'база 2013'!$O$4:$O$1191,AS$7)","v":0},{"$f":"COUNTIFS('база 2013'!$E$4:$E$1191,$B43,'база 2013'!$I$4:$I$1191,AT$5,'база 2013'!$O$4:$O$1191,AT$7)","v":0},{"$f":"COUNTIFS('база 2013'!$E$4:$E$1191,$B43,'база 2013'!$I$4:$I$1191,AU$5,'база 2013'!$O$4:$O$1191,AU$7)","v":0},{"$f":"COUNTIFS('база 2013'!$E$4:$E$1191,$B43,'база 2013'!$I$4:$I$1191,AV$5,'база 2013'!$O$4:$O$1191,AV$7)","v":0},{"$f":"COUNTIFS('база 2013'!$E$4:$E$1191,$B43,'база 2013'!$I$4:$I$1191,AW$5,'база 2013'!$O$4:$O$1191,AW$7)","v":0},{"$f":"COUNTIFS('база 2013'!$E$4:$E$1191,$B43,'база 2013'!$I$4:$I$1191,AX$5,'база 2013'!$O$4:$O$1191,AX$7)","v":0},0,0,0,0,0,0,0,null,0]
[37,"Тбилисский район",{"$f":"COUNTIFS('база 2013'!$E$4:$E$1191,$B44,'база 2013'!$I$4:$I$1191,C$5,'база 2013'!$O$4:$O$1191,C$7)","v":0},{"$f":"COUNTIFS('база 2013'!$E$4:$E$1191,$B44,'база 2013'!$I$4:$I$1191,D$5,'база 2013'!$O$4:$O$1191,D$7)","v":0},{"$f":"COUNTIFS('база 2013'!$E$4:$E$1191,$B44,'база 2013'!$I$4:$I$1191,E$5,'база 2013'!$O$4:$O$1191,E$7)","v":0},{"$f":"COUNTIFS('база 2013'!$E$4:$E$1191,$B44,'база 2013'!$I$4:$I$1191,F$5,'база 2013'!$O$4:$O$1191,F$7)","v":0},{"$f":"COUNTIFS('база 2013'!$E$4:$E$1191,$B44,'база 2013'!$I$4:$I$1191,G$5,'база 2013'!$O$4:$O$1191,G$7)","v":0},{"$f":"COUNTIFS('база 2013'!$E$4:$E$1191,$B44,'база 2013'!$I$4:$I$1191,H$5,'база 2013'!$O$4:$O$1191,H$7)","v":0},{"$f":"COUNTIFS('база 2013'!$E$4:$E$1191,$B44,'база 2013'!$I$4:$I$1191,I$5,'база 2013'!$O$4:$O$1191,I$7)","v":0},{"$f":"COUNTIFS('база 2013'!$E$4:$E$1191,$B44,'база 2013'!$I$4:$I$1191,J$5,'база 2013'!$O$4:$O$1191,J$7)","v":0},{"$f":"COUNTIFS('база 2013'!$E$4:$E$1191,$B44,'база 2013'!$I$4:$I$1191,K$5,'база 2013'!$O$4:$O$1191,K$7)","v":0},{"$f":"COUNTIFS('база 2013'!$E$4:$E$1191,$B44,'база 2013'!$I$4:$I$1191,L$5,'база 2013'!$O$4:$O$1191,L$7)","v":0},{"$f":"COUNTIFS('база 2013'!$E$4:$E$1191,$B44,'база 2013'!$I$4:$I$1191,M$5,'база 2013'!$O$4:$O$1191,M$7)","v":0},{"$f":"COUNTIFS('база 2013'!$E$4:$E$1191,$B44,'база 2013'!$I$4:$I$1191,N$5,'база 2013'!$O$4:$O$1191,N$7)","v":0},{"$f":"COUNTIFS('база 2013'!$E$4:$E$1191,$B44,'база 2013'!$I$4:$I$1191,O$5,'база 2013'!$O$4:$O$1191,O$7)","v":0},{"$f":"COUNTIFS('база 2013'!$E$4:$E$1191,$B44,'база 2013'!$I$4:$I$1191,P$5,'база 2013'!$O$4:$O$1191,P$7)","v":0},{"$f":"COUNTIFS('база 2013'!$E$4:$E$1191,$B44,'база 2013'!$I$4:$I$1191,Q$5,'база 2013'!$O$4:$O$1191,Q$7)","v":0},0,0,0,{"$f":"COUNTIFS('база 2013'!$E$4:$E$1191,$B44,'база 2013'!$I$4:$I$1191,U$5,'база 2013'!$O$4:$O$1191,U$7)","v":0},{"$f":"COUNTIFS('база 2013'!$E$4:$E$1191,$B44,'база 2013'!$I$4:$I$1191,V$5,'база 2013'!$O$4:$O$1191,V$7)","v":0},{"$f":"COUNTIFS('база 2013'!$E$4:$E$1191,$B44,'база 2013'!$I$4:$I$1191,W$5,'база 2013'!$O$4:$O$1191,W$7)","v":0},{"$f":"COUNTIFS('база 2013'!$E$4:$E$1191,$B44,'база 2013'!$I$4:$I$1191,X$5,'база 2013'!$O$4:$O$1191,X$7)","v":0},{"$f":"COUNTIFS('база 2013'!$E$4:$E$1191,$B44,'база 2013'!$I$4:$I$1191,Y$5,'база 2013'!$O$4:$O$1191,Y$7)","v":0},{"$f":"COUNTIFS('база 2013'!$E$4:$E$1191,$B44,'база 2013'!$I$4:$I$1191,Z$5,'база 2013'!$O$4:$O$1191,Z$7)","v":0},{"$f":"COUNTIFS('база 2013'!$E$4:$E$1191,$B44,'база 2013'!$I$4:$I$1191,AA$5,'база 2013'!$O$4:$O$1191,AA$7)","v":0},{"$f":"COUNTIFS('база 2013'!$E$4:$E$1191,$B44,'база 2013'!$I$4:$I$1191,AB$5,'база 2013'!$O$4:$O$1191,AB$7)","v":0},{"$f":"COUNTIFS('база 2013'!$E$4:$E$1191,$B44,'база 2013'!$I$4:$I$1191,AC$5,'база 2013'!$O$4:$O$1191,AC$7)","v":0},0,0,0,{"$f":"COUNTIFS('база 2013'!$E$4:$E$1191,$B44,'база 2013'!$I$4:$I$1191,AG$5,'база 2013'!$O$4:$O$1191,AG$7)","v":0},{"$f":"COUNTIFS('база 2013'!$E$4:$E$1191,$B44,'база 2013'!$I$4:$I$1191,AH$5,'база 2013'!$O$4:$O$1191,AH$7)","v":0},{"$f":"COUNTIFS('база 2013'!$E$4:$E$1191,$B44,'база 2013'!$I$4:$I$1191,AI$5,'база 2013'!$O$4:$O$1191,AI$7)","v":0},{"$f":"COUNTIFS('база 2013'!$E$4:$E$1191,$B44,'база 2013'!$I$4:$I$1191,AJ$5,'база 2013'!$O$4:$O$1191,AJ$7)","v":0},{"$f":"COUNTIFS('база 2013'!$E$4:$E$1191,$B44,'база 2013'!$I$4:$I$1191,AK$5,'база 2013'!$O$4:$O$1191,AK$7)","v":0},{"$f":"COUNTIFS('база 2013'!$E$4:$E$1191,$B44,'база 2013'!$I$4:$I$1191,AL$5,'база 2013'!$O$4:$O$1191,AL$7)","v":0},{"$f":"COUNTIFS('база 2013'!$E$4:$E$1191,$B44,'база 2013'!$I$4:$I$1191,AM$5,'база 2013'!$O$4:$O$1191,AM$7)","v":0},{"$f":"COUNTIFS('база 2013'!$E$4:$E$1191,$B44,'база 2013'!$I$4:$I$1191,AN$5,'база 2013'!$O$4:$O$1191,AN$7)","v":0},{"$f":"COUNTIFS('база 2013'!$E$4:$E$1191,$B44,'база 2013'!$I$4:$I$1191,AO$5,'база 2013'!$O$4:$O$1191,AO$7)","v":0},{"$f":"COUNTIFS('база 2013'!$E$4:$E$1191,$B44,'база 2013'!$I$4:$I$1191,AP$5,'база 2013'!$O$4:$O$1191,AP$7)","v":0},{"$f":"COUNTIFS('база 2013'!$E$4:$E$1191,$B44,'база 2013'!$I$4:$I$1191,AQ$5,'база 2013'!$O$4:$O$1191,AQ$7)","v":0},{"$f":"COUNTIFS('база 2013'!$E$4:$E$1191,$B44,'база 2013'!$I$4:$I$1191,AR$5,'база 2013'!$O$4:$O$1191,AR$7)","v":0},{"$f":"COUNTIFS('база 2013'!$E$4:$E$1191,$B44,'база 2013'!$I$4:$I$1191,AS$5,'база 2013'!$O$4:$O$1191,AS$7)","v":0},{"$f":"COUNTIFS('база 2013'!$E$4:$E$1191,$B44,'база 2013'!$I$4:$I$1191,AT$5,'база 2013'!$O$4:$O$1191,AT$7)","v":0},{"$f":"COUNTIFS('база 2013'!$E$4:$E$1191,$B44,'база 2013'!$I$4:$I$1191,AU$5,'база 2013'!$O$4:$O$1191,AU$7)","v":0},{"$f":"COUNTIFS('база 2013'!$E$4:$E$1191,$B44,'база 2013'!$I$4:$I$1191,AV$5,'база 2013'!$O$4:$O$1191,AV$7)","v":0},{"$f":"COUNTIFS('база 2013'!$E$4:$E$1191,$B44,'база 2013'!$I$4:$I$1191,AW$5,'база 2013'!$O$4:$O$1191,AW$7)","v":0},{"$f":"COUNTIFS('база 2013'!$E$4:$E$1191,$B44,'база 2013'!$I$4:$I$1191,AX$5,'база 2013'!$O$4:$O$1191,AX$7)","v":0},0,0,0,0,0,0,0,null,0]
[38,"Темрюкский район",{"$f":"COUNTIFS('база 2013'!$E$4:$E$1191,$B45,'база 2013'!$I$4:$I$1191,C$5,'база 2013'!$O$4:$O$1191,C$7)","v":0},{"$f":"COUNTIFS('база 2013'!$E$4:$E$1191,$B45,'база 2013'!$I$4:$I$1191,D$5,'база 2013'!$O$4:$O$1191,D$7)","v":0},{"$f":"COUNTIFS('база 2013'!$E$4:$E$1191,$B45,'база 2013'!$I$4:$I$1191,E$5,'база 2013'!$O$4:$O$1191,E$7)","v":0},{"$f":"COUNTIFS('база 2013'!$E$4:$E$1191,$B45,'база 2013'!$I$4:$I$1191,F$5,'база 2013'!$O$4:$O$1191,F$7)","v":0},{"$f":"COUNTIFS('база 2013'!$E$4:$E$1191,$B45,'база 2013'!$I$4:$I$1191,G$5,'база 2013'!$O$4:$O$1191,G$7)","v":0},{"$f":"COUNTIFS('база 2013'!$E$4:$E$1191,$B45,'база 2013'!$I$4:$I$1191,H$5,'база 2013'!$O$4:$O$1191,H$7)","v":0},{"$f":"COUNTIFS('база 2013'!$E$4:$E$1191,$B45,'база 2013'!$I$4:$I$1191,I$5,'база 2013'!$O$4:$O$1191,I$7)","v":0},{"$f":"COUNTIFS('база 2013'!$E$4:$E$1191,$B45,'база 2013'!$I$4:$I$1191,J$5,'база 2013'!$O$4:$O$1191,J$7)","v":0},{"$f":"COUNTIFS('база 2013'!$E$4:$E$1191,$B45,'база 2013'!$I$4:$I$1191,K$5,'база 2013'!$O$4:$O$1191,K$7)","v":0},{"$f":"COUNTIFS('база 2013'!$E$4:$E$1191,$B45,'база 2013'!$I$4:$I$1191,L$5,'база 2013'!$O$4:$O$1191,L$7)","v":0},{"$f":"COUNTIFS('база 2013'!$E$4:$E$1191,$B45,'база 2013'!$I$4:$I$1191,M$5,'база 2013'!$O$4:$O$1191,M$7)","v":0},{"$f":"COUNTIFS('база 2013'!$E$4:$E$1191,$B45,'база 2013'!$I$4:$I$1191,N$5,'база 2013'!$O$4:$O$1191,N$7)","v":0},{"$f":"COUNTIFS('база 2013'!$E$4:$E$1191,$B45,'база 2013'!$I$4:$I$1191,O$5,'база 2013'!$O$4:$O$1191,O$7)","v":0},{"$f":"COUNTIFS('база 2013'!$E$4:$E$1191,$B45,'база 2013'!$I$4:$I$1191,P$5,'база 2013'!$O$4:$O$1191,P$7)","v":0},{"$f":"COUNTIFS('база 2013'!$E$4:$E$1191,$B45,'база 2013'!$I$4:$I$1191,Q$5,'база 2013'!$O$4:$O$1191,Q$7)","v":0},0,0,0,{"$f":"COUNTIFS('база 2013'!$E$4:$E$1191,$B45,'база 2013'!$I$4:$I$1191,U$5,'база 2013'!$O$4:$O$1191,U$7)","v":0},{"$f":"COUNTIFS('база 2013'!$E$4:$E$1191,$B45,'база 2013'!$I$4:$I$1191,V$5,'база 2013'!$O$4:$O$1191,V$7)","v":0},{"$f":"COUNTIFS('база 2013'!$E$4:$E$1191,$B45,'база 2013'!$I$4:$I$1191,W$5,'база 2013'!$O$4:$O$1191,W$7)","v":0},{"$f":"COUNTIFS('база 2013'!$E$4:$E$1191,$B45,'база 2013'!$I$4:$I$1191,X$5,'база 2013'!$O$4:$O$1191,X$7)","v":0},{"$f":"COUNTIFS('база 2013'!$E$4:$E$1191,$B45,'база 2013'!$I$4:$I$1191,Y$5,'база 2013'!$O$4:$O$1191,Y$7)","v":0},{"$f":"COUNTIFS('база 2013'!$E$4:$E$1191,$B45,'база 2013'!$I$4:$I$1191,Z$5,'база 2013'!$O$4:$O$1191,Z$7)","v":0},{"$f":"COUNTIFS('база 2013'!$E$4:$E$1191,$B45,'база 2013'!$I$4:$I$1191,AA$5,'база 2013'!$O$4:$O$1191,AA$7)","v":0},{"$f":"COUNTIFS('база 2013'!$E$4:$E$1191,$B45,'база 2013'!$I$4:$I$1191,AB$5,'база 2013'!$O$4:$O$1191,AB$7)","v":0},{"$f":"COUNTIFS('база 2013'!$E$4:$E$1191,$B45,'база 2013'!$I$4:$I$1191,AC$5,'база 2013'!$O$4:$O$1191,AC$7)","v":0},0,0,0,{"$f":"COUNTIFS('база 2013'!$E$4:$E$1191,$B45,'база 2013'!$I$4:$I$1191,AG$5,'база 2013'!$O$4:$O$1191,AG$7)","v":0},{"$f":"COUNTIFS('база 2013'!$E$4:$E$1191,$B45,'база 2013'!$I$4:$I$1191,AH$5,'база 2013'!$O$4:$O$1191,AH$7)","v":0},{"$f":"COUNTIFS('база 2013'!$E$4:$E$1191,$B45,'база 2013'!$I$4:$I$1191,AI$5,'база 2013'!$O$4:$O$1191,AI$7)","v":0},{"$f":"COUNTIFS('база 2013'!$E$4:$E$1191,$B45,'база 2013'!$I$4:$I$1191,AJ$5,'база 2013'!$O$4:$O$1191,AJ$7)","v":0},{"$f":"COUNTIFS('база 2013'!$E$4:$E$1191,$B45,'база 2013'!$I$4:$I$1191,AK$5,'база 2013'!$O$4:$O$1191,AK$7)","v":0},{"$f":"COUNTIFS('база 2013'!$E$4:$E$1191,$B45,'база 2013'!$I$4:$I$1191,AL$5,'база 2013'!$O$4:$O$1191,AL$7)","v":0},{"$f":"COUNTIFS('база 2013'!$E$4:$E$1191,$B45,'база 2013'!$I$4:$I$1191,AM$5,'база 2013'!$O$4:$O$1191,AM$7)","v":0},{"$f":"COUNTIFS('база 2013'!$E$4:$E$1191,$B45,'база 2013'!$I$4:$I$1191,AN$5,'база 2013'!$O$4:$O$1191,AN$7)","v":0},{"$f":"COUNTIFS('база 2013'!$E$4:$E$1191,$B45,'база 2013'!$I$4:$I$1191,AO$5,'база 2013'!$O$4:$O$1191,AO$7)","v":0},{"$f":"COUNTIFS('база 2013'!$E$4:$E$1191,$B45,'база 2013'!$I$4:$I$1191,AP$5,'база 2013'!$O$4:$O$1191,AP$7)","v":0},{"$f":"COUNTIFS('база 2013'!$E$4:$E$1191,$B45,'база 2013'!$I$4:$I$1191,AQ$5,'база 2013'!$O$4:$O$1191,AQ$7)","v":0},{"$f":"COUNTIFS('база 2013'!$E$4:$E$1191,$B45,'база 2013'!$I$4:$I$1191,AR$5,'база 2013'!$O$4:$O$1191,AR$7)","v":0},{"$f":"COUNTIFS('база 2013'!$E$4:$E$1191,$B45,'база 2013'!$I$4:$I$1191,AS$5,'база 2013'!$O$4:$O$1191,AS$7)","v":0},{"$f":"COUNTIFS('база 2013'!$E$4:$E$1191,$B45,'база 2013'!$I$4:$I$1191,AT$5,'база 2013'!$O$4:$O$1191,AT$7)","v":0},{"$f":"COUNTIFS('база 2013'!$E$4:$E$1191,$B45,'база 2013'!$I$4:$I$1191,AU$5,'база 2013'!$O$4:$O$1191,AU$7)","v":0},{"$f":"COUNTIFS('база 2013'!$E$4:$E$1191,$B45,'база 2013'!$I$4:$I$1191,AV$5,'база 2013'!$O$4:$O$1191,AV$7)","v":0},{"$f":"COUNTIFS('база 2013'!$E$4:$E$1191,$B45,'база 2013'!$I$4:$I$1191,AW$5,'база 2013'!$O$4:$O$1191,AW$7)","v":0},{"$f":"COUNTIFS('база 2013'!$E$4:$E$1191,$B45,'база 2013'!$I$4:$I$1191,AX$5,'база 2013'!$O$4:$O$1191,AX$7)","v":0},0,0,0,0,0,0,0,null,0]
[39,"Тимашевский район",{"$f":"COUNTIFS('база 2013'!$E$4:$E$1191,$B46,'база 2013'!$I$4:$I$1191,C$5,'база 2013'!$O$4:$O$1191,C$7)","v":0},{"$f":"COUNTIFS('база 2013'!$E$4:$E$1191,$B46,'база 2013'!$I$4:$I$1191,D$5,'база 2013'!$O$4:$O$1191,D$7)","v":0},{"$f":"COUNTIFS('база 2013'!$E$4:$E$1191,$B46,'база 2013'!$I$4:$I$1191,E$5,'база 2013'!$O$4:$O$1191,E$7)","v":0},{"$f":"COUNTIFS('база 2013'!$E$4:$E$1191,$B46,'база 2013'!$I$4:$I$1191,F$5,'база 2013'!$O$4:$O$1191,F$7)","v":0},{"$f":"COUNTIFS('база 2013'!$E$4:$E$1191,$B46,'база 2013'!$I$4:$I$1191,G$5,'база 2013'!$O$4:$O$1191,G$7)","v":0},{"$f":"COUNTIFS('база 2013'!$E$4:$E$1191,$B46,'база 2013'!$I$4:$I$1191,H$5,'база 2013'!$O$4:$O$1191,H$7)","v":0},{"$f":"COUNTIFS('база 2013'!$E$4:$E$1191,$B46,'база 2013'!$I$4:$I$1191,I$5,'база 2013'!$O$4:$O$1191,I$7)","v":0},{"$f":"COUNTIFS('база 2013'!$E$4:$E$1191,$B46,'база 2013'!$I$4:$I$1191,J$5,'база 2013'!$O$4:$O$1191,J$7)","v":0},{"$f":"COUNTIFS('база 2013'!$E$4:$E$1191,$B46,'база 2013'!$I$4:$I$1191,K$5,'база 2013'!$O$4:$O$1191,K$7)","v":0},{"$f":"COUNTIFS('база 2013'!$E$4:$E$1191,$B46,'база 2013'!$I$4:$I$1191,L$5,'база 2013'!$O$4:$O$1191,L$7)","v":0},{"$f":"COUNTIFS('база 2013'!$E$4:$E$1191,$B46,'база 2013'!$I$4:$I$1191,M$5,'база 2013'!$O$4:$O$1191,M$7)","v":0},{"$f":"COUNTIFS('база 2013'!$E$4:$E$1191,$B46,'база 2013'!$I$4:$I$1191,N$5,'база 2013'!$O$4:$O$1191,N$7)","v":0},{"$f":"COUNTIFS('база 2013'!$E$4:$E$1191,$B46,'база 2013'!$I$4:$I$1191,O$5,'база 2013'!$O$4:$O$1191,O$7)","v":0},{"$f":"COUNTIFS('база 2013'!$E$4:$E$1191,$B46,'база 2013'!$I$4:$I$1191,P$5,'база 2013'!$O$4:$O$1191,P$7)","v":0},{"$f":"COUNTIFS('база 2013'!$E$4:$E$1191,$B46,'база 2013'!$I$4:$I$1191,Q$5,'база 2013'!$O$4:$O$1191,Q$7)","v":0},0,0,0,{"$f":"COUNTIFS('база 2013'!$E$4:$E$1191,$B46,'база 2013'!$I$4:$I$1191,U$5,'база 2013'!$O$4:$O$1191,U$7)","v":0},{"$f":"COUNTIFS('база 2013'!$E$4:$E$1191,$B46,'база 2013'!$I$4:$I$1191,V$5,'база 2013'!$O$4:$O$1191,V$7)","v":0},{"$f":"COUNTIFS('база 2013'!$E$4:$E$1191,$B46,'база 2013'!$I$4:$I$1191,W$5,'база 2013'!$O$4:$O$1191,W$7)","v":0},{"$f":"COUNTIFS('база 2013'!$E$4:$E$1191,$B46,'база 2013'!$I$4:$I$1191,X$5,'база 2013'!$O$4:$O$1191,X$7)","v":0},{"$f":"COUNTIFS('база 2013'!$E$4:$E$1191,$B46,'база 2013'!$I$4:$I$1191,Y$5,'база 2013'!$O$4:$O$1191,Y$7)","v":0},{"$f":"COUNTIFS('база 2013'!$E$4:$E$1191,$B46,'база 2013'!$I$4:$I$1191,Z$5,'база 2013'!$O$4:$O$1191,Z$7)","v":0},{"$f":"COUNTIFS('база 2013'!$E$4:$E$1191,$B46,'база 2013'!$I$4:$I$1191,AA$5,'база 2013'!$O$4:$O$1191,AA$7)","v":0},{"$f":"COUNTIFS('база 2013'!$E$4:$E$1191,$B46,'база 2013'!$I$4:$I$1191,AB$5,'база 2013'!$O$4:$O$1191,AB$7)","v":0},{"$f":"COUNTIFS('база 2013'!$E$4:$E$1191,$B46,'база 2013'!$I$4:$I$1191,AC$5,'база 2013'!$O$4:$O$1191,AC$7)","v":0},0,0,0,{"$f":"COUNTIFS('база 2013'!$E$4:$E$1191,$B46,'база 2013'!$I$4:$I$1191,AG$5,'база 2013'!$O$4:$O$1191,AG$7)","v":0},{"$f":"COUNTIFS('база 2013'!$E$4:$E$1191,$B46,'база 2013'!$I$4:$I$1191,AH$5,'база 2013'!$O$4:$O$1191,AH$7)","v":0},{"$f":"COUNTIFS('база 2013'!$E$4:$E$1191,$B46,'база 2013'!$I$4:$I$1191,AI$5,'база 2013'!$O$4:$O$1191,AI$7)","v":0},{"$f":"COUNTIFS('база 2013'!$E$4:$E$1191,$B46,'база 2013'!$I$4:$I$1191,AJ$5,'база 2013'!$O$4:$O$1191,AJ$7)","v":0},{"$f":"COUNTIFS('база 2013'!$E$4:$E$1191,$B46,'база 2013'!$I$4:$I$1191,AK$5,'база 2013'!$O$4:$O$1191,AK$7)","v":0},{"$f":"COUNTIFS('база 2013'!$E$4:$E$1191,$B46,'база 2013'!$I$4:$I$1191,AL$5,'база 2013'!$O$4:$O$1191,AL$7)","v":0},{"$f":"COUNTIFS('база 2013'!$E$4:$E$1191,$B46,'база 2013'!$I$4:$I$1191,AM$5,'база 2013'!$O$4:$O$1191,AM$7)","v":0},{"$f":"COUNTIFS('база 2013'!$E$4:$E$1191,$B46,'база 2013'!$I$4:$I$1191,AN$5,'база 2013'!$O$4:$O$1191,AN$7)","v":0},{"$f":"COUNTIFS('база 2013'!$E$4:$E$1191,$B46,'база 2013'!$I$4:$I$1191,AO$5,'база 2013'!$O$4:$O$1191,AO$7)","v":0},{"$f":"COUNTIFS('база 2013'!$E$4:$E$1191,$B46,'база 2013'!$I$4:$I$1191,AP$5,'база 2013'!$O$4:$O$1191,AP$7)","v":0},{"$f":"COUNTIFS('база 2013'!$E$4:$E$1191,$B46,'база 2013'!$I$4:$I$1191,AQ$5,'база 2013'!$O$4:$O$1191,AQ$7)","v":0},{"$f":"COUNTIFS('база 2013'!$E$4:$E$1191,$B46,'база 2013'!$I$4:$I$1191,AR$5,'база 2013'!$O$4:$O$1191,AR$7)","v":0},{"$f":"COUNTIFS('база 2013'!$E$4:$E$1191,$B46,'база 2013'!$I$4:$I$1191,AS$5,'база 2013'!$O$4:$O$1191,AS$7)","v":0},{"$f":"COUNTIFS('база 2013'!$E$4:$E$1191,$B46,'база 2013'!$I$4:$I$1191,AT$5,'база 2013'!$O$4:$O$1191,AT$7)","v":0},{"$f":"COUNTIFS('база 2013'!$E$4:$E$1191,$B46,'база 2013'!$I$4:$I$1191,AU$5,'база 2013'!$O$4:$O$1191,AU$7)","v":0},{"$f":"COUNTIFS('база 2013'!$E$4:$E$1191,$B46,'база 2013'!$I$4:$I$1191,AV$5,'база 2013'!$O$4:$O$1191,AV$7)","v":0},{"$f":"COUNTIFS('база 2013'!$E$4:$E$1191,$B46,'база 2013'!$I$4:$I$1191,AW$5,'база 2013'!$O$4:$O$1191,AW$7)","v":0},{"$f":"COUNTIFS('база 2013'!$E$4:$E$1191,$B46,'база 2013'!$I$4:$I$1191,AX$5,'база 2013'!$O$4:$O$1191,AX$7)","v":0},0,0,0,0,0,0,0,null,0]
[40,"Тихорецкий район",{"$f":"COUNTIFS('база 2013'!$E$4:$E$1191,$B47,'база 2013'!$I$4:$I$1191,C$5,'база 2013'!$O$4:$O$1191,C$7)","v":0},{"$f":"COUNTIFS('база 2013'!$E$4:$E$1191,$B47,'база 2013'!$I$4:$I$1191,D$5,'база 2013'!$O$4:$O$1191,D$7)","v":0},{"$f":"COUNTIFS('база 2013'!$E$4:$E$1191,$B47,'база 2013'!$I$4:$I$1191,E$5,'база 2013'!$O$4:$O$1191,E$7)","v":0},{"$f":"COUNTIFS('база 2013'!$E$4:$E$1191,$B47,'база 2013'!$I$4:$I$1191,F$5,'база 2013'!$O$4:$O$1191,F$7)","v":0},{"$f":"COUNTIFS('база 2013'!$E$4:$E$1191,$B47,'база 2013'!$I$4:$I$1191,G$5,'база 2013'!$O$4:$O$1191,G$7)","v":0},{"$f":"COUNTIFS('база 2013'!$E$4:$E$1191,$B47,'база 2013'!$I$4:$I$1191,H$5,'база 2013'!$O$4:$O$1191,H$7)","v":0},{"$f":"COUNTIFS('база 2013'!$E$4:$E$1191,$B47,'база 2013'!$I$4:$I$1191,I$5,'база 2013'!$O$4:$O$1191,I$7)","v":0},{"$f":"COUNTIFS('база 2013'!$E$4:$E$1191,$B47,'база 2013'!$I$4:$I$1191,J$5,'база 2013'!$O$4:$O$1191,J$7)","v":0},{"$f":"COUNTIFS('база 2013'!$E$4:$E$1191,$B47,'база 2013'!$I$4:$I$1191,K$5,'база 2013'!$O$4:$O$1191,K$7)","v":0},{"$f":"COUNTIFS('база 2013'!$E$4:$E$1191,$B47,'база 2013'!$I$4:$I$1191,L$5,'база 2013'!$O$4:$O$1191,L$7)","v":0},{"$f":"COUNTIFS('база 2013'!$E$4:$E$1191,$B47,'база 2013'!$I$4:$I$1191,M$5,'база 2013'!$O$4:$O$1191,M$7)","v":0},{"$f":"COUNTIFS('база 2013'!$E$4:$E$1191,$B47,'база 2013'!$I$4:$I$1191,N$5,'база 2013'!$O$4:$O$1191,N$7)","v":0},{"$f":"COUNTIFS('база 2013'!$E$4:$E$1191,$B47,'база 2013'!$I$4:$I$1191,O$5,'база 2013'!$O$4:$O$1191,O$7)","v":0},{"$f":"COUNTIFS('база 2013'!$E$4:$E$1191,$B47,'база 2013'!$I$4:$I$1191,P$5,'база 2013'!$O$4:$O$1191,P$7)","v":0},{"$f":"COUNTIFS('база 2013'!$E$4:$E$1191,$B47,'база 2013'!$I$4:$I$1191,Q$5,'база 2013'!$O$4:$O$1191,Q$7)","v":0},0,0,0,{"$f":"COUNTIFS('база 2013'!$E$4:$E$1191,$B47,'база 2013'!$I$4:$I$1191,U$5,'база 2013'!$O$4:$O$1191,U$7)","v":0},{"$f":"COUNTIFS('база 2013'!$E$4:$E$1191,$B47,'база 2013'!$I$4:$I$1191,V$5,'база 2013'!$O$4:$O$1191,V$7)","v":0},{"$f":"COUNTIFS('база 2013'!$E$4:$E$1191,$B47,'база 2013'!$I$4:$I$1191,W$5,'база 2013'!$O$4:$O$1191,W$7)","v":0},{"$f":"COUNTIFS('база 2013'!$E$4:$E$1191,$B47,'база 2013'!$I$4:$I$1191,X$5,'база 2013'!$O$4:$O$1191,X$7)","v":0},{"$f":"COUNTIFS('база 2013'!$E$4:$E$1191,$B47,'база 2013'!$I$4:$I$1191,Y$5,'база 2013'!$O$4:$O$1191,Y$7)","v":0},{"$f":"COUNTIFS('база 2013'!$E$4:$E$1191,$B47,'база 2013'!$I$4:$I$1191,Z$5,'база 2013'!$O$4:$O$1191,Z$7)","v":0},{"$f":"COUNTIFS('база 2013'!$E$4:$E$1191,$B47,'база 2013'!$I$4:$I$1191,AA$5,'база 2013'!$O$4:$O$1191,AA$7)","v":0},{"$f":"COUNTIFS('база 2013'!$E$4:$E$1191,$B47,'база 2013'!$I$4:$I$1191,AB$5,'база 2013'!$O$4:$O$1191,AB$7)","v":0},{"$f":"COUNTIFS('база 2013'!$E$4:$E$1191,$B47,'база 2013'!$I$4:$I$1191,AC$5,'база 2013'!$O$4:$O$1191,AC$7)","v":0},0,0,0,{"$f":"COUNTIFS('база 2013'!$E$4:$E$1191,$B47,'база 2013'!$I$4:$I$1191,AG$5,'база 2013'!$O$4:$O$1191,AG$7)","v":0},{"$f":"COUNTIFS('база 2013'!$E$4:$E$1191,$B47,'база 2013'!$I$4:$I$1191,AH$5,'база 2013'!$O$4:$O$1191,AH$7)","v":0},{"$f":"COUNTIFS('база 2013'!$E$4:$E$1191,$B47,'база 2013'!$I$4:$I$1191,AI$5,'база 2013'!$O$4:$O$1191,AI$7)","v":0},{"$f":"COUNTIFS('база 2013'!$E$4:$E$1191,$B47,'база 2013'!$I$4:$I$1191,AJ$5,'база 2013'!$O$4:$O$1191,AJ$7)","v":0},{"$f":"COUNTIFS('база 2013'!$E$4:$E$1191,$B47,'база 2013'!$I$4:$I$1191,AK$5,'база 2013'!$O$4:$O$1191,AK$7)","v":0},{"$f":"COUNTIFS('база 2013'!$E$4:$E$1191,$B47,'база 2013'!$I$4:$I$1191,AL$5,'база 2013'!$O$4:$O$1191,AL$7)","v":0},{"$f":"COUNTIFS('база 2013'!$E$4:$E$1191,$B47,'база 2013'!$I$4:$I$1191,AM$5,'база 2013'!$O$4:$O$1191,AM$7)","v":0},{"$f":"COUNTIFS('база 2013'!$E$4:$E$1191,$B47,'база 2013'!$I$4:$I$1191,AN$5,'база 2013'!$O$4:$O$1191,AN$7)","v":0},{"$f":"COUNTIFS('база 2013'!$E$4:$E$1191,$B47,'база 2013'!$I$4:$I$1191,AO$5,'база 2013'!$O$4:$O$1191,AO$7)","v":0},{"$f":"COUNTIFS('база 2013'!$E$4:$E$1191,$B47,'база 2013'!$I$4:$I$1191,AP$5,'база 2013'!$O$4:$O$1191,AP$7)","v":0},{"$f":"COUNTIFS('база 2013'!$E$4:$E$1191,$B47,'база 2013'!$I$4:$I$1191,AQ$5,'база 2013'!$O$4:$O$1191,AQ$7)","v":0},{"$f":"COUNTIFS('база 2013'!$E$4:$E$1191,$B47,'база 2013'!$I$4:$I$1191,AR$5,'база 2013'!$O$4:$O$1191,AR$7)","v":0},{"$f":"COUNTIFS('база 2013'!$E$4:$E$1191,$B47,'база 2013'!$I$4:$I$1191,AS$5,'база 2013'!$O$4:$O$1191,AS$7)","v":0},{"$f":"COUNTIFS('база 2013'!$E$4:$E$1191,$B47,'база 2013'!$I$4:$I$1191,AT$5,'база 2013'!$O$4:$O$1191,AT$7)","v":0},{"$f":"COUNTIFS('база 2013'!$E$4:$E$1191,$B47,'база 2013'!$I$4:$I$1191,AU$5,'база 2013'!$O$4:$O$1191,AU$7)","v":0},{"$f":"COUNTIFS('база 2013'!$E$4:$E$1191,$B47,'база 2013'!$I$4:$I$1191,AV$5,'база 2013'!$O$4:$O$1191,AV$7)","v":0},{"$f":"COUNTIFS('база 2013'!$E$4:$E$1191,$B47,'база 2013'!$I$4:$I$1191,AW$5,'база 2013'!$O$4:$O$1191,AW$7)","v":0},{"$f":"COUNTIFS('база 2013'!$E$4:$E$1191,$B47,'база 2013'!$I$4:$I$1191,AX$5,'база 2013'!$O$4:$O$1191,AX$7)","v":0},0,0,0,0,0,0,0,null,0]
[41,"Туапсинский район",{"$f":"COUNTIFS('база 2013'!$E$4:$E$1191,$B48,'база 2013'!$I$4:$I$1191,C$5,'база 2013'!$O$4:$O$1191,C$7)","v":0},{"$f":"COUNTIFS('база 2013'!$E$4:$E$1191,$B48,'база 2013'!$I$4:$I$1191,D$5,'база 2013'!$O$4:$O$1191,D$7)","v":0},{"$f":"COUNTIFS('база 2013'!$E$4:$E$1191,$B48,'база 2013'!$I$4:$I$1191,E$5,'база 2013'!$O$4:$O$1191,E$7)","v":0},{"$f":"COUNTIFS('база 2013'!$E$4:$E$1191,$B48,'база 2013'!$I$4:$I$1191,F$5,'база 2013'!$O$4:$O$1191,F$7)","v":0},{"$f":"COUNTIFS('база 2013'!$E$4:$E$1191,$B48,'база 2013'!$I$4:$I$1191,G$5,'база 2013'!$O$4:$O$1191,G$7)","v":0},{"$f":"COUNTIFS('база 2013'!$E$4:$E$1191,$B48,'база 2013'!$I$4:$I$1191,H$5,'база 2013'!$O$4:$O$1191,H$7)","v":0},{"$f":"COUNTIFS('база 2013'!$E$4:$E$1191,$B48,'база 2013'!$I$4:$I$1191,I$5,'база 2013'!$O$4:$O$1191,I$7)","v":0},{"$f":"COUNTIFS('база 2013'!$E$4:$E$1191,$B48,'база 2013'!$I$4:$I$1191,J$5,'база 2013'!$O$4:$O$1191,J$7)","v":0},{"$f":"COUNTIFS('база 2013'!$E$4:$E$1191,$B48,'база 2013'!$I$4:$I$1191,K$5,'база 2013'!$O$4:$O$1191,K$7)","v":0},{"$f":"COUNTIFS('база 2013'!$E$4:$E$1191,$B48,'база 2013'!$I$4:$I$1191,L$5,'база 2013'!$O$4:$O$1191,L$7)","v":0},{"$f":"COUNTIFS('база 2013'!$E$4:$E$1191,$B48,'база 2013'!$I$4:$I$1191,M$5,'база 2013'!$O$4:$O$1191,M$7)","v":0},{"$f":"COUNTIFS('база 2013'!$E$4:$E$1191,$B48,'база 2013'!$I$4:$I$1191,N$5,'база 2013'!$O$4:$O$1191,N$7)","v":0},{"$f":"COUNTIFS('база 2013'!$E$4:$E$1191,$B48,'база 2013'!$I$4:$I$1191,O$5,'база 2013'!$O$4:$O$1191,O$7)","v":0},{"$f":"COUNTIFS('база 2013'!$E$4:$E$1191,$B48,'база 2013'!$I$4:$I$1191,P$5,'база 2013'!$O$4:$O$1191,P$7)","v":0},{"$f":"COUNTIFS('база 2013'!$E$4:$E$1191,$B48,'база 2013'!$I$4:$I$1191,Q$5,'база 2013'!$O$4:$O$1191,Q$7)","v":0},0,0,0,{"$f":"COUNTIFS('база 2013'!$E$4:$E$1191,$B48,'база 2013'!$I$4:$I$1191,U$5,'база 2013'!$O$4:$O$1191,U$7)","v":0},{"$f":"COUNTIFS('база 2013'!$E$4:$E$1191,$B48,'база 2013'!$I$4:$I$1191,V$5,'база 2013'!$O$4:$O$1191,V$7)","v":0},{"$f":"COUNTIFS('база 2013'!$E$4:$E$1191,$B48,'база 2013'!$I$4:$I$1191,W$5,'база 2013'!$O$4:$O$1191,W$7)","v":0},{"$f":"COUNTIFS('база 2013'!$E$4:$E$1191,$B48,'база 2013'!$I$4:$I$1191,X$5,'база 2013'!$O$4:$O$1191,X$7)","v":0},{"$f":"COUNTIFS('база 2013'!$E$4:$E$1191,$B48,'база 2013'!$I$4:$I$1191,Y$5,'база 2013'!$O$4:$O$1191,Y$7)","v":0},{"$f":"COUNTIFS('база 2013'!$E$4:$E$1191,$B48,'база 2013'!$I$4:$I$1191,Z$5,'база 2013'!$O$4:$O$1191,Z$7)","v":0},{"$f":"COUNTIFS('база 2013'!$E$4:$E$1191,$B48,'база 2013'!$I$4:$I$1191,AA$5,'база 2013'!$O$4:$O$1191,AA$7)","v":0},{"$f":"COUNTIFS('база 2013'!$E$4:$E$1191,$B48,'база 2013'!$I$4:$I$1191,AB$5,'база 2013'!$O$4:$O$1191,AB$7)","v":0},{"$f":"COUNTIFS('база 2013'!$E$4:$E$1191,$B48,'база 2013'!$I$4:$I$1191,AC$5,'база 2013'!$O$4:$O$1191,AC$7)","v":0},0,0,0,{"$f":"COUNTIFS('база 2013'!$E$4:$E$1191,$B48,'база 2013'!$I$4:$I$1191,AG$5,'база 2013'!$O$4:$O$1191,AG$7)","v":0},{"$f":"COUNTIFS('база 2013'!$E$4:$E$1191,$B48,'база 2013'!$I$4:$I$1191,AH$5,'база 2013'!$O$4:$O$1191,AH$7)","v":0},{"$f":"COUNTIFS('база 2013'!$E$4:$E$1191,$B48,'база 2013'!$I$4:$I$1191,AI$5,'база 2013'!$O$4:$O$1191,AI$7)","v":0},{"$f":"COUNTIFS('база 2013'!$E$4:$E$1191,$B48,'база 2013'!$I$4:$I$1191,AJ$5,'база 2013'!$O$4:$O$1191,AJ$7)","v":0},{"$f":"COUNTIFS('база 2013'!$E$4:$E$1191,$B48,'база 2013'!$I$4:$I$1191,AK$5,'база 2013'!$O$4:$O$1191,AK$7)","v":0},{"$f":"COUNTIFS('база 2013'!$E$4:$E$1191,$B48,'база 2013'!$I$4:$I$1191,AL$5,'база 2013'!$O$4:$O$1191,AL$7)","v":0},{"$f":"COUNTIFS('база 2013'!$E$4:$E$1191,$B48,'база 2013'!$I$4:$I$1191,AM$5,'база 2013'!$O$4:$O$1191,AM$7)","v":0},{"$f":"COUNTIFS('база 2013'!$E$4:$E$1191,$B48,'база 2013'!$I$4:$I$1191,AN$5,'база 2013'!$O$4:$O$1191,AN$7)","v":0},{"$f":"COUNTIFS('база 2013'!$E$4:$E$1191,$B48,'база 2013'!$I$4:$I$1191,AO$5,'база 2013'!$O$4:$O$1191,AO$7)","v":0},{"$f":"COUNTIFS('база 2013'!$E$4:$E$1191,$B48,'база 2013'!$I$4:$I$1191,AP$5,'база 2013'!$O$4:$O$1191,AP$7)","v":0},{"$f":"COUNTIFS('база 2013'!$E$4:$E$1191,$B48,'база 2013'!$I$4:$I$1191,AQ$5,'база 2013'!$O$4:$O$1191,AQ$7)","v":0},{"$f":"COUNTIFS('база 2013'!$E$4:$E$1191,$B48,'база 2013'!$I$4:$I$1191,AR$5,'база 2013'!$O$4:$O$1191,AR$7)","v":0},{"$f":"COUNTIFS('база 2013'!$E$4:$E$1191,$B48,'база 2013'!$I$4:$I$1191,AS$5,'база 2013'!$O$4:$O$1191,AS$7)","v":0},{"$f":"COUNTIFS('база 2013'!$E$4:$E$1191,$B48,'база 2013'!$I$4:$I$1191,AT$5,'база 2013'!$O$4:$O$1191,AT$7)","v":0},{"$f":"COUNTIFS('база 2013'!$E$4:$E$1191,$B48,'база 2013'!$I$4:$I$1191,AU$5,'база 2013'!$O$4:$O$1191,AU$7)","v":0},{"$f":"COUNTIFS('база 2013'!$E$4:$E$1191,$B48,'база 2013'!$I$4:$I$1191,AV$5,'база 2013'!$O$4:$O$1191,AV$7)","v":0},{"$f":"COUNTIFS('база 2013'!$E$4:$E$1191,$B48,'база 2013'!$I$4:$I$1191,AW$5,'база 2013'!$O$4:$O$1191,AW$7)","v":0},{"$f":"COUNTIFS('база 2013'!$E$4:$E$1191,$B48,'база 2013'!$I$4:$I$1191,AX$5,'база 2013'!$O$4:$O$1191,AX$7)","v":0},0,0,0,0,0,0,0,null,0]
[42,"Успенский район",{"$f":"COUNTIFS('база 2013'!$E$4:$E$1191,$B49,'база 2013'!$I$4:$I$1191,C$5,'база 2013'!$O$4:$O$1191,C$7)","v":0},{"$f":"COUNTIFS('база 2013'!$E$4:$E$1191,$B49,'база 2013'!$I$4:$I$1191,D$5,'база 2013'!$O$4:$O$1191,D$7)","v":0},{"$f":"COUNTIFS('база 2013'!$E$4:$E$1191,$B49,'база 2013'!$I$4:$I$1191,E$5,'база 2013'!$O$4:$O$1191,E$7)","v":0},{"$f":"COUNTIFS('база 2013'!$E$4:$E$1191,$B49,'база 2013'!$I$4:$I$1191,F$5,'база 2013'!$O$4:$O$1191,F$7)","v":0},{"$f":"COUNTIFS('база 2013'!$E$4:$E$1191,$B49,'база 2013'!$I$4:$I$1191,G$5,'база 2013'!$O$4:$O$1191,G$7)","v":0},{"$f":"COUNTIFS('база 2013'!$E$4:$E$1191,$B49,'база 2013'!$I$4:$I$1191,H$5,'база 2013'!$O$4:$O$1191,H$7)","v":0},{"$f":"COUNTIFS('база 2013'!$E$4:$E$1191,$B49,'база 2013'!$I$4:$I$1191,I$5,'база 2013'!$O$4:$O$1191,I$7)","v":0},{"$f":"COUNTIFS('база 2013'!$E$4:$E$1191,$B49,'база 2013'!$I$4:$I$1191,J$5,'база 2013'!$O$4:$O$1191,J$7)","v":0},{"$f":"COUNTIFS('база 2013'!$E$4:$E$1191,$B49,'база 2013'!$I$4:$I$1191,K$5,'база 2013'!$O$4:$O$1191,K$7)","v":0},{"$f":"COUNTIFS('база 2013'!$E$4:$E$1191,$B49,'база 2013'!$I$4:$I$1191,L$5,'база 2013'!$O$4:$O$1191,L$7)","v":0},{"$f":"COUNTIFS('база 2013'!$E$4:$E$1191,$B49,'база 2013'!$I$4:$I$1191,M$5,'база 2013'!$O$4:$O$1191,M$7)","v":0},{"$f":"COUNTIFS('база 2013'!$E$4:$E$1191,$B49,'база 2013'!$I$4:$I$1191,N$5,'база 2013'!$O$4:$O$1191,N$7)","v":0},{"$f":"COUNTIFS('база 2013'!$E$4:$E$1191,$B49,'база 2013'!$I$4:$I$1191,O$5,'база 2013'!$O$4:$O$1191,O$7)","v":0},{"$f":"COUNTIFS('база 2013'!$E$4:$E$1191,$B49,'база 2013'!$I$4:$I$1191,P$5,'база 2013'!$O$4:$O$1191,P$7)","v":0},{"$f":"COUNTIFS('база 2013'!$E$4:$E$1191,$B49,'база 2013'!$I$4:$I$1191,Q$5,'база 2013'!$O$4:$O$1191,Q$7)","v":0},0,0,0,{"$f":"COUNTIFS('база 2013'!$E$4:$E$1191,$B49,'база 2013'!$I$4:$I$1191,U$5,'база 2013'!$O$4:$O$1191,U$7)","v":0},{"$f":"COUNTIFS('база 2013'!$E$4:$E$1191,$B49,'база 2013'!$I$4:$I$1191,V$5,'база 2013'!$O$4:$O$1191,V$7)","v":0},{"$f":"COUNTIFS('база 2013'!$E$4:$E$1191,$B49,'база 2013'!$I$4:$I$1191,W$5,'база 2013'!$O$4:$O$1191,W$7)","v":0},{"$f":"COUNTIFS('база 2013'!$E$4:$E$1191,$B49,'база 2013'!$I$4:$I$1191,X$5,'база 2013'!$O$4:$O$1191,X$7)","v":0},{"$f":"COUNTIFS('база 2013'!$E$4:$E$1191,$B49,'база 2013'!$I$4:$I$1191,Y$5,'база 2013'!$O$4:$O$1191,Y$7)","v":0},{"$f":"COUNTIFS('база 2013'!$E$4:$E$1191,$B49,'база 2013'!$I$4:$I$1191,Z$5,'база 2013'!$O$4:$O$1191,Z$7)","v":0},{"$f":"COUNTIFS('база 2013'!$E$4:$E$1191,$B49,'база 2013'!$I$4:$I$1191,AA$5,'база 2013'!$O$4:$O$1191,AA$7)","v":0},{"$f":"COUNTIFS('база 2013'!$E$4:$E$1191,$B49,'база 2013'!$I$4:$I$1191,AB$5,'база 2013'!$O$4:$O$1191,AB$7)","v":0},{"$f":"COUNTIFS('база 2013'!$E$4:$E$1191,$B49,'база 2013'!$I$4:$I$1191,AC$5,'база 2013'!$O$4:$O$1191,AC$7)","v":0},0,0,0,{"$f":"COUNTIFS('база 2013'!$E$4:$E$1191,$B49,'база 2013'!$I$4:$I$1191,AG$5,'база 2013'!$O$4:$O$1191,AG$7)","v":0},{"$f":"COUNTIFS('база 2013'!$E$4:$E$1191,$B49,'база 2013'!$I$4:$I$1191,AH$5,'база 2013'!$O$4:$O$1191,AH$7)","v":0},{"$f":"COUNTIFS('база 2013'!$E$4:$E$1191,$B49,'база 2013'!$I$4:$I$1191,AI$5,'база 2013'!$O$4:$O$1191,AI$7)","v":0},{"$f":"COUNTIFS('база 2013'!$E$4:$E$1191,$B49,'база 2013'!$I$4:$I$1191,AJ$5,'база 2013'!$O$4:$O$1191,AJ$7)","v":0},{"$f":"COUNTIFS('база 2013'!$E$4:$E$1191,$B49,'база 2013'!$I$4:$I$1191,AK$5,'база 2013'!$O$4:$O$1191,AK$7)","v":0},{"$f":"COUNTIFS('база 2013'!$E$4:$E$1191,$B49,'база 2013'!$I$4:$I$1191,AL$5,'база 2013'!$O$4:$O$1191,AL$7)","v":0},{"$f":"COUNTIFS('база 2013'!$E$4:$E$1191,$B49,'база 2013'!$I$4:$I$1191,AM$5,'база 2013'!$O$4:$O$1191,AM$7)","v":0},{"$f":"COUNTIFS('база 2013'!$E$4:$E$1191,$B49,'база 2013'!$I$4:$I$1191,AN$5,'база 2013'!$O$4:$O$1191,AN$7)","v":0},{"$f":"COUNTIFS('база 2013'!$E$4:$E$1191,$B49,'база 2013'!$I$4:$I$1191,AO$5,'база 2013'!$O$4:$O$1191,AO$7)","v":0},{"$f":"COUNTIFS('база 2013'!$E$4:$E$1191,$B49,'база 2013'!$I$4:$I$1191,AP$5,'база 2013'!$O$4:$O$1191,AP$7)","v":0},{"$f":"COUNTIFS('база 2013'!$E$4:$E$1191,$B49,'база 2013'!$I$4:$I$1191,AQ$5,'база 2013'!$O$4:$O$1191,AQ$7)","v":0},{"$f":"COUNTIFS('база 2013'!$E$4:$E$1191,$B49,'база 2013'!$I$4:$I$1191,AR$5,'база 2013'!$O$4:$O$1191,AR$7)","v":0},{"$f":"COUNTIFS('база 2013'!$E$4:$E$1191,$B49,'база 2013'!$I$4:$I$1191,AS$5,'база 2013'!$O$4:$O$1191,AS$7)","v":0},{"$f":"COUNTIFS('база 2013'!$E$4:$E$1191,$B49,'база 2013'!$I$4:$I$1191,AT$5,'база 2013'!$O$4:$O$1191,AT$7)","v":0},{"$f":"COUNTIFS('база 2013'!$E$4:$E$1191,$B49,'база 2013'!$I$4:$I$1191,AU$5,'база 2013'!$O$4:$O$1191,AU$7)","v":0},{"$f":"COUNTIFS('база 2013'!$E$4:$E$1191,$B49,'база 2013'!$I$4:$I$1191,AV$5,'база 2013'!$O$4:$O$1191,AV$7)","v":0},{"$f":"COUNTIFS('база 2013'!$E$4:$E$1191,$B49,'база 2013'!$I$4:$I$1191,AW$5,'база 2013'!$O$4:$O$1191,AW$7)","v":0},{"$f":"COUNTIFS('база 2013'!$E$4:$E$1191,$B49,'база 2013'!$I$4:$I$1191,AX$5,'база 2013'!$O$4:$O$1191,AX$7)","v":0},0,0,0,0,0,0,0,null,0]
[43,"Усть-Лабинский район",{"$f":"COUNTIFS('база 2013'!$E$4:$E$1191,$B50,'база 2013'!$I$4:$I$1191,C$5,'база 2013'!$O$4:$O$1191,C$7)","v":0},{"$f":"COUNTIFS('база 2013'!$E$4:$E$1191,$B50,'база 2013'!$I$4:$I$1191,D$5,'база 2013'!$O$4:$O$1191,D$7)","v":0},{"$f":"COUNTIFS('база 2013'!$E$4:$E$1191,$B50,'база 2013'!$I$4:$I$1191,E$5,'база 2013'!$O$4:$O$1191,E$7)","v":0},{"$f":"COUNTIFS('база 2013'!$E$4:$E$1191,$B50,'база 2013'!$I$4:$I$1191,F$5,'база 2013'!$O$4:$O$1191,F$7)","v":0},{"$f":"COUNTIFS('база 2013'!$E$4:$E$1191,$B50,'база 2013'!$I$4:$I$1191,G$5,'база 2013'!$O$4:$O$1191,G$7)","v":0},{"$f":"COUNTIFS('база 2013'!$E$4:$E$1191,$B50,'база 2013'!$I$4:$I$1191,H$5,'база 2013'!$O$4:$O$1191,H$7)","v":0},{"$f":"COUNTIFS('база 2013'!$E$4:$E$1191,$B50,'база 2013'!$I$4:$I$1191,I$5,'база 2013'!$O$4:$O$1191,I$7)","v":0},{"$f":"COUNTIFS('база 2013'!$E$4:$E$1191,$B50,'база 2013'!$I$4:$I$1191,J$5,'база 2013'!$O$4:$O$1191,J$7)","v":0},{"$f":"COUNTIFS('база 2013'!$E$4:$E$1191,$B50,'база 2013'!$I$4:$I$1191,K$5,'база 2013'!$O$4:$O$1191,K$7)","v":0},{"$f":"COUNTIFS('база 2013'!$E$4:$E$1191,$B50,'база 2013'!$I$4:$I$1191,L$5,'база 2013'!$O$4:$O$1191,L$7)","v":0},{"$f":"COUNTIFS('база 2013'!$E$4:$E$1191,$B50,'база 2013'!$I$4:$I$1191,M$5,'база 2013'!$O$4:$O$1191,M$7)","v":0},{"$f":"COUNTIFS('база 2013'!$E$4:$E$1191,$B50,'база 2013'!$I$4:$I$1191,N$5,'база 2013'!$O$4:$O$1191,N$7)","v":0},{"$f":"COUNTIFS('база 2013'!$E$4:$E$1191,$B50,'база 2013'!$I$4:$I$1191,O$5,'база 2013'!$O$4:$O$1191,O$7)","v":0},{"$f":"COUNTIFS('база 2013'!$E$4:$E$1191,$B50,'база 2013'!$I$4:$I$1191,P$5,'база 2013'!$O$4:$O$1191,P$7)","v":0},{"$f":"COUNTIFS('база 2013'!$E$4:$E$1191,$B50,'база 2013'!$I$4:$I$1191,Q$5,'база 2013'!$O$4:$O$1191,Q$7)","v":0},0,0,0,{"$f":"COUNTIFS('база 2013'!$E$4:$E$1191,$B50,'база 2013'!$I$4:$I$1191,U$5,'база 2013'!$O$4:$O$1191,U$7)","v":0},{"$f":"COUNTIFS('база 2013'!$E$4:$E$1191,$B50,'база 2013'!$I$4:$I$1191,V$5,'база 2013'!$O$4:$O$1191,V$7)","v":0},{"$f":"COUNTIFS('база 2013'!$E$4:$E$1191,$B50,'база 2013'!$I$4:$I$1191,W$5,'база 2013'!$O$4:$O$1191,W$7)","v":0},{"$f":"COUNTIFS('база 2013'!$E$4:$E$1191,$B50,'база 2013'!$I$4:$I$1191,X$5,'база 2013'!$O$4:$O$1191,X$7)","v":0},{"$f":"COUNTIFS('база 2013'!$E$4:$E$1191,$B50,'база 2013'!$I$4:$I$1191,Y$5,'база 2013'!$O$4:$O$1191,Y$7)","v":0},{"$f":"COUNTIFS('база 2013'!$E$4:$E$1191,$B50,'база 2013'!$I$4:$I$1191,Z$5,'база 2013'!$O$4:$O$1191,Z$7)","v":0},{"$f":"COUNTIFS('база 2013'!$E$4:$E$1191,$B50,'база 2013'!$I$4:$I$1191,AA$5,'база 2013'!$O$4:$O$1191,AA$7)","v":0},{"$f":"COUNTIFS('база 2013'!$E$4:$E$1191,$B50,'база 2013'!$I$4:$I$1191,AB$5,'база 2013'!$O$4:$O$1191,AB$7)","v":0},{"$f":"COUNTIFS('база 2013'!$E$4:$E$1191,$B50,'база 2013'!$I$4:$I$1191,AC$5,'база 2013'!$O$4:$O$1191,AC$7)","v":0},0,0,0,{"$f":"COUNTIFS('база 2013'!$E$4:$E$1191,$B50,'база 2013'!$I$4:$I$1191,AG$5,'база 2013'!$O$4:$O$1191,AG$7)","v":0},{"$f":"COUNTIFS('база 2013'!$E$4:$E$1191,$B50,'база 2013'!$I$4:$I$1191,AH$5,'база 2013'!$O$4:$O$1191,AH$7)","v":0},{"$f":"COUNTIFS('база 2013'!$E$4:$E$1191,$B50,'база 2013'!$I$4:$I$1191,AI$5,'база 2013'!$O$4:$O$1191,AI$7)","v":0},{"$f":"COUNTIFS('база 2013'!$E$4:$E$1191,$B50,'база 2013'!$I$4:$I$1191,AJ$5,'база 2013'!$O$4:$O$1191,AJ$7)","v":0},{"$f":"COUNTIFS('база 2013'!$E$4:$E$1191,$B50,'база 2013'!$I$4:$I$1191,AK$5,'база 2013'!$O$4:$O$1191,AK$7)","v":0},{"$f":"COUNTIFS('база 2013'!$E$4:$E$1191,$B50,'база 2013'!$I$4:$I$1191,AL$5,'база 2013'!$O$4:$O$1191,AL$7)","v":0},{"$f":"COUNTIFS('база 2013'!$E$4:$E$1191,$B50,'база 2013'!$I$4:$I$1191,AM$5,'база 2013'!$O$4:$O$1191,AM$7)","v":0},{"$f":"COUNTIFS('база 2013'!$E$4:$E$1191,$B50,'база 2013'!$I$4:$I$1191,AN$5,'база 2013'!$O$4:$O$1191,AN$7)","v":0},{"$f":"COUNTIFS('база 2013'!$E$4:$E$1191,$B50,'база 2013'!$I$4:$I$1191,AO$5,'база 2013'!$O$4:$O$1191,AO$7)","v":0},{"$f":"COUNTIFS('база 2013'!$E$4:$E$1191,$B50,'база 2013'!$I$4:$I$1191,AP$5,'база 2013'!$O$4:$O$1191,AP$7)","v":0},{"$f":"COUNTIFS('база 2013'!$E$4:$E$1191,$B50,'база 2013'!$I$4:$I$1191,AQ$5,'база 2013'!$O$4:$O$1191,AQ$7)","v":0},{"$f":"COUNTIFS('база 2013'!$E$4:$E$1191,$B50,'база 2013'!$I$4:$I$1191,AR$5,'база 2013'!$O$4:$O$1191,AR$7)","v":0},{"$f":"COUNTIFS('база 2013'!$E$4:$E$1191,$B50,'база 2013'!$I$4:$I$1191,AS$5,'база 2013'!$O$4:$O$1191,AS$7)","v":0},{"$f":"COUNTIFS('база 2013'!$E$4:$E$1191,$B50,'база 2013'!$I$4:$I$1191,AT$5,'база 2013'!$O$4:$O$1191,AT$7)","v":0},{"$f":"COUNTIFS('база 2013'!$E$4:$E$1191,$B50,'база 2013'!$I$4:$I$1191,AU$5,'база 2013'!$O$4:$O$1191,AU$7)","v":0},{"$f":"COUNTIFS('база 2013'!$E$4:$E$1191,$B50,'база 2013'!$I$4:$I$1191,AV$5,'база 2013'!$O$4:$O$1191,AV$7)","v":0},{"$f":"COUNTIFS('база 2013'!$E$4:$E$1191,$B50,'база 2013'!$I$4:$I$1191,AW$5,'база 2013'!$O$4:$O$1191,AW$7)","v":0},{"$f":"COUNTIFS('база 2013'!$E$4:$E$1191,$B50,'база 2013'!$I$4:$I$1191,AX$5,'база 2013'!$O$4:$O$1191,AX$7)","v":0},0,0,0,0,0,0,0,null,0]
[44,"Щербиновский район",{"$f":"COUNTIFS('база 2013'!$E$4:$E$1191,$B51,'база 2013'!$I$4:$I$1191,C$5,'база 2013'!$O$4:$O$1191,C$7)","v":0},{"$f":"COUNTIFS('база 2013'!$E$4:$E$1191,$B51,'база 2013'!$I$4:$I$1191,D$5,'база 2013'!$O$4:$O$1191,D$7)","v":0},{"$f":"COUNTIFS('база 2013'!$E$4:$E$1191,$B51,'база 2013'!$I$4:$I$1191,E$5,'база 2013'!$O$4:$O$1191,E$7)","v":0},{"$f":"COUNTIFS('база 2013'!$E$4:$E$1191,$B51,'база 2013'!$I$4:$I$1191,F$5,'база 2013'!$O$4:$O$1191,F$7)","v":0},{"$f":"COUNTIFS('база 2013'!$E$4:$E$1191,$B51,'база 2013'!$I$4:$I$1191,G$5,'база 2013'!$O$4:$O$1191,G$7)","v":0},{"$f":"COUNTIFS('база 2013'!$E$4:$E$1191,$B51,'база 2013'!$I$4:$I$1191,H$5,'база 2013'!$O$4:$O$1191,H$7)","v":0},{"$f":"COUNTIFS('база 2013'!$E$4:$E$1191,$B51,'база 2013'!$I$4:$I$1191,I$5,'база 2013'!$O$4:$O$1191,I$7)","v":0},{"$f":"COUNTIFS('база 2013'!$E$4:$E$1191,$B51,'база 2013'!$I$4:$I$1191,J$5,'база 2013'!$O$4:$O$1191,J$7)","v":0},{"$f":"COUNTIFS('база 2013'!$E$4:$E$1191,$B51,'база 2013'!$I$4:$I$1191,K$5,'база 2013'!$O$4:$O$1191,K$7)","v":0},{"$f":"COUNTIFS('база 2013'!$E$4:$E$1191,$B51,'база 2013'!$I$4:$I$1191,L$5,'база 2013'!$O$4:$O$1191,L$7)","v":0},{"$f":"COUNTIFS('база 2013'!$E$4:$E$1191,$B51,'база 2013'!$I$4:$I$1191,M$5,'база 2013'!$O$4:$O$1191,M$7)","v":0},{"$f":"COUNTIFS('база 2013'!$E$4:$E$1191,$B51,'база 2013'!$I$4:$I$1191,N$5,'база 2013'!$O$4:$O$1191,N$7)","v":0},{"$f":"COUNTIFS('база 2013'!$E$4:$E$1191,$B51,'база 2013'!$I$4:$I$1191,O$5,'база 2013'!$O$4:$O$1191,O$7)","v":0},{"$f":"COUNTIFS('база 2013'!$E$4:$E$1191,$B51,'база 2013'!$I$4:$I$1191,P$5,'база 2013'!$O$4:$O$1191,P$7)","v":0},{"$f":"COUNTIFS('база 2013'!$E$4:$E$1191,$B51,'база 2013'!$I$4:$I$1191,Q$5,'база 2013'!$O$4:$O$1191,Q$7)","v":0},0,0,0,{"$f":"COUNTIFS('база 2013'!$E$4:$E$1191,$B51,'база 2013'!$I$4:$I$1191,U$5,'база 2013'!$O$4:$O$1191,U$7)","v":0},{"$f":"COUNTIFS('база 2013'!$E$4:$E$1191,$B51,'база 2013'!$I$4:$I$1191,V$5,'база 2013'!$O$4:$O$1191,V$7)","v":0},{"$f":"COUNTIFS('база 2013'!$E$4:$E$1191,$B51,'база 2013'!$I$4:$I$1191,W$5,'база 2013'!$O$4:$O$1191,W$7)","v":0},{"$f":"COUNTIFS('база 2013'!$E$4:$E$1191,$B51,'база 2013'!$I$4:$I$1191,X$5,'база 2013'!$O$4:$O$1191,X$7)","v":0},{"$f":"COUNTIFS('база 2013'!$E$4:$E$1191,$B51,'база 2013'!$I$4:$I$1191,Y$5,'база 2013'!$O$4:$O$1191,Y$7)","v":0},{"$f":"COUNTIFS('база 2013'!$E$4:$E$1191,$B51,'база 2013'!$I$4:$I$1191,Z$5,'база 2013'!$O$4:$O$1191,Z$7)","v":0},{"$f":"COUNTIFS('база 2013'!$E$4:$E$1191,$B51,'база 2013'!$I$4:$I$1191,AA$5,'база 2013'!$O$4:$O$1191,AA$7)","v":0},{"$f":"COUNTIFS('база 2013'!$E$4:$E$1191,$B51,'база 2013'!$I$4:$I$1191,AB$5,'база 2013'!$O$4:$O$1191,AB$7)","v":0},{"$f":"COUNTIFS('база 2013'!$E$4:$E$1191,$B51,'база 2013'!$I$4:$I$1191,AC$5,'база 2013'!$O$4:$O$1191,AC$7)","v":0},0,0,0,{"$f":"COUNTIFS('база 2013'!$E$4:$E$1191,$B51,'база 2013'!$I$4:$I$1191,AG$5,'база 2013'!$O$4:$O$1191,AG$7)","v":0},{"$f":"COUNTIFS('база 2013'!$E$4:$E$1191,$B51,'база 2013'!$I$4:$I$1191,AH$5,'база 2013'!$O$4:$O$1191,AH$7)","v":0},{"$f":"COUNTIFS('база 2013'!$E$4:$E$1191,$B51,'база 2013'!$I$4:$I$1191,AI$5,'база 2013'!$O$4:$O$1191,AI$7)","v":0},{"$f":"COUNTIFS('база 2013'!$E$4:$E$1191,$B51,'база 2013'!$I$4:$I$1191,AJ$5,'база 2013'!$O$4:$O$1191,AJ$7)","v":0},{"$f":"COUNTIFS('база 2013'!$E$4:$E$1191,$B51,'база 2013'!$I$4:$I$1191,AK$5,'база 2013'!$O$4:$O$1191,AK$7)","v":0},{"$f":"COUNTIFS('база 2013'!$E$4:$E$1191,$B51,'база 2013'!$I$4:$I$1191,AL$5,'база 2013'!$O$4:$O$1191,AL$7)","v":0},{"$f":"COUNTIFS('база 2013'!$E$4:$E$1191,$B51,'база 2013'!$I$4:$I$1191,AM$5,'база 2013'!$O$4:$O$1191,AM$7)","v":0},{"$f":"COUNTIFS('база 2013'!$E$4:$E$1191,$B51,'база 2013'!$I$4:$I$1191,AN$5,'база 2013'!$O$4:$O$1191,AN$7)","v":0},{"$f":"COUNTIFS('база 2013'!$E$4:$E$1191,$B51,'база 2013'!$I$4:$I$1191,AO$5,'база 2013'!$O$4:$O$1191,AO$7)","v":0},{"$f":"COUNTIFS('база 2013'!$E$4:$E$1191,$B51,'база 2013'!$I$4:$I$1191,AP$5,'база 2013'!$O$4:$O$1191,AP$7)","v":0},{"$f":"COUNTIFS('база 2013'!$E$4:$E$1191,$B51,'база 2013'!$I$4:$I$1191,AQ$5,'база 2013'!$O$4:$O$1191,AQ$7)","v":0},{"$f":"COUNTIFS('база 2013'!$E$4:$E$1191,$B51,'база 2013'!$I$4:$I$1191,AR$5,'база 2013'!$O$4:$O$1191,AR$7)","v":0},{"$f":"COUNTIFS('база 2013'!$E$4:$E$1191,$B51,'база 2013'!$I$4:$I$1191,AS$5,'база 2013'!$O$4:$O$1191,AS$7)","v":0},{"$f":"COUNTIFS('база 2013'!$E$4:$E$1191,$B51,'база 2013'!$I$4:$I$1191,AT$5,'база 2013'!$O$4:$O$1191,AT$7)","v":0},{"$f":"COUNTIFS('база 2013'!$E$4:$E$1191,$B51,'база 2013'!$I$4:$I$1191,AU$5,'база 2013'!$O$4:$O$1191,AU$7)","v":0},{"$f":"COUNTIFS('база 2013'!$E$4:$E$1191,$B51,'база 2013'!$I$4:$I$1191,AV$5,'база 2013'!$O$4:$O$1191,AV$7)","v":0},{"$f":"COUNTIFS('база 2013'!$E$4:$E$1191,$B51,'база 2013'!$I$4:$I$1191,AW$5,'база 2013'!$O$4:$O$1191,AW$7)","v":0},{"$f":"COUNTIFS('база 2013'!$E$4:$E$1191,$B51,'база 2013'!$I$4:$I$1191,AX$5,'база 2013'!$O$4:$O$1191,AX$7)","v":0},0,0,0,0,0,0,0,null,0]
["ИТОГО",null,{"$f":"SUM(C8:C51)","v":0},1,0,0,0,0,0,0,0,1,0,0,0,0,0,{"$f":"SUM(R8:R51)","v":1},{"$f":"SUM(S8:S51)","v":1},0,0,0,0,0,0,0,0,0,1,0,0,1,1,2,5,{"$f":"SUM(AJ8:AJ51)","v":0},0,0,1,0,3,0,2,0,{"$f":"SUM(AS8:AS51)","v":0},0,4,0,0,0,1,2,7,3,5,13,21]

{"sheet":"Сводная Мероприятия","index":8,"n_rows":6,"n_cols":9,"rows_kept":6,"cut":false,"hidden":false,"merged":[]}
[]
["Мероприятие","(Все)"]
[]
[]
["Фамилия И.О.","Ф.И.О. тренера","Вид спорта","Место","Программа","Спорт. Звание","Год рожд","Город","Ведомство"]
["(пусто)","(пусто)","(пусто)","(пусто)","(пусто)","(пусто)","(пусто)","(пусто)","(пусто)"]

{"sheet":"Справочник","index":9,"n_rows":6,"n_cols":1,"rows_kept":6,"cut":false,"hidden":false,"merged":[]}
[]
["Чемпионаты, Кубки и первенства мира"]
["Чемпионаты, Кубки и первенства Европы"]
["Международные соревнования"]
["Чемпионаты России"]
["Первенства России"]